{"text_format":"1","workbook":"xlsx","n_sheets":8,"sheets":["entries and results","Prizewinners","Ayrshire Medals","Ayrshire Sorting","Cats & Teams","Declarations for SA","Sheet1","PDF"],"not_rendered":{"charts":0,"images":0,"macros":1,"external_links":0,"defined_names":3,"comments":0,"pivot_tables":0},"unopened":[],"bounds":{"document_bytes":16777216,"sheet_cells":100000,"rows_first":2000,"rows_last":500,"rows_between":2000,"halvings":0,"cell_chars":16384,"cell_head_chars":4096},"cells_cut":0,"cells_raw":0,"read":"whole","date_system":"1900"}

{"sheet":"entries and results","index":0,"n_rows":8492,"n_cols":70,"rows_kept":2250,"cut":true,"hidden":false,"merged":[],"bounds":{"rows_first":1000,"rows_last":250,"rows_between":1000,"halvings":1}}
[null,null,null,null,null,null,null,null,"DECLARATIONS Marymass 10K 2013",null,null,null,null,null,null,null,"RESULTS Marymass 10K 2013"]
["IDentification"," CLUB:  First Claim"," GEN Date of Birth",null,"IDentification","cat","Input SAL","Bib No","Name","Cat","Club","Ayrs","Position","Bib No","Name","Cat","Club","Ayrs","Input","Time",null,null,null,null,null,null,null,null,null,null,null,null,null,null,null,null,null,null,null,null,null,null,null,null,null,null,null,null,null,null,null,null,null,null,null,null,null,null,null,null,"000000",null,null,null,"Runner","LEG 1","CONCAT","HOURS","MIN","SEC"]
["."," "," "," "," "," ",null,1,"Alan Inglis","M","UA","y",1,159,{"$f":"VLOOKUP('entries and results'!N3,$H$3:$K$30018,2,FALSE)","v":"David Phee"},{"$f":"VLOOKUP('entries and results'!N3,$H$3:$K$30018,3,FALSE)","v":"M"},{"$f":"VLOOKUP('entries and results'!N3,$H$3:$K$30018,4,FALSE)","v":"Giffnock North AAC"},{"$f":"VLOOKUP('entries and results'!N3,$H$3:$L$30018,5,FALSE)","v":0},3244,{"$f":"IF($H3=\"\",\" \",(LOOKUP($H3,$BM$3:$BM$1601,$BL$3:$BL$1601)))","v":"32:44"},null,null,null,null,null,null,null,null,null,null,null,null,null,null,null,null,null,null,null,null,null,null,null,null,null,null,null,null,null,null,null,null,null,null,null,null,null,null,null,null,null,null,null,{"$f":"CONCATENATE(BQ3,\":\",BR3)","v":"32:44"},1,{"$f":"SUMIF($H$3:$H$601,$BM3,$S$3:$S$601)","v":3244},{"$f":"CONCATENATE($BI$2,$BN3)","v":"0000003244"},{"$f":"MID(RIGHT($BO3,6),1,2)","v":"00"},{"$f":"MID(RIGHT($BO3,6),3,2)","v":"32"},{"$f":"MID(RIGHT($BO3,6),5,2)","v":"44"}]
["090911226420140671756C","Edinburgh AC","1962-08-16","Yvonne Jones","090911226420140671756C","Vet","sa26245",2,"Chris Boyce","M","Troon Tortoises AC","y",2,75,{"$f":"VLOOKUP('entries and results'!N4,$H$3:$K$30018,2,FALSE)","v":"Cris Walsh"},{"$f":"VLOOKUP('entries and results'!N4,$H$3:$K$30018,3,FALSE)","v":"M40"},{"$f":"VLOOKUP('entries and results'!N4,$H$3:$K$30018,4,FALSE)","v":"Bellahouston Harriers"},{"$f":"VLOOKUP('entries and results'!N4,$H$3:$L$30018,5,FALSE)","v":0},3435,"34:35",null,null,null,null,null,null,null,null,null,null,null,null,null,null,null,null,null,null,null,null,null,null,null,null,null,null,null,null,null,null,null,null,null,null,null,null,null,null,null,null,null,null,null,{"$f":"CONCATENATE(BQ4,\":\",BR4)","v":"34:35"},2,3435,{"$f":"CONCATENATE($BI$2,$BN4)","v":"0000003435"},{"$f":"MID(RIGHT($BO4,6),1,2)","v":"00"},{"$f":"MID(RIGHT($BO4,6),3,2)","v":"34"},{"$f":"MID(RIGHT($BO4,6),5,2)","v":"35"}]
["SA00005",null,"1970-04-26","Ruth Robertson","SA00005","Senior",null,3,"Paul Darroch","M","UA","y",3,57,{"$f":"VLOOKUP('entries and results'!N5,$H$3:$K$30018,2,FALSE)","v":"Andrew Campbell"},{"$f":"VLOOKUP('entries and results'!N5,$H$3:$K$30018,3,FALSE)","v":"M"},{"$f":"VLOOKUP('entries and results'!N5,$H$3:$K$30018,4,FALSE)","v":"Bellahouston Harriers"},{"$f":"VLOOKUP('entries and results'!N5,$H$3:$L$30018,5,FALSE)","v":0},3448,"34:48",null,null,null,null,null,null,null,null,null,null,null,null,null,null,null,null,null,null,null,null,null,null,null,null,null,null,null,null,null,null,null,null,null,null,null,null,null,null,null,null,null,null,null,"34:48",3,3448,"0000003448","00","34","48"]
["SA00014","Reivers Hammer","1936-07-10","Alan Bertram MBE","SA00014","Vet",null,4,"Paul Lafferty","M","UA","y",4,188,{"$f":"VLOOKUP('entries and results'!N6,$H$3:$K$30018,2,FALSE)","v":"Jamie Findlay"},{"$f":"VLOOKUP('entries and results'!N6,$H$3:$K$30018,3,FALSE)","v":"M"},{"$f":"VLOOKUP('entries and results'!N6,$H$3:$K$30018,4,FALSE)","v":"Irvine AC"},{"$f":"VLOOKUP('entries and results'!N6,$H$3:$L$30018,5,FALSE)","v":"y"},3505,"35:05",null,null,null,null,null,null,null,null,null,null,null,null,null,null,null,null,null,null,null,null,null,null,null,null,null,null,null,null,null,null,null,null,null,null,null,null,null,null,null,null,null,null,null,"35:05",4,3505,"0000003505","00","35","05"]
["SA00018",null,"1974-01-03","Michael Swanney","SA00018","Senior",null,5,"Gary Kilpatrick","M","Rons Runners","y",5,23,{"$f":"VLOOKUP('entries and results'!N7,$H$3:$K$30018,2,FALSE)","v":"Steven Reid"},{"$f":"VLOOKUP('entries and results'!N7,$H$3:$K$30018,3,FALSE)","v":"M"},{"$f":"VLOOKUP('entries and results'!N7,$H$3:$K$30018,4,FALSE)","v":"Ayr Seaforth"},{"$f":"VLOOKUP('entries and results'!N7,$H$3:$L$30018,5,FALSE)","v":"y"},3539,"35:39",null,null,null,null,null,null,null,null,null,null,null,null,null,null,null,null,null,null,null,null,null,null,null,null,null,null,null,null,null,null,null,null,null,null,null,null,null,null,null,null,null,null,null,"35:39",5,3539,"0000003539","00","35","39"]
["SA00029","Kilmarnock H&AC","1957-03-29","Hazel Shankland","SA00029","Vet",null,6,"Anne Marie Latham","F45","UA","y",6,107,{"$f":"VLOOKUP('entries and results'!N8,$H$3:$K$30018,2,FALSE)","v":"Keith Haining"},{"$f":"VLOOKUP('entries and results'!N8,$H$3:$K$30018,3,FALSE)","v":"M40"},{"$f":"VLOOKUP('entries and results'!N8,$H$3:$K$30018,4,FALSE)","v":"Kilmarnock H&AC"},{"$f":"VLOOKUP('entries and results'!N8,$H$3:$L$30018,5,FALSE)","v":"y"},3543,"35:43",null,null,null,null,null,null,null,null,null,null,null,null,null,null,null,null,null,null,null,null,null,null,null,null,null,null,null,null,null,null,null,null,null,null,null,null,null,null,null,null,null,null,null,"35:43",6,3543,"0000003543","00","35","43"]
["SA00032","George Heriots School","1948-05-28","Neil Short","SA00032","Vet",null,7,"Lesley Sinclair","F35","UA","y",7,29,{"$f":"VLOOKUP('entries and results'!N9,$H$3:$K$30018,2,FALSE)","v":"Brian Robertson"},{"$f":"VLOOKUP('entries and results'!N9,$H$3:$K$30018,3,FALSE)","v":"M"},{"$f":"VLOOKUP('entries and results'!N9,$H$3:$K$30018,4,FALSE)","v":"UA"},{"$f":"VLOOKUP('entries and results'!N9,$H$3:$L$30018,5,FALSE)","v":0},3555,"35:55",null,null,null,null,null,null,null,null,null,null,null,null,null,null,null,null,null,null,null,null,null,null,null,null,null,null,null,null,null,null,null,null,null,null,null,null,null,null,null,null,null,null,null,"35:55",7,3555,"0000003555","00","35","55"]
["SA00034","Ron Hill Cambuslang Harriers","1948-05-23","Michael Johnston","SA00034","Vet","sa28944",8,"Sue Denton","F35","Irvine AC","y",8,53,{"$f":"VLOOKUP('entries and results'!N10,$H$3:$K$30018,2,FALSE)","v":"Ian Hughes"},{"$f":"VLOOKUP('entries and results'!N10,$H$3:$K$30018,3,FALSE)","v":"M40"},{"$f":"VLOOKUP('entries and results'!N10,$H$3:$K$30018,4,FALSE)","v":"Calderglen Harriers"},{"$f":"VLOOKUP('entries and results'!N10,$H$3:$L$30018,5,FALSE)","v":0},3620,"36:20",null,null,null,null,null,null,null,null,null,null,null,null,null,null,null,null,null,null,null,null,null,null,null,null,null,null,null,null,null,null,null,null,null,null,null,null,null,null,null,null,null,null,null,"36:20",8,3620,"0000003620","00","36","20"]
["SA00037",null,"1968-10-21","Karen Costello","SA00037","Vet",null,9,"Angela Reid","F35","UA","y",9,118,{"$f":"VLOOKUP('entries and results'!N11,$H$3:$K$30018,2,FALSE)","v":"Stephen McCrorie"},{"$f":"VLOOKUP('entries and results'!N11,$H$3:$K$30018,3,FALSE)","v":"M40"},{"$f":"VLOOKUP('entries and results'!N11,$H$3:$K$30018,4,FALSE)","v":"Ayr Seaforth AAC"},{"$f":"VLOOKUP('entries and results'!N11,$H$3:$L$30018,5,FALSE)","v":"y"},3625,"36:25",null,null,null,null,null,null,null,null,null,null,null,null,null,null,null,null,null,null,null,null,null,null,null,null,null,null,null,null,null,null,null,null,null,null,null,null,null,null,null,null,null,null,null,"36:25",9,3625,"0000003625","00","36","25"]
["SA00039","Motherwell AC","1947-05-21","Thomas Boyle","SA00039","Vet",null,10,"Luke Chamberlain","M40","UA",null,10,110,{"$f":"VLOOKUP('entries and results'!N12,$H$3:$K$30018,2,FALSE)","v":"Steve Daye"},{"$f":"VLOOKUP('entries and results'!N12,$H$3:$K$30018,3,FALSE)","v":"M"},{"$f":"VLOOKUP('entries and results'!N12,$H$3:$K$30018,4,FALSE)","v":"North Ayrshire AC"},{"$f":"VLOOKUP('entries and results'!N12,$H$3:$L$30018,5,FALSE)","v":"y"},3707,"37:07",null,null,null,null,null,null,null,null,null,null,null,null,null,null,null,null,null,null,null,null,null,null,null,null,null,null,null,null,null,null,null,null,null,null,null,null,null,null,null,null,null,null,null,"37:07",10,3707,"0000003707","00","37","07"]
["SA00042","Banchory Stonehaven AC","1958-01-31","Ann Christie","SA00042","Vet",null,11,"Darren Ridout","M","Kilmarnock H&AC","y",11,31,{"$f":"VLOOKUP('entries and results'!N13,$H$3:$K$30018,2,FALSE)","v":"Stuart Livingstone"},{"$f":"VLOOKUP('entries and results'!N13,$H$3:$K$30018,3,FALSE)","v":"M"},{"$f":"VLOOKUP('entries and results'!N13,$H$3:$K$30018,4,FALSE)","v":"Corstorphine AAC"},{"$f":"VLOOKUP('entries and results'!N13,$H$3:$L$30018,5,FALSE)","v":0},3716,"37:16",null,null,null,null,null,null,null,null,null,null,null,null,null,null,null,null,null,null,null,null,null,null,null,null,null,null,null,null,null,null,null,null,null,null,null,null,null,null,null,null,null,null,null,"37:16",11,3716,"0000003716","00","37","16"]
["SA00045","Penicuik Harriers","1937-03-17","George McEwan","SA00045","Vet",1039,12,"Ross Bickerstaff","M50","Hamilton Harriers",null,12,193,{"$f":"VLOOKUP('entries and results'!N14,$H$3:$K$30018,2,FALSE)","v":"Steven Stirrat"},{"$f":"VLOOKUP('entries and results'!N14,$H$3:$K$30018,3,FALSE)","v":"M"},{"$f":"VLOOKUP('entries and results'!N14,$H$3:$K$30018,4,FALSE)","v":"Irvine AC"},{"$f":"VLOOKUP('entries and results'!N14,$H$3:$L$30018,5,FALSE)","v":"y"},3731,"37:31",null,null,null,null,null,null,null,null,null,null,null,null,null,null,null,null,null,null,null,null,null,null,null,null,null,null,null,null,null,null,null,null,null,null,null,null,null,null,null,null,null,null,null,"37:31",12,3731,"0000003731","00","37","31"]
["SA00053","Red Star AC","1966-10-18","Gordon Robertson","SA00053","Vet",null,13,"Jim McCleary","M50","UA","y",13,124,{"$f":"VLOOKUP('entries and results'!N15,$H$3:$K$30018,2,FALSE)","v":"Stewart Ferguson"},{"$f":"VLOOKUP('entries and results'!N15,$H$3:$K$30018,3,FALSE)","v":"M40"},{"$f":"VLOOKUP('entries and results'!N15,$H$3:$K$30018,4,FALSE)","v":"Kilmarnock H&AC"},{"$f":"VLOOKUP('entries and results'!N15,$H$3:$L$30018,5,FALSE)","v":"y"},3750,"37:50",null,null,null,null,null,null,null,null,null,null,null,null,null,null,null,null,null,null,null,null,null,null,null,null,null,null,null,null,null,null,null,null,null,null,null,null,null,null,null,null,null,null,null,"37:50",13,3750,"0000003750","00","37","50"]
["SA00058","Lasswade AAC","1987-03-21","Colin Menzies","SA00058","Senior",null,14,"Doreen McCleary","F35","UA","y",14,10,{"$f":"VLOOKUP('entries and results'!N16,$H$3:$K$30018,2,FALSE)","v":"Luke Chamberlain"},{"$f":"VLOOKUP('entries and results'!N16,$H$3:$K$30018,3,FALSE)","v":"M40"},{"$f":"VLOOKUP('entries and results'!N16,$H$3:$K$30018,4,FALSE)","v":"UA"},{"$f":"VLOOKUP('entries and results'!N16,$H$3:$L$30018,5,FALSE)","v":0},3813,"38:13",null,null,null,null,null,null,null,null,null,null,null,null,null,null,null,null,null,null,null,null,null,null,null,null,null,null,null,null,null,null,null,null,null,null,null,null,null,null,null,null,null,null,null,"38:13",14,3813,"0000003813","00","38","13"]
["SA00059","North Uist AAC","1959-07-21","Norman MacLeod","SA00059","Vet",null,15,"Lyndsay Moffat","F","Hamilton Harriers",null,15,77,{"$f":"VLOOKUP('entries and results'!N17,$H$3:$K$30018,2,FALSE)","v":"Ruairidh Macdonald"},{"$f":"VLOOKUP('entries and results'!N17,$H$3:$K$30018,3,FALSE)","v":"M"},{"$f":"VLOOKUP('entries and results'!N17,$H$3:$K$30018,4,FALSE)","v":"Bellahouston Harriers"},{"$f":"VLOOKUP('entries and results'!N17,$H$3:$L$30018,5,FALSE)","v":0},3814,"38:14",null,null,null,null,null,null,null,null,null,null,null,null,null,null,null,null,null,null,null,null,null,null,null,null,null,null,null,null,null,null,null,null,null,null,null,null,null,null,null,null,null,null,null,"38:14",15,3814,"0000003814","00","38","14"]
["SA00066","Kilbarchan AAC","1943-03-20","Derek Parker","SA00066","Vet",null,16,"Alan Middleton","M50","UA","y",16,68,{"$f":"VLOOKUP('entries and results'!N18,$H$3:$K$30018,2,FALSE)","v":"Craig Brown"},{"$f":"VLOOKUP('entries and results'!N18,$H$3:$K$30018,3,FALSE)","v":"M"},{"$f":"VLOOKUP('entries and results'!N18,$H$3:$K$30018,4,FALSE)","v":"Ayr Seaforth AAC"},{"$f":"VLOOKUP('entries and results'!N18,$H$3:$L$30018,5,FALSE)","v":"y"},3817,"38:17",null,null,null,null,null,null,null,null,null,null,null,null,null,null,null,null,null,null,null,null,null,null,null,null,null,null,null,null,null,null,null,null,null,null,null,null,null,null,null,null,null,null,null,"38:17",16,3817,"0000003817","00","38","17"]
["SA00069","Edinburgh AC","1938-12-11","John Dundas","SA00069","Vet","A307715",17,"Sandra Hunter","F55","Killie Striders","y",17,156,{"$f":"VLOOKUP('entries and results'!N19,$H$3:$K$30018,2,FALSE)","v":"Alex Dunlop"},{"$f":"VLOOKUP('entries and results'!N19,$H$3:$K$30018,3,FALSE)","v":"M40"},{"$f":"VLOOKUP('entries and results'!N19,$H$3:$K$30018,4,FALSE)","v":"Ayr Seaforth AAC"},{"$f":"VLOOKUP('entries and results'!N19,$H$3:$L$30018,5,FALSE)","v":"y"},3834,"38:34",null,null,null,null,null,null,null,null,null,null,null,null,null,null,null,null,null,null,null,null,null,null,null,null,null,null,null,null,null,null,null,null,null,null,null,null,null,null,null,null,null,null,null,"38:34",17,3834,"0000003834","00","38","34"]
["SA00074",null,"1940-07-04","Sandy Hamilton","SA00074","Vet",null,18,"Lindsay Taylor","F35","QT pudding club","y",18,161,{"$f":"VLOOKUP('entries and results'!N20,$H$3:$K$30018,2,FALSE)","v":"John Cairns"},{"$f":"VLOOKUP('entries and results'!N20,$H$3:$K$30018,3,FALSE)","v":"M50"},{"$f":"VLOOKUP('entries and results'!N20,$H$3:$K$30018,4,FALSE)","v":"Kilmarnock H&AC"},{"$f":"VLOOKUP('entries and results'!N20,$H$3:$L$30018,5,FALSE)","v":"y"},3838,"38:38",null,null,null,null,null,null,null,null,null,null,null,null,null,null,null,null,null,null,null,null,null,null,null,null,null,null,null,null,null,null,null,null,null,null,null,null,null,null,null,null,null,null,null,"38:38",18,3838,"0000003838","00","38","38"]
["SA00076","Cumbernauld AAC","1953-02-21","Brenda Stephen","SA00076","Vet",null,19,"Rachel Borland","F35","QT pudding club","y",19,120,{"$f":"VLOOKUP('entries and results'!N21,$H$3:$K$30018,2,FALSE)","v":"James Wales"},{"$f":"VLOOKUP('entries and results'!N21,$H$3:$K$30018,3,FALSE)","v":"M"},{"$f":"VLOOKUP('entries and results'!N21,$H$3:$K$30018,4,FALSE)","v":"Kilmarnock H&AC"},{"$f":"VLOOKUP('entries and results'!N21,$H$3:$L$30018,5,FALSE)","v":"y"},3851,"38:51",null,null,null,null,null,null,null,null,null,null,null,null,null,null,null,null,null,null,null,null,null,null,null,null,null,null,null,null,null,null,null,null,null,null,null,null,null,null,null,null,null,null,null,"38:51",19,3851,"0000003851","00","38","51"]
["SA00087","VP-Glasgow AC","1946-12-04","Alan Potts","SA00087","Vet",28547,20,"Gael Riddle","F35","Ayr Seaforth AAC","y",20,169,{"$f":"VLOOKUP('entries and results'!N22,$H$3:$K$30018,2,FALSE)","v":"Scott MacSephney"},{"$f":"VLOOKUP('entries and results'!N22,$H$3:$K$30018,3,FALSE)","v":"M40"},{"$f":"VLOOKUP('entries and results'!N22,$H$3:$K$30018,4,FALSE)","v":"Ipswich Jaffa"},{"$f":"VLOOKUP('entries and results'!N22,$H$3:$L$30018,5,FALSE)","v":0},3854,"38:54",null,null,null,null,null,null,null,null,null,null,null,null,null,null,null,null,null,null,null,null,null,null,null,null,null,null,null,null,null,null,null,null,null,null,null,null,null,null,null,null,null,null,null,"38:54",20,3854,"0000003854","00","38","54"]
["SA00088","Dartford Harriers","1960-11-19","Geoff Wightman","SA00088","Vet",null,21,"Rob Carrol","M","Troon Tortoises AC","y",21,70,{"$f":"VLOOKUP('entries and results'!N23,$H$3:$K$30018,2,FALSE)","v":"David Thomson"},{"$f":"VLOOKUP('entries and results'!N23,$H$3:$K$30018,3,FALSE)","v":"M"},{"$f":"VLOOKUP('entries and results'!N23,$H$3:$K$30018,4,FALSE)","v":"East Kilbride AC"},{"$f":"VLOOKUP('entries and results'!N23,$H$3:$L$30018,5,FALSE)","v":0},3858,"38:58",null,null,null,null,null,null,null,null,null,null,null,null,null,null,null,null,null,null,null,null,null,null,null,null,null,null,null,null,null,null,null,null,null,null,null,null,null,null,null,null,null,null,null,"38:58",21,3858,"0000003858","00","38","58"]
["SA00089","Unattached","1962-09-26","Neil Park","SA00089","Vet",null,22,"Ian Wilson","M40","UA","y",22,184,{"$f":"VLOOKUP('entries and results'!N24,$H$3:$K$30018,2,FALSE)","v":"Alasdair Murray"},{"$f":"VLOOKUP('entries and results'!N24,$H$3:$K$30018,3,FALSE)","v":"M40"},{"$f":"VLOOKUP('entries and results'!N24,$H$3:$K$30018,4,FALSE)","v":"Kilmarnock H&AC"},{"$f":"VLOOKUP('entries and results'!N24,$H$3:$L$30018,5,FALSE)","v":"y"},3905,"39:05",null,null,null,null,null,null,null,null,null,null,null,null,null,null,null,null,null,null,null,null,null,null,null,null,null,null,null,null,null,null,null,null,null,null,null,null,null,null,null,null,null,null,null,"39:05",22,3905,"0000003905","00","39","05"]
["SA00095","Unattached","1924-04-14","Alex McDonald","SA00095","Vet",5349,23,"Steven Reid","M","Ayr Seaforth","y",23,78,{"$f":"VLOOKUP('entries and results'!N25,$H$3:$K$30018,2,FALSE)","v":"clawson paul"},{"$f":"VLOOKUP('entries and results'!N25,$H$3:$K$30018,3,FALSE)","v":"M"},{"$f":"VLOOKUP('entries and results'!N25,$H$3:$K$30018,4,FALSE)","v":"Bellahouston Harriers"},{"$f":"VLOOKUP('entries and results'!N25,$H$3:$L$30018,5,FALSE)","v":0},3906,"39:06",null,null,null,null,null,null,null,null,null,null,null,null,null,null,null,null,null,null,null,null,null,null,null,null,null,null,null,null,null,null,null,null,null,null,null,null,null,null,null,null,null,null,null,"39:06",23,3906,"0000003906","00","39","06"]
["SA00096","Ayr Seaforth AAC","1993-01-05","Jonathan Thompson","SA00096","Senior",30306,24,"Andrew Crichton","M","Ayr Seaforth AAC","y",24,200,{"$f":"VLOOKUP('entries and results'!N26,$H$3:$K$30018,2,FALSE)","v":"Stephen Speirs"},{"$f":"VLOOKUP('entries and results'!N26,$H$3:$K$30018,3,FALSE)","v":"M40"},{"$f":"VLOOKUP('entries and results'!N26,$H$3:$K$30018,4,FALSE)","v":"Kilbarchan AAC"},{"$f":"VLOOKUP('entries and results'!N26,$H$3:$L$30018,5,FALSE)","v":0},3909,"39:09",null,null,null,null,null,null,null,null,null,null,null,null,null,null,null,null,null,null,null,null,null,null,null,null,null,null,null,null,null,null,null,null,null,null,null,null,null,null,null,null,null,null,null,"39:09",24,3909,"0000003909","00","39","09"]
["SA00099","Nithsdale AC","1994-02-19","Carly McCrindle","SA00099","Under 17","SA30273",25,"Matthew Cameron","M20","Ayr Seaforth AAC","y",25,54,{"$f":"VLOOKUP('entries and results'!N27,$H$3:$K$30018,2,FALSE)","v":"Kevin Bloy"},{"$f":"VLOOKUP('entries and results'!N27,$H$3:$K$30018,3,FALSE)","v":"M40"},{"$f":"VLOOKUP('entries and results'!N27,$H$3:$K$30018,4,FALSE)","v":"Ayr Seaforth AAC"},{"$f":"VLOOKUP('entries and results'!N27,$H$3:$L$30018,5,FALSE)","v":"y"},3912,"39:12",null,null,null,null,null,null,null,null,null,null,null,null,null,null,null,null,null,null,null,null,null,null,null,null,null,null,null,null,null,null,null,null,null,null,null,null,null,null,null,null,null,null,null,"39:12",25,3912,"0000003912","00","39","12"]
["SA00101","Motherwell AC","1993-06-19","Richard Martin","SA00101","Senior",28088,26,"Stuart Brockie","M","Ayr Seaforth AAC","y",26,5,{"$f":"VLOOKUP('entries and results'!N28,$H$3:$K$30018,2,FALSE)","v":"Gary Kilpatrick"},{"$f":"VLOOKUP('entries and results'!N28,$H$3:$K$30018,3,FALSE)","v":"M"},{"$f":"VLOOKUP('entries and results'!N28,$H$3:$K$30018,4,FALSE)","v":"Rons Runners"},{"$f":"VLOOKUP('entries and results'!N28,$H$3:$L$30018,5,FALSE)","v":"y"},3915,"39:15",null,null,null,null,null,null,null,null,null,null,null,null,null,null,null,null,null,null,null,null,null,null,null,null,null,null,null,null,null,null,null,null,null,null,null,null,null,null,null,null,null,null,null,"39:15",26,3915,"0000003915","00","39","15"]
["SA00102","VP-Glasgow AC","1993-08-27","Jennifer Callaghan","SA00102","Senior",null,27,"Aimi Barker","F35","Ayr Seaforth AAC","y",27,158,{"$f":"VLOOKUP('entries and results'!N29,$H$3:$K$30018,2,FALSE)","v":"Mark Preston"},{"$f":"VLOOKUP('entries and results'!N29,$H$3:$K$30018,3,FALSE)","v":"M"},{"$f":"VLOOKUP('entries and results'!N29,$H$3:$K$30018,4,FALSE)","v":"North Ayrshire AC"},{"$f":"VLOOKUP('entries and results'!N29,$H$3:$L$30018,5,FALSE)","v":"y"},3919,"39:19",null,null,null,null,null,null,null,null,null,null,null,null,null,null,null,null,null,null,null,null,null,null,null,null,null,null,null,null,null,null,null,null,null,null,null,null,null,null,null,null,null,null,null,"39:19",27,3919,"0000003919","00","39","19"]
["SA00108","Lasswade AAC","1992-04-20","Guy Learmonth","SA00108","Senior","SA25564",28,"Gillian Palmer","F","Edinburgh AC",null,28,88,{"$f":"VLOOKUP('entries and results'!N30,$H$3:$K$30018,2,FALSE)","v":"Scott Lyden"},{"$f":"VLOOKUP('entries and results'!N30,$H$3:$K$30018,3,FALSE)","v":"M"},{"$f":"VLOOKUP('entries and results'!N30,$H$3:$K$30018,4,FALSE)","v":"UA"},{"$f":"VLOOKUP('entries and results'!N30,$H$3:$L$30018,5,FALSE)","v":"y"},3950,"39:50",null,null,null,null,null,null,null,null,null,null,null,null,null,null,null,null,null,null,null,null,null,null,null,null,null,null,null,null,null,null,null,null,null,null,null,null,null,null,null,null,null,null,null,"39:50",28,3950,"0000003950","00","39","50"]
["SA00184","Kirkintilloch Olympians","1989-11-04","Kevin Cornes","SA00184","Senior","SA13567",29,"Brian Robertson","M","UA",null,29,102,{"$f":"VLOOKUP('entries and results'!N31,$H$3:$K$30018,2,FALSE)","v":"John Surgenor"},{"$f":"VLOOKUP('entries and results'!N31,$H$3:$K$30018,3,FALSE)","v":"M50"},{"$f":"VLOOKUP('entries and results'!N31,$H$3:$K$30018,4,FALSE)","v":"Irvine AC"},{"$f":"VLOOKUP('entries and results'!N31,$H$3:$L$30018,5,FALSE)","v":"y"},4014,"40:14",null,null,null,null,null,null,null,null,null,null,null,null,null,null,null,null,null,null,null,null,null,null,null,null,null,null,null,null,null,null,null,null,null,null,null,null,null,null,null,null,null,null,null,"40:14",29,4014,"0000004014","00","40","14"]
["SA00380","Lasswade AAC","1993-10-23","Madeleine Sweeney-Baird","SA00380","Under 17","SA06824",30,"James Rowley","M60","Law &  District AAC",null,30,74,{"$f":"VLOOKUP('entries and results'!N32,$H$3:$K$30018,2,FALSE)","v":"Kieron Murphy"},{"$f":"VLOOKUP('entries and results'!N32,$H$3:$K$30018,3,FALSE)","v":"M"},{"$f":"VLOOKUP('entries and results'!N32,$H$3:$K$30018,4,FALSE)","v":"Spenborough AC"},{"$f":"VLOOKUP('entries and results'!N32,$H$3:$L$30018,5,FALSE)","v":0},4029,"40:29",null,null,null,null,null,null,null,null,null,null,null,null,null,null,null,null,null,null,null,null,null,null,null,null,null,null,null,null,null,null,null,null,null,null,null,null,null,null,null,null,null,null,null,"40:29",30,4029,"0000004029","00","40","29"]
["SA00398","Forres Harriers","1996-01-04","Lisa McCrossan","SA00398","Under 15","SA28306",31,"Stuart Livingstone","M","Corstorphine AAC",null,31,123,{"$f":"VLOOKUP('entries and results'!N33,$H$3:$K$30018,2,FALSE)","v":"John Parker"},{"$f":"VLOOKUP('entries and results'!N33,$H$3:$K$30018,3,FALSE)","v":"M50"},{"$f":"VLOOKUP('entries and results'!N33,$H$3:$K$30018,4,FALSE)","v":"Kilmarnock H&AC"},{"$f":"VLOOKUP('entries and results'!N33,$H$3:$L$30018,5,FALSE)","v":"y"},4031,"40:31",null,null,null,null,null,null,null,null,null,null,null,null,null,null,null,null,null,null,null,null,null,null,null,null,null,null,null,null,null,null,null,null,null,null,null,null,null,null,null,null,null,null,null,"40:31",31,4031,"0000004031","00","40","31"]
["SA00399","Girvan AAC","1991-04-04","Laura McTaggart","SA00399","Senior",null,32,"Christine Kling","F45","More Than Running","y",32,154,{"$f":"VLOOKUP('entries and results'!N34,$H$3:$K$30018,2,FALSE)","v":"Stuart Maclean"},{"$f":"VLOOKUP('entries and results'!N34,$H$3:$K$30018,3,FALSE)","v":"M40"},{"$f":"VLOOKUP('entries and results'!N34,$H$3:$K$30018,4,FALSE)","v":"Ayr Seaforth AAC"},{"$f":"VLOOKUP('entries and results'!N34,$H$3:$L$30018,5,FALSE)","v":"y"},4035,"40:35",null,null,null,null,null,null,null,null,null,null,null,null,null,null,null,null,null,null,null,null,null,null,null,null,null,null,null,null,null,null,null,null,null,null,null,null,null,null,null,null,null,null,null,"40:35",32,4035,"0000004035","00","40","35"]
["SA00406","Aberdeen AAC","1991-08-02","Cameron Strachan","SA00406","Senior",null,33,"Hayley McCrorie","F","Bellahouston Road Runners",null,33,136,{"$f":"VLOOKUP('entries and results'!N35,$H$3:$K$30018,2,FALSE)","v":"Gordon Thomson"},{"$f":"VLOOKUP('entries and results'!N35,$H$3:$K$30018,3,FALSE)","v":"M40"},{"$f":"VLOOKUP('entries and results'!N35,$H$3:$K$30018,4,FALSE)","v":"Irvine AC"},{"$f":"VLOOKUP('entries and results'!N35,$H$3:$L$30018,5,FALSE)","v":"y"},4037,"40:37",null,null,null,null,null,null,null,null,null,null,null,null,null,null,null,null,null,null,null,null,null,null,null,null,null,null,null,null,null,null,null,null,null,null,null,null,null,null,null,null,null,null,null,"40:37",33,4037,"0000004037","00","40","37"]
["SA00408","Aberdeen AAC","1990-09-16","Christie Noble","SA00408","Senior",null,34,"David Bowman","M","UA","y",34,114,{"$f":"VLOOKUP('entries and results'!N36,$H$3:$K$30018,2,FALSE)","v":"Jim Phillips"},{"$f":"VLOOKUP('entries and results'!N36,$H$3:$K$30018,3,FALSE)","v":"M40"},{"$f":"VLOOKUP('entries and results'!N36,$H$3:$K$30018,4,FALSE)","v":"Troon Tortoises AC"},{"$f":"VLOOKUP('entries and results'!N36,$H$3:$L$30018,5,FALSE)","v":"y"},4040,"40:40",null,null,null,null,null,null,null,null,null,null,null,null,null,null,null,null,null,null,null,null,null,null,null,null,null,null,null,null,null,null,null,null,null,null,null,null,null,null,null,null,null,null,null,"40:40",34,4040,"0000004040","00","40","40"]
["SA00409","Aberdeen AAC","1992-11-26","Lewis Stephen","SA00409","Senior",null,35,"David McCurry","M","UA","y",35,26,{"$f":"VLOOKUP('entries and results'!N37,$H$3:$K$30018,2,FALSE)","v":"Stuart Brockie"},{"$f":"VLOOKUP('entries and results'!N37,$H$3:$K$30018,3,FALSE)","v":"M"},{"$f":"VLOOKUP('entries and results'!N37,$H$3:$K$30018,4,FALSE)","v":"Ayr Seaforth AAC"},{"$f":"VLOOKUP('entries and results'!N37,$H$3:$L$30018,5,FALSE)","v":"y"},4054,"40:54",null,null,null,null,null,null,null,null,null,null,null,null,null,null,null,null,null,null,null,null,null,null,null,null,null,null,null,null,null,null,null,null,null,null,null,null,null,null,null,null,null,null,null,"40:54",35,4054,"0000004054","00","40","54"]
["SA00411","Airdrie Harriers","1994-03-22","Ciaran Gallagher","SA00411","Under 17",null,36,"Michael Mills","M","More than Running","y",36,111,{"$f":"VLOOKUP('entries and results'!N38,$H$3:$K$30018,2,FALSE)","v":"James Sneddon"},{"$f":"VLOOKUP('entries and results'!N38,$H$3:$K$30018,3,FALSE)","v":"M40"},{"$f":"VLOOKUP('entries and results'!N38,$H$3:$K$30018,4,FALSE)","v":"Irvine AC"},{"$f":"VLOOKUP('entries and results'!N38,$H$3:$L$30018,5,FALSE)","v":"y"},4106,"41:06",null,null,null,null,null,null,null,null,null,null,null,null,null,null,null,null,null,null,null,null,null,null,null,null,null,null,null,null,null,null,null,null,null,null,null,null,null,null,null,null,null,null,null,"41:06",36,4106,"0000004106","00","41","06"]
["SA00412","Airdrie Harriers","1994-09-22","Emma Howard","SA00412","Under 17",null,37,"Marianne Grover","F55","Jog Stewarton","y",37,100,{"$f":"VLOOKUP('entries and results'!N39,$H$3:$K$30018,2,FALSE)","v":"Billy Clark"},{"$f":"VLOOKUP('entries and results'!N39,$H$3:$K$30018,3,FALSE)","v":"M50"},{"$f":"VLOOKUP('entries and results'!N39,$H$3:$K$30018,4,FALSE)","v":"Giffnock North AAC"},{"$f":"VLOOKUP('entries and results'!N39,$H$3:$L$30018,5,FALSE)","v":0},4108,"41:08",null,null,null,null,null,null,null,null,null,null,null,null,null,null,null,null,null,null,null,null,null,null,null,null,null,null,null,null,null,null,null,null,null,null,null,null,null,null,null,null,null,null,null,"41:08",37,4108,"0000004108","00","41","08"]
["SA00415","Arran Runners","1991-05-31","Nicole Bunyan","SA00415","Senior",null,38,"Gareth Dunlop","M","UA","y",38,135,{"$f":"VLOOKUP('entries and results'!N40,$H$3:$K$30018,2,FALSE)","v":"Brian Wallace"},{"$f":"VLOOKUP('entries and results'!N40,$H$3:$K$30018,3,FALSE)","v":"M"},{"$f":"VLOOKUP('entries and results'!N40,$H$3:$K$30018,4,FALSE)","v":"Girvan AAC"},{"$f":"VLOOKUP('entries and results'!N40,$H$3:$L$30018,5,FALSE)","v":"y"},4109,"41:09",null,null,null,null,null,null,null,null,null,null,null,null,null,null,null,null,null,null,null,null,null,null,null,null,null,null,null,null,null,null,null,null,null,null,null,null,null,null,null,null,null,null,null,"41:09",38,4109,"0000004109","00","41","09"]
["SA00417","Ayr Seaforth AAC","1991-04-21","Cheryl Gibson","SA00417","Senior",null,39,"George Laird","M40","Kilmarnock H&AC","y",39,117,{"$f":"VLOOKUP('entries and results'!N41,$H$3:$K$30018,2,FALSE)","v":"Bobby Miller"},{"$f":"VLOOKUP('entries and results'!N41,$H$3:$K$30018,3,FALSE)","v":"M50"},{"$f":"VLOOKUP('entries and results'!N41,$H$3:$K$30018,4,FALSE)","v":"Troon Tortoises AC"},{"$f":"VLOOKUP('entries and results'!N41,$H$3:$L$30018,5,FALSE)","v":"y"},4113,"41:13",null,null,null,null,null,null,null,null,null,null,null,null,null,null,null,null,null,null,null,null,null,null,null,null,null,null,null,null,null,null,null,null,null,null,null,null,null,null,null,null,null,null,null,"41:13",39,4113,"0000004113","00","41","13"]
["SA00423","Edinburgh AC","1993-02-07","Matthew Jones","SA00423","Senior",null,40,"Phil Cordiner","M","UA","y",40,44,{"$f":"VLOOKUP('entries and results'!N42,$H$3:$K$30018,2,FALSE)","v":"James Murray"},{"$f":"VLOOKUP('entries and results'!N42,$H$3:$K$30018,3,FALSE)","v":"M"},{"$f":"VLOOKUP('entries and results'!N42,$H$3:$K$30018,4,FALSE)","v":"UA"},{"$f":"VLOOKUP('entries and results'!N42,$H$3:$L$30018,5,FALSE)","v":"y"},4115,"41:15",null,null,null,null,null,null,null,null,null,null,null,null,null,null,null,null,null,null,null,null,null,null,null,null,null,null,null,null,null,null,null,null,null,null,null,null,null,null,null,null,null,null,null,"41:15",40,4115,"0000004115","00","41","15"]
["SA00438","Dundee Hawkhill Harriers","1992-10-31","Sarah Kelly","SA00438","Senior",null,41,"Suzy Moorby","F45","Monkton Milers","y",41,112,{"$f":"VLOOKUP('entries and results'!N43,$H$3:$K$30018,2,FALSE)","v":"Derek Reid"},{"$f":"VLOOKUP('entries and results'!N43,$H$3:$K$30018,3,FALSE)","v":"M40"},{"$f":"VLOOKUP('entries and results'!N43,$H$3:$K$30018,4,FALSE)","v":"North Ayrshire AC"},{"$f":"VLOOKUP('entries and results'!N43,$H$3:$L$30018,5,FALSE)","v":"y"},4122,"41:22",null,null,null,null,null,null,null,null,null,null,null,null,null,null,null,null,null,null,null,null,null,null,null,null,null,null,null,null,null,null,null,null,null,null,null,null,null,null,null,null,null,null,null,"41:22",41,4122,"0000004122","00","41","22"]
["SA00442","Fife AC","1990-10-10","Ryan Ritchie","SA00442","Senior","SA24949",42,"Jacqueline Neil","F","Kilmarnock H&AC","y",42,138,{"$f":"VLOOKUP('entries and results'!N44,$H$3:$K$30018,2,FALSE)","v":"Paul Turnbull"},{"$f":"VLOOKUP('entries and results'!N44,$H$3:$K$30018,3,FALSE)","v":"M50"},{"$f":"VLOOKUP('entries and results'!N44,$H$3:$K$30018,4,FALSE)","v":"Ayr Seaforth AAC"},{"$f":"VLOOKUP('entries and results'!N44,$H$3:$L$30018,5,FALSE)","v":"y"},4126,"41:26",null,null,null,null,null,null,null,null,null,null,null,null,null,null,null,null,null,null,null,null,null,null,null,null,null,null,null,null,null,null,null,null,null,null,null,null,null,null,null,null,null,null,null,"41:26",42,4126,"0000004126","00","41","26"]
["SA00445","Fife AC","1991-03-09","Jenny Tan","SA00445","Senior",null,43,"Daniel McConnell","M","Kilmarnock H&AC","y",43,173,{"$f":"VLOOKUP('entries and results'!N45,$H$3:$K$30018,2,FALSE)","v":"Fraser Mackie"},{"$f":"VLOOKUP('entries and results'!N45,$H$3:$K$30018,3,FALSE)","v":"M20"},{"$f":"VLOOKUP('entries and results'!N45,$H$3:$K$30018,4,FALSE)","v":"North Ayrshire AC"},{"$f":"VLOOKUP('entries and results'!N45,$H$3:$L$30018,5,FALSE)","v":"y"},4127,"41:27",null,null,null,null,null,null,null,null,null,null,null,null,null,null,null,null,null,null,null,null,null,null,null,null,null,null,null,null,null,null,null,null,null,null,null,null,null,null,null,null,null,null,null,"41:27",43,4127,"0000004127","00","41","27"]
["SA00451","Giffnock North AAC","1994-03-29","Karin Belch","SA00451","Under 17",null,44,"James Murray","M","UA","y",44,163,{"$f":"VLOOKUP('entries and results'!N46,$H$3:$K$30018,2,FALSE)","v":"Alistair McCallum"},{"$f":"VLOOKUP('entries and results'!N46,$H$3:$K$30018,3,FALSE)","v":"M"},{"$f":"VLOOKUP('entries and results'!N46,$H$3:$K$30018,4,FALSE)","v":"UA"},{"$f":"VLOOKUP('entries and results'!N46,$H$3:$L$30018,5,FALSE)","v":"y"},4159,"41:59",null,null,null,null,null,null,null,null,null,null,null,null,null,null,null,null,null,null,null,null,null,null,null,null,null,null,null,null,null,null,null,null,null,null,null,null,null,null,null,null,null,null,null,"41:59",44,4159,"0000004159","00","41","59"]
["SA00456","Giffnock North AAC","1994-02-12","Max Lott","SA00456","Under 17","sa2979",45,"Janice Millar","F55","Kilmarnock H&AC","y",45,9,{"$f":"VLOOKUP('entries and results'!N47,$H$3:$K$30018,2,FALSE)","v":"Angela Reid"},{"$f":"VLOOKUP('entries and results'!N47,$H$3:$K$30018,3,FALSE)","v":"F35"},{"$f":"VLOOKUP('entries and results'!N47,$H$3:$K$30018,4,FALSE)","v":"UA"},{"$f":"VLOOKUP('entries and results'!N47,$H$3:$L$30018,5,FALSE)","v":"y"},4203,"42:03",null,null,null,null,null,null,null,null,null,null,null,null,null,null,null,null,null,null,null,null,null,null,null,null,null,null,null,null,null,null,null,null,null,null,null,null,null,null,null,null,null,null,null,"42:03",45,4203,"0000004203","00","42","03"]
["SA00457","Giffnock North AAC","1994-03-29","Catriona Loughran","SA00457","Under 17",null,46,"Ian Falconer","M50","UA","y",46,142,{"$f":"VLOOKUP('entries and results'!N48,$H$3:$K$30018,2,FALSE)","v":"James White"},{"$f":"VLOOKUP('entries and results'!N48,$H$3:$K$30018,3,FALSE)","v":"M60"},{"$f":"VLOOKUP('entries and results'!N48,$H$3:$K$30018,4,FALSE)","v":"Irvine AC"},{"$f":"VLOOKUP('entries and results'!N48,$H$3:$L$30018,5,FALSE)","v":"y"},4204,"42:04",null,null,null,null,null,null,null,null,null,null,null,null,null,null,null,null,null,null,null,null,null,null,null,null,null,null,null,null,null,null,null,null,null,null,null,null,null,null,null,null,null,null,null,"42:04",46,4204,"0000004204","00","42","04"]
["SA00460","Giffnock North AAC","1993-09-03","Sandy Nimmo","SA00460","Under 17","SA28230",47,"Anthony Rodden","M","Kilmarnock H&AC","y",47,52,{"$f":"VLOOKUP('entries and results'!N49,$H$3:$K$30018,2,FALSE)","v":"Kenneth Fowler"},{"$f":"VLOOKUP('entries and results'!N49,$H$3:$K$30018,3,FALSE)","v":"M40"},{"$f":"VLOOKUP('entries and results'!N49,$H$3:$K$30018,4,FALSE)","v":"Troon Tortoises AC"},{"$f":"VLOOKUP('entries and results'!N49,$H$3:$L$30018,5,FALSE)","v":"y"},4208,"42:08",null,null,null,null,null,null,null,null,null,null,null,null,null,null,null,null,null,null,null,null,null,null,null,null,null,null,null,null,null,null,null,null,null,null,null,null,null,null,null,null,null,null,null,"42:08",47,4208,"0000004208","00","42","08"]
["SA00464","Giffnock North AAC","1992-06-02","Greg Turner","SA00464","Senior",null,49,"Calum Macdonald","M","Ayr Seaforth AAC","y",48,131,{"$f":"VLOOKUP('entries and results'!N50,$H$3:$K$30018,2,FALSE)","v":"Stephen Flanagan"},{"$f":"VLOOKUP('entries and results'!N50,$H$3:$K$30018,3,FALSE)","v":"M40"},{"$f":"VLOOKUP('entries and results'!N50,$H$3:$K$30018,4,FALSE)","v":"Girvan AAC"},{"$f":"VLOOKUP('entries and results'!N50,$H$3:$L$30018,5,FALSE)","v":"y"},4217,"42:17",null,null,null,null,null,null,null,null,null,null,null,null,null,null,null,null,null,null,null,null,null,null,null,null,null,null,null,null,null,null,null,null,null,null,null,null,null,null,null,null,null,null,null,"42:28",48,4228,"0000004228","00","42","28"]
["SA00468","Giffnock North AAC","1993-04-16","Katie McKnight","SA00468","Senior",null,50,"Anthony Baker","M","UA","y",49,2,{"$f":"VLOOKUP('entries and results'!N51,$H$3:$K$30018,2,FALSE)","v":"Chris Boyce"},{"$f":"VLOOKUP('entries and results'!N51,$H$3:$K$30018,3,FALSE)","v":"M"},{"$f":"VLOOKUP('entries and results'!N51,$H$3:$K$30018,4,FALSE)","v":"Troon Tortoises AC"},{"$f":"VLOOKUP('entries and results'!N51,$H$3:$L$30018,5,FALSE)","v":"y"},4226,"42:26",null,null,null,null,null,null,null,null,null,null,null,null,null,null,null,null,null,null,null,null,null,null,null,null,null,null,null,null,null,null,null,null,null,null,null,null,null,null,null,null,null,null,null,"42:17",49,4217,"0000004217","00","42","17"]
["SA00470","Glasgow School of Sport","1992-04-18","Samantha Kelly","SA00470","Senior",null,48,"Mark Neville","M","UA","y",50,157,{"$f":"VLOOKUP('entries and results'!N52,$H$3:$K$30018,2,FALSE)","v":"Martin McCrorie"},{"$f":"VLOOKUP('entries and results'!N52,$H$3:$K$30018,3,FALSE)","v":"M"},{"$f":"VLOOKUP('entries and results'!N52,$H$3:$K$30018,4,FALSE)","v":"Ayr Seaforth AAC"},{"$f":"VLOOKUP('entries and results'!N52,$H$3:$L$30018,5,FALSE)","v":"y"},4228,"42:28",null,null,null,null,null,null,null,null,null,null,null,null,null,null,null,null,null,null,null,null,null,null,null,null,null,null,null,null,null,null,null,null,null,null,null,null,null,null,null,null,null,null,null,"42:26",50,4226,"0000004226","00","42","26"]
["SA00477","VP-Glasgow AC","1990-06-12","Hazel Blair","SA00477","Senior",null,51,"Mike Turner","M40","UA","y",51,62,{"$f":"VLOOKUP('entries and results'!N53,$H$3:$K$30018,2,FALSE)","v":"Tom Steel"},{"$f":"VLOOKUP('entries and results'!N53,$H$3:$K$30018,3,FALSE)","v":"M40"},{"$f":"VLOOKUP('entries and results'!N53,$H$3:$K$30018,4,FALSE)","v":"Hamilton Harriers"},{"$f":"VLOOKUP('entries and results'!N53,$H$3:$L$30018,5,FALSE)","v":0},4233,"42:33",null,null,null,null,null,null,null,null,null,null,null,null,null,null,null,null,null,null,null,null,null,null,null,null,null,null,null,null,null,null,null,null,null,null,null,null,null,null,null,null,null,null,null,"42:33",51,4233,"0000004233","00","42","33"]
["SA00495","Livingston & District AAC","1994-06-09","Stephen Watson","SA00495","Under 17","SA21665",52,"Kenneth Fowler","M40","Troon Tortoises AC","y",52,65,{"$f":"VLOOKUP('entries and results'!N54,$H$3:$K$30018,2,FALSE)","v":"Paul Chapman"},{"$f":"VLOOKUP('entries and results'!N54,$H$3:$K$30018,3,FALSE)","v":"M"},{"$f":"VLOOKUP('entries and results'!N54,$H$3:$K$30018,4,FALSE)","v":"UA"},{"$f":"VLOOKUP('entries and results'!N54,$H$3:$L$30018,5,FALSE)","v":"y"},4241,"42:41",null,null,null,null,null,null,null,null,null,null,null,null,null,null,null,null,null,null,null,null,null,null,null,null,null,null,null,null,null,null,null,null,null,null,null,null,null,null,null,null,null,null,null,"42:41",52,4241,"0000004241","00","42","41"]
["SA00497","Stewartry AC","1991-02-07","Matthew Lynch","SA00497","Senior",21631,53,"Ian Hughes","M40","Calderglen Harriers",null,53,176,{"$f":"VLOOKUP('entries and results'!N55,$H$3:$K$30018,2,FALSE)","v":"Richard Skillen"},{"$f":"VLOOKUP('entries and results'!N55,$H$3:$K$30018,3,FALSE)","v":"M40"},{"$f":"VLOOKUP('entries and results'!N55,$H$3:$K$30018,4,FALSE)","v":"Kilmarnock H&AC"},{"$f":"VLOOKUP('entries and results'!N55,$H$3:$L$30018,5,FALSE)","v":"y"},4250,"42:50",null,null,null,null,null,null,null,null,null,null,null,null,null,null,null,null,null,null,null,null,null,null,null,null,null,null,null,null,null,null,null,null,null,null,null,null,null,null,null,null,null,null,null,"42:50",53,4250,"0000004250","00","42","50"]
["SA00501","Unattached","1991-04-19","Danielle Melville","SA00501","Senior","sa17173",54,"Kevin Bloy","M40","Ayr Seaforth AAC","y",54,98,{"$f":"VLOOKUP('entries and results'!N56,$H$3:$K$30018,2,FALSE)","v":"Tom Coughtrie"},{"$f":"VLOOKUP('entries and results'!N56,$H$3:$K$30018,3,FALSE)","v":"M50"},{"$f":"VLOOKUP('entries and results'!N56,$H$3:$K$30018,4,FALSE)","v":"Jog Scotland"},{"$f":"VLOOKUP('entries and results'!N56,$H$3:$L$30018,5,FALSE)","v":"y"},4252,"42:52",null,null,null,null,null,null,null,null,null,null,null,null,null,null,null,null,null,null,null,null,null,null,null,null,null,null,null,null,null,null,null,null,null,null,null,null,null,null,null,null,null,null,null,"42:52",54,4252,"0000004252","00","42","52"]
["SA00502","Stroud A. C.","1988-06-16","Alexander Russell","SA00502","Senior",null,55,"Craig Welsh","M","UA","y",55,162,{"$f":"VLOOKUP('entries and results'!N57,$H$3:$K$30018,2,FALSE)","v":"Mark Hamilton"},{"$f":"VLOOKUP('entries and results'!N57,$H$3:$K$30018,3,FALSE)","v":"M40"},{"$f":"VLOOKUP('entries and results'!N57,$H$3:$K$30018,4,FALSE)","v":"Kilmarnock H&AC"},{"$f":"VLOOKUP('entries and results'!N57,$H$3:$L$30018,5,FALSE)","v":"y"},4256,"42:56",null,null,null,null,null,null,null,null,null,null,null,null,null,null,null,null,null,null,null,null,null,null,null,null,null,null,null,null,null,null,null,null,null,null,null,null,null,null,null,null,null,null,null,"42:56",55,4256,"0000004256","00","42","56"]
["SA00512","Edinburgh AC","1993-10-15","Nicky McMurtrie","SA00512","Under 17","Sa27808",56,"Darrell Dunscombe","M40","Troon Tortoises AC","y",56,97,{"$f":"VLOOKUP('entries and results'!N58,$H$3:$K$30018,2,FALSE)","v":"Ian McIlwraith"},{"$f":"VLOOKUP('entries and results'!N58,$H$3:$K$30018,3,FALSE)","v":"M40"},{"$f":"VLOOKUP('entries and results'!N58,$H$3:$K$30018,4,FALSE)","v":"Rons Runners"},{"$f":"VLOOKUP('entries and results'!N58,$H$3:$L$30018,5,FALSE)","v":"y"},4257,"42:57",null,null,null,null,null,null,null,null,null,null,null,null,null,null,null,null,null,null,null,null,null,null,null,null,null,null,null,null,null,null,null,null,null,null,null,null,null,null,null,null,null,null,null,"42:57",56,4257,"0000004257","00","42","57"]
["SA00518","Aberdeen AAC","1993-04-27","Ellie Buchan","SA00518","Senior","sa14900",57,"Andrew Campbell","M","Bellahouston Harriers",null,57,80,{"$f":"VLOOKUP('entries and results'!N59,$H$3:$K$30018,2,FALSE)","v":"Erica Christie"},{"$f":"VLOOKUP('entries and results'!N59,$H$3:$K$30018,3,FALSE)","v":"F55"},{"$f":"VLOOKUP('entries and results'!N59,$H$3:$K$30018,4,FALSE)","v":"Bellahouston Harriers"},{"$f":"VLOOKUP('entries and results'!N59,$H$3:$L$30018,5,FALSE)","v":0},4258,"42:58",null,null,null,null,null,null,null,null,null,null,null,null,null,null,null,null,null,null,null,null,null,null,null,null,null,null,null,null,null,null,null,null,null,null,null,null,null,null,null,null,null,null,null,"42:58",57,4258,"0000004258","00","42","58"]
["SA00519","Airdrie Harriers","1993-02-22","Nathan Angelopoulos","SA00519","Senior",7879,58,"Ian McNee","M50","Troon Tortoises AC","y",58,182,{"$f":"VLOOKUP('entries and results'!N60,$H$3:$K$30018,2,FALSE)","v":"Gordon Stuart"},{"$f":"VLOOKUP('entries and results'!N60,$H$3:$K$30018,3,FALSE)","v":"M"},{"$f":"VLOOKUP('entries and results'!N60,$H$3:$K$30018,4,FALSE)","v":"UA"},{"$f":"VLOOKUP('entries and results'!N60,$H$3:$L$30018,5,FALSE)","v":"y"},4259,"42:59",null,null,null,null,null,null,null,null,null,null,null,null,null,null,null,null,null,null,null,null,null,null,null,null,null,null,null,null,null,null,null,null,null,null,null,null,null,null,null,null,null,null,null,"42:59",58,4259,"0000004259","00","42","59"]
["SA00524","Arbroath & District AC","1995-10-12","Caitlin McLoughlin","SA00524","Under 15",null,59,"Andy McNaughton","M40","Rons Runners","y",59,168,{"$f":"VLOOKUP('entries and results'!N61,$H$3:$K$30018,2,FALSE)","v":"Thomas Turner "},{"$f":"VLOOKUP('entries and results'!N61,$H$3:$K$30018,3,FALSE)","v":"M"},{"$f":"VLOOKUP('entries and results'!N61,$H$3:$K$30018,4,FALSE)","v":"UA"},{"$f":"VLOOKUP('entries and results'!N61,$H$3:$L$30018,5,FALSE)","v":"y"},4304,"43:04",null,null,null,null,null,null,null,null,null,null,null,null,null,null,null,null,null,null,null,null,null,null,null,null,null,null,null,null,null,null,null,null,null,null,null,null,null,null,null,null,null,null,null,"43:04",59,4304,"0000004304","00","43","04"]
["SA00527","Banchory Stonehaven AC","1994-07-23","Benjamin Rees","SA00527","Under 17","sa27309",60,"Ian Young","M","Ayr Seaforth AAC","y",60,39,{"$f":"VLOOKUP('entries and results'!N62,$H$3:$K$30018,2,FALSE)","v":"George Laird"},{"$f":"VLOOKUP('entries and results'!N62,$H$3:$K$30018,3,FALSE)","v":"M40"},{"$f":"VLOOKUP('entries and results'!N62,$H$3:$K$30018,4,FALSE)","v":"Kilmarnock H&AC"},{"$f":"VLOOKUP('entries and results'!N62,$H$3:$L$30018,5,FALSE)","v":"y"},4333,"43:33",null,null,null,null,null,null,null,null,null,null,null,null,null,null,null,null,null,null,null,null,null,null,null,null,null,null,null,null,null,null,null,null,null,null,null,null,null,null,null,null,null,null,null,"43:33",60,4333,"0000004333","00","43","33"]
["SA00529","Central AC","1993-09-01","Louise Anderson","SA00529","Under 17",null,61,"Alison Duncan","F","Hamilton Harriers",null,61,25,{"$f":"VLOOKUP('entries and results'!N63,$H$3:$K$30018,2,FALSE)","v":"Matthew Cameron"},{"$f":"VLOOKUP('entries and results'!N63,$H$3:$K$30018,3,FALSE)","v":"M20"},{"$f":"VLOOKUP('entries and results'!N63,$H$3:$K$30018,4,FALSE)","v":"Ayr Seaforth AAC"},{"$f":"VLOOKUP('entries and results'!N63,$H$3:$L$30018,5,FALSE)","v":"y"},4349,"43:49",null,null,null,null,null,null,null,null,null,null,null,null,null,null,null,null,null,null,null,null,null,null,null,null,null,null,null,null,null,null,null,null,null,null,null,null,null,null,null,null,null,null,null,"43:49",61,4349,"0000004349","00","43","49"]
["SA00530","Central AC","1994-04-27","Megan Jardine","SA00530","Under 17",null,62,"Tom Steel","M40","Hamilton Harriers",null,62,20,{"$f":"VLOOKUP('entries and results'!N64,$H$3:$K$30018,2,FALSE)","v":"Gael Riddle"},{"$f":"VLOOKUP('entries and results'!N64,$H$3:$K$30018,3,FALSE)","v":"F35"},{"$f":"VLOOKUP('entries and results'!N64,$H$3:$K$30018,4,FALSE)","v":"Ayr Seaforth AAC"},{"$f":"VLOOKUP('entries and results'!N64,$H$3:$L$30018,5,FALSE)","v":"y"},4353,"43:53",null,null,null,null,null,null,null,null,null,null,null,null,null,null,null,null,null,null,null,null,null,null,null,null,null,null,null,null,null,null,null,null,null,null,null,null,null,null,null,null,null,null,null,"43:53",62,4353,"0000004353","00","43","53"]
["SA00535","Edinburgh AC","1994-06-07","Ross Blair","SA00535","Under 17",null,63,"Gillian Stevenson","F","UA",null,63,134,{"$f":"VLOOKUP('entries and results'!N65,$H$3:$K$30018,2,FALSE)","v":"John Rennie"},{"$f":"VLOOKUP('entries and results'!N65,$H$3:$K$30018,3,FALSE)","v":"M40"},{"$f":"VLOOKUP('entries and results'!N65,$H$3:$K$30018,4,FALSE)","v":"Girvan AAC"},{"$f":"VLOOKUP('entries and results'!N65,$H$3:$L$30018,5,FALSE)","v":"y"},4400,"44:00",null,null,null,null,null,null,null,null,null,null,null,null,null,null,null,null,null,null,null,null,null,null,null,null,null,null,null,null,null,null,null,null,null,null,null,null,null,null,null,null,null,null,null,"44:00",63,4400,"0000004400","00","44","00"]
["SA00539","Edinburgh AC","1995-12-20","Emma McGinty","SA00539","Under 15",null,64,"Viv Lambert","F35","UA","y",64,48,{"$f":"VLOOKUP('entries and results'!N66,$H$3:$K$30018,2,FALSE)","v":"Mark Neville"},{"$f":"VLOOKUP('entries and results'!N66,$H$3:$K$30018,3,FALSE)","v":"M"},{"$f":"VLOOKUP('entries and results'!N66,$H$3:$K$30018,4,FALSE)","v":"UA"},{"$f":"VLOOKUP('entries and results'!N66,$H$3:$L$30018,5,FALSE)","v":"y"},4406,"44:06",null,null,null,null,null,null,null,null,null,null,null,null,null,null,null,null,null,null,null,null,null,null,null,null,null,null,null,null,null,null,null,null,null,null,null,null,null,null,null,null,null,null,null,"44:06",64,4406,"0000004406","00","44","06"]
["SA00541","Edinburgh AC","1992-11-09","Rebecca Shearer","SA00541","Senior",null,65,"Paul Chapman","M","UA","y",65,185,{"$f":"VLOOKUP('entries and results'!N67,$H$3:$K$30018,2,FALSE)","v":"Andrew Clugston"},{"$f":"VLOOKUP('entries and results'!N67,$H$3:$K$30018,3,FALSE)","v":"M"},{"$f":"VLOOKUP('entries and results'!N67,$H$3:$K$30018,4,FALSE)","v":"Kilbarchan AAC"},{"$f":"VLOOKUP('entries and results'!N67,$H$3:$L$30018,5,FALSE)","v":0},4428,"44:28",null,null,null,null,null,null,null,null,null,null,null,null,null,null,null,null,null,null,null,null,null,null,null,null,null,null,null,null,null,null,null,null,null,null,null,null,null,null,null,null,null,null,null,"44:28",65,{"$f":"SUMIF($H$3:$H$601,$BM67,$S$3:$S$601)","v":4428},"0000004428","00","44","28"]
["SA00547","East Kilbride A.C.","1993-02-13","Fiona Borthwick","SA00547","Senior",null,66,"Derek Middleton","M50","Kilmarnock H&AC","y",66,172,{"$f":"VLOOKUP('entries and results'!N68,$H$3:$K$30018,2,FALSE)","v":"Shona Blades"},{"$f":"VLOOKUP('entries and results'!N68,$H$3:$K$30018,3,FALSE)","v":"F20"},{"$f":"VLOOKUP('entries and results'!N68,$H$3:$K$30018,4,FALSE)","v":"North Ayrshire AC"},{"$f":"VLOOKUP('entries and results'!N68,$H$3:$L$30018,5,FALSE)","v":"y"},4430,{"$f":"IF($H68=\"\",\" \",(LOOKUP($H68,$BM$3:$BM$1601,$BL$3:$BL$1601)))","v":"44:30"},null,null,null,null,null,null,null,null,null,null,null,null,null,null,null,null,null,null,null,null,null,null,null,null,null,null,null,null,null,null,null,null,null,null,null,null,null,null,null,null,null,null,null,{"$f":"CONCATENATE(BQ68,\":\",BR68)","v":"44:30"},66,4430,{"$f":"CONCATENATE($BI$2,$BN68)","v":"0000004430"},{"$f":"MID(RIGHT($BO68,6),1,2)","v":"00"},{"$f":"MID(RIGHT($BO68,6),3,2)","v":"44"},{"$f":"MID(RIGHT($BO68,6),5,2)","v":"30"}]
["SA00548","Edinburgh AC","1996-02-12","Aimee Sutherland","SA00548","Under 15",null,67,"Allan Hogarth","M40","UA",null,67,109,{"$f":"VLOOKUP('entries and results'!N69,$H$3:$K$30018,2,FALSE)","v":"Stewart McAllister"},{"$f":"VLOOKUP('entries and results'!N69,$H$3:$K$30018,3,FALSE)","v":"M"},{"$f":"VLOOKUP('entries and results'!N69,$H$3:$K$30018,4,FALSE)","v":"Kilmarnock H&AC"},{"$f":"VLOOKUP('entries and results'!N69,$H$3:$L$30018,5,FALSE)","v":"y"},4432,"44:32",null,null,null,null,null,null,null,null,null,null,null,null,null,null,null,null,null,null,null,null,null,null,null,null,null,null,null,null,null,null,null,null,null,null,null,null,null,null,null,null,null,null,null,"44:32",67,4432,"0000004432","00","44","32"]
["SA00554","Falkirk Victoria Harriers","1995-12-08","Katherine Mitchell","SA00554","Under 15",null,68,"Craig Brown","M","Ayr Seaforth AAC","y",68,93,{"$f":"VLOOKUP('entries and results'!N70,$H$3:$K$30018,2,FALSE)","v":"Fiona Comrie"},{"$f":"VLOOKUP('entries and results'!N70,$H$3:$K$30018,3,FALSE)","v":"F35"},{"$f":"VLOOKUP('entries and results'!N70,$H$3:$K$30018,4,FALSE)","v":"North Ayrshire AC"},{"$f":"VLOOKUP('entries and results'!N70,$H$3:$L$30018,5,FALSE)","v":"y"},4446,"44:46",null,null,null,null,null,null,null,null,null,null,null,null,null,null,null,null,null,null,null,null,null,null,null,null,null,null,null,null,null,null,null,null,null,null,null,null,null,null,null,null,null,null,null,"44:46",68,4446,"0000004446","00","44","46"]
["SA00556","Fife AC","1992-06-29","Andrew Hood","SA00556","Senior",null,69,"Linda Lithgow","F35","UA","y",69,195,{"$f":"VLOOKUP('entries and results'!N71,$H$3:$K$30018,2,FALSE)","v":"A.Stewart"},{"$f":"VLOOKUP('entries and results'!N71,$H$3:$K$30018,3,FALSE)","v":"M40"},{"$f":"VLOOKUP('entries and results'!N71,$H$3:$K$30018,4,FALSE)","v":"Rons Runners"},{"$f":"VLOOKUP('entries and results'!N71,$H$3:$L$30018,5,FALSE)","v":"y"},4448,"44:48",null,null,null,null,null,null,null,null,null,null,null,null,null,null,null,null,null,null,null,null,null,null,null,null,null,null,null,null,null,null,null,null,null,null,null,null,null,null,null,null,null,null,null,"44:48",69,4448,"0000004448","00","44","48"]
["SA00560","George Heriots School","1992-03-20","Ross Christie","SA00560","Senior","SA23574",70,"David Thomson","M","East Kilbride AC",null,70,60,{"$f":"VLOOKUP('entries and results'!N72,$H$3:$K$30018,2,FALSE)","v":"Ian Young"},{"$f":"VLOOKUP('entries and results'!N72,$H$3:$K$30018,3,FALSE)","v":"M"},{"$f":"VLOOKUP('entries and results'!N72,$H$3:$K$30018,4,FALSE)","v":"Ayr Seaforth AAC"},{"$f":"VLOOKUP('entries and results'!N72,$H$3:$L$30018,5,FALSE)","v":"y"},4453,"44:53",null,null,null,null,null,null,null,null,null,null,null,null,null,null,null,null,null,null,null,null,null,null,null,null,null,null,null,null,null,null,null,null,null,null,null,null,null,null,null,null,null,null,null,"44:53",70,4453,"0000004453","00","44","53"]
["SA00563","Helensburgh AAC","1994-09-01","Madeline Robinson","SA00563","Under 17",null,71,"Allan Moore","M","UA",null,71,49,{"$f":"VLOOKUP('entries and results'!N73,$H$3:$K$30018,2,FALSE)","v":"Calum Macdonald"},{"$f":"VLOOKUP('entries and results'!N73,$H$3:$K$30018,3,FALSE)","v":"M"},{"$f":"VLOOKUP('entries and results'!N73,$H$3:$K$30018,4,FALSE)","v":"Ayr Seaforth AAC"},{"$f":"VLOOKUP('entries and results'!N73,$H$3:$L$30018,5,FALSE)","v":"y"},4454,"44:54",null,null,null,null,null,null,null,null,null,null,null,null,null,null,null,null,null,null,null,null,null,null,null,null,null,null,null,null,null,null,null,null,null,null,null,null,null,null,null,null,null,null,null,"44:54",71,4454,"0000004454","00","44","54"]
["SA00566","Irvine AC","1995-11-20","Kian Douglas","SA00566","Under 15","sa05498",72,"David Mitchell","M40","Ayrodynamic Triathlon Club","y",72,92,{"$f":"VLOOKUP('entries and results'!N74,$H$3:$K$30018,2,FALSE)","v":"James O'Hagan"},{"$f":"VLOOKUP('entries and results'!N74,$H$3:$K$30018,3,FALSE)","v":"M40"},{"$f":"VLOOKUP('entries and results'!N74,$H$3:$K$30018,4,FALSE)","v":"Giffnock North"},{"$f":"VLOOKUP('entries and results'!N74,$H$3:$L$30018,5,FALSE)","v":0},4506,"45:06",null,null,null,null,null,null,null,null,null,null,null,null,null,null,null,null,null,null,null,null,null,null,null,null,null,null,null,null,null,null,null,null,null,null,null,null,null,null,null,null,null,null,null,"45:06",72,4506,"0000004506","00","45","06"]
["SA00568","Kilmarnock H&AC","1993-10-15","Andrew Martin","SA00568","Under 17",null,73,"Ian Rutherford","M40","UA","y",73,165,{"$f":"VLOOKUP('entries and results'!N75,$H$3:$K$30018,2,FALSE)","v":"Kerry Murdoch"},{"$f":"VLOOKUP('entries and results'!N75,$H$3:$K$30018,3,FALSE)","v":"F"},{"$f":"VLOOKUP('entries and results'!N75,$H$3:$K$30018,4,FALSE)","v":"UA"},{"$f":"VLOOKUP('entries and results'!N75,$H$3:$L$30018,5,FALSE)","v":"y"},4509,"45:09",null,null,null,null,null,null,null,null,null,null,null,null,null,null,null,null,null,null,null,null,null,null,null,null,null,null,null,null,null,null,null,null,null,null,null,null,null,null,null,null,null,null,null,"45:09",73,4509,"0000004509","00","45","09"]
["SA00570","Kilbarchan AAC","1994-09-27","Kate Gillies","SA00570","Under 17",null,74,"Kieron Murphy","M","Spenborough AC",null,74,32,{"$f":"VLOOKUP('entries and results'!N76,$H$3:$K$30018,2,FALSE)","v":"Christine Kling"},{"$f":"VLOOKUP('entries and results'!N76,$H$3:$K$30018,3,FALSE)","v":"F45"},{"$f":"VLOOKUP('entries and results'!N76,$H$3:$K$30018,4,FALSE)","v":"More Than Running"},{"$f":"VLOOKUP('entries and results'!N76,$H$3:$L$30018,5,FALSE)","v":"y"},4518,"45:18",null,null,null,null,null,null,null,null,null,null,null,null,null,null,null,null,null,null,null,null,null,null,null,null,null,null,null,null,null,null,null,null,null,null,null,null,null,null,null,null,null,null,null,"45:18",74,4518,"0000004518","00","45","18"]
["SA00571","Kilbarchan AAC","1990-06-23","Christina Rankin","SA00571","Senior",24419,75,"Cris Walsh","M40","Bellahouston Harriers",null,75,56,{"$f":"VLOOKUP('entries and results'!N77,$H$3:$K$30018,2,FALSE)","v":"Darrell Dunscombe"},{"$f":"VLOOKUP('entries and results'!N77,$H$3:$K$30018,3,FALSE)","v":"M40"},{"$f":"VLOOKUP('entries and results'!N77,$H$3:$K$30018,4,FALSE)","v":"Troon Tortoises AC"},{"$f":"VLOOKUP('entries and results'!N77,$H$3:$L$30018,5,FALSE)","v":"y"},4524,"45:24",null,null,null,null,null,null,null,null,null,null,null,null,null,null,null,null,null,null,null,null,null,null,null,null,null,null,null,null,null,null,null,null,null,null,null,null,null,null,null,null,null,null,null,"45:24",75,4524,"0000004524","00","45","24"]
["SA00578","Lasswade AAC","1995-04-20","Katherine Szymanski","SA00578","Under 17","SO00590",76,"Clare Forrest Lowry","F35","Irvine AC","y",76,147,{"$f":"VLOOKUP('entries and results'!N78,$H$3:$K$30018,2,FALSE)","v":"Matthew Ferguson"},{"$f":"VLOOKUP('entries and results'!N78,$H$3:$K$30018,3,FALSE)","v":"M60"},{"$f":"VLOOKUP('entries and results'!N78,$H$3:$K$30018,4,FALSE)","v":"Kilmarnock H&AC"},{"$f":"VLOOKUP('entries and results'!N78,$H$3:$L$30018,5,FALSE)","v":"y"},4528,"45:28",null,null,null,null,null,null,null,null,null,null,null,null,null,null,null,null,null,null,null,null,null,null,null,null,null,null,null,null,null,null,null,null,null,null,null,null,null,null,null,null,null,null,null,"45:28",76,4528,"0000004528","00","45","28"]
["SA00579","Lasswade AAC","1995-04-20","Sarah Szymanski","SA00579","Under 17","SA21173",77,"Ruairidh Macdonald","M","Bellahouston Harriers",null,77,40,{"$f":"VLOOKUP('entries and results'!N79,$H$3:$K$30018,2,FALSE)","v":"Phil Cordiner"},{"$f":"VLOOKUP('entries and results'!N79,$H$3:$K$30018,3,FALSE)","v":"M"},{"$f":"VLOOKUP('entries and results'!N79,$H$3:$K$30018,4,FALSE)","v":"UA"},{"$f":"VLOOKUP('entries and results'!N79,$H$3:$L$30018,5,FALSE)","v":"y"},4535,"45:35",null,null,null,null,null,null,null,null,null,null,null,null,null,null,null,null,null,null,null,null,null,null,null,null,null,null,null,null,null,null,null,null,null,null,null,null,null,null,null,null,null,null,null,"45:35",77,4535,"0000004535","00","45","35"]
["SA00581","Unattached","1994-02-23","Mathew Thomson","SA00581","Under 17","sal",78,"clawson paul","M","Bellahouston Harriers",null,78,137,{"$f":"VLOOKUP('entries and results'!N80,$H$3:$K$30018,2,FALSE)","v":"Greig Buchanan"},{"$f":"VLOOKUP('entries and results'!N80,$H$3:$K$30018,3,FALSE)","v":"M40"},{"$f":"VLOOKUP('entries and results'!N80,$H$3:$K$30018,4,FALSE)","v":"UA"},{"$f":"VLOOKUP('entries and results'!N80,$H$3:$L$30018,5,FALSE)","v":"y"},4542,"45:42",null,null,null,null,null,null,null,null,null,null,null,null,null,null,null,null,null,null,null,null,null,null,null,null,null,null,null,null,null,null,null,null,null,null,null,null,null,null,null,null,null,null,null,"45:42",78,4542,"0000004542","00","45","42"]
["SA00584","Musselburgh & District AC","1993-06-17","Iain Sinclair","SA00584","Senior",27075,79,"Iain Burke","M60","Bellahouston Harriers",null,79,194,{"$f":"VLOOKUP('entries and results'!N81,$H$3:$K$30018,2,FALSE)","v":"James McGill"},{"$f":"VLOOKUP('entries and results'!N81,$H$3:$K$30018,3,FALSE)","v":"M40"},{"$f":"VLOOKUP('entries and results'!N81,$H$3:$K$30018,4,FALSE)","v":"UA"},{"$f":"VLOOKUP('entries and results'!N81,$H$3:$L$30018,5,FALSE)","v":"y"},4543,"45:43",null,null,null,null,null,null,null,null,null,null,null,null,null,null,null,null,null,null,null,null,null,null,null,null,null,null,null,null,null,null,null,null,null,null,null,null,null,null,null,null,null,null,null,"45:43",79,4543,"0000004543","00","45","43"]
["SA00594","VP-Glasgow AC","1992-02-27","Corrine McConnachie","SA00594","Senior",6576,80,"Erica Christie","F55","Bellahouston Harriers",null,80,59,{"$f":"VLOOKUP('entries and results'!N82,$H$3:$K$30018,2,FALSE)","v":"Andy McNaughton"},{"$f":"VLOOKUP('entries and results'!N82,$H$3:$K$30018,3,FALSE)","v":"M40"},{"$f":"VLOOKUP('entries and results'!N82,$H$3:$K$30018,4,FALSE)","v":"Rons Runners"},{"$f":"VLOOKUP('entries and results'!N82,$H$3:$L$30018,5,FALSE)","v":"y"},4602,"46:02",null,null,null,null,null,null,null,null,null,null,null,null,null,null,null,null,null,null,null,null,null,null,null,null,null,null,null,null,null,null,null,null,null,null,null,null,null,null,null,null,null,null,null,"46:02",80,4602,"0000004602","00","46","02"]
["SA00598","Whitemoss AAC","1995-09-30","Andrew Ravenscroft","SA00598","Under 15",null,81,"Eric McGowan","M","UA",null,81,22,{"$f":"VLOOKUP('entries and results'!N83,$H$3:$K$30018,2,FALSE)","v":"Ian Wilson"},{"$f":"VLOOKUP('entries and results'!N83,$H$3:$K$30018,3,FALSE)","v":"M40"},{"$f":"VLOOKUP('entries and results'!N83,$H$3:$K$30018,4,FALSE)","v":"UA"},{"$f":"VLOOKUP('entries and results'!N83,$H$3:$L$30018,5,FALSE)","v":"y"},4622,"46:22",null,null,null,null,null,null,null,null,null,null,null,null,null,null,null,null,null,null,null,null,null,null,null,null,null,null,null,null,null,null,null,null,null,null,null,null,null,null,null,null,null,null,null,"46:22",81,4622,"0000004622","00","46","22"]
["SA00604","Airdrie Harriers","1991-07-27","Graeme McBride","SA00604","Senior","sa27121",82,"Gerry Penman","M40","Scottish Prison Service AAC","y",82,164,{"$f":"VLOOKUP('entries and results'!N84,$H$3:$K$30018,2,FALSE)","v":"Craig Murdoch"},{"$f":"VLOOKUP('entries and results'!N84,$H$3:$K$30018,3,FALSE)","v":"M"},{"$f":"VLOOKUP('entries and results'!N84,$H$3:$K$30018,4,FALSE)","v":"UA"},{"$f":"VLOOKUP('entries and results'!N84,$H$3:$L$30018,5,FALSE)","v":"y"},4628,"46:28",null,null,null,null,null,null,null,null,null,null,null,null,null,null,null,null,null,null,null,null,null,null,null,null,null,null,null,null,null,null,null,null,null,null,null,null,null,null,null,null,null,null,null,"46:28",82,4628,"0000004628","00","46","28"]
["SA00606","Arbroath & District AC","1988-07-04","David Murray","SA00606","Senior",null,83,"Bob Richardson","M","UA",null,83,79,{"$f":"VLOOKUP('entries and results'!N85,$H$3:$K$30018,2,FALSE)","v":"Iain Burke"},{"$f":"VLOOKUP('entries and results'!N85,$H$3:$K$30018,3,FALSE)","v":"M60"},{"$f":"VLOOKUP('entries and results'!N85,$H$3:$K$30018,4,FALSE)","v":"Bellahouston Harriers"},{"$f":"VLOOKUP('entries and results'!N85,$H$3:$L$30018,5,FALSE)","v":0},4637,"46:37",null,null,null,null,null,null,null,null,null,null,null,null,null,null,null,null,null,null,null,null,null,null,null,null,null,null,null,null,null,null,null,null,null,null,null,null,null,null,null,null,null,null,null,"46:37",83,4637,"0000004637","00","46","37"]
["SA00613","Edinburgh AC","1993-04-15","Jonathan Murray","SA00613","Senior",null,84,"Jennifer Simpson","F35","UA","y",84,171,{"$f":"VLOOKUP('entries and results'!N86,$H$3:$K$30018,2,FALSE)","v":"David Mackie"},{"$f":"VLOOKUP('entries and results'!N86,$H$3:$K$30018,3,FALSE)","v":"M40"},{"$f":"VLOOKUP('entries and results'!N86,$H$3:$K$30018,4,FALSE)","v":"Rons Runners"},{"$f":"VLOOKUP('entries and results'!N86,$H$3:$L$30018,5,FALSE)","v":"y"},4635,"46:35",null,null,null,null,null,null,null,null,null,null,null,null,null,null,null,null,null,null,null,null,null,null,null,null,null,null,null,null,null,null,null,null,null,null,null,null,null,null,null,null,null,null,null,"46:35",84,4635,"0000004635","00","46","35"]
["SA00620","VP-Glasgow AC","1990-09-16","Lucinda Logan","SA00620","Senior",null,85,"Maggie Kinghorn","F35","UA","y",85,43,{"$f":"VLOOKUP('entries and results'!N87,$H$3:$K$30018,2,FALSE)","v":"Daniel McConnell"},{"$f":"VLOOKUP('entries and results'!N87,$H$3:$K$30018,3,FALSE)","v":"M"},{"$f":"VLOOKUP('entries and results'!N87,$H$3:$K$30018,4,FALSE)","v":"Kilmarnock H&AC"},{"$f":"VLOOKUP('entries and results'!N87,$H$3:$L$30018,5,FALSE)","v":"y"},4637,"46:37",null,null,null,null,null,null,null,null,null,null,null,null,null,null,null,null,null,null,null,null,null,null,null,null,null,null,null,null,null,null,null,null,null,null,null,null,null,null,null,null,null,null,null,"46:37",85,4637,"0000004637","00","46","37"]
["SA00624","Dundee Hawkhill Harriers","1988-07-13","Kevin Murray","SA00624","Senior",null,86,"Emma Vallely","F20","UA","y",86,91,{"$f":"VLOOKUP('entries and results'!N88,$H$3:$K$30018,2,FALSE)","v":"Maureen McVey"},{"$f":"VLOOKUP('entries and results'!N88,$H$3:$K$30018,3,FALSE)","v":"F45"},{"$f":"VLOOKUP('entries and results'!N88,$H$3:$K$30018,4,FALSE)","v":"Giffnock North"},{"$f":"VLOOKUP('entries and results'!N88,$H$3:$L$30018,5,FALSE)","v":0},4638,"46:38",null,null,null,null,null,null,null,null,null,null,null,null,null,null,null,null,null,null,null,null,null,null,null,null,null,null,null,null,null,null,null,null,null,null,null,null,null,null,null,null,null,null,null,"46:38",86,4638,"0000004638","00","46","38"]
["SA00626","Dunfermline & West Fife AC","1990-02-02","Graeme Gibson","SA00626","Senior",null,87,"Jim Frew","M40","UA","y",87,51,{"$f":"VLOOKUP('entries and results'!N89,$H$3:$K$30018,2,FALSE)","v":"Mike Turner"},{"$f":"VLOOKUP('entries and results'!N89,$H$3:$K$30018,3,FALSE)","v":"M40"},{"$f":"VLOOKUP('entries and results'!N89,$H$3:$K$30018,4,FALSE)","v":"UA"},{"$f":"VLOOKUP('entries and results'!N89,$H$3:$L$30018,5,FALSE)","v":"y"},4639,"46:39",null,null,null,null,null,null,null,null,null,null,null,null,null,null,null,null,null,null,null,null,null,null,null,null,null,null,null,null,null,null,null,null,null,null,null,null,null,null,null,null,null,null,null,"46:39",87,4639,"0000004639","00","46","39"]
["SA00631","Edinburgh AC","1990-07-11","Lynsey Sharp","SA00631","Senior",null,88,"Scott Lyden","M","UA","y",88,99,{"$f":"VLOOKUP('entries and results'!N90,$H$3:$K$30018,2,FALSE)","v":"Bethany Macrae"},{"$f":"VLOOKUP('entries and results'!N90,$H$3:$K$30018,3,FALSE)","v":"F20"},{"$f":"VLOOKUP('entries and results'!N90,$H$3:$K$30018,4,FALSE)","v":"Ayr Seaforth AAC"},{"$f":"VLOOKUP('entries and results'!N90,$H$3:$L$30018,5,FALSE)","v":"y"},4652,"46:52",null,null,null,null,null,null,null,null,null,null,null,null,null,null,null,null,null,null,null,null,null,null,null,null,null,null,null,null,null,null,null,null,null,null,null,null,null,null,null,null,null,null,null,"46:52",88,4652,"0000004652","00","46","52"]
["SA00636","Fife AC","1991-09-27","Fiona Bracegirdle","SA00636","Senior",null,89,"Helen Whyte","F55","Hamilton Harriers",null,89,46,{"$f":"VLOOKUP('entries and results'!N91,$H$3:$K$30018,2,FALSE)","v":"Ian Falconer"},{"$f":"VLOOKUP('entries and results'!N91,$H$3:$K$30018,3,FALSE)","v":"M50"},{"$f":"VLOOKUP('entries and results'!N91,$H$3:$K$30018,4,FALSE)","v":"UA"},{"$f":"VLOOKUP('entries and results'!N91,$H$3:$L$30018,5,FALSE)","v":"y"},4655,"46:55",null,null,null,null,null,null,null,null,null,null,null,null,null,null,null,null,null,null,null,null,null,null,null,null,null,null,null,null,null,null,null,null,null,null,null,null,null,null,null,null,null,null,null,"46:55",89,4655,"0000004655","00","46","55"]
["SA00640","Fife AC","1992-11-19","Catriona Scott","SA00640","Senior",null,90,"Helen Bruce","F45","UA","y",90,175,{"$f":"VLOOKUP('entries and results'!N92,$H$3:$K$30018,2,FALSE)","v":"Carly Wilson"},{"$f":"VLOOKUP('entries and results'!N92,$H$3:$K$30018,3,FALSE)","v":"F"},{"$f":"VLOOKUP('entries and results'!N92,$H$3:$K$30018,4,FALSE)","v":"Rons Runners"},{"$f":"VLOOKUP('entries and results'!N92,$H$3:$L$30018,5,FALSE)","v":"y"},4656,"46:56",null,null,null,null,null,null,null,null,null,null,null,null,null,null,null,null,null,null,null,null,null,null,null,null,null,null,null,null,null,null,null,null,null,null,null,null,null,null,null,null,null,null,null,"46:56",90,4656,"0000004656","00","46","56"]
["SA00642","Giffnock North AAC","1991-07-14","David Smith","SA00642","Senior","SA08657",91,"Maureen McVey","F45","Giffnock North",null,91,58,{"$f":"VLOOKUP('entries and results'!N93,$H$3:$K$30018,2,FALSE)","v":"Ian McNee"},{"$f":"VLOOKUP('entries and results'!N93,$H$3:$K$30018,3,FALSE)","v":"M50"},{"$f":"VLOOKUP('entries and results'!N93,$H$3:$K$30018,4,FALSE)","v":"Troon Tortoises AC"},{"$f":"VLOOKUP('entries and results'!N93,$H$3:$L$30018,5,FALSE)","v":"y"},4705,"47:05",null,null,null,null,null,null,null,null,null,null,null,null,null,null,null,null,null,null,null,null,null,null,null,null,null,null,null,null,null,null,null,null,null,null,null,null,null,null,null,null,null,null,null,"47:05",91,4705,"0000004705","00","47","05"]
["SA00643","Glasgow City AC","1990-02-18","David Clunie","SA00643","Senior","Sa06334",92,"James O'Hagan","M40","Giffnock North",null,92,149,{"$f":"VLOOKUP('entries and results'!N94,$H$3:$K$30018,2,FALSE)","v":"Robert Staples"},{"$f":"VLOOKUP('entries and results'!N94,$H$3:$K$30018,3,FALSE)","v":"M40"},{"$f":"VLOOKUP('entries and results'!N94,$H$3:$K$30018,4,FALSE)","v":"UA"},{"$f":"VLOOKUP('entries and results'!N94,$H$3:$L$30018,5,FALSE)","v":"y"},4724,"47:24",null,null,null,null,null,null,null,null,null,null,null,null,null,null,null,null,null,null,null,null,null,null,null,null,null,null,null,null,null,null,null,null,null,null,null,null,null,null,null,null,null,null,null,"47:24",92,4724,"0000004724","00","47","24"]
["SA00646","Inverness Harriers AAC","1989-04-01","Jamie Kerr Bowie","SA00646","Senior",null,94,"Emmy Dodds","F45","Kilmarnock H&AC","y",93,1,{"$f":"VLOOKUP('entries and results'!N95,$H$3:$K$30018,2,FALSE)","v":"Alan Inglis"},{"$f":"VLOOKUP('entries and results'!N95,$H$3:$K$30018,3,FALSE)","v":"M"},{"$f":"VLOOKUP('entries and results'!N95,$H$3:$K$30018,4,FALSE)","v":"UA"},{"$f":"VLOOKUP('entries and results'!N95,$H$3:$L$30018,5,FALSE)","v":"y"},4729,"47:29",null,null,null,null,null,null,null,null,null,null,null,null,null,null,null,null,null,null,null,null,null,null,null,null,null,null,null,null,null,null,null,null,null,null,null,null,null,null,null,null,null,null,null,"47:44",93,4744,"0000004744","00","47","44"]
["SA00651","Kilmarnock H&AC","1993-12-17","Cameron Mackie","SA00651","Under 17","SA29793",93,"Fiona Comrie","F35","North Ayrshire AC","y",94,86,{"$f":"VLOOKUP('entries and results'!N96,$H$3:$K$30018,2,FALSE)","v":"Emma Vallely"},{"$f":"VLOOKUP('entries and results'!N96,$H$3:$K$30018,3,FALSE)","v":"F20"},{"$f":"VLOOKUP('entries and results'!N96,$H$3:$K$30018,4,FALSE)","v":"UA"},{"$f":"VLOOKUP('entries and results'!N96,$H$3:$L$30018,5,FALSE)","v":"y"},4744,"47:44",null,null,null,null,null,null,null,null,null,null,null,null,null,null,null,null,null,null,null,null,null,null,null,null,null,null,null,null,null,null,null,null,null,null,null,null,null,null,null,null,null,null,null,"47:29",94,4729,"0000004729","00","47","29"]
["SA00652","Kilbarchan AAC","1992-11-01","Graham Evans","SA00652","Senior",".",95,"Alison Reid","F35","UA","y",95,133,{"$f":"VLOOKUP('entries and results'!N97,$H$3:$K$30018,2,FALSE)","v":"Elaine Rennie"},{"$f":"VLOOKUP('entries and results'!N97,$H$3:$K$30018,3,FALSE)","v":"F45"},{"$f":"VLOOKUP('entries and results'!N97,$H$3:$K$30018,4,FALSE)","v":"Girvan AAC"},{"$f":"VLOOKUP('entries and results'!N97,$H$3:$L$30018,5,FALSE)","v":"y"},4750,"47:50",null,null,null,null,null,null,null,null,null,null,null,null,null,null,null,null,null,null,null,null,null,null,null,null,null,null,null,null,null,null,null,null,null,null,null,null,null,null,null,null,null,null,null,"47:50",95,4750,"0000004750","00","47","50"]
["SA00659","Lasswade AAC","1990-04-12","Scott Anderson","SA00659","Senior",".",96,"Thomas Turner snr","M40","Rons Runners","y",96,67,{"$f":"VLOOKUP('entries and results'!N98,$H$3:$K$30018,2,FALSE)","v":"Allan Hogarth"},{"$f":"VLOOKUP('entries and results'!N98,$H$3:$K$30018,3,FALSE)","v":"M40"},{"$f":"VLOOKUP('entries and results'!N98,$H$3:$K$30018,4,FALSE)","v":"UA"},{"$f":"VLOOKUP('entries and results'!N98,$H$3:$L$30018,5,FALSE)","v":0},4751,"47:51",null,null,null,null,null,null,null,null,null,null,null,null,null,null,null,null,null,null,null,null,null,null,null,null,null,null,null,null,null,null,null,null,null,null,null,null,null,null,null,null,null,null,null,"47:51",96,4751,"0000004751","00","47","51"]
["SA00661","Lasswade AAC","1991-07-22","Martin Brash","SA00661","Senior",".",97,"Ian McIlwraith","M40","Rons Runners","y",97,132,{"$f":"VLOOKUP('entries and results'!N99,$H$3:$K$30018,2,FALSE)","v":"Brian Darroch"},{"$f":"VLOOKUP('entries and results'!N99,$H$3:$K$30018,3,FALSE)","v":"M40"},{"$f":"VLOOKUP('entries and results'!N99,$H$3:$K$30018,4,FALSE)","v":"Kilmarnock H&AC"},{"$f":"VLOOKUP('entries and results'!N99,$H$3:$L$30018,5,FALSE)","v":"y"},4756,"47:56",null,null,null,null,null,null,null,null,null,null,null,null,null,null,null,null,null,null,null,null,null,null,null,null,null,null,null,null,null,null,null,null,null,null,null,null,null,null,null,null,null,null,null,"47:56",97,4756,"0000004756","00","47","56"]
["SA00663","Edinburgh AC","1991-10-04","Caitlin Froude","SA00663","Senior","js018323",98,"Tom Coughtrie","M50","Jog Scotland","y",98,19,{"$f":"VLOOKUP('entries and results'!N100,$H$3:$K$30018,2,FALSE)","v":"Rachel Borland"},{"$f":"VLOOKUP('entries and results'!N100,$H$3:$K$30018,3,FALSE)","v":"F35"},{"$f":"VLOOKUP('entries and results'!N100,$H$3:$K$30018,4,FALSE)","v":"QT pudding club"},{"$f":"VLOOKUP('entries and results'!N100,$H$3:$L$30018,5,FALSE)","v":"y"},4800,"48:00",null,null,null,null,null,null,null,null,null,null,null,null,null,null,null,null,null,null,null,null,null,null,null,null,null,null,null,null,null,null,null,null,null,null,null,null,null,null,null,null,null,null,null,"48:00",98,4800,"0000004800","00","48","00"]
["SA00664","Edinburgh AC","1991-10-04","Erin Froude","SA00664","Senior","sa27745",99,"Bethany Macrae","F20","Ayr Seaforth AAC","y",99,119,{"$f":"VLOOKUP('entries and results'!N101,$H$3:$K$30018,2,FALSE)","v":"Natalie Boyce"},{"$f":"VLOOKUP('entries and results'!N101,$H$3:$K$30018,3,FALSE)","v":"F"},{"$f":"VLOOKUP('entries and results'!N101,$H$3:$K$30018,4,FALSE)","v":"Kilmarnock H&AC"},{"$f":"VLOOKUP('entries and results'!N101,$H$3:$L$30018,5,FALSE)","v":"y"},4804,"48:04",null,null,null,null,null,null,null,null,null,null,null,null,null,null,null,null,null,null,null,null,null,null,null,null,null,null,null,null,null,null,null,null,null,null,null,null,null,null,null,null,null,null,null,"48:04",99,4804,"0000004804","00","48","04"]
["SA00675","Unattached","1992-04-19","Alison Eadie","SA00675","Senior","sa11430",100,{"$f":"VLOOKUP('entries and results'!G102,$A$3:$E$30018,4,FALSE)","v":"Billy Clark"},"M50",{"$f":"VLOOKUP('entries and results'!G102,$A$3:$E$30018,2,FALSE)","v":"Giffnock North AAC"},null,100,42,{"$f":"VLOOKUP('entries and results'!N102,$H$3:$K$30018,2,FALSE)","v":"Jacqueline Neil"},{"$f":"VLOOKUP('entries and results'!N102,$H$3:$K$30018,3,FALSE)","v":"F"},{"$f":"VLOOKUP('entries and results'!N102,$H$3:$K$30018,4,FALSE)","v":"Kilmarnock H&AC"},{"$f":"VLOOKUP('entries and results'!N102,$H$3:$L$30018,5,FALSE)","v":"y"},4818,"48:18",null,null,null,null,null,null,null,null,null,null,null,null,null,null,null,null,null,null,null,null,null,null,null,null,null,null,null,null,null,null,null,null,null,null,null,null,null,null,null,null,null,null,null,"48:18",100,4818,"0000004818","00","48","18"]
["SA00683","Pitreavie AAC","1990-03-02","Kevin Ireland","SA00683","Senior",".",101,"Kenny Weir","M60","UA","y",101,148,{"$f":"VLOOKUP('entries and results'!N103,$H$3:$K$30018,2,FALSE)","v":"Caroline Mutch"},{"$f":"VLOOKUP('entries and results'!N103,$H$3:$K$30018,3,FALSE)","v":"F35"},{"$f":"VLOOKUP('entries and results'!N103,$H$3:$K$30018,4,FALSE)","v":"Troon Tortoises AC"},{"$f":"VLOOKUP('entries and results'!N103,$H$3:$L$30018,5,FALSE)","v":"y"},4835,"48:35",null,null,null,null,null,null,null,null,null,null,null,null,null,null,null,null,null,null,null,null,null,null,null,null,null,null,null,null,null,null,null,null,null,null,null,null,null,null,null,null,null,null,null,"48:35",101,4835,"0000004835","00","48","35"]
["SA00686","Pitreavie AAC","1992-11-06","Allan Smith","SA00686","Senior","sa08691",102,{"$f":"VLOOKUP('entries and results'!G104,$A$3:$E$30018,4,FALSE)","v":"John Surgenor"},"M50",{"$f":"VLOOKUP('entries and results'!G104,$A$3:$E$30018,2,FALSE)","v":"Irvine AC"},"y",102,121,{"$f":"VLOOKUP('entries and results'!N104,$H$3:$K$30018,2,FALSE)","v":"Rosemary McMillan"},{"$f":"VLOOKUP('entries and results'!N104,$H$3:$K$30018,3,FALSE)","v":"F45"},{"$f":"VLOOKUP('entries and results'!N104,$H$3:$K$30018,4,FALSE)","v":"Kilmarnock H&AC"},{"$f":"VLOOKUP('entries and results'!N104,$H$3:$L$30018,5,FALSE)","v":"y"},4840,"48:40",null,null,null,null,null,null,null,null,null,null,null,null,null,null,null,null,null,null,null,null,null,null,null,null,null,null,null,null,null,null,null,null,null,null,null,null,null,null,null,null,null,null,null,"48:40",102,4840,"0000004840","00","48","40"]
["SA00713","Arbroath & District AC","1995-07-02","Beth Milne","SA00713","Under 17",".",103,"Astrud Gibson","F35","Rons Runners","y",103,141,{"$f":"VLOOKUP('entries and results'!N105,$H$3:$K$30018,2,FALSE)","v":"Ian Short"},{"$f":"VLOOKUP('entries and results'!N105,$H$3:$K$30018,3,FALSE)","v":"M60"},{"$f":"VLOOKUP('entries and results'!N105,$H$3:$K$30018,4,FALSE)","v":"Rons Runners"},{"$f":"VLOOKUP('entries and results'!N105,$H$3:$L$30018,5,FALSE)","v":"y"},4842,"48:42",null,null,null,null,null,null,null,null,null,null,null,null,null,null,null,null,null,null,null,null,null,null,null,null,null,null,null,null,null,null,null,null,null,null,null,null,null,null,null,null,null,null,null,"48:42",103,4842,"0000004842","00","48","42"]
["SA00714","Arbroath & District AC","1993-10-13","Ross Milne","SA00714","Under 17",".",104,"Brogan Gibson","F20","Rons Runners","y",104,21,{"$f":"VLOOKUP('entries and results'!N106,$H$3:$K$30018,2,FALSE)","v":"Rob Carrol"},{"$f":"VLOOKUP('entries and results'!N106,$H$3:$K$30018,3,FALSE)","v":"M"},{"$f":"VLOOKUP('entries and results'!N106,$H$3:$K$30018,4,FALSE)","v":"Troon Tortoises AC"},{"$f":"VLOOKUP('entries and results'!N106,$H$3:$L$30018,5,FALSE)","v":"y"},4845,"48:45",null,null,null,null,null,null,null,null,null,null,null,null,null,null,null,null,null,null,null,null,null,null,null,null,null,null,null,null,null,null,null,null,null,null,null,null,null,null,null,null,null,null,null,"48:45",104,4845,"0000004845","00","48","45"]
["SA00715","Ayr Seaforth AAC","1995-08-22","Angus Johnston","SA00715","Under 17",".",105,"Lorraine Howard","F35","UA","y",105,145,{"$f":"VLOOKUP('entries and results'!N107,$H$3:$K$30018,2,FALSE)","v":"Pamela Porteous"},{"$f":"VLOOKUP('entries and results'!N107,$H$3:$K$30018,3,FALSE)","v":"F35"},{"$f":"VLOOKUP('entries and results'!N107,$H$3:$K$30018,4,FALSE)","v":"UA"},{"$f":"VLOOKUP('entries and results'!N107,$H$3:$L$30018,5,FALSE)","v":0},4853,"48:53",null,null,null,null,null,null,null,null,null,null,null,null,null,null,null,null,null,null,null,null,null,null,null,null,null,null,null,null,null,null,null,null,null,null,null,null,null,null,null,null,null,null,null,"48:53",105,4853,"0000004853","00","48","53"]
["SA00716","Ayr Seaforth AAC","1995-08-22","Ben Johnston","SA00716","Under 17",".",106,"Linda Howard","f35","UA","y",106,166,{"$f":"VLOOKUP('entries and results'!N108,$H$3:$K$30018,2,FALSE)","v":"Russel Frew"},{"$f":"VLOOKUP('entries and results'!N108,$H$3:$K$30018,3,FALSE)","v":"M"},{"$f":"VLOOKUP('entries and results'!N108,$H$3:$K$30018,4,FALSE)","v":"UA"},{"$f":"VLOOKUP('entries and results'!N108,$H$3:$L$30018,5,FALSE)","v":"y"},4856,"48:56",null,null,null,null,null,null,null,null,null,null,null,null,null,null,null,null,null,null,null,null,null,null,null,null,null,null,null,null,null,null,null,null,null,null,null,null,null,null,null,null,null,null,null,"48:56",106,4856,"0000004856","00","48","56"]
["SA00721","Pitreavie AAC","1995-06-28","Kirsten Galbraith","SA00721","Under 17","sa29430",107,"Keith Haining","M40","Kilmarnock H&AC","y",107,71,{"$f":"VLOOKUP('entries and results'!N109,$H$3:$K$30018,2,FALSE)","v":"Allan Moore"},{"$f":"VLOOKUP('entries and results'!N109,$H$3:$K$30018,3,FALSE)","v":"M"},{"$f":"VLOOKUP('entries and results'!N109,$H$3:$K$30018,4,FALSE)","v":"UA"},{"$f":"VLOOKUP('entries and results'!N109,$H$3:$L$30018,5,FALSE)","v":0},4902,"49:02",null,null,null,null,null,null,null,null,null,null,null,null,null,null,null,null,null,null,null,null,null,null,null,null,null,null,null,null,null,null,null,null,null,null,null,null,null,null,null,null,null,null,null,"49:02",107,4902,"0000004902","00","49","02"]
["SA00731","Shettleston Harriers","1996-03-04","Callum Drummond","SA00731","Under 15",".",108,"XXXXXXXX","XX","XXXXXX",null,108,14,{"$f":"VLOOKUP('entries and results'!N110,$H$3:$K$30018,2,FALSE)","v":"Doreen McCleary"},{"$f":"VLOOKUP('entries and results'!N110,$H$3:$K$30018,3,FALSE)","v":"F35"},{"$f":"VLOOKUP('entries and results'!N110,$H$3:$K$30018,4,FALSE)","v":"UA"},{"$f":"VLOOKUP('entries and results'!N110,$H$3:$L$30018,5,FALSE)","v":"y"},4903,"49:03",null,null,null,null,null,null,null,null,null,null,null,null,null,null,null,null,null,null,null,null,null,null,null,null,null,null,null,null,null,null,null,null,null,null,null,null,null,null,null,null,null,null,null,"49:03",108,4903,"0000004903","00","49","03"]
["SA00732","Falkirk Victoria Harriers","1989-04-25","Colin McCluskie","SA00732","Senior","sa12788",109,"Stewart McAllister","M","Kilmarnock H&AC","y",109,113,{"$f":"VLOOKUP('entries and results'!N111,$H$3:$K$30018,2,FALSE)","v":"Gerry Cole"},{"$f":"VLOOKUP('entries and results'!N111,$H$3:$K$30018,3,FALSE)","v":"M50"},{"$f":"VLOOKUP('entries and results'!N111,$H$3:$K$30018,4,FALSE)","v":"UA"},{"$f":"VLOOKUP('entries and results'!N111,$H$3:$L$30018,5,FALSE)","v":"y"},4909,"49:09",null,null,null,null,null,null,null,null,null,null,null,null,null,null,null,null,null,null,null,null,null,null,null,null,null,null,null,null,null,null,null,null,null,null,null,null,null,null,null,null,null,null,null,"49:09",109,4909,"0000004909","00","49","09"]
["SA00735","Aberdeen AAC","1989-10-25","Ruth Stephen","SA00735","Senior","sa27192",110,"Steve Daye","M","North Ayrshire AC","y",110,72,{"$f":"VLOOKUP('entries and results'!N112,$H$3:$K$30018,2,FALSE)","v":"David Mitchell"},{"$f":"VLOOKUP('entries and results'!N112,$H$3:$K$30018,3,FALSE)","v":"M40"},{"$f":"VLOOKUP('entries and results'!N112,$H$3:$K$30018,4,FALSE)","v":"Ayrodynamic Triathlon Club"},{"$f":"VLOOKUP('entries and results'!N112,$H$3:$L$30018,5,FALSE)","v":"y"},4915,"49:15",null,null,null,null,null,null,null,null,null,null,null,null,null,null,null,null,null,null,null,null,null,null,null,null,null,null,null,null,null,null,null,null,null,null,null,null,null,null,null,null,null,null,null,"49:15",110,4915,"0000004915","00","49","15"]
["SA00736","Aberdeen AAC","1989-09-12","Alison Wylie","SA00736","Senior","sa05788",111,{"$f":"VLOOKUP('entries and results'!G113,$A$3:$E$30018,4,FALSE)","v":"James Sneddon"},"M40",{"$f":"VLOOKUP('entries and results'!G113,$A$3:$E$30018,2,FALSE)","v":"Irvine AC"},"y",111,115,{"$f":"VLOOKUP('entries and results'!N113,$H$3:$K$30018,2,FALSE)","v":"John Boyd"},{"$f":"VLOOKUP('entries and results'!N113,$H$3:$K$30018,3,FALSE)","v":"M50"},{"$f":"VLOOKUP('entries and results'!N113,$H$3:$K$30018,4,FALSE)","v":"UA"},{"$f":"VLOOKUP('entries and results'!N113,$H$3:$L$30018,5,FALSE)","v":0},4922,"49:22",null,null,null,null,null,null,null,null,null,null,null,null,null,null,null,null,null,null,null,null,null,null,null,null,null,null,null,null,null,null,null,null,null,null,null,null,null,null,null,null,null,null,null,"49:22",111,4922,"0000004922","00","49","22"]
["SA00737","Arbroath & District AC","1992-11-16","Michael Downie","SA00737","Senior","sa20714",112,"Derek Reid","M40","North Ayrshire AC","y",112,66,{"$f":"VLOOKUP('entries and results'!N114,$H$3:$K$30018,2,FALSE)","v":"Derek Middleton"},{"$f":"VLOOKUP('entries and results'!N114,$H$3:$K$30018,3,FALSE)","v":"M50"},{"$f":"VLOOKUP('entries and results'!N114,$H$3:$K$30018,4,FALSE)","v":"Kilmarnock H&AC"},{"$f":"VLOOKUP('entries and results'!N114,$H$3:$L$30018,5,FALSE)","v":"y"},4925,"49:25",null,null,null,null,null,null,null,null,null,null,null,null,null,null,null,null,null,null,null,null,null,null,null,null,null,null,null,null,null,null,null,null,null,null,null,null,null,null,null,null,null,null,null,"49:25",112,4925,"0000004925","00","49","25"]
["SA00742","Banchory Stonehaven AC","1992-03-05","William Smy","SA00742","Senior",".",113,"Gerry Cole","M50","UA","y",113,197,{"$f":"VLOOKUP('entries and results'!N115,$H$3:$K$30018,2,FALSE)","v":"Neill Russel"},{"$f":"VLOOKUP('entries and results'!N115,$H$3:$K$30018,3,FALSE)","v":"M40"},{"$f":"VLOOKUP('entries and results'!N115,$H$3:$K$30018,4,FALSE)","v":"UA"},{"$f":"VLOOKUP('entries and results'!N115,$H$3:$L$30018,5,FALSE)","v":"y"},4938,"49:38",null,null,null,null,null,null,null,null,null,null,null,null,null,null,null,null,null,null,null,null,null,null,null,null,null,null,null,null,null,null,null,null,null,null,null,null,null,null,null,null,null,null,null,"49:38",113,4938,"0000004938","00","49","38"]
["SA00744","Caithness AAC","1992-07-24","Bruce Stewart","SA00744","Senior","sa29483",114,"Jim Phillips","M40","Troon Tortoises AC","y",114,151,{"$f":"VLOOKUP('entries and results'!N116,$H$3:$K$30018,2,FALSE)","v":"George McGregor"},{"$f":"VLOOKUP('entries and results'!N116,$H$3:$K$30018,3,FALSE)","v":"M60"},{"$f":"VLOOKUP('entries and results'!N116,$H$3:$K$30018,4,FALSE)","v":"Troon Tortoises AC"},{"$f":"VLOOKUP('entries and results'!N116,$H$3:$L$30018,5,FALSE)","v":"y"},4939,"49:39",null,null,null,null,null,null,null,null,null,null,null,null,null,null,null,null,null,null,null,null,null,null,null,null,null,null,null,null,null,null,null,null,null,null,null,null,null,null,null,null,null,null,null,"49:39",114,4939,"0000004939","00","49","39"]
["SA00749","VP-Glasgow AC","1991-02-14","Suzanne Begg","SA00749","Senior",".",115,"John Boyd","M50","UA",null,115,82,{"$f":"VLOOKUP('entries and results'!N117,$H$3:$K$30018,2,FALSE)","v":"Gerry Penman"},{"$f":"VLOOKUP('entries and results'!N117,$H$3:$K$30018,3,FALSE)","v":"M40"},{"$f":"VLOOKUP('entries and results'!N117,$H$3:$K$30018,4,FALSE)","v":"Scottish Prison Service AAC"},{"$f":"VLOOKUP('entries and results'!N117,$H$3:$L$30018,5,FALSE)","v":"y"},4945,"49:45",null,null,null,null,null,null,null,null,null,null,null,null,null,null,null,null,null,null,null,null,null,null,null,null,null,null,null,null,null,null,null,null,null,null,null,null,null,null,null,null,null,null,null,"49:45",115,4945,"0000004945","00","49","45"]
["SA00751","VP-Glasgow AC","1994-08-08","Hannah Moultrie","SA00751","Under 17",".",116,"Allison Johnston","F45","UA",null,116,34,{"$f":"VLOOKUP('entries and results'!N118,$H$3:$K$30018,2,FALSE)","v":"David Bowman"},{"$f":"VLOOKUP('entries and results'!N118,$H$3:$K$30018,3,FALSE)","v":"M"},{"$f":"VLOOKUP('entries and results'!N118,$H$3:$K$30018,4,FALSE)","v":"UA"},{"$f":"VLOOKUP('entries and results'!N118,$H$3:$L$30018,5,FALSE)","v":"y"},4956,"49:56",null,null,null,null,null,null,null,null,null,null,null,null,null,null,null,null,null,null,null,null,null,null,null,null,null,null,null,null,null,null,null,null,null,null,null,null,null,null,null,null,null,null,null,"49:56",116,4956,"0000004956","00","49","56"]
["SA00752","VP-Glasgow AC","1990-11-19","Josephine Moultrie","SA00752","Senior","sa6028",117,"Bobby Miller","M50","Troon Tortoises AC","y",117,35,{"$f":"VLOOKUP('entries and results'!N119,$H$3:$K$30018,2,FALSE)","v":"David McCurry"},{"$f":"VLOOKUP('entries and results'!N119,$H$3:$K$30018,3,FALSE)","v":"M"},{"$f":"VLOOKUP('entries and results'!N119,$H$3:$K$30018,4,FALSE)","v":"UA"},{"$f":"VLOOKUP('entries and results'!N119,$H$3:$L$30018,5,FALSE)","v":"y"},4956,"49:56",null,null,null,null,null,null,null,null,null,null,null,null,null,null,null,null,null,null,null,null,null,null,null,null,null,null,null,null,null,null,null,null,null,null,null,null,null,null,null,null,null,null,null,"49:56",117,4956,"0000004956","00","49","56"]
["SA00753","VP-Glasgow AC","1992-07-01","Nicola Moultrie","SA00753","Senior","sa30504",118,"Stephen McCrorie","M40","Ayr Seaforth AAC","y",118,27,{"$f":"VLOOKUP('entries and results'!N120,$H$3:$K$30018,2,FALSE)","v":"Aimi Barker"},{"$f":"VLOOKUP('entries and results'!N120,$H$3:$K$30018,3,FALSE)","v":"F35"},{"$f":"VLOOKUP('entries and results'!N120,$H$3:$K$30018,4,FALSE)","v":"Ayr Seaforth AAC"},{"$f":"VLOOKUP('entries and results'!N120,$H$3:$L$30018,5,FALSE)","v":"y"},5002,"50:02",null,null,null,null,null,null,null,null,null,null,null,null,null,null,null,null,null,null,null,null,null,null,null,null,null,null,null,null,null,null,null,null,null,null,null,null,null,null,null,null,null,null,null,"50:02",118,5002,"0000005002","00","50","02"]
["SA00758","Dundee Hawkhill Harriers","1990-11-25","Eilish McColgan","SA00758","Senior",".",119,"Natalie Boyce","F","Kilmarnock H&AC","y",119,140,{"$f":"VLOOKUP('entries and results'!N121,$H$3:$K$30018,2,FALSE)","v":"John Connell"},{"$f":"VLOOKUP('entries and results'!N121,$H$3:$K$30018,3,FALSE)","v":"M40"},{"$f":"VLOOKUP('entries and results'!N121,$H$3:$K$30018,4,FALSE)","v":"UA"},{"$f":"VLOOKUP('entries and results'!N121,$H$3:$L$30018,5,FALSE)","v":0},5005,"50:05",null,null,null,null,null,null,null,null,null,null,null,null,null,null,null,null,null,null,null,null,null,null,null,null,null,null,null,null,null,null,null,null,null,null,null,null,null,null,null,null,null,null,null,"50:05",119,5005,"0000005005","00","50","05"]
["SA00759","Dunfermline & West Fife AC","1990-04-09","Victoria Stephen","SA00759","Senior","sa01526",120,{"$f":"VLOOKUP('entries and results'!G122,$A$3:$E$30018,4,FALSE)","v":"James Wales"},"M",{"$f":"VLOOKUP('entries and results'!G122,$A$3:$E$30018,2,FALSE)","v":"Kilmarnock H&AC"},"y",120,199,{"$f":"VLOOKUP('entries and results'!N122,$H$3:$K$30018,2,FALSE)","v":"Adam Howieson"},{"$f":"VLOOKUP('entries and results'!N122,$H$3:$K$30018,3,FALSE)","v":"M"},{"$f":"VLOOKUP('entries and results'!N122,$H$3:$K$30018,4,FALSE)","v":"UA"},{"$f":"VLOOKUP('entries and results'!N122,$H$3:$L$30018,5,FALSE)","v":"y"},5007,"50:07",null,null,null,null,null,null,null,null,null,null,null,null,null,null,null,null,null,null,null,null,null,null,null,null,null,null,null,null,null,null,null,null,null,null,null,null,null,null,null,null,null,null,null,"50:07",120,5007,"0000005007","00","50","07"]
["SA00760","East Kilbride A.C.","1991-07-27","John Fergusson","SA00760","Senior","sa27382",121,"Rosemary McMillan","F45","Kilmarnock H&AC","y",121,33,{"$f":"VLOOKUP('entries and results'!N123,$H$3:$K$30018,2,FALSE)","v":"Hayley McCrorie"},{"$f":"VLOOKUP('entries and results'!N123,$H$3:$K$30018,3,FALSE)","v":"F"},{"$f":"VLOOKUP('entries and results'!N123,$H$3:$K$30018,4,FALSE)","v":"Bellahouston Road Runners"},{"$f":"VLOOKUP('entries and results'!N123,$H$3:$L$30018,5,FALSE)","v":0},5047,"50:47",null,null,null,null,null,null,null,null,null,null,null,null,null,null,null,null,null,null,null,null,null,null,null,null,null,null,null,null,null,null,null,null,null,null,null,null,null,null,null,null,null,null,null,"50:47",121,5047,"0000005047","00","50","47"]
["SA00766","Edinburgh AC","1991-06-05","Sarah Warnock","SA00766","Senior","sa28706",122,"Janice McKellar","f55","Ayr Seaforth AAC","y",122,55,{"$f":"VLOOKUP('entries and results'!N124,$H$3:$K$30018,2,FALSE)","v":"Craig Welsh"},{"$f":"VLOOKUP('entries and results'!N124,$H$3:$K$30018,3,FALSE)","v":"M"},{"$f":"VLOOKUP('entries and results'!N124,$H$3:$K$30018,4,FALSE)","v":"UA"},{"$f":"VLOOKUP('entries and results'!N124,$H$3:$L$30018,5,FALSE)","v":"y"},5058,"50:58",null,null,null,null,null,null,null,null,null,null,null,null,null,null,null,null,null,null,null,null,null,null,null,null,null,null,null,null,null,null,null,null,null,null,null,null,null,null,null,null,null,null,null,"50:58",122,5058,"0000005058","00","50","58"]
["SA00783","Giffnock North AAC","1990-10-19","Neil Hutchison","SA00783","Senior",".",123,"John Parker","M50","Kilmarnock H&AC","y",123,104,{"$f":"VLOOKUP('entries and results'!N125,$H$3:$K$30018,2,FALSE)","v":"Brogan Gibson"},{"$f":"VLOOKUP('entries and results'!N125,$H$3:$K$30018,3,FALSE)","v":"F20"},{"$f":"VLOOKUP('entries and results'!N125,$H$3:$K$30018,4,FALSE)","v":"Rons Runners"},{"$f":"VLOOKUP('entries and results'!N125,$H$3:$L$30018,5,FALSE)","v":"y"},5139,"51:39",null,null,null,null,null,null,null,null,null,null,null,null,null,null,null,null,null,null,null,null,null,null,null,null,null,null,null,null,null,null,null,null,null,null,null,null,null,null,null,null,null,null,null,"51:39",123,5139,"0000005139","00","51","39"]
["SA00789","Inverclyde AC","1992-10-03","Nynke Mulholland","SA00789","Senior","sa22278",124,"Stewart Ferguson","M40","Kilmarnock H&AC","y",124,155,{"$f":"VLOOKUP('entries and results'!N126,$H$3:$K$30018,2,FALSE)","v":"Paul Camlin"},{"$f":"VLOOKUP('entries and results'!N126,$H$3:$K$30018,3,FALSE)","v":"M40"},{"$f":"VLOOKUP('entries and results'!N126,$H$3:$K$30018,4,FALSE)","v":"Rons Runners"},{"$f":"VLOOKUP('entries and results'!N126,$H$3:$L$30018,5,FALSE)","v":"y"},5139,"51:39",null,null,null,null,null,null,null,null,null,null,null,null,null,null,null,null,null,null,null,null,null,null,null,null,null,null,null,null,null,null,null,null,null,null,null,null,null,null,null,null,null,null,null,"51:39",124,5139,"0000005139","00","51","39"]
["SA00798","Lasswade AAC","1990-01-28","Stuart McIlreavy","SA00798","Senior",".",125,"Carol Rome","F35","Rons Runners","y",125,73,{"$f":"VLOOKUP('entries and results'!N127,$H$3:$K$30018,2,FALSE)","v":"Ian Rutherford"},{"$f":"VLOOKUP('entries and results'!N127,$H$3:$K$30018,3,FALSE)","v":"M40"},{"$f":"VLOOKUP('entries and results'!N127,$H$3:$K$30018,4,FALSE)","v":"UA"},{"$f":"VLOOKUP('entries and results'!N127,$H$3:$L$30018,5,FALSE)","v":"y"},5156,"51:56",null,null,null,null,null,null,null,null,null,null,null,null,null,null,null,null,null,null,null,null,null,null,null,null,null,null,null,null,null,null,null,null,null,null,null,null,null,null,null,null,null,null,null,"51:56",125,5156,"0000005156","00","51","56"]
["SA00813","Shettleston Harriers","1992-03-10","Andrew Duffy","SA00813","Senior",".",126,"Amanda Lindsay","F45","Rons Runners","y",126,64,{"$f":"VLOOKUP('entries and results'!N128,$H$3:$K$30018,2,FALSE)","v":"Viv Lambert"},{"$f":"VLOOKUP('entries and results'!N128,$H$3:$K$30018,3,FALSE)","v":"F35"},{"$f":"VLOOKUP('entries and results'!N128,$H$3:$K$30018,4,FALSE)","v":"UA"},{"$f":"VLOOKUP('entries and results'!N128,$H$3:$L$30018,5,FALSE)","v":"y"},5159,"51:59",null,null,null,null,null,null,null,null,null,null,null,null,null,null,null,null,null,null,null,null,null,null,null,null,null,null,null,null,null,null,null,null,null,null,null,null,null,null,null,null,null,null,null,"51:59",126,5159,"0000005159","00","51","59"]
["SA00814","Shettleston Harriers","1989-09-26","Sean Watson","SA00814","Senior",".",127,"Patricia McMullen","F45","Rons Runners","y",127,186,{"$f":"VLOOKUP('entries and results'!N129,$H$3:$K$30018,2,FALSE)","v":"Moira Connell"},{"$f":"VLOOKUP('entries and results'!N129,$H$3:$K$30018,3,FALSE)","v":"F45"},{"$f":"VLOOKUP('entries and results'!N129,$H$3:$K$30018,4,FALSE)","v":"Troon Tortoises AC"},{"$f":"VLOOKUP('entries and results'!N129,$H$3:$L$30018,5,FALSE)","v":"y"},5205,"52:05",null,null,null,null,null,null,null,null,null,null,null,null,null,null,null,null,null,null,null,null,null,null,null,null,null,null,null,null,null,null,null,null,null,null,null,null,null,null,null,null,null,null,null,"52:05",127,5205,"0000005205","00","52","05"]
["SA00841","Airdrie Harriers","1994-10-03","Jodie Ronald","SA00841","Under 17",".",128,"Allison Elliot","F35","Rons Runners","y",128,187,{"$f":"VLOOKUP('entries and results'!N130,$H$3:$K$30018,2,FALSE)","v":"Steven Connell"},{"$f":"VLOOKUP('entries and results'!N130,$H$3:$K$30018,3,FALSE)","v":"M40"},{"$f":"VLOOKUP('entries and results'!N130,$H$3:$K$30018,4,FALSE)","v":"Irvine AC"},{"$f":"VLOOKUP('entries and results'!N130,$H$3:$L$30018,5,FALSE)","v":"y"},5205,"52:05",null,null,null,null,null,null,null,null,null,null,null,null,null,null,null,null,null,null,null,null,null,null,null,null,null,null,null,null,null,null,null,null,null,null,null,null,null,null,null,null,null,null,null,"52:05",128,5205,"0000005205","00","52","05"]
["SA00842","Arbroath & District AC","1994-09-11","Callum Edwards","SA00842","Under 17",".",129,"James Elliot","M40","Rons Runners","y",129,196,{"$f":"VLOOKUP('entries and results'!N131,$H$3:$K$30018,2,FALSE)","v":"Alex Howieson"},{"$f":"VLOOKUP('entries and results'!N131,$H$3:$K$30018,3,FALSE)","v":"M"},{"$f":"VLOOKUP('entries and results'!N131,$H$3:$K$30018,4,FALSE)","v":"UA"},{"$f":"VLOOKUP('entries and results'!N131,$H$3:$L$30018,5,FALSE)","v":"y"},5246,"52:46",null,null,null,null,null,null,null,null,null,null,null,null,null,null,null,null,null,null,null,null,null,null,null,null,null,null,null,null,null,null,null,null,null,null,null,null,null,null,null,null,null,null,null,"52:46",129,{"$f":"SUMIF($H$3:$H$601,$BM131,$S$3:$S$601)","v":5246},"0000005246","00","52","46"]
["SA00847","Banchory Stonehaven AC","1993-12-15","Melanie Christie","SA00847","Under 17",".",130,"Shirley Templeton","F45","Rons Runners","y",130,153,{"$f":"VLOOKUP('entries and results'!N132,$H$3:$K$30018,2,FALSE)","v":"Gillian Watson"},{"$f":"VLOOKUP('entries and results'!N132,$H$3:$K$30018,3,FALSE)","v":"F"},{"$f":"VLOOKUP('entries and results'!N132,$H$3:$K$30018,4,FALSE)","v":"UA"},{"$f":"VLOOKUP('entries and results'!N132,$H$3:$L$30018,5,FALSE)","v":"y"},5254,{"$f":"IF($H132=\"\",\" \",(LOOKUP($H132,$BM$3:$BM$1601,$BL$3:$BL$1601)))","v":"52:54"},null,null,null,null,null,null,null,null,null,null,null,null,null,null,null,null,null,null,null,null,null,null,null,null,null,null,null,null,null,null,null,null,null,null,null,null,null,null,null,null,null,null,null,{"$f":"CONCATENATE(BQ132,\":\",BR132)","v":"52:54"},130,5254,{"$f":"CONCATENATE($BI$2,$BN132)","v":"0000005254"},{"$f":"MID(RIGHT($BO132,6),1,2)","v":"00"},{"$f":"MID(RIGHT($BO132,6),3,2)","v":"52"},{"$f":"MID(RIGHT($BO132,6),5,2)","v":"54"}]
["SA00849","Banchory Stonehaven AC","1992-12-12","Ben Leftwich","SA00849","Senior",".",131,"Stephen Flanagan","M40","Girvan AAC","y",131,81,{"$f":"VLOOKUP('entries and results'!N133,$H$3:$K$30018,2,FALSE)","v":"Eric McGowan"},{"$f":"VLOOKUP('entries and results'!N133,$H$3:$K$30018,3,FALSE)","v":"M"},{"$f":"VLOOKUP('entries and results'!N133,$H$3:$K$30018,4,FALSE)","v":"UA"},{"$f":"VLOOKUP('entries and results'!N133,$H$3:$L$30018,5,FALSE)","v":0},5302,"53:02",null,null,null,null,null,null,null,null,null,null,null,null,null,null,null,null,null,null,null,null,null,null,null,null,null,null,null,null,null,null,null,null,null,null,null,null,null,null,null,null,null,null,null,"53:02",131,5302,"0000005302","00","53","02"]
["SA00850","Banchory Stonehaven AC","1994-04-21","Sam Wright","SA00850","Under 17","sa16981",132,{"$f":"VLOOKUP('entries and results'!G134,$A$3:$E$30018,4,FALSE)","v":"Brian Darroch"},"M40",{"$f":"VLOOKUP('entries and results'!G134,$A$3:$E$30018,2,FALSE)","v":"Kilmarnock H&AC"},"y",132,152,{"$f":"VLOOKUP('entries and results'!N134,$H$3:$K$30018,2,FALSE)","v":"Noelle McQuillan"},{"$f":"VLOOKUP('entries and results'!N134,$H$3:$K$30018,3,FALSE)","v":"F45"},{"$f":"VLOOKUP('entries and results'!N134,$H$3:$K$30018,4,FALSE)","v":"Ayr Seaforth AAC"},{"$f":"VLOOKUP('entries and results'!N134,$H$3:$L$30018,5,FALSE)","v":"y"},5314,"53:14",null,null,null,null,null,null,null,null,null,null,null,null,null,null,null,null,null,null,null,null,null,null,null,null,null,null,null,null,null,null,null,null,null,null,null,null,null,null,null,null,null,null,null,"53:14",132,5314,"0000005314","00","53","14"]
["SA00856","Caithness AAC","1994-01-09","Hannah Paterson","SA00856","Under 17",".",133,"Elaine Rennie","F45","Girvan AAC","y",133,191,{"$f":"VLOOKUP('entries and results'!N135,$H$3:$K$30018,2,FALSE)","v":"Ashley Traynor"},{"$f":"VLOOKUP('entries and results'!N135,$H$3:$K$30018,3,FALSE)","v":"F"},{"$f":"VLOOKUP('entries and results'!N135,$H$3:$K$30018,4,FALSE)","v":"UA"},{"$f":"VLOOKUP('entries and results'!N135,$H$3:$L$30018,5,FALSE)","v":"y"},5341,"53:41",null,null,null,null,null,null,null,null,null,null,null,null,null,null,null,null,null,null,null,null,null,null,null,null,null,null,null,null,null,null,null,null,null,null,null,null,null,null,null,null,null,null,null,"53:41",133,5341,"0000005341","00","53","41"]
["SA00862","Clydesdale Harriers","1991-08-25","David Brown","SA00862","Senior",".",134,"John Rennie","M40","Girvan AAC","y",134,13,{"$f":"VLOOKUP('entries and results'!N136,$H$3:$K$30018,2,FALSE)","v":"Jim McCleary"},{"$f":"VLOOKUP('entries and results'!N136,$H$3:$K$30018,3,FALSE)","v":"M50"},{"$f":"VLOOKUP('entries and results'!N136,$H$3:$K$30018,4,FALSE)","v":"UA"},{"$f":"VLOOKUP('entries and results'!N136,$H$3:$L$30018,5,FALSE)","v":"y"},5349,"53:49",null,null,null,null,null,null,null,null,null,null,null,null,null,null,null,null,null,null,null,null,null,null,null,null,null,null,null,null,null,null,null,null,null,null,null,null,null,null,null,null,null,null,null,"53:49",134,5349,"0000005349","00","53","49"]
["SA00864","Clydesdale Harriers","1992-10-30","Ryan Kenny","SA00864","Senior",".",135,"Brian Wallace","M","Girvan AAC","y",135,30,{"$f":"VLOOKUP('entries and results'!N137,$H$3:$K$30018,2,FALSE)","v":"James Rowley"},{"$f":"VLOOKUP('entries and results'!N137,$H$3:$K$30018,3,FALSE)","v":"M60"},{"$f":"VLOOKUP('entries and results'!N137,$H$3:$K$30018,4,FALSE)","v":"Law &  District AAC"},{"$f":"VLOOKUP('entries and results'!N137,$H$3:$L$30018,5,FALSE)","v":0},5350,"53:50",null,null,null,null,null,null,null,null,null,null,null,null,null,null,null,null,null,null,null,null,null,null,null,null,null,null,null,null,null,null,null,null,null,null,null,null,null,null,null,null,null,null,null,"53:50",135,5350,"0000005350","00","53","50"]
["SA00866","Corstorphine AAC","1993-08-11","Alison Reid","SA00866","Senior",".",136,"Gordon Thomson","M40","Irvine AC","y",136,122,{"$f":"VLOOKUP('entries and results'!N138,$H$3:$K$30018,2,FALSE)","v":"Janice McKellar"},{"$f":"VLOOKUP('entries and results'!N138,$H$3:$K$30018,3,FALSE)","v":"f55"},{"$f":"VLOOKUP('entries and results'!N138,$H$3:$K$30018,4,FALSE)","v":"Ayr Seaforth AAC"},{"$f":"VLOOKUP('entries and results'!N138,$H$3:$L$30018,5,FALSE)","v":"y"},5351,"53:51",null,null,null,null,null,null,null,null,null,null,null,null,null,null,null,null,null,null,null,null,null,null,null,null,null,null,null,null,null,null,null,null,null,null,null,null,null,null,null,null,null,null,null,"53:51",136,5351,"0000005351","00","53","51"]
["SA00867","Pitreavie AAC","1994-09-25","Alison Craig","SA00867","Under 17",".",137,"Greig Buchanan","M40","UA","y",137,89,{"$f":"VLOOKUP('entries and results'!N139,$H$3:$K$30018,2,FALSE)","v":"Helen Whyte"},{"$f":"VLOOKUP('entries and results'!N139,$H$3:$K$30018,3,FALSE)","v":"F55"},{"$f":"VLOOKUP('entries and results'!N139,$H$3:$K$30018,4,FALSE)","v":"Hamilton Harriers"},{"$f":"VLOOKUP('entries and results'!N139,$H$3:$L$30018,5,FALSE)","v":0},5400,"54:00",null,null,null,null,null,null,null,null,null,null,null,null,null,null,null,null,null,null,null,null,null,null,null,null,null,null,null,null,null,null,null,null,null,null,null,null,null,null,null,null,null,null,null,"54:00",137,5400,"0000005400","00","54","00"]
["SA00868","Dunfermline & West Fife AC","1993-05-09","Laura Muir","SA00868","Senior","sa22342",138,"Paul Turnbull","M50","Ayr Seaforth AAC","y",138,50,{"$f":"VLOOKUP('entries and results'!N140,$H$3:$K$30018,2,FALSE)","v":"Anthony Baker"},{"$f":"VLOOKUP('entries and results'!N140,$H$3:$K$30018,3,FALSE)","v":"M"},{"$f":"VLOOKUP('entries and results'!N140,$H$3:$K$30018,4,FALSE)","v":"UA"},{"$f":"VLOOKUP('entries and results'!N140,$H$3:$L$30018,5,FALSE)","v":"y"},5409,"54:09",null,null,null,null,null,null,null,null,null,null,null,null,null,null,null,null,null,null,null,null,null,null,null,null,null,null,null,null,null,null,null,null,null,null,null,null,null,null,null,null,null,null,null,"54:09",138,5409,"0000005409","00","54","09"]
["SA00869","Dunfermline & West Fife AC","1995-11-30","Rory Muir","SA00869","Under 15",".",139,"Gillian Dunwoodie","F45","Rons Runners","y",139,143,{"$f":"VLOOKUP('entries and results'!N141,$H$3:$K$30018,2,FALSE)","v":"Michael Anderson"},{"$f":"VLOOKUP('entries and results'!N141,$H$3:$K$30018,3,FALSE)","v":"M"},{"$f":"VLOOKUP('entries and results'!N141,$H$3:$K$30018,4,FALSE)","v":"UA"},{"$f":"VLOOKUP('entries and results'!N141,$H$3:$L$30018,5,FALSE)","v":"y"},5443,"54:43",null,null,null,null,null,null,null,null,null,null,null,null,null,null,null,null,null,null,null,null,null,null,null,null,null,null,null,null,null,null,null,null,null,null,null,null,null,null,null,null,null,null,null,"54:43",139,5443,"0000005443","00","54","43"]
["SA00870","Falkirk Victoria Harriers","1994-10-14","Douglas Paul","SA00870","Under 17",".",140,"John Connell","M40","UA",null,140,144,{"$f":"VLOOKUP('entries and results'!N142,$H$3:$K$30018,2,FALSE)","v":"Lynn Masterton"},{"$f":"VLOOKUP('entries and results'!N142,$H$3:$K$30018,3,FALSE)","v":"F35"},{"$f":"VLOOKUP('entries and results'!N142,$H$3:$K$30018,4,FALSE)","v":"Irvine AC"},{"$f":"VLOOKUP('entries and results'!N142,$H$3:$L$30018,5,FALSE)","v":"y"},5443,"54:43",null,null,null,null,null,null,null,null,null,null,null,null,null,null,null,null,null,null,null,null,null,null,null,null,null,null,null,null,null,null,null,null,null,null,null,null,null,null,null,null,null,null,null,"54:43",140,5443,"0000005443","00","54","43"]
["SA00875","Falkirk Victoria Harriers","1996-03-25","Alastair Kirkwood","SA00875","Under 15",".",141,"Ian Short","M60","Rons Runners","y",141,101,{"$f":"VLOOKUP('entries and results'!N143,$H$3:$K$30018,2,FALSE)","v":"Kenny Weir"},{"$f":"VLOOKUP('entries and results'!N143,$H$3:$K$30018,3,FALSE)","v":"M60"},{"$f":"VLOOKUP('entries and results'!N143,$H$3:$K$30018,4,FALSE)","v":"UA"},{"$f":"VLOOKUP('entries and results'!N143,$H$3:$L$30018,5,FALSE)","v":"y"},5448,"54:48",null,null,null,null,null,null,null,null,null,null,null,null,null,null,null,null,null,null,null,null,null,null,null,null,null,null,null,null,null,null,null,null,null,null,null,null,null,null,null,null,null,null,null,"54:48",141,5448,"0000005448","00","54","48"]
["SA00877","Fife AC","1991-10-28","Emma Gordon","SA00877","Senior","sa08986",142,{"$f":"VLOOKUP('entries and results'!G144,$A$3:$E$30018,4,FALSE)","v":"James White"},"M60",{"$f":"VLOOKUP('entries and results'!G144,$A$3:$E$30018,2,FALSE)","v":"Irvine AC"},"y",142,90,{"$f":"VLOOKUP('entries and results'!N144,$H$3:$K$30018,2,FALSE)","v":"Helen Bruce"},{"$f":"VLOOKUP('entries and results'!N144,$H$3:$K$30018,3,FALSE)","v":"F45"},{"$f":"VLOOKUP('entries and results'!N144,$H$3:$K$30018,4,FALSE)","v":"UA"},{"$f":"VLOOKUP('entries and results'!N144,$H$3:$L$30018,5,FALSE)","v":"y"},5449,"54:49",null,null,null,null,null,null,null,null,null,null,null,null,null,null,null,null,null,null,null,null,null,null,null,null,null,null,null,null,null,null,null,null,null,null,null,null,null,null,null,null,null,null,null,"54:49",142,5449,"0000005449","00","54","49"]
["SA00879","Giffnock North AAC","1994-09-07","Emma Claxton","SA00879","Under 17",".",143,"Michael Anderson","M","UA","y",143,83,{"$f":"VLOOKUP('entries and results'!N145,$H$3:$K$30018,2,FALSE)","v":"Bob Richardson"},{"$f":"VLOOKUP('entries and results'!N145,$H$3:$K$30018,3,FALSE)","v":"M"},{"$f":"VLOOKUP('entries and results'!N145,$H$3:$K$30018,4,FALSE)","v":"UA"},{"$f":"VLOOKUP('entries and results'!N145,$H$3:$L$30018,5,FALSE)","v":0},5504,"55:04",null,null,null,null,null,null,null,null,null,null,null,null,null,null,null,null,null,null,null,null,null,null,null,null,null,null,null,null,null,null,null,null,null,null,null,null,null,null,null,null,null,null,null,"55:04",143,5504,"0000005504","00","55","04"]
["SA00880","Giffnock North AAC","1993-07-02","Alistair McCallum","SA00880","Senior",".",144,"Lynn Masterton","F35","Irvine AC","y",144,96,{"$f":"VLOOKUP('entries and results'!N146,$H$3:$K$30018,2,FALSE)","v":"Thomas Turner snr"},{"$f":"VLOOKUP('entries and results'!N146,$H$3:$K$30018,3,FALSE)","v":"M40"},{"$f":"VLOOKUP('entries and results'!N146,$H$3:$K$30018,4,FALSE)","v":"Rons Runners"},{"$f":"VLOOKUP('entries and results'!N146,$H$3:$L$30018,5,FALSE)","v":"y"},5515,"55:15",null,null,null,null,null,null,null,null,null,null,null,null,null,null,null,null,null,null,null,null,null,null,null,null,null,null,null,null,null,null,null,null,null,null,null,null,null,null,null,null,null,null,null,"55:15",144,5515,"0000005515","00","55","15"]
["SA00881","Giffnock North AAC","1995-02-13","Heather McCallum","SA00881","Under 17",".",145,"Pamela Porteous","F35","UA",null,145,181,{"$f":"VLOOKUP('entries and results'!N147,$H$3:$K$30018,2,FALSE)","v":"Leanne Donovan"},{"$f":"VLOOKUP('entries and results'!N147,$H$3:$K$30018,3,FALSE)","v":"F35"},{"$f":"VLOOKUP('entries and results'!N147,$H$3:$K$30018,4,FALSE)","v":"Rons Runners"},{"$f":"VLOOKUP('entries and results'!N147,$H$3:$L$30018,5,FALSE)","v":"y"},5524,"55:24",null,null,null,null,null,null,null,null,null,null,null,null,null,null,null,null,null,null,null,null,null,null,null,null,null,null,null,null,null,null,null,null,null,null,null,null,null,null,null,null,null,null,null,"55:24",145,5524,"0000005524","00","55","24"]
["SA00883","VP-Glasgow AC","1993-10-04","Catherine Clark","SA00883","Under 17",".",146,"Claire Webb","F","Rons Runners","y",146,18,{"$f":"VLOOKUP('entries and results'!N148,$H$3:$K$30018,2,FALSE)","v":"Lindsay Taylor"},{"$f":"VLOOKUP('entries and results'!N148,$H$3:$K$30018,3,FALSE)","v":"F35"},{"$f":"VLOOKUP('entries and results'!N148,$H$3:$K$30018,4,FALSE)","v":"QT pudding club"},{"$f":"VLOOKUP('entries and results'!N148,$H$3:$L$30018,5,FALSE)","v":"y"},5538,"55:38",null,null,null,null,null,null,null,null,null,null,null,null,null,null,null,null,null,null,null,null,null,null,null,null,null,null,null,null,null,null,null,null,null,null,null,null,null,null,null,null,null,null,null,"55:38",146,5538,"0000005538","00","55","38"]
["SA00884","Helensburgh AAC","1992-12-05","Andrew Kennedy","SA00884","Senior","sa13825",147,{"$f":"VLOOKUP('entries and results'!G149,$A$3:$E$30018,4,FALSE)","v":"Matthew Ferguson"},"M60",{"$f":"VLOOKUP('entries and results'!G149,$A$3:$E$30018,2,FALSE)","v":"Kilmarnock H&AC"},"y",147,170,{"$f":"VLOOKUP('entries and results'!N149,$H$3:$K$30018,2,FALSE)","v":"Gary Kerr"},{"$f":"VLOOKUP('entries and results'!N149,$H$3:$K$30018,3,FALSE)","v":"M"},{"$f":"VLOOKUP('entries and results'!N149,$H$3:$K$30018,4,FALSE)","v":"Rons Runners"},{"$f":"VLOOKUP('entries and results'!N149,$H$3:$L$30018,5,FALSE)","v":"y"},5556,"55:56",null,null,null,null,null,null,null,null,null,null,null,null,null,null,null,null,null,null,null,null,null,null,null,null,null,null,null,null,null,null,null,null,null,null,null,null,null,null,null,null,null,null,null,"55:56",147,5556,"0000005556","00","55","56"]
["SA00890","North Ayrshire AC","1993-05-04","Molly Bell","SA00890","Senior","sa11813",148,{"$f":"VLOOKUP('entries and results'!G150,$A$3:$E$30018,4,FALSE)","v":"Caroline Mutch"},"F35",{"$f":"VLOOKUP('entries and results'!G150,$A$3:$E$30018,2,FALSE)","v":"Troon Tortoises AC"},"y",148,139,{"$f":"VLOOKUP('entries and results'!N150,$H$3:$K$30018,2,FALSE)","v":"Gillian Dunwoodie"},{"$f":"VLOOKUP('entries and results'!N150,$H$3:$K$30018,3,FALSE)","v":"F45"},{"$f":"VLOOKUP('entries and results'!N150,$H$3:$K$30018,4,FALSE)","v":"Rons Runners"},{"$f":"VLOOKUP('entries and results'!N150,$H$3:$L$30018,5,FALSE)","v":"y"},5629,"56:29",null,null,null,null,null,null,null,null,null,null,null,null,null,null,null,null,null,null,null,null,null,null,null,null,null,null,null,null,null,null,null,null,null,null,null,null,null,null,null,null,null,null,null,"56:29",148,5629,"0000005629","00","56","29"]
["SA00895","Kilbarchan AAC","1995-05-04","Cleo Jackson","SA00895","Under 17",".",149,"Robert Staples","M40","UA","y",149,85,{"$f":"VLOOKUP('entries and results'!N151,$H$3:$K$30018,2,FALSE)","v":"Maggie Kinghorn"},{"$f":"VLOOKUP('entries and results'!N151,$H$3:$K$30018,3,FALSE)","v":"F35"},{"$f":"VLOOKUP('entries and results'!N151,$H$3:$K$30018,4,FALSE)","v":"UA"},{"$f":"VLOOKUP('entries and results'!N151,$H$3:$L$30018,5,FALSE)","v":"y"},5635,"56:35",null,null,null,null,null,null,null,null,null,null,null,null,null,null,null,null,null,null,null,null,null,null,null,null,null,null,null,null,null,null,null,null,null,null,null,null,null,null,null,null,null,null,null,"56:35",149,5635,"0000005635","00","56","35"]
["SA00897","Kilbarchan AAC","1991-04-20","Emma Pettigrew","SA00897","Senior",".",150,"Carrol Finlay","F45","Rons Runners","y",150,69,{"$f":"VLOOKUP('entries and results'!N152,$H$3:$K$30018,2,FALSE)","v":"Linda Lithgow"},{"$f":"VLOOKUP('entries and results'!N152,$H$3:$K$30018,3,FALSE)","v":"F35"},{"$f":"VLOOKUP('entries and results'!N152,$H$3:$K$30018,4,FALSE)","v":"UA"},{"$f":"VLOOKUP('entries and results'!N152,$H$3:$L$30018,5,FALSE)","v":"y"},5640,"56:40",null,null,null,null,null,null,null,null,null,null,null,null,null,null,null,null,null,null,null,null,null,null,null,null,null,null,null,null,null,null,null,null,null,null,null,null,null,null,null,null,null,null,null,"56:40",150,5640,"0000005640","00","56","40"]
["SA00902","Kirkintilloch Olympians","1996-01-17","Erin Drummond","SA00902","Under 15","sa21845",151,"George McGregor","M60","Troon Tortoises AC","y",151,190,{"$f":"VLOOKUP('entries and results'!N153,$H$3:$K$30018,2,FALSE)","v":"Sharon Crombie"},{"$f":"VLOOKUP('entries and results'!N153,$H$3:$K$30018,3,FALSE)","v":"F35"},{"$f":"VLOOKUP('entries and results'!N153,$H$3:$K$30018,4,FALSE)","v":"Rons Runners"},{"$f":"VLOOKUP('entries and results'!N153,$H$3:$L$30018,5,FALSE)","v":"y"},5704,"57:04",null,null,null,null,null,null,null,null,null,null,null,null,null,null,null,null,null,null,null,null,null,null,null,null,null,null,null,null,null,null,null,null,null,null,null,null,null,null,null,null,null,null,null,"57:04",151,5704,"0000005704","00","57","04"]
["SA00903","VP-Glasgow AC","1994-11-29","Maria Milliken","SA00903","Under 17",".",152,"Noelle McQuillan","F45","Ayr Seaforth AAC","y",152,125,{"$f":"VLOOKUP('entries and results'!N154,$H$3:$K$30018,2,FALSE)","v":"Carol Rome"},{"$f":"VLOOKUP('entries and results'!N154,$H$3:$K$30018,3,FALSE)","v":"F35"},{"$f":"VLOOKUP('entries and results'!N154,$H$3:$K$30018,4,FALSE)","v":"Rons Runners"},{"$f":"VLOOKUP('entries and results'!N154,$H$3:$L$30018,5,FALSE)","v":"y"},5713,"57:13",null,null,null,null,null,null,null,null,null,null,null,null,null,null,null,null,null,null,null,null,null,null,null,null,null,null,null,null,null,null,null,null,null,null,null,null,null,null,null,null,null,null,null,"57:13",152,5713,"0000005713","00","57","13"]
["SA00905","Law & District AAC","1992-05-24","Bobby Hill","SA00905","Senior",".",153,"Gillian Watson","F","UA","y",153,8,{"$f":"VLOOKUP('entries and results'!N155,$H$3:$K$30018,2,FALSE)","v":"Sue Denton"},{"$f":"VLOOKUP('entries and results'!N155,$H$3:$K$30018,3,FALSE)","v":"F35"},{"$f":"VLOOKUP('entries and results'!N155,$H$3:$K$30018,4,FALSE)","v":"Irvine AC"},{"$f":"VLOOKUP('entries and results'!N155,$H$3:$L$30018,5,FALSE)","v":"y"},5725,"57:25",null,null,null,null,null,null,null,null,null,null,null,null,null,null,null,null,null,null,null,null,null,null,null,null,null,null,null,null,null,null,null,null,null,null,null,null,null,null,null,null,null,null,null,"57:25",153,5725,"0000005725","00","57","25"]
["SA00906","Law & District AAC","1994-10-11","Ross Hill","SA00906","Under 17","sa13078",154,"Stuart Maclean","M40","Ayr Seaforth AAC","y",154,87,{"$f":"VLOOKUP('entries and results'!N156,$H$3:$K$30018,2,FALSE)","v":"Jim Frew"},{"$f":"VLOOKUP('entries and results'!N156,$H$3:$K$30018,3,FALSE)","v":"M40"},{"$f":"VLOOKUP('entries and results'!N156,$H$3:$K$30018,4,FALSE)","v":"UA"},{"$f":"VLOOKUP('entries and results'!N156,$H$3:$L$30018,5,FALSE)","v":"y"},5725,"57:25",null,null,null,null,null,null,null,null,null,null,null,null,null,null,null,null,null,null,null,null,null,null,null,null,null,null,null,null,null,null,null,null,null,null,null,null,null,null,null,null,null,null,null,"57:25",154,5725,"0000005725","00","57","25"]
["SA00908","Law & District AAC","1996-01-28","Calum Lindsay","SA00908","Under 15",".",155,"Paul Camlin","M40","Rons Runners","y",155,15,{"$f":"VLOOKUP('entries and results'!N157,$H$3:$K$30018,2,FALSE)","v":"Lyndsay Moffat"},{"$f":"VLOOKUP('entries and results'!N157,$H$3:$K$30018,3,FALSE)","v":"F"},{"$f":"VLOOKUP('entries and results'!N157,$H$3:$K$30018,4,FALSE)","v":"Hamilton Harriers"},{"$f":"VLOOKUP('entries and results'!N157,$H$3:$L$30018,5,FALSE)","v":0},5752,"57:52",null,null,null,null,null,null,null,null,null,null,null,null,null,null,null,null,null,null,null,null,null,null,null,null,null,null,null,null,null,null,null,null,null,null,null,null,null,null,null,null,null,null,null,"57:52",155,5752,"0000005752","00","57","52"]
["SA00910","Livingston & District AAC","1990-06-11","Danny Nicoll","SA00910","Senior",".",156,"Alex Dunlop","M40","Ayr Seaforth AAC","y",156,12,{"$f":"VLOOKUP('entries and results'!N158,$H$3:$K$30018,2,FALSE)","v":"Ross Bickerstaff"},{"$f":"VLOOKUP('entries and results'!N158,$H$3:$K$30018,3,FALSE)","v":"M50"},{"$f":"VLOOKUP('entries and results'!N158,$H$3:$K$30018,4,FALSE)","v":"Hamilton Harriers"},{"$f":"VLOOKUP('entries and results'!N158,$H$3:$L$30018,5,FALSE)","v":0},5752,"57:52",null,null,null,null,null,null,null,null,null,null,null,null,null,null,null,null,null,null,null,null,null,null,null,null,null,null,null,null,null,null,null,null,null,null,null,null,null,null,null,null,null,null,null,"57:52",156,5752,"0000005752","00","57","52"]
["SA00911","Moray Road Runners","1996-02-13","Jack Christie","SA00911","Under 15","sa30389",157,"Martin McCrorie","M","Ayr Seaforth AAC","y",157,167,{"$f":"VLOOKUP('entries and results'!N159,$H$3:$K$30018,2,FALSE)","v":"Robert Steel"},{"$f":"VLOOKUP('entries and results'!N159,$H$3:$K$30018,3,FALSE)","v":"M50"},{"$f":"VLOOKUP('entries and results'!N159,$H$3:$K$30018,4,FALSE)","v":"UA"},{"$f":"VLOOKUP('entries and results'!N159,$H$3:$L$30018,5,FALSE)","v":"y"},5758,"57:58",null,null,null,null,null,null,null,null,null,null,null,null,null,null,null,null,null,null,null,null,null,null,null,null,null,null,null,null,null,null,null,null,null,null,null,null,null,null,null,null,null,null,null,"57:58",157,5758,"0000005758","00","57","58"]
["SA00913","Moray Road Runners","1995-04-26","Bethany Wilson","SA00913","Under 17","sa24775",158,"Mark Preston","M","North Ayrshire AC","y",158,201,{"$f":"VLOOKUP('entries and results'!N160,$H$3:$K$30018,2,FALSE)","v":"Scott Gilmour"},{"$f":"VLOOKUP('entries and results'!N160,$H$3:$K$30018,3,FALSE)","v":"M20"},{"$f":"VLOOKUP('entries and results'!N160,$H$3:$K$30018,4,FALSE)","v":"UA"},{"$f":"VLOOKUP('entries and results'!N160,$H$3:$L$30018,5,FALSE)","v":0},5821,"58:21",null,null,null,null,null,null,null,null,null,null,null,null,null,null,null,null,null,null,null,null,null,null,null,null,null,null,null,null,null,null,null,null,null,null,null,null,null,null,null,null,null,null,null,"58:21",158,5821,"0000005821","00","58","21"]
["SA00914","Nithsdale AC","1993-02-17","David Vernon","SA00914","Senior","sa07462",159,"David Phee","M","Giffnock North AAC",null,159,41,{"$f":"VLOOKUP('entries and results'!N161,$H$3:$K$30018,2,FALSE)","v":"Suzy Moorby"},{"$f":"VLOOKUP('entries and results'!N161,$H$3:$K$30018,3,FALSE)","v":"F45"},{"$f":"VLOOKUP('entries and results'!N161,$H$3:$K$30018,4,FALSE)","v":"Monkton Milers"},{"$f":"VLOOKUP('entries and results'!N161,$H$3:$L$30018,5,FALSE)","v":"y"},5832,"58:32",null,null,null,null,null,null,null,null,null,null,null,null,null,null,null,null,null,null,null,null,null,null,null,null,null,null,null,null,null,null,null,null,null,null,null,null,null,null,null,null,null,null,null,"58:32",159,5832,"0000005832","00","58","32"]
["SA00921","Shettleston Harriers","1994-10-14","Kirstin Wood","SA00921","Under 17","sa23492",160,"Gareth Brown","M","North Ayrshire AC","y",160,126,{"$f":"VLOOKUP('entries and results'!N162,$H$3:$K$30018,2,FALSE)","v":"Amanda Lindsay"},{"$f":"VLOOKUP('entries and results'!N162,$H$3:$K$30018,3,FALSE)","v":"F45"},{"$f":"VLOOKUP('entries and results'!N162,$H$3:$K$30018,4,FALSE)","v":"Rons Runners"},{"$f":"VLOOKUP('entries and results'!N162,$H$3:$L$30018,5,FALSE)","v":"y"},5845,"58:45",null,null,null,null,null,null,null,null,null,null,null,null,null,null,null,null,null,null,null,null,null,null,null,null,null,null,null,null,null,null,null,null,null,null,null,null,null,null,null,null,null,null,null,"58:45",160,5845,"0000005845","00","58","45"]
["SA00922","VP-Glasgow AC","1993-05-14","Kirsty Yates","SA00922","Senior","sa5208",161,"John Cairns","M50","Kilmarnock H&AC","y",161,177,{"$f":"VLOOKUP('entries and results'!N163,$H$3:$K$30018,2,FALSE)","v":"Alan Anderson"},{"$f":"VLOOKUP('entries and results'!N163,$H$3:$K$30018,3,FALSE)","v":"M50"},{"$f":"VLOOKUP('entries and results'!N163,$H$3:$K$30018,4,FALSE)","v":"Kilmarnock H&AC"},{"$f":"VLOOKUP('entries and results'!N163,$H$3:$L$30018,5,FALSE)","v":"y"},5848,"58:48",null,null,null,null,null,null,null,null,null,null,null,null,null,null,null,null,null,null,null,null,null,null,null,null,null,null,null,null,null,null,null,null,null,null,null,null,null,null,null,null,null,null,null,"58:48",161,5848,"0000005848","00","58","48"]
["SA00924","Stewarts Melville College","1991-07-06","Chris Gill","SA00924","Senior","sa08450",162,{"$f":"VLOOKUP('entries and results'!G164,$A$3:$E$30018,4,FALSE)","v":"Mark Hamilton"},"M40",{"$f":"VLOOKUP('entries and results'!G164,$A$3:$E$30018,2,FALSE)","v":"Kilmarnock H&AC"},"y",162,94,{"$f":"VLOOKUP('entries and results'!N164,$H$3:$K$30018,2,FALSE)","v":"Emmy Dodds"},{"$f":"VLOOKUP('entries and results'!N164,$H$3:$K$30018,3,FALSE)","v":"F45"},{"$f":"VLOOKUP('entries and results'!N164,$H$3:$K$30018,4,FALSE)","v":"Kilmarnock H&AC"},{"$f":"VLOOKUP('entries and results'!N164,$H$3:$L$30018,5,FALSE)","v":"y"},5902,"59:02",null,null,null,null,null,null,null,null,null,null,null,null,null,null,null,null,null,null,null,null,null,null,null,null,null,null,null,null,null,null,null,null,null,null,null,null,null,null,null,null,null,null,null,"59:02",162,5902,"0000005902","00","59","02"]
["SA00932","VP-Glasgow AC","1994-04-15","Grant McConnachie","SA00932","Under 17",".",163,"Alistair McCallum","M","UA","y",163,103,{"$f":"VLOOKUP('entries and results'!N165,$H$3:$K$30018,2,FALSE)","v":"Astrud Gibson"},{"$f":"VLOOKUP('entries and results'!N165,$H$3:$K$30018,3,FALSE)","v":"F35"},{"$f":"VLOOKUP('entries and results'!N165,$H$3:$K$30018,4,FALSE)","v":"Rons Runners"},{"$f":"VLOOKUP('entries and results'!N165,$H$3:$L$30018,5,FALSE)","v":"y"},5906,"59:06",null,null,null,null,null,null,null,null,null,null,null,null,null,null,null,null,null,null,null,null,null,null,null,null,null,null,null,null,null,null,null,null,null,null,null,null,null,null,null,null,null,null,null,"59:06",163,5906,"0000005906","00","59","06"]
["SA00935","Shetland AAC","1991-01-17","Joshua Morrison","SA00935","Senior",".",164,"Craig Murdoch","M","UA","y",164,129,{"$f":"VLOOKUP('entries and results'!N166,$H$3:$K$30018,2,FALSE)","v":"James Elliot"},{"$f":"VLOOKUP('entries and results'!N166,$H$3:$K$30018,3,FALSE)","v":"M40"},{"$f":"VLOOKUP('entries and results'!N166,$H$3:$K$30018,4,FALSE)","v":"Rons Runners"},{"$f":"VLOOKUP('entries and results'!N166,$H$3:$L$30018,5,FALSE)","v":"y"},5910,"59:10",null,null,null,null,null,null,null,null,null,null,null,null,null,null,null,null,null,null,null,null,null,null,null,null,null,null,null,null,null,null,null,null,null,null,null,null,null,null,null,null,null,null,null,"59:10",164,5910,"0000005910","00","59","10"]
["SA00945","Aberdeen AAC","1992-09-05","Kerry Prise","SA00945","Senior",".",165,"Kerry Murdoch","F","UA","y",165,128,{"$f":"VLOOKUP('entries and results'!N167,$H$3:$K$30018,2,FALSE)","v":"Allison Elliot"},{"$f":"VLOOKUP('entries and results'!N167,$H$3:$K$30018,3,FALSE)","v":"F35"},{"$f":"VLOOKUP('entries and results'!N167,$H$3:$K$30018,4,FALSE)","v":"Rons Runners"},{"$f":"VLOOKUP('entries and results'!N167,$H$3:$L$30018,5,FALSE)","v":"y"},5912,"59:12",null,null,null,null,null,null,null,null,null,null,null,null,null,null,null,null,null,null,null,null,null,null,null,null,null,null,null,null,null,null,null,null,null,null,null,null,null,null,null,null,null,null,null,"59:12",165,5912,"0000005912","00","59","12"]
["SA00946","Arbroath & District AC","1992-05-06","Ross White","SA00946","Senior",".",166,"Russel Frew","M","UA","y",166,179,{"$f":"VLOOKUP('entries and results'!N168,$H$3:$K$30018,2,FALSE)","v":"Alex Marshall"},{"$f":"VLOOKUP('entries and results'!N168,$H$3:$K$30018,3,FALSE)","v":"F"},{"$f":"VLOOKUP('entries and results'!N168,$H$3:$K$30018,4,FALSE)","v":"Rons Runners"},{"$f":"VLOOKUP('entries and results'!N168,$H$3:$L$30018,5,FALSE)","v":"y"},6006,"60:06",null,null,null,null,null,null,null,null,null,null,null,null,null,null,null,null,null,null,null,null,null,null,null,null,null,null,null,null,null,null,null,null,null,null,null,null,null,null,null,null,null,null,null,"60:06",166,6006,"0000006006","00","60","06"]
["SA00947","Ayr Seaforth AAC","1995-02-22","Angus Arnold","SA00947","Under 17",".",167,"Robert Steel","M50","UA","y",167,37,{"$f":"VLOOKUP('entries and results'!N169,$H$3:$K$30018,2,FALSE)","v":"Marianne Grover"},{"$f":"VLOOKUP('entries and results'!N169,$H$3:$K$30018,3,FALSE)","v":"F55"},{"$f":"VLOOKUP('entries and results'!N169,$H$3:$K$30018,4,FALSE)","v":"Jog Stewarton"},{"$f":"VLOOKUP('entries and results'!N169,$H$3:$L$30018,5,FALSE)","v":"y"},6043,"60:43",null,null,null,null,null,null,null,null,null,null,null,null,null,null,null,null,null,null,null,null,null,null,null,null,null,null,null,null,null,null,null,null,null,null,null,null,null,null,null,null,null,null,null,"60:43",167,6043,"0000006043","00","60","43"]
["SA00949","Ayr Seaforth AAC","1989-06-17","Andrew McElwee","SA00949","Senior",".",168,"Thomas Turner ","M","UA","y",168,180,{"$f":"VLOOKUP('entries and results'!N170,$H$3:$K$30018,2,FALSE)","v":"Anita Mackie"},{"$f":"VLOOKUP('entries and results'!N170,$H$3:$K$30018,3,FALSE)","v":"F35"},{"$f":"VLOOKUP('entries and results'!N170,$H$3:$K$30018,4,FALSE)","v":"Rons Runners"},{"$f":"VLOOKUP('entries and results'!N170,$H$3:$L$30018,5,FALSE)","v":"y"},6058,"60:58",null,null,null,null,null,null,null,null,null,null,null,null,null,null,null,null,null,null,null,null,null,null,null,null,null,null,null,null,null,null,null,null,null,null,null,null,null,null,null,null,null,null,null,"60:58",168,6058,"0000006058","00","60","58"]
["SA00951","Banchory Stonehaven AC","1992-02-29","Theresa Christie","SA00951","Senior",".",169,"Scott MacSephney","M40","Ipswich Jaffa",null,169,178,{"$f":"VLOOKUP('entries and results'!N171,$H$3:$K$30018,2,FALSE)","v":"Sharon Maule"},{"$f":"VLOOKUP('entries and results'!N171,$H$3:$K$30018,3,FALSE)","v":"F35"},{"$f":"VLOOKUP('entries and results'!N171,$H$3:$K$30018,4,FALSE)","v":"Rons Runners"},{"$f":"VLOOKUP('entries and results'!N171,$H$3:$L$30018,5,FALSE)","v":"y"},6104,"61:04",null,null,null,null,null,null,null,null,null,null,null,null,null,null,null,null,null,null,null,null,null,null,null,null,null,null,null,null,null,null,null,null,null,null,null,null,null,null,null,null,null,null,null,"61:04",169,6104,"0000006104","00","61","04"]
["SA00955","Caithness AAC","1994-04-10","Natasha Morris","SA00955","Under 17",".",170,"Gary Kerr","M","Rons Runners","y",170,146,{"$f":"VLOOKUP('entries and results'!N172,$H$3:$K$30018,2,FALSE)","v":"Claire Webb"},{"$f":"VLOOKUP('entries and results'!N172,$H$3:$K$30018,3,FALSE)","v":"F"},{"$f":"VLOOKUP('entries and results'!N172,$H$3:$K$30018,4,FALSE)","v":"Rons Runners"},{"$f":"VLOOKUP('entries and results'!N172,$H$3:$L$30018,5,FALSE)","v":"y"},6150,"61:50",null,null,null,null,null,null,null,null,null,null,null,null,null,null,null,null,null,null,null,null,null,null,null,null,null,null,null,null,null,null,null,null,null,null,null,null,null,null,null,null,null,null,null,"61:50",170,6150,"0000006150","00","61","50"]
["SA00959","Edinburgh AC","1994-07-06","Bethany Valente","SA00959","Under 17",".",171,"David Mackie","M40","Rons Runners","y",171,183,{"$f":"VLOOKUP('entries and results'!N173,$H$3:$K$30018,2,FALSE)","v":"Lynn Robertson"},{"$f":"VLOOKUP('entries and results'!N173,$H$3:$K$30018,3,FALSE)","v":"F35"},{"$f":"VLOOKUP('entries and results'!N173,$H$3:$K$30018,4,FALSE)","v":"UA"},{"$f":"VLOOKUP('entries and results'!N173,$H$3:$L$30018,5,FALSE)","v":"y"},6311,"63:11",null,null,null,null,null,null,null,null,null,null,null,null,null,null,null,null,null,null,null,null,null,null,null,null,null,null,null,null,null,null,null,null,null,null,null,null,null,null,null,null,null,null,null,"63:11",171,6311,"0000006311","00","63","11"]
["SA00961","Glasgow University Hare and H","1989-08-17","Neal Robb","SA00961","Senior",".",172,"Shona Blades","F20","North Ayrshire AC","y",172,116,{"$f":"VLOOKUP('entries and results'!N174,$H$3:$K$30018,2,FALSE)","v":"Allison Johnston"},{"$f":"VLOOKUP('entries and results'!N174,$H$3:$K$30018,3,FALSE)","v":"F45"},{"$f":"VLOOKUP('entries and results'!N174,$H$3:$K$30018,4,FALSE)","v":"UA"},{"$f":"VLOOKUP('entries and results'!N174,$H$3:$L$30018,5,FALSE)","v":0},6318,"63:18",null,null,null,null,null,null,null,null,null,null,null,null,null,null,null,null,null,null,null,null,null,null,null,null,null,null,null,null,null,null,null,null,null,null,null,null,null,null,null,null,null,null,null,"63:18",172,6318,"0000006318","00","63","18"]
["SA00966","Dundee Hawkhill Harriers","1991-05-24","Gemma Dolan","SA00966","Senior","sa19198",173,"Fraser Mackie","M20","North Ayrshire AC","y",173,95,{"$f":"VLOOKUP('entries and results'!N175,$H$3:$K$30018,2,FALSE)","v":"Alison Reid"},{"$f":"VLOOKUP('entries and results'!N175,$H$3:$K$30018,3,FALSE)","v":"F35"},{"$f":"VLOOKUP('entries and results'!N175,$H$3:$K$30018,4,FALSE)","v":"UA"},{"$f":"VLOOKUP('entries and results'!N175,$H$3:$L$30018,5,FALSE)","v":"y"},6354,"63:54",null,null,null,null,null,null,null,null,null,null,null,null,null,null,null,null,null,null,null,null,null,null,null,null,null,null,null,null,null,null,null,null,null,null,null,null,null,null,null,null,null,null,null,"63:54",173,6354,"0000006354","00","63","54"]
["SA00985","Giffnock North AAC","1991-10-29","Kenneth Love","SA00985","Senior",".",174,"J. Bennie","M40","Fusion Tri Club",null,174,84,{"$f":"VLOOKUP('entries and results'!N176,$H$3:$K$30018,2,FALSE)","v":"Jennifer Simpson"},{"$f":"VLOOKUP('entries and results'!N176,$H$3:$K$30018,3,FALSE)","v":"F35"},{"$f":"VLOOKUP('entries and results'!N176,$H$3:$K$30018,4,FALSE)","v":"UA"},{"$f":"VLOOKUP('entries and results'!N176,$H$3:$L$30018,5,FALSE)","v":"y"},6436,"64:36",null,null,null,null,null,null,null,null,null,null,null,null,null,null,null,null,null,null,null,null,null,null,null,null,null,null,null,null,null,null,null,null,null,null,null,null,null,null,null,null,null,null,null,"64:36",174,6436,"0000006436","00","64","36"]
["SA00994","Kilbarchan AAC","1991-12-17","Rachel McNaughton","SA00994","Senior",".",175,"Carly Wilson","F","Rons Runners","y",175,189,{"$f":"VLOOKUP('entries and results'!N177,$H$3:$K$30018,2,FALSE)","v":"C. McNairney"},{"$f":"VLOOKUP('entries and results'!N177,$H$3:$K$30018,3,FALSE)","v":"M60"},{"$f":"VLOOKUP('entries and results'!N177,$H$3:$K$30018,4,FALSE)","v":"Rons Runners"},{"$f":"VLOOKUP('entries and results'!N177,$H$3:$L$30018,5,FALSE)","v":"y"},6437,"64:37",null,null,null,null,null,null,null,null,null,null,null,null,null,null,null,null,null,null,null,null,null,null,null,null,null,null,null,null,null,null,null,null,null,null,null,null,null,null,null,null,null,null,null,"64:37",175,6437,"0000006437","00","64","37"]
["SA00999","Law & District AAC","1993-08-18","Nicola Lindsay","SA00999","Senior","sa14687",176,{"$f":"VLOOKUP('entries and results'!G178,$A$3:$E$30018,4,FALSE)","v":"Richard Skillen"},"M40",{"$f":"VLOOKUP('entries and results'!G178,$A$3:$E$30018,2,FALSE)","v":"Kilmarnock H&AC"},"y",176,127,{"$f":"VLOOKUP('entries and results'!N178,$H$3:$K$30018,2,FALSE)","v":"Patricia McMullen"},{"$f":"VLOOKUP('entries and results'!N178,$H$3:$K$30018,3,FALSE)","v":"F45"},{"$f":"VLOOKUP('entries and results'!N178,$H$3:$K$30018,4,FALSE)","v":"Rons Runners"},{"$f":"VLOOKUP('entries and results'!N178,$H$3:$L$30018,5,FALSE)","v":"y"},6443,"64:43",null,null,null,null,null,null,null,null,null,null,null,null,null,null,null,null,null,null,null,null,null,null,null,null,null,null,null,null,null,null,null,null,null,null,null,null,null,null,null,null,null,null,null,"64:43",176,6443,"0000006443","00","64","43"]
["SA01000","Law & District AAC","1992-03-06","Kirstie McLeod","SA01000","Senior",".",177,"Alan Anderson","M50","Kilmarnock H&AC","y",177,105,{"$f":"VLOOKUP('entries and results'!N179,$H$3:$K$30018,2,FALSE)","v":"Lorraine Howard"},{"$f":"VLOOKUP('entries and results'!N179,$H$3:$K$30018,3,FALSE)","v":"F35"},{"$f":"VLOOKUP('entries and results'!N179,$H$3:$K$30018,4,FALSE)","v":"UA"},{"$f":"VLOOKUP('entries and results'!N179,$H$3:$L$30018,5,FALSE)","v":"y"},6547,"65:47",null,null,null,null,null,null,null,null,null,null,null,null,null,null,null,null,null,null,null,null,null,null,null,null,null,null,null,null,null,null,null,null,null,null,null,null,null,null,null,null,null,null,null,"65:47",177,6547,"0000006547","00","65","47"]
["SA01001","Glasgow School of Sport","1994-04-03","Lewis Nicholson","SA01001","Under 17",".",178,"Sharon Maule","F35","Rons Runners","y",178,106,{"$f":"VLOOKUP('entries and results'!N180,$H$3:$K$30018,2,FALSE)","v":"Linda Howard"},{"$f":"VLOOKUP('entries and results'!N180,$H$3:$K$30018,3,FALSE)","v":"f35"},{"$f":"VLOOKUP('entries and results'!N180,$H$3:$K$30018,4,FALSE)","v":"UA"},{"$f":"VLOOKUP('entries and results'!N180,$H$3:$L$30018,5,FALSE)","v":"y"},6547,"65:47",null,null,null,null,null,null,null,null,null,null,null,null,null,null,null,null,null,null,null,null,null,null,null,null,null,null,null,null,null,null,null,null,null,null,null,null,null,null,null,null,null,null,null,"65:47",178,6547,"0000006547","00","65","47"]
["SA01008","Pitreavie AAC","1993-11-15","Kristy Armstrong","SA01008","Under 17",".",179,"Alex Marshall","F","Rons Runners","y",179,3,{"$f":"VLOOKUP('entries and results'!N181,$H$3:$K$30018,2,FALSE)","v":"Paul Darroch"},{"$f":"VLOOKUP('entries and results'!N181,$H$3:$K$30018,3,FALSE)","v":"M"},{"$f":"VLOOKUP('entries and results'!N181,$H$3:$K$30018,4,FALSE)","v":"UA"},{"$f":"VLOOKUP('entries and results'!N181,$H$3:$L$30018,5,FALSE)","v":"y"},6607,"66:07",null,null,null,null,null,null,null,null,null,null,null,null,null,null,null,null,null,null,null,null,null,null,null,null,null,null,null,null,null,null,null,null,null,null,null,null,null,null,null,null,null,null,null,"66:07",179,6607,"0000006607","00","66","07"]
["SA01009","Pitreavie AAC","1994-07-17","Jessica Barrows","SA01009","Under 17",".",180,"Anita Mackie","F35","Rons Runners","y",180,150,{"$f":"VLOOKUP('entries and results'!N182,$H$3:$K$30018,2,FALSE)","v":"Carrol Finlay"},{"$f":"VLOOKUP('entries and results'!N182,$H$3:$K$30018,3,FALSE)","v":"F45"},{"$f":"VLOOKUP('entries and results'!N182,$H$3:$K$30018,4,FALSE)","v":"Rons Runners"},{"$f":"VLOOKUP('entries and results'!N182,$H$3:$L$30018,5,FALSE)","v":"y"},6721,"67:21",null,null,null,null,null,null,null,null,null,null,null,null,null,null,null,null,null,null,null,null,null,null,null,null,null,null,null,null,null,null,null,null,null,null,null,null,null,null,null,null,null,null,null,"67:21",180,6721,"0000006721","00","67","21"]
["SA01012","Pitreavie AAC","1990-05-18","Kirstyn Suttie","SA01012","Senior",".",181,"Leanne Donovan","F35","Rons Runners","y",181,130,{"$f":"VLOOKUP('entries and results'!N183,$H$3:$K$30018,2,FALSE)","v":"Shirley Templeton"},{"$f":"VLOOKUP('entries and results'!N183,$H$3:$K$30018,3,FALSE)","v":"F45"},{"$f":"VLOOKUP('entries and results'!N183,$H$3:$K$30018,4,FALSE)","v":"Rons Runners"},{"$f":"VLOOKUP('entries and results'!N183,$H$3:$L$30018,5,FALSE)","v":"y"},6721,"67:21",null,null,null,null,null,null,null,null,null,null,null,null,null,null,null,null,null,null,null,null,null,null,null,null,null,null,null,null,null,null,null,null,null,null,null,null,null,null,null,null,null,null,null,"67:21",181,6721,"0000006721","00","67","21"]
["SA01029","Airdrie Harriers","1995-12-13","James Higgins","SA01029","Under 15",".",182,"Gordon Stuart","M","UA","y",182,63,{"$f":"VLOOKUP('entries and results'!N184,$H$3:$K$30018,2,FALSE)","v":"Gillian Stevenson"},{"$f":"VLOOKUP('entries and results'!N184,$H$3:$K$30018,3,FALSE)","v":"F"},{"$f":"VLOOKUP('entries and results'!N184,$H$3:$K$30018,4,FALSE)","v":"UA"},{"$f":"VLOOKUP('entries and results'!N184,$H$3:$L$30018,5,FALSE)","v":0},6819,"68:19",null,null,null,null,null,null,null,null,null,null,null,null,null,null,null,null,null,null,null,null,null,null,null,null,null,null,null,null,null,null,null,null,null,null,null,null,null,null,null,null,null,null,null,"68:19",182,6819,"0000006819","00","68","19"]
["SA01033","Arbroath & District AC","1992-04-27","Greg Milne","SA01033","Senior",".",183,"Lynn Robertson","F35","UA","y",183,61,{"$f":"VLOOKUP('entries and results'!N185,$H$3:$K$30018,2,FALSE)","v":"Alison Duncan"},{"$f":"VLOOKUP('entries and results'!N185,$H$3:$K$30018,3,FALSE)","v":"F"},{"$f":"VLOOKUP('entries and results'!N185,$H$3:$K$30018,4,FALSE)","v":"Hamilton Harriers"},{"$f":"VLOOKUP('entries and results'!N185,$H$3:$L$30018,5,FALSE)","v":0},6819,"68:19",null,null,null,null,null,null,null,null,null,null,null,null,null,null,null,null,null,null,null,null,null,null,null,null,null,null,null,null,null,null,null,null,null,null,null,null,null,null,null,null,null,null,null,"68:19",183,6819,"0000006819","00","68","19"]
["SA01035","Arbroath & District AC","1995-08-15","Kate Richards","SA01035","Under 17","sa15962",184,"Alasdair Murray","M40","Kilmarnock H&AC","y",184,45,{"$f":"VLOOKUP('entries and results'!N186,$H$3:$K$30018,2,FALSE)","v":"Janice Millar"},{"$f":"VLOOKUP('entries and results'!N186,$H$3:$K$30018,3,FALSE)","v":"F55"},{"$f":"VLOOKUP('entries and results'!N186,$H$3:$K$30018,4,FALSE)","v":"Kilmarnock H&AC"},{"$f":"VLOOKUP('entries and results'!N186,$H$3:$L$30018,5,FALSE)","v":"y"},7058,"70:58",null,null,null,null,null,null,null,null,null,null,null,null,null,null,null,null,null,null,null,null,null,null,null,null,null,null,null,null,null,null,null,null,null,null,null,null,null,null,null,null,null,null,null,"70:58",184,7058,"0000007058","00","70","58"]
["SA01036","Ayr Seaforth AAC","1993-10-25","Nicole Adams","SA01036","Under 17","sa05216",185,{"$f":"VLOOKUP('entries and results'!G187,$A$3:$E$30018,4,FALSE)","v":"Andrew Clugston"},"M",{"$f":"VLOOKUP('entries and results'!G187,$A$3:$E$30018,2,FALSE)","v":"Kilbarchan AAC"},null,185,202,{"$f":"VLOOKUP('entries and results'!N187,$H$3:$K$30018,2,FALSE)","v":"Kenny Reid"},{"$f":"VLOOKUP('entries and results'!N187,$H$3:$K$30018,3,FALSE)","v":"M20"},{"$f":"VLOOKUP('entries and results'!N187,$H$3:$K$30018,4,FALSE)","v":"UA"},{"$f":"VLOOKUP('entries and results'!N187,$H$3:$L$30018,5,FALSE)","v":"y"},7433,"74:33",null,null,null,null,null,null,null,null,null,null,null,null,null,null,null,null,null,null,null,null,null,null,null,null,null,null,null,null,null,null,null,null,null,null,null,null,null,null,null,null,null,null,null,"74:33",185,7433,"0000007433","00","74","33"]
["SA01038","Ayr Seaforth AAC","1994-12-08","Sam Revie","SA01038","Under 17","sa08798",186,{"$f":"VLOOKUP('entries and results'!G188,$A$3:$E$30018,4,FALSE)","v":"Moira Connell"},"F45",{"$f":"VLOOKUP('entries and results'!G188,$A$3:$E$30018,2,FALSE)","v":"Troon Tortoises AC"},"y",186,192,{"$f":"VLOOKUP('entries and results'!N188,$H$3:$K$30018,2,FALSE)","v":"Niki MacSephney"},{"$f":"VLOOKUP('entries and results'!N188,$H$3:$K$30018,3,FALSE)","v":"F35"},{"$f":"VLOOKUP('entries and results'!N188,$H$3:$K$30018,4,FALSE)","v":"Ipswich Jaffa"},{"$f":"VLOOKUP('entries and results'!N188,$H$3:$L$30018,5,FALSE)","v":0},7459,"74:59",null,null,null,null,null,null,null,null,null,null,null,null,null,null,null,null,null,null,null,null,null,null,null,null,null,null,null,null,null,null,null,null,null,null,null,null,null,null,null,null,null,null,null,"74:59",186,7459,"0000007459","00","74","59"]
["SA01040","Edinburgh AC","1994-03-24","Tom Holligan","SA01040","Under 17","sa04642",187,"Steven Connell","M40","Irvine AC","y",187,".",{"$f":"VLOOKUP('entries and results'!N189,$H$3:$K$30018,2,FALSE)","v":" "},{"$f":"VLOOKUP('entries and results'!N189,$H$3:$K$30018,3,FALSE)","v":" "},{"$f":"VLOOKUP('entries and results'!N189,$H$3:$K$30018,4,FALSE)","v":" "},{"$f":"VLOOKUP('entries and results'!N189,$H$3:$L$30018,5,FALSE)","v":0}," ","00:00",null,null,null,null,null,null,null,null,null,null,null,null,null,null,null,null,null,null,null,null,null,null,null,null,null,null,null,null,null,null,null,null,null,null,null,null,null,null,null,null,null,null,null,"00:00",187,0,"0000000","00","00","00"]
["SA01041","Edinburgh AC","1993-06-03","Katie Murdoch","SA01041","Senior","sa11055",188,{"$f":"VLOOKUP('entries and results'!G190,$A$3:$E$30018,4,FALSE)","v":"Jamie Findlay"},"M",{"$f":"VLOOKUP('entries and results'!G190,$A$3:$E$30018,2,FALSE)","v":"Irvine AC"},"y",188,".",{"$f":"VLOOKUP('entries and results'!N190,$H$3:$K$30018,2,FALSE)","v":" "},{"$f":"VLOOKUP('entries and results'!N190,$H$3:$K$30018,3,FALSE)","v":" "},{"$f":"VLOOKUP('entries and results'!N190,$H$3:$K$30018,4,FALSE)","v":" "},{"$f":"VLOOKUP('entries and results'!N190,$H$3:$L$30018,5,FALSE)","v":0}," ","00:00",null,null,null,null,null,null,null,null,null,null,null,null,null,null,null,null,null,null,null,null,null,null,null,null,null,null,null,null,null,null,null,null,null,null,null,null,null,null,null,null,null,null,null,"00:00",188,0,"0000000","00","00","00"]
["SA01042","Edinburgh AC","1993-02-05","Jordan Newport","SA01042","Senior",".",189,"C. McNairney","M60","Rons Runners","y",189,".",{"$f":"VLOOKUP('entries and results'!N191,$H$3:$K$30018,2,FALSE)","v":" "},{"$f":"VLOOKUP('entries and results'!N191,$H$3:$K$30018,3,FALSE)","v":" "},{"$f":"VLOOKUP('entries and results'!N191,$H$3:$K$30018,4,FALSE)","v":" "},{"$f":"VLOOKUP('entries and results'!N191,$H$3:$L$30018,5,FALSE)","v":0}," ","00:00",null,null,null,null,null,null,null,null,null,null,null,null,null,null,null,null,null,null,null,null,null,null,null,null,null,null,null,null,null,null,null,null,null,null,null,null,null,null,null,null,null,null,null,"00:00",189,0,"0000000","00","00","00"]
["SA01046","VP-Glasgow AC","1991-12-27","Elizabeth Potter","SA01046","Senior",".",190,"Sharon Crombie","F35","Rons Runners","y",190,".",{"$f":"VLOOKUP('entries and results'!N192,$H$3:$K$30018,2,FALSE)","v":" "},{"$f":"VLOOKUP('entries and results'!N192,$H$3:$K$30018,3,FALSE)","v":" "},{"$f":"VLOOKUP('entries and results'!N192,$H$3:$K$30018,4,FALSE)","v":" "},{"$f":"VLOOKUP('entries and results'!N192,$H$3:$L$30018,5,FALSE)","v":0}," ","00:00",null,null,null,null,null,null,null,null,null,null,null,null,null,null,null,null,null,null,null,null,null,null,null,null,null,null,null,null,null,null,null,null,null,null,null,null,null,null,null,null,null,null,null,"00:00",190,0,"0000000","00","00","00"]
["SA01047","VP-Glasgow AC","1993-08-10","Sarah Potter","SA01047","Senior",".",191,"Ashley Traynor","F","UA","y",191,".",{"$f":"VLOOKUP('entries and results'!N193,$H$3:$K$30018,2,FALSE)","v":" "},{"$f":"VLOOKUP('entries and results'!N193,$H$3:$K$30018,3,FALSE)","v":" "},{"$f":"VLOOKUP('entries and results'!N193,$H$3:$K$30018,4,FALSE)","v":" "},{"$f":"VLOOKUP('entries and results'!N193,$H$3:$L$30018,5,FALSE)","v":0}," ","00:00",null,null,null,null,null,null,null,null,null,null,null,null,null,null,null,null,null,null,null,null,null,null,null,null,null,null,null,null,null,null,null,null,null,null,null,null,null,null,null,null,null,null,null,"00:00",191,0,"0000000","00","00","00"]
["SA01048","Clydesdale Harriers","1992-12-18","Peter Bowman","SA01048","Senior",".",192,"Niki MacSephney","F35","Ipswich Jaffa",null,192,".",{"$f":"VLOOKUP('entries and results'!N194,$H$3:$K$30018,2,FALSE)","v":" "},{"$f":"VLOOKUP('entries and results'!N194,$H$3:$K$30018,3,FALSE)","v":" "},{"$f":"VLOOKUP('entries and results'!N194,$H$3:$K$30018,4,FALSE)","v":" "},{"$f":"VLOOKUP('entries and results'!N194,$H$3:$L$30018,5,FALSE)","v":0}," ","00:00",null,null,null,null,null,null,null,null,null,null,null,null,null,null,null,null,null,null,null,null,null,null,null,null,null,null,null,null,null,null,null,null,null,null,null,null,null,null,null,null,null,null,null,"00:00",192,0,"0000000","00","00","00"]
["SA01049","Dunbar Running Club","1996-01-19","Emma Paterson","SA01049","Under 15","sa27200",193,"Steven Stirrat","M","Irvine AC","y",193,".",{"$f":"VLOOKUP('entries and results'!N195,$H$3:$K$30018,2,FALSE)","v":" "},{"$f":"VLOOKUP('entries and results'!N195,$H$3:$K$30018,3,FALSE)","v":" "},{"$f":"VLOOKUP('entries and results'!N195,$H$3:$K$30018,4,FALSE)","v":" "},{"$f":"VLOOKUP('entries and results'!N195,$H$3:$L$30018,5,FALSE)","v":0}," ","00:00",null,null,null,null,null,null,null,null,null,null,null,null,null,null,null,null,null,null,null,null,null,null,null,null,null,null,null,null,null,null,null,null,null,null,null,null,null,null,null,null,null,null,null,"00:00",193,{"$f":"SUMIF($H$3:$H$601,$BM195,$S$3:$S$601)","v":0},"0000000","00","00","00"]
["SA01050","Dunbar Running Club","1994-12-20","Nicole Turner","SA01050","Under 17",".",194,"James McGill","M40","UA","y",194,".",{"$f":"VLOOKUP('entries and results'!N196,$H$3:$K$30018,2,FALSE)","v":" "},{"$f":"VLOOKUP('entries and results'!N196,$H$3:$K$30018,3,FALSE)","v":" "},{"$f":"VLOOKUP('entries and results'!N196,$H$3:$K$30018,4,FALSE)","v":" "},{"$f":"VLOOKUP('entries and results'!N196,$H$3:$L$30018,5,FALSE)","v":0}," ",{"$f":"IF($H196=\"\",\" \",(LOOKUP($H196,$BM$3:$BM$1601,$BL$3:$BL$1601)))","v":"00:00"},null,null,null,null,null,null,null,null,null,null,null,null,null,null,null,null,null,null,null,null,null,null,null,null,null,null,null,null,null,null,null,null,null,null,null,null,null,null,null,null,null,null,null,{"$f":"CONCATENATE(BQ196,\":\",BR196)","v":"00:00"},194,0,{"$f":"CONCATENATE($BI$2,$BN196)","v":"0000000"},{"$f":"MID(RIGHT($BO196,6),1,2)","v":"00"},{"$f":"MID(RIGHT($BO196,6),3,2)","v":"00"},{"$f":"MID(RIGHT($BO196,6),5,2)","v":"00"}]
["SA01051","Dunbar Running Club","1996-12-24","Rebecca Turner","SA01051","Under 15",".",195,"A.Stewart","M40","Rons Runners","y",195,".",{"$f":"VLOOKUP('entries and results'!N197,$H$3:$K$30018,2,FALSE)","v":" "},{"$f":"VLOOKUP('entries and results'!N197,$H$3:$K$30018,3,FALSE)","v":" "},{"$f":"VLOOKUP('entries and results'!N197,$H$3:$K$30018,4,FALSE)","v":" "},{"$f":"VLOOKUP('entries and results'!N197,$H$3:$L$30018,5,FALSE)","v":0}," ","00:00",null,null,null,null,null,null,null,null,null,null,null,null,null,null,null,null,null,null,null,null,null,null,null,null,null,null,null,null,null,null,null,null,null,null,null,null,null,null,null,null,null,null,null,"00:00",195,0,"0000000","00","00","00"]
["SA01055","Ellon AAC","1995-02-16","Louise Milne","SA01055","Under 17",".",196,"Alex Howieson","M","UA","y",196,".",{"$f":"VLOOKUP('entries and results'!N198,$H$3:$K$30018,2,FALSE)","v":" "},{"$f":"VLOOKUP('entries and results'!N198,$H$3:$K$30018,3,FALSE)","v":" "},{"$f":"VLOOKUP('entries and results'!N198,$H$3:$K$30018,4,FALSE)","v":" "},{"$f":"VLOOKUP('entries and results'!N198,$H$3:$L$30018,5,FALSE)","v":0}," ","00:00",null,null,null,null,null,null,null,null,null,null,null,null,null,null,null,null,null,null,null,null,null,null,null,null,null,null,null,null,null,null,null,null,null,null,null,null,null,null,null,null,null,null,null,"00:00",196,0,"0000000","00","00","00"]
["SA01058","Falkirk Victoria Harriers","1991-10-03","Gary Plain","SA01058","Senior",".",197,"Neill Russel","M40","UA","y",197,".",{"$f":"VLOOKUP('entries and results'!N199,$H$3:$K$30018,2,FALSE)","v":" "},{"$f":"VLOOKUP('entries and results'!N199,$H$3:$K$30018,3,FALSE)","v":" "},{"$f":"VLOOKUP('entries and results'!N199,$H$3:$K$30018,4,FALSE)","v":" "},{"$f":"VLOOKUP('entries and results'!N199,$H$3:$L$30018,5,FALSE)","v":0}," ","00:00",null,null,null,null,null,null,null,null,null,null,null,null,null,null,null,null,null,null,null,null,null,null,null,null,null,null,null,null,null,null,null,null,null,null,null,null,null,null,null,null,null,null,null,"00:00",197,0,"0000000","00","00","00"]
["SA01063","Larkhall YMCA Harriers","1994-03-12","Eilish McCreadie","SA01063","Under 17",".",198,"XXXXXXXX",{"$f":"VLOOKUP('entries and results'!G200,$A$3:$F$30018,6,FALSE)","v":" "},{"$f":"VLOOKUP('entries and results'!G200,$A$3:$E$30018,2,FALSE)","v":" "},null,198,".",{"$f":"VLOOKUP('entries and results'!N200,$H$3:$K$30018,2,FALSE)","v":" "},{"$f":"VLOOKUP('entries and results'!N200,$H$3:$K$30018,3,FALSE)","v":" "},{"$f":"VLOOKUP('entries and results'!N200,$H$3:$K$30018,4,FALSE)","v":" "},{"$f":"VLOOKUP('entries and results'!N200,$H$3:$L$30018,5,FALSE)","v":0}," ","00:00",null,null,null,null,null,null,null,null,null,null,null,null,null,null,null,null,null,null,null,null,null,null,null,null,null,null,null,null,null,null,null,null,null,null,null,null,null,null,null,null,null,null,null,"00:00",198,0,"0000000","00","00","00"]
["SA01072","Moray Road Runners","1996-04-13","Siobhan Robertson","SA01072","Under 15",".",199,"Adam Howieson","M","UA","y",199,".",{"$f":"VLOOKUP('entries and results'!N201,$H$3:$K$30018,2,FALSE)","v":" "},{"$f":"VLOOKUP('entries and results'!N201,$H$3:$K$30018,3,FALSE)","v":" "},{"$f":"VLOOKUP('entries and results'!N201,$H$3:$K$30018,4,FALSE)","v":" "},{"$f":"VLOOKUP('entries and results'!N201,$H$3:$L$30018,5,FALSE)","v":0}," ","00:00",null,null,null,null,null,null,null,null,null,null,null,null,null,null,null,null,null,null,null,null,null,null,null,null,null,null,null,null,null,null,null,null,null,null,null,null,null,null,null,null,null,null,null,"00:00",199,0,"0000000","00","00","00"]
["SA01073","Moray Road Runners","1993-12-12","Callum Shand","SA01073","Under 17","sa35128",200,"Stephen Speirs","M40","Kilbarchan AAC",null,200,".",{"$f":"VLOOKUP('entries and results'!N202,$H$3:$K$30018,2,FALSE)","v":" "},{"$f":"VLOOKUP('entries and results'!N202,$H$3:$K$30018,3,FALSE)","v":" "},{"$f":"VLOOKUP('entries and results'!N202,$H$3:$K$30018,4,FALSE)","v":" "},{"$f":"VLOOKUP('entries and results'!N202,$H$3:$L$30018,5,FALSE)","v":0}," ","00:00",null,null,null,null,null,null,null,null,null,null,null,null,null,null,null,null,null,null,null,null,null,null,null,null,null,null,null,null,null,null,null,null,null,null,null,null,null,null,null,null,null,null,null,"00:00",200,0,"0000000","00","00","00"]
["SA01074","Moray Road Runners","1996-05-30","Kirsty Shand","SA01074","Under 15",".",201,"Scott Gilmour","M20","UA",null,201,".",{"$f":"VLOOKUP('entries and results'!N203,$H$3:$K$30018,2,FALSE)","v":" "},{"$f":"VLOOKUP('entries and results'!N203,$H$3:$K$30018,3,FALSE)","v":" "},{"$f":"VLOOKUP('entries and results'!N203,$H$3:$K$30018,4,FALSE)","v":" "},{"$f":"VLOOKUP('entries and results'!N203,$H$3:$L$30018,5,FALSE)","v":0}," ","00:00",null,null,null,null,null,null,null,null,null,null,null,null,null,null,null,null,null,null,null,null,null,null,null,null,null,null,null,null,null,null,null,null,null,null,null,null,null,null,null,null,null,null,null,"00:00",201,0,"0000000","00","00","00"]
["SA01080","Perth Strathtay Harriers","1996-03-15","Amy Dawson","SA01080","Under 15",".",202,"Kenny Reid","M20","UA","y",202,".",{"$f":"VLOOKUP('entries and results'!N204,$H$3:$K$30018,2,FALSE)","v":" "},{"$f":"VLOOKUP('entries and results'!N204,$H$3:$K$30018,3,FALSE)","v":" "},{"$f":"VLOOKUP('entries and results'!N204,$H$3:$K$30018,4,FALSE)","v":" "},{"$f":"VLOOKUP('entries and results'!N204,$H$3:$L$30018,5,FALSE)","v":0}," ","00:00",null,null,null,null,null,null,null,null,null,null,null,null,null,null,null,null,null,null,null,null,null,null,null,null,null,null,null,null,null,null,null,null,null,null,null,null,null,null,null,null,null,null,null,"00:00",202,0,"0000000","00","00","00"]
["SA01081","Perth Strathtay Harriers","1996-03-15","Louise Dawson","SA01081","Under 15",".",203,{"$f":"VLOOKUP('entries and results'!G205,$A$3:$E$30018,4,FALSE)","v":" "},{"$f":"VLOOKUP('entries and results'!G205,$A$3:$F$30018,6,FALSE)","v":" "},{"$f":"VLOOKUP('entries and results'!G205,$A$3:$E$30018,2,FALSE)","v":" "},null,203,".",{"$f":"VLOOKUP('entries and results'!N205,$H$3:$K$30018,2,FALSE)","v":" "},{"$f":"VLOOKUP('entries and results'!N205,$H$3:$K$30018,3,FALSE)","v":" "},{"$f":"VLOOKUP('entries and results'!N205,$H$3:$K$30018,4,FALSE)","v":" "},{"$f":"VLOOKUP('entries and results'!N205,$H$3:$L$30018,5,FALSE)","v":0}," ","00:00",null,null,null,null,null,null,null,null,null,null,null,null,null,null,null,null,null,null,null,null,null,null,null,null,null,null,null,null,null,null,null,null,null,null,null,null,null,null,null,null,null,null,null,"00:00",203,0,"0000000","00","00","00"]
["SA01083","Perth Strathtay Harriers","1992-04-08","Susan Peddie","SA01083","Senior",".",204,{"$f":"VLOOKUP('entries and results'!G206,$A$3:$E$30018,4,FALSE)","v":" "},{"$f":"VLOOKUP('entries and results'!G206,$A$3:$F$30018,6,FALSE)","v":" "},{"$f":"VLOOKUP('entries and results'!G206,$A$3:$E$30018,2,FALSE)","v":" "},null,204,".",{"$f":"VLOOKUP('entries and results'!N206,$H$3:$K$30018,2,FALSE)","v":" "},{"$f":"VLOOKUP('entries and results'!N206,$H$3:$K$30018,3,FALSE)","v":" "},{"$f":"VLOOKUP('entries and results'!N206,$H$3:$K$30018,4,FALSE)","v":" "},{"$f":"VLOOKUP('entries and results'!N206,$H$3:$L$30018,5,FALSE)","v":0}," ","00:00",null,null,null,null,null,null,null,null,null,null,null,null,null,null,null,null,null,null,null,null,null,null,null,null,null,null,null,null,null,null,null,null,null,null,null,null,null,null,null,null,null,null,null,"00:00",204,0,"0000000","00","00","00"]
["SA01085","Pitreavie AAC","1993-10-26","Danny McAtear","SA01085","Under 17",".",205,{"$f":"VLOOKUP('entries and results'!G207,$A$3:$E$30018,4,FALSE)","v":" "},{"$f":"VLOOKUP('entries and results'!G207,$A$3:$F$30018,6,FALSE)","v":" "},{"$f":"VLOOKUP('entries and results'!G207,$A$3:$E$30018,2,FALSE)","v":" "},null,205,".",{"$f":"VLOOKUP('entries and results'!N207,$H$3:$K$30018,2,FALSE)","v":" "},{"$f":"VLOOKUP('entries and results'!N207,$H$3:$K$30018,3,FALSE)","v":" "},{"$f":"VLOOKUP('entries and results'!N207,$H$3:$K$30018,4,FALSE)","v":" "},{"$f":"VLOOKUP('entries and results'!N207,$H$3:$L$30018,5,FALSE)","v":0}," ","00:00",null,null,null,null,null,null,null,null,null,null,null,null,null,null,null,null,null,null,null,null,null,null,null,null,null,null,null,null,null,null,null,null,null,null,null,null,null,null,null,null,null,null,null,"00:00",205,0,"0000000","00","00","00"]
["SA01090","Unattached","1989-05-19","Danielle Osborne","SA01090","Senior",".",206,{"$f":"VLOOKUP('entries and results'!G208,$A$3:$E$30018,4,FALSE)","v":" "},{"$f":"VLOOKUP('entries and results'!G208,$A$3:$F$30018,6,FALSE)","v":" "},{"$f":"VLOOKUP('entries and results'!G208,$A$3:$E$30018,2,FALSE)","v":" "},null,206,".",{"$f":"VLOOKUP('entries and results'!N208,$H$3:$K$30018,2,FALSE)","v":" "},{"$f":"VLOOKUP('entries and results'!N208,$H$3:$K$30018,3,FALSE)","v":" "},{"$f":"VLOOKUP('entries and results'!N208,$H$3:$K$30018,4,FALSE)","v":" "},{"$f":"VLOOKUP('entries and results'!N208,$H$3:$L$30018,5,FALSE)","v":0}," ","00:00",null,null,null,null,null,null,null,null,null,null,null,null,null,null,null,null,null,null,null,null,null,null,null,null,null,null,null,null,null,null,null,null,null,null,null,null,null,null,null,null,null,null,null,"00:00",206,0,"0000000","00","00","00"]
["SA01094","VP-Glasgow AC","1993-02-20","Lara Davidson","SA01094","Senior",".",207,{"$f":"VLOOKUP('entries and results'!G209,$A$3:$E$30018,4,FALSE)","v":" "},{"$f":"VLOOKUP('entries and results'!G209,$A$3:$F$30018,6,FALSE)","v":" "},{"$f":"VLOOKUP('entries and results'!G209,$A$3:$E$30018,2,FALSE)","v":" "},null,207,".",{"$f":"VLOOKUP('entries and results'!N209,$H$3:$K$30018,2,FALSE)","v":" "},{"$f":"VLOOKUP('entries and results'!N209,$H$3:$K$30018,3,FALSE)","v":" "},{"$f":"VLOOKUP('entries and results'!N209,$H$3:$K$30018,4,FALSE)","v":" "},{"$f":"VLOOKUP('entries and results'!N209,$H$3:$L$30018,5,FALSE)","v":0}," ","00:00",null,null,null,null,null,null,null,null,null,null,null,null,null,null,null,null,null,null,null,null,null,null,null,null,null,null,null,null,null,null,null,null,null,null,null,null,null,null,null,null,null,null,null,"00:00",207,0,"0000000","00","00","00"]
["SA01097","Aberdeen AAC","1991-04-10","Gabrielle Wilson","SA01097","Senior",".",208,{"$f":"VLOOKUP('entries and results'!G210,$A$3:$E$30018,4,FALSE)","v":" "},{"$f":"VLOOKUP('entries and results'!G210,$A$3:$F$30018,6,FALSE)","v":" "},{"$f":"VLOOKUP('entries and results'!G210,$A$3:$E$30018,2,FALSE)","v":" "},null,208,".",{"$f":"VLOOKUP('entries and results'!N210,$H$3:$K$30018,2,FALSE)","v":" "},{"$f":"VLOOKUP('entries and results'!N210,$H$3:$K$30018,3,FALSE)","v":" "},{"$f":"VLOOKUP('entries and results'!N210,$H$3:$K$30018,4,FALSE)","v":" "},{"$f":"VLOOKUP('entries and results'!N210,$H$3:$L$30018,5,FALSE)","v":0}," ","00:00",null,null,null,null,null,null,null,null,null,null,null,null,null,null,null,null,null,null,null,null,null,null,null,null,null,null,null,null,null,null,null,null,null,null,null,null,null,null,null,null,null,null,null,"00:00",208,0,"0000000","00","00","00"]
["SA01098","Airdrie Harriers","1991-08-09","Adam Skinner","SA01098","Senior",".",209,{"$f":"VLOOKUP('entries and results'!G211,$A$3:$E$30018,4,FALSE)","v":" "},{"$f":"VLOOKUP('entries and results'!G211,$A$3:$F$30018,6,FALSE)","v":" "},{"$f":"VLOOKUP('entries and results'!G211,$A$3:$E$30018,2,FALSE)","v":" "},null,209,".",{"$f":"VLOOKUP('entries and results'!N211,$H$3:$K$30018,2,FALSE)","v":" "},{"$f":"VLOOKUP('entries and results'!N211,$H$3:$K$30018,3,FALSE)","v":" "},{"$f":"VLOOKUP('entries and results'!N211,$H$3:$K$30018,4,FALSE)","v":" "},{"$f":"VLOOKUP('entries and results'!N211,$H$3:$L$30018,5,FALSE)","v":0}," ","00:00",null,null,null,null,null,null,null,null,null,null,null,null,null,null,null,null,null,null,null,null,null,null,null,null,null,null,null,null,null,null,null,null,null,null,null,null,null,null,null,null,null,null,null,"00:00",209,0,"0000000","00","00","00"]
["SA01101","Ayr Seaforth AAC","1990-09-24","Paula Dalgleish","SA01101","Senior",".",210,{"$f":"VLOOKUP('entries and results'!G212,$A$3:$E$30018,4,FALSE)","v":" "},{"$f":"VLOOKUP('entries and results'!G212,$A$3:$F$30018,6,FALSE)","v":" "},{"$f":"VLOOKUP('entries and results'!G212,$A$3:$E$30018,2,FALSE)","v":" "},null,210,".",{"$f":"VLOOKUP('entries and results'!N212,$H$3:$K$30018,2,FALSE)","v":" "},{"$f":"VLOOKUP('entries and results'!N212,$H$3:$K$30018,3,FALSE)","v":" "},{"$f":"VLOOKUP('entries and results'!N212,$H$3:$K$30018,4,FALSE)","v":" "},{"$f":"VLOOKUP('entries and results'!N212,$H$3:$L$30018,5,FALSE)","v":0}," ","00:00",null,null,null,null,null,null,null,null,null,null,null,null,null,null,null,null,null,null,null,null,null,null,null,null,null,null,null,null,null,null,null,null,null,null,null,null,null,null,null,null,null,null,null,"00:00",210,0,"0000000","00","00","00"]
["SA01105","Edinburgh AC","1993-12-17","Matthew Arnold","SA01105","Under 17",".",211,{"$f":"VLOOKUP('entries and results'!G213,$A$3:$E$30018,4,FALSE)","v":" "},{"$f":"VLOOKUP('entries and results'!G213,$A$3:$F$30018,6,FALSE)","v":" "},{"$f":"VLOOKUP('entries and results'!G213,$A$3:$E$30018,2,FALSE)","v":" "},null,211,".",{"$f":"VLOOKUP('entries and results'!N213,$H$3:$K$30018,2,FALSE)","v":" "},{"$f":"VLOOKUP('entries and results'!N213,$H$3:$K$30018,3,FALSE)","v":" "},{"$f":"VLOOKUP('entries and results'!N213,$H$3:$K$30018,4,FALSE)","v":" "},{"$f":"VLOOKUP('entries and results'!N213,$H$3:$L$30018,5,FALSE)","v":0}," ","00:00",null,null,null,null,null,null,null,null,null,null,null,null,null,null,null,null,null,null,null,null,null,null,null,null,null,null,null,null,null,null,null,null,null,null,null,null,null,null,null,null,null,null,null,"00:00",211,0,"0000000","00","00","00"]
["SA01108","Edinburgh AC","1988-01-02","Nicola Falconer","SA01108","Senior",".",212,{"$f":"VLOOKUP('entries and results'!G214,$A$3:$E$30018,4,FALSE)","v":" "},{"$f":"VLOOKUP('entries and results'!G214,$A$3:$F$30018,6,FALSE)","v":" "},{"$f":"VLOOKUP('entries and results'!G214,$A$3:$E$30018,2,FALSE)","v":" "},null,212,".",{"$f":"VLOOKUP('entries and results'!N214,$H$3:$K$30018,2,FALSE)","v":" "},{"$f":"VLOOKUP('entries and results'!N214,$H$3:$K$30018,3,FALSE)","v":" "},{"$f":"VLOOKUP('entries and results'!N214,$H$3:$K$30018,4,FALSE)","v":" "},{"$f":"VLOOKUP('entries and results'!N214,$H$3:$L$30018,5,FALSE)","v":0}," ","00:00",null,null,null,null,null,null,null,null,null,null,null,null,null,null,null,null,null,null,null,null,null,null,null,null,null,null,null,null,null,null,null,null,null,null,null,null,null,null,null,null,null,null,null,"00:00",212,0,"0000000","00","00","00"]
["SA01109","VP-Glasgow AC","1991-07-12","Hannah Campbell","SA01109","Senior",".",213,{"$f":"VLOOKUP('entries and results'!G215,$A$3:$E$30018,4,FALSE)","v":" "},{"$f":"VLOOKUP('entries and results'!G215,$A$3:$F$30018,6,FALSE)","v":" "},{"$f":"VLOOKUP('entries and results'!G215,$A$3:$E$30018,2,FALSE)","v":" "},null,213,".",{"$f":"VLOOKUP('entries and results'!N215,$H$3:$K$30018,2,FALSE)","v":" "},{"$f":"VLOOKUP('entries and results'!N215,$H$3:$K$30018,3,FALSE)","v":" "},{"$f":"VLOOKUP('entries and results'!N215,$H$3:$K$30018,4,FALSE)","v":" "},{"$f":"VLOOKUP('entries and results'!N215,$H$3:$L$30018,5,FALSE)","v":0}," ","00:00",null,null,null,null,null,null,null,null,null,null,null,null,null,null,null,null,null,null,null,null,null,null,null,null,null,null,null,null,null,null,null,null,null,null,null,null,null,null,null,null,null,null,null,"00:00",213,0,"0000000","00","00","00"]
["SA01111","Clydesdale Harriers","1989-10-12","Ryan Savage","SA01111","Senior",".",214,{"$f":"VLOOKUP('entries and results'!G216,$A$3:$E$30018,4,FALSE)","v":" "},{"$f":"VLOOKUP('entries and results'!G216,$A$3:$F$30018,6,FALSE)","v":" "},{"$f":"VLOOKUP('entries and results'!G216,$A$3:$E$30018,2,FALSE)","v":" "},null,214,".",{"$f":"VLOOKUP('entries and results'!N216,$H$3:$K$30018,2,FALSE)","v":" "},{"$f":"VLOOKUP('entries and results'!N216,$H$3:$K$30018,3,FALSE)","v":" "},{"$f":"VLOOKUP('entries and results'!N216,$H$3:$K$30018,4,FALSE)","v":" "},{"$f":"VLOOKUP('entries and results'!N216,$H$3:$L$30018,5,FALSE)","v":0}," ","00:00",null,null,null,null,null,null,null,null,null,null,null,null,null,null,null,null,null,null,null,null,null,null,null,null,null,null,null,null,null,null,null,null,null,null,null,null,null,null,null,null,null,null,null,"00:00",214,0,"0000000","00","00","00"]
["SA01113","Corstorphine AAC","1993-12-05","Dugald Hepburn","SA01113","Under 17",".",215,{"$f":"VLOOKUP('entries and results'!G217,$A$3:$E$30018,4,FALSE)","v":" "},{"$f":"VLOOKUP('entries and results'!G217,$A$3:$F$30018,6,FALSE)","v":" "},{"$f":"VLOOKUP('entries and results'!G217,$A$3:$E$30018,2,FALSE)","v":" "},null,215,".",{"$f":"VLOOKUP('entries and results'!N217,$H$3:$K$30018,2,FALSE)","v":" "},{"$f":"VLOOKUP('entries and results'!N217,$H$3:$K$30018,3,FALSE)","v":" "},{"$f":"VLOOKUP('entries and results'!N217,$H$3:$K$30018,4,FALSE)","v":" "},{"$f":"VLOOKUP('entries and results'!N217,$H$3:$L$30018,5,FALSE)","v":0}," ","00:00",null,null,null,null,null,null,null,null,null,null,null,null,null,null,null,null,null,null,null,null,null,null,null,null,null,null,null,null,null,null,null,null,null,null,null,null,null,null,null,null,null,null,null,"00:00",215,0,"0000000","00","00","00"]
["SA01116","Unattached","1989-12-11","Nicola Campbell","SA01116","Senior",".",216,{"$f":"VLOOKUP('entries and results'!G218,$A$3:$E$30018,4,FALSE)","v":" "},{"$f":"VLOOKUP('entries and results'!G218,$A$3:$F$30018,6,FALSE)","v":" "},{"$f":"VLOOKUP('entries and results'!G218,$A$3:$E$30018,2,FALSE)","v":" "},null,216,".",{"$f":"VLOOKUP('entries and results'!N218,$H$3:$K$30018,2,FALSE)","v":" "},{"$f":"VLOOKUP('entries and results'!N218,$H$3:$K$30018,3,FALSE)","v":" "},{"$f":"VLOOKUP('entries and results'!N218,$H$3:$K$30018,4,FALSE)","v":" "},{"$f":"VLOOKUP('entries and results'!N218,$H$3:$L$30018,5,FALSE)","v":0}," ","00:00",null,null,null,null,null,null,null,null,null,null,null,null,null,null,null,null,null,null,null,null,null,null,null,null,null,null,null,null,null,null,null,null,null,null,null,null,null,null,null,null,null,null,null,"00:00",216,0,"0000000","00","00","00"]
["SA01117","East Kilbride A.C.","1992-03-17","Gregor Thorpe","SA01117","Senior",".",217,{"$f":"VLOOKUP('entries and results'!G219,$A$3:$E$30018,4,FALSE)","v":" "},{"$f":"VLOOKUP('entries and results'!G219,$A$3:$F$30018,6,FALSE)","v":" "},{"$f":"VLOOKUP('entries and results'!G219,$A$3:$E$30018,2,FALSE)","v":" "},null,217,".",{"$f":"VLOOKUP('entries and results'!N219,$H$3:$K$30018,2,FALSE)","v":" "},{"$f":"VLOOKUP('entries and results'!N219,$H$3:$K$30018,3,FALSE)","v":" "},{"$f":"VLOOKUP('entries and results'!N219,$H$3:$K$30018,4,FALSE)","v":" "},{"$f":"VLOOKUP('entries and results'!N219,$H$3:$L$30018,5,FALSE)","v":0}," ","00:00",null,null,null,null,null,null,null,null,null,null,null,null,null,null,null,null,null,null,null,null,null,null,null,null,null,null,null,null,null,null,null,null,null,null,null,null,null,null,null,null,null,null,null,"00:00",217,0,"0000000","00","00","00"]
["SA01118","East Kilbride A.C.","1990-02-08","Niall Walker","SA01118","Senior",".",218,{"$f":"VLOOKUP('entries and results'!G220,$A$3:$E$30018,4,FALSE)","v":" "},{"$f":"VLOOKUP('entries and results'!G220,$A$3:$F$30018,6,FALSE)","v":" "},{"$f":"VLOOKUP('entries and results'!G220,$A$3:$E$30018,2,FALSE)","v":" "},null,218,".",{"$f":"VLOOKUP('entries and results'!N220,$H$3:$K$30018,2,FALSE)","v":" "},{"$f":"VLOOKUP('entries and results'!N220,$H$3:$K$30018,3,FALSE)","v":" "},{"$f":"VLOOKUP('entries and results'!N220,$H$3:$K$30018,4,FALSE)","v":" "},{"$f":"VLOOKUP('entries and results'!N220,$H$3:$L$30018,5,FALSE)","v":0}," ","00:00",null,null,null,null,null,null,null,null,null,null,null,null,null,null,null,null,null,null,null,null,null,null,null,null,null,null,null,null,null,null,null,null,null,null,null,null,null,null,null,null,null,null,null,"00:00",218,0,"0000000","00","00","00"]
["SA01126","Falkirk Victoria Harriers","1989-12-16","Kirsty Hunter","SA01126","Senior",".",219,{"$f":"VLOOKUP('entries and results'!G221,$A$3:$E$30018,4,FALSE)","v":" "},{"$f":"VLOOKUP('entries and results'!G221,$A$3:$F$30018,6,FALSE)","v":" "},{"$f":"VLOOKUP('entries and results'!G221,$A$3:$E$30018,2,FALSE)","v":" "},null,219,".",{"$f":"VLOOKUP('entries and results'!N221,$H$3:$K$30018,2,FALSE)","v":" "},{"$f":"VLOOKUP('entries and results'!N221,$H$3:$K$30018,3,FALSE)","v":" "},{"$f":"VLOOKUP('entries and results'!N221,$H$3:$K$30018,4,FALSE)","v":" "},{"$f":"VLOOKUP('entries and results'!N221,$H$3:$L$30018,5,FALSE)","v":0}," ","00:00",null,null,null,null,null,null,null,null,null,null,null,null,null,null,null,null,null,null,null,null,null,null,null,null,null,null,null,null,null,null,null,null,null,null,null,null,null,null,null,null,null,null,null,"00:00",219,0,"0000000","00","00","00"]
["SA01127","Falkirk Victoria Harriers","1989-12-16","Lynne Hunter","SA01127","Senior",".",220,{"$f":"VLOOKUP('entries and results'!G222,$A$3:$E$30018,4,FALSE)","v":" "},{"$f":"VLOOKUP('entries and results'!G222,$A$3:$F$30018,6,FALSE)","v":" "},{"$f":"VLOOKUP('entries and results'!G222,$A$3:$E$30018,2,FALSE)","v":" "},null,220,".",{"$f":"VLOOKUP('entries and results'!N222,$H$3:$K$30018,2,FALSE)","v":" "},{"$f":"VLOOKUP('entries and results'!N222,$H$3:$K$30018,3,FALSE)","v":" "},{"$f":"VLOOKUP('entries and results'!N222,$H$3:$K$30018,4,FALSE)","v":" "},{"$f":"VLOOKUP('entries and results'!N222,$H$3:$L$30018,5,FALSE)","v":0}," ","00:00",null,null,null,null,null,null,null,null,null,null,null,null,null,null,null,null,null,null,null,null,null,null,null,null,null,null,null,null,null,null,null,null,null,null,null,null,null,null,null,null,null,null,null,"00:00",220,0,"0000000","00","00","00"]
["SA01129","Falkirk Victoria Harriers","1992-01-21","Myra Perkins","SA01129","Senior",".",221,{"$f":"VLOOKUP('entries and results'!G223,$A$3:$E$30018,4,FALSE)","v":" "},{"$f":"VLOOKUP('entries and results'!G223,$A$3:$F$30018,6,FALSE)","v":" "},{"$f":"VLOOKUP('entries and results'!G223,$A$3:$E$30018,2,FALSE)","v":" "},null,221,".",{"$f":"VLOOKUP('entries and results'!N223,$H$3:$K$30018,2,FALSE)","v":" "},{"$f":"VLOOKUP('entries and results'!N223,$H$3:$K$30018,3,FALSE)","v":" "},{"$f":"VLOOKUP('entries and results'!N223,$H$3:$K$30018,4,FALSE)","v":" "},{"$f":"VLOOKUP('entries and results'!N223,$H$3:$L$30018,5,FALSE)","v":0}," ","00:00",null,null,null,null,null,null,null,null,null,null,null,null,null,null,null,null,null,null,null,null,null,null,null,null,null,null,null,null,null,null,null,null,null,null,null,null,null,null,null,null,null,null,null,"00:00",221,0,"0000000","00","00","00"]
["SA01130","Giffnock North AAC","1992-03-06","Catriona Lockie","SA01130","Senior",".",222,{"$f":"VLOOKUP('entries and results'!G224,$A$3:$E$30018,4,FALSE)","v":" "},{"$f":"VLOOKUP('entries and results'!G224,$A$3:$F$30018,6,FALSE)","v":" "},{"$f":"VLOOKUP('entries and results'!G224,$A$3:$E$30018,2,FALSE)","v":" "},null,222,".",{"$f":"VLOOKUP('entries and results'!N224,$H$3:$K$30018,2,FALSE)","v":" "},{"$f":"VLOOKUP('entries and results'!N224,$H$3:$K$30018,3,FALSE)","v":" "},{"$f":"VLOOKUP('entries and results'!N224,$H$3:$K$30018,4,FALSE)","v":" "},{"$f":"VLOOKUP('entries and results'!N224,$H$3:$L$30018,5,FALSE)","v":0}," ","00:00",null,null,null,null,null,null,null,null,null,null,null,null,null,null,null,null,null,null,null,null,null,null,null,null,null,null,null,null,null,null,null,null,null,null,null,null,null,null,null,null,null,null,null,"00:00",222,0,"0000000","00","00","00"]
["SA01134","Shettleston Harriers","1992-02-15","Calum Nicholl","SA01134","Senior",".",223,{"$f":"VLOOKUP('entries and results'!G225,$A$3:$E$30018,4,FALSE)","v":" "},{"$f":"VLOOKUP('entries and results'!G225,$A$3:$F$30018,6,FALSE)","v":" "},{"$f":"VLOOKUP('entries and results'!G225,$A$3:$E$30018,2,FALSE)","v":" "},null,223,".",{"$f":"VLOOKUP('entries and results'!N225,$H$3:$K$30018,2,FALSE)","v":" "},{"$f":"VLOOKUP('entries and results'!N225,$H$3:$K$30018,3,FALSE)","v":" "},{"$f":"VLOOKUP('entries and results'!N225,$H$3:$K$30018,4,FALSE)","v":" "},{"$f":"VLOOKUP('entries and results'!N225,$H$3:$L$30018,5,FALSE)","v":0}," ","00:00",null,null,null,null,null,null,null,null,null,null,null,null,null,null,null,null,null,null,null,null,null,null,null,null,null,null,null,null,null,null,null,null,null,null,null,null,null,null,null,null,null,null,null,"00:00",223,0,"0000000","00","00","00"]
["SA01135","Greenock Glenpark Harriers","1992-09-06","Emily Pollock","SA01135","Senior",".",224,{"$f":"VLOOKUP('entries and results'!G226,$A$3:$E$30018,4,FALSE)","v":" "},{"$f":"VLOOKUP('entries and results'!G226,$A$3:$F$30018,6,FALSE)","v":" "},{"$f":"VLOOKUP('entries and results'!G226,$A$3:$E$30018,2,FALSE)","v":" "},null,224,".",{"$f":"VLOOKUP('entries and results'!N226,$H$3:$K$30018,2,FALSE)","v":" "},{"$f":"VLOOKUP('entries and results'!N226,$H$3:$K$30018,3,FALSE)","v":" "},{"$f":"VLOOKUP('entries and results'!N226,$H$3:$K$30018,4,FALSE)","v":" "},{"$f":"VLOOKUP('entries and results'!N226,$H$3:$L$30018,5,FALSE)","v":0}," ","00:00",null,null,null,null,null,null,null,null,null,null,null,null,null,null,null,null,null,null,null,null,null,null,null,null,null,null,null,null,null,null,null,null,null,null,null,null,null,null,null,null,null,null,null,"00:00",224,0,"0000000","00","00","00"]
["SA01136","Greenock Glenpark Harriers","1990-11-20","Katie Pollock","SA01136","Senior",".",225,{"$f":"VLOOKUP('entries and results'!G227,$A$3:$E$30018,4,FALSE)","v":" "},{"$f":"VLOOKUP('entries and results'!G227,$A$3:$F$30018,6,FALSE)","v":" "},{"$f":"VLOOKUP('entries and results'!G227,$A$3:$E$30018,2,FALSE)","v":" "},null,225,".",{"$f":"VLOOKUP('entries and results'!N227,$H$3:$K$30018,2,FALSE)","v":" "},{"$f":"VLOOKUP('entries and results'!N227,$H$3:$K$30018,3,FALSE)","v":" "},{"$f":"VLOOKUP('entries and results'!N227,$H$3:$K$30018,4,FALSE)","v":" "},{"$f":"VLOOKUP('entries and results'!N227,$H$3:$L$30018,5,FALSE)","v":0}," ","00:00",null,null,null,null,null,null,null,null,null,null,null,null,null,null,null,null,null,null,null,null,null,null,null,null,null,null,null,null,null,null,null,null,null,null,null,null,null,null,null,null,null,null,null,"00:00",225,0,"0000000","00","00","00"]
["SA01139","North Ayrshire AC","1993-11-06","Paige Douglas","SA01139","Under 17",".",226,{"$f":"VLOOKUP('entries and results'!G228,$A$3:$E$30018,4,FALSE)","v":" "},{"$f":"VLOOKUP('entries and results'!G228,$A$3:$F$30018,6,FALSE)","v":" "},{"$f":"VLOOKUP('entries and results'!G228,$A$3:$E$30018,2,FALSE)","v":" "},null,226,".",{"$f":"VLOOKUP('entries and results'!N228,$H$3:$K$30018,2,FALSE)","v":" "},{"$f":"VLOOKUP('entries and results'!N228,$H$3:$K$30018,3,FALSE)","v":" "},{"$f":"VLOOKUP('entries and results'!N228,$H$3:$K$30018,4,FALSE)","v":" "},{"$f":"VLOOKUP('entries and results'!N228,$H$3:$L$30018,5,FALSE)","v":0}," ","00:00",null,null,null,null,null,null,null,null,null,null,null,null,null,null,null,null,null,null,null,null,null,null,null,null,null,null,null,null,null,null,null,null,null,null,null,null,null,null,null,null,null,null,null,"00:00",226,0,"0000000","00","00","00"]
["SA01140","Newham & Essex AC","1989-12-28","Jamie Stevenson","SA01140","Senior",".",227,{"$f":"VLOOKUP('entries and results'!G229,$A$3:$E$30018,4,FALSE)","v":" "},{"$f":"VLOOKUP('entries and results'!G229,$A$3:$F$30018,6,FALSE)","v":" "},{"$f":"VLOOKUP('entries and results'!G229,$A$3:$E$30018,2,FALSE)","v":" "},null,227,".",{"$f":"VLOOKUP('entries and results'!N229,$H$3:$K$30018,2,FALSE)","v":" "},{"$f":"VLOOKUP('entries and results'!N229,$H$3:$K$30018,3,FALSE)","v":" "},{"$f":"VLOOKUP('entries and results'!N229,$H$3:$K$30018,4,FALSE)","v":" "},{"$f":"VLOOKUP('entries and results'!N229,$H$3:$L$30018,5,FALSE)","v":0}," ","00:00",null,null,null,null,null,null,null,null,null,null,null,null,null,null,null,null,null,null,null,null,null,null,null,null,null,null,null,null,null,null,null,null,null,null,null,null,null,null,null,null,null,null,null,"00:00",227,0,"0000000","00","00","00"]
["SA01142","Kilbarchan AAC","1992-06-22","Callum Hawkins","SA01142","Senior",".",228,{"$f":"VLOOKUP('entries and results'!G230,$A$3:$E$30018,4,FALSE)","v":" "},{"$f":"VLOOKUP('entries and results'!G230,$A$3:$F$30018,6,FALSE)","v":" "},{"$f":"VLOOKUP('entries and results'!G230,$A$3:$E$30018,2,FALSE)","v":" "},null,228,".",{"$f":"VLOOKUP('entries and results'!N230,$H$3:$K$30018,2,FALSE)","v":" "},{"$f":"VLOOKUP('entries and results'!N230,$H$3:$K$30018,3,FALSE)","v":" "},{"$f":"VLOOKUP('entries and results'!N230,$H$3:$K$30018,4,FALSE)","v":" "},{"$f":"VLOOKUP('entries and results'!N230,$H$3:$L$30018,5,FALSE)","v":0}," ","00:00",null,null,null,null,null,null,null,null,null,null,null,null,null,null,null,null,null,null,null,null,null,null,null,null,null,null,null,null,null,null,null,null,null,null,null,null,null,null,null,null,null,null,null,"00:00",228,0,"0000000","00","00","00"]
["SA01146","Law & District AAC","1991-10-07","Ross MacDonald","SA01146","Senior",".",229,{"$f":"VLOOKUP('entries and results'!G231,$A$3:$E$30018,4,FALSE)","v":" "},{"$f":"VLOOKUP('entries and results'!G231,$A$3:$F$30018,6,FALSE)","v":" "},{"$f":"VLOOKUP('entries and results'!G231,$A$3:$E$30018,2,FALSE)","v":" "},null,229,".",{"$f":"VLOOKUP('entries and results'!N231,$H$3:$K$30018,2,FALSE)","v":" "},{"$f":"VLOOKUP('entries and results'!N231,$H$3:$K$30018,3,FALSE)","v":" "},{"$f":"VLOOKUP('entries and results'!N231,$H$3:$K$30018,4,FALSE)","v":" "},{"$f":"VLOOKUP('entries and results'!N231,$H$3:$L$30018,5,FALSE)","v":0}," ","00:00",null,null,null,null,null,null,null,null,null,null,null,null,null,null,null,null,null,null,null,null,null,null,null,null,null,null,null,null,null,null,null,null,null,null,null,null,null,null,null,null,null,null,null,"00:00",229,0,"0000000","00","00","00"]
["SA01151","Edinburgh AC","1991-10-31","Josh Crawford","SA01151","Senior",".",230,{"$f":"VLOOKUP('entries and results'!G232,$A$3:$E$30018,4,FALSE)","v":" "},{"$f":"VLOOKUP('entries and results'!G232,$A$3:$F$30018,6,FALSE)","v":" "},{"$f":"VLOOKUP('entries and results'!G232,$A$3:$E$30018,2,FALSE)","v":" "},null,230,".",{"$f":"VLOOKUP('entries and results'!N232,$H$3:$K$30018,2,FALSE)","v":" "},{"$f":"VLOOKUP('entries and results'!N232,$H$3:$K$30018,3,FALSE)","v":" "},{"$f":"VLOOKUP('entries and results'!N232,$H$3:$K$30018,4,FALSE)","v":" "},{"$f":"VLOOKUP('entries and results'!N232,$H$3:$L$30018,5,FALSE)","v":0}," ","00:00",null,null,null,null,null,null,null,null,null,null,null,null,null,null,null,null,null,null,null,null,null,null,null,null,null,null,null,null,null,null,null,null,null,null,null,null,null,null,null,null,null,null,null,"00:00",230,0,"0000000","00","00","00"]
["SA01156","Edinburgh AC","1993-04-27","Ross McManus","SA01156","Senior",".",231,{"$f":"VLOOKUP('entries and results'!G233,$A$3:$E$30018,4,FALSE)","v":" "},{"$f":"VLOOKUP('entries and results'!G233,$A$3:$F$30018,6,FALSE)","v":" "},{"$f":"VLOOKUP('entries and results'!G233,$A$3:$E$30018,2,FALSE)","v":" "},null,231,".",{"$f":"VLOOKUP('entries and results'!N233,$H$3:$K$30018,2,FALSE)","v":" "},{"$f":"VLOOKUP('entries and results'!N233,$H$3:$K$30018,3,FALSE)","v":" "},{"$f":"VLOOKUP('entries and results'!N233,$H$3:$K$30018,4,FALSE)","v":" "},{"$f":"VLOOKUP('entries and results'!N233,$H$3:$L$30018,5,FALSE)","v":0}," ","00:00",null,null,null,null,null,null,null,null,null,null,null,null,null,null,null,null,null,null,null,null,null,null,null,null,null,null,null,null,null,null,null,null,null,null,null,null,null,null,null,null,null,null,null,"00:00",231,0,"0000000","00","00","00"]
["SA01160","Shettleston Harriers","1990-06-19","Callum Sharp","SA01160","Senior",".",232,{"$f":"VLOOKUP('entries and results'!G234,$A$3:$E$30018,4,FALSE)","v":" "},{"$f":"VLOOKUP('entries and results'!G234,$A$3:$F$30018,6,FALSE)","v":" "},{"$f":"VLOOKUP('entries and results'!G234,$A$3:$E$30018,2,FALSE)","v":" "},null,232,".",{"$f":"VLOOKUP('entries and results'!N234,$H$3:$K$30018,2,FALSE)","v":" "},{"$f":"VLOOKUP('entries and results'!N234,$H$3:$K$30018,3,FALSE)","v":" "},{"$f":"VLOOKUP('entries and results'!N234,$H$3:$K$30018,4,FALSE)","v":" "},{"$f":"VLOOKUP('entries and results'!N234,$H$3:$L$30018,5,FALSE)","v":0}," ","00:00",null,null,null,null,null,null,null,null,null,null,null,null,null,null,null,null,null,null,null,null,null,null,null,null,null,null,null,null,null,null,null,null,null,null,null,null,null,null,null,null,null,null,null,"00:00",232,0,"0000000","00","00","00"]
["SA01162","Garscube Harriers","1994-02-23","Gavyn Chalmers","SA01162","Under 17",".",233,{"$f":"VLOOKUP('entries and results'!G235,$A$3:$E$30018,4,FALSE)","v":" "},{"$f":"VLOOKUP('entries and results'!G235,$A$3:$F$30018,6,FALSE)","v":" "},{"$f":"VLOOKUP('entries and results'!G235,$A$3:$E$30018,2,FALSE)","v":" "},null,233,".",{"$f":"VLOOKUP('entries and results'!N235,$H$3:$K$30018,2,FALSE)","v":" "},{"$f":"VLOOKUP('entries and results'!N235,$H$3:$K$30018,3,FALSE)","v":" "},{"$f":"VLOOKUP('entries and results'!N235,$H$3:$K$30018,4,FALSE)","v":" "},{"$f":"VLOOKUP('entries and results'!N235,$H$3:$L$30018,5,FALSE)","v":0}," ","00:00",null,null,null,null,null,null,null,null,null,null,null,null,null,null,null,null,null,null,null,null,null,null,null,null,null,null,null,null,null,null,null,null,null,null,null,null,null,null,null,null,null,null,null,"00:00",233,0,"0000000","00","00","00"]
["SA01169","VP-Glasgow AC","1990-04-01","Jamie Sinclair","SA01169","Senior",".",234,{"$f":"VLOOKUP('entries and results'!G236,$A$3:$E$30018,4,FALSE)","v":" "},{"$f":"VLOOKUP('entries and results'!G236,$A$3:$F$30018,6,FALSE)","v":" "},{"$f":"VLOOKUP('entries and results'!G236,$A$3:$E$30018,2,FALSE)","v":" "},null,234,".",{"$f":"VLOOKUP('entries and results'!N236,$H$3:$K$30018,2,FALSE)","v":" "},{"$f":"VLOOKUP('entries and results'!N236,$H$3:$K$30018,3,FALSE)","v":" "},{"$f":"VLOOKUP('entries and results'!N236,$H$3:$K$30018,4,FALSE)","v":" "},{"$f":"VLOOKUP('entries and results'!N236,$H$3:$L$30018,5,FALSE)","v":0}," ","00:00",null,null,null,null,null,null,null,null,null,null,null,null,null,null,null,null,null,null,null,null,null,null,null,null,null,null,null,null,null,null,null,null,null,null,null,null,null,null,null,null,null,null,null,"00:00",234,0,"0000000","00","00","00"]
["SA01173","Kilbarchan AAC","1994-01-23","Ross McGill","SA01173","Under 17",".",235,{"$f":"VLOOKUP('entries and results'!G237,$A$3:$E$30018,4,FALSE)","v":" "},{"$f":"VLOOKUP('entries and results'!G237,$A$3:$F$30018,6,FALSE)","v":" "},{"$f":"VLOOKUP('entries and results'!G237,$A$3:$E$30018,2,FALSE)","v":" "},null,235,".",{"$f":"VLOOKUP('entries and results'!N237,$H$3:$K$30018,2,FALSE)","v":" "},{"$f":"VLOOKUP('entries and results'!N237,$H$3:$K$30018,3,FALSE)","v":" "},{"$f":"VLOOKUP('entries and results'!N237,$H$3:$K$30018,4,FALSE)","v":" "},{"$f":"VLOOKUP('entries and results'!N237,$H$3:$L$30018,5,FALSE)","v":0}," ","00:00",null,null,null,null,null,null,null,null,null,null,null,null,null,null,null,null,null,null,null,null,null,null,null,null,null,null,null,null,null,null,null,null,null,null,null,null,null,null,null,null,null,null,null,"00:00",235,0,"0000000","00","00","00"]
["SA01174","Whitemoss AAC","1994-04-05","Fiona Thomson","SA01174","Under 17",".",236,{"$f":"VLOOKUP('entries and results'!G238,$A$3:$E$30018,4,FALSE)","v":" "},{"$f":"VLOOKUP('entries and results'!G238,$A$3:$F$30018,6,FALSE)","v":" "},{"$f":"VLOOKUP('entries and results'!G238,$A$3:$E$30018,2,FALSE)","v":" "},null,236,".",{"$f":"VLOOKUP('entries and results'!N238,$H$3:$K$30018,2,FALSE)","v":" "},{"$f":"VLOOKUP('entries and results'!N238,$H$3:$K$30018,3,FALSE)","v":" "},{"$f":"VLOOKUP('entries and results'!N238,$H$3:$K$30018,4,FALSE)","v":" "},{"$f":"VLOOKUP('entries and results'!N238,$H$3:$L$30018,5,FALSE)","v":0}," ","00:00",null,null,null,null,null,null,null,null,null,null,null,null,null,null,null,null,null,null,null,null,null,null,null,null,null,null,null,null,null,null,null,null,null,null,null,null,null,null,null,null,null,null,null,"00:00",236,0,"0000000","00","00","00"]
["SA01175","Aberdeen AAC","1994-07-08","Katie Bain","SA01175","Under 17",".",237,{"$f":"VLOOKUP('entries and results'!G239,$A$3:$E$30018,4,FALSE)","v":" "},{"$f":"VLOOKUP('entries and results'!G239,$A$3:$F$30018,6,FALSE)","v":" "},{"$f":"VLOOKUP('entries and results'!G239,$A$3:$E$30018,2,FALSE)","v":" "},null,237,".",{"$f":"VLOOKUP('entries and results'!N239,$H$3:$K$30018,2,FALSE)","v":" "},{"$f":"VLOOKUP('entries and results'!N239,$H$3:$K$30018,3,FALSE)","v":" "},{"$f":"VLOOKUP('entries and results'!N239,$H$3:$K$30018,4,FALSE)","v":" "},{"$f":"VLOOKUP('entries and results'!N239,$H$3:$L$30018,5,FALSE)","v":0}," ","00:00",null,null,null,null,null,null,null,null,null,null,null,null,null,null,null,null,null,null,null,null,null,null,null,null,null,null,null,null,null,null,null,null,null,null,null,null,null,null,null,null,null,null,null,"00:00",237,0,"0000000","00","00","00"]
["SA01181","Banchory Stonehaven AC","1992-07-06","Megan Albon","SA01181","Senior",".",238,{"$f":"VLOOKUP('entries and results'!G240,$A$3:$E$30018,4,FALSE)","v":" "},{"$f":"VLOOKUP('entries and results'!G240,$A$3:$F$30018,6,FALSE)","v":" "},{"$f":"VLOOKUP('entries and results'!G240,$A$3:$E$30018,2,FALSE)","v":" "},null,238,".",{"$f":"VLOOKUP('entries and results'!N240,$H$3:$K$30018,2,FALSE)","v":" "},{"$f":"VLOOKUP('entries and results'!N240,$H$3:$K$30018,3,FALSE)","v":" "},{"$f":"VLOOKUP('entries and results'!N240,$H$3:$K$30018,4,FALSE)","v":" "},{"$f":"VLOOKUP('entries and results'!N240,$H$3:$L$30018,5,FALSE)","v":0}," ","00:00",null,null,null,null,null,null,null,null,null,null,null,null,null,null,null,null,null,null,null,null,null,null,null,null,null,null,null,null,null,null,null,null,null,null,null,null,null,null,null,null,null,null,null,"00:00",238,0,"0000000","00","00","00"]
["SA01184","VP-Glasgow AC","1969-10-02","Elizabeth Normand","SA01184","Vet",".",239,{"$f":"VLOOKUP('entries and results'!G241,$A$3:$E$30018,4,FALSE)","v":" "},{"$f":"VLOOKUP('entries and results'!G241,$A$3:$F$30018,6,FALSE)","v":" "},{"$f":"VLOOKUP('entries and results'!G241,$A$3:$E$30018,2,FALSE)","v":" "},null,239,".",{"$f":"VLOOKUP('entries and results'!N241,$H$3:$K$30018,2,FALSE)","v":" "},{"$f":"VLOOKUP('entries and results'!N241,$H$3:$K$30018,3,FALSE)","v":" "},{"$f":"VLOOKUP('entries and results'!N241,$H$3:$K$30018,4,FALSE)","v":" "},{"$f":"VLOOKUP('entries and results'!N241,$H$3:$L$30018,5,FALSE)","v":0}," ","00:00",null,null,null,null,null,null,null,null,null,null,null,null,null,null,null,null,null,null,null,null,null,null,null,null,null,null,null,null,null,null,null,null,null,null,null,null,null,null,null,null,null,null,null,"00:00",239,0,"0000000","00","00","00"]
["SA01185","Central AC","1993-10-11","Tom Watson","SA01185","Under 17",".",240,{"$f":"VLOOKUP('entries and results'!G242,$A$3:$E$30018,4,FALSE)","v":" "},{"$f":"VLOOKUP('entries and results'!G242,$A$3:$F$30018,6,FALSE)","v":" "},{"$f":"VLOOKUP('entries and results'!G242,$A$3:$E$30018,2,FALSE)","v":" "},null,240,".",{"$f":"VLOOKUP('entries and results'!N242,$H$3:$K$30018,2,FALSE)","v":" "},{"$f":"VLOOKUP('entries and results'!N242,$H$3:$K$30018,3,FALSE)","v":" "},{"$f":"VLOOKUP('entries and results'!N242,$H$3:$K$30018,4,FALSE)","v":" "},{"$f":"VLOOKUP('entries and results'!N242,$H$3:$L$30018,5,FALSE)","v":0}," ","00:00",null,null,null,null,null,null,null,null,null,null,null,null,null,null,null,null,null,null,null,null,null,null,null,null,null,null,null,null,null,null,null,null,null,null,null,null,null,null,null,null,null,null,null,"00:00",240,0,"0000000","00","00","00"]
["SA01188","Corby AC","1990-12-10","Lauren Boyd","SA01188","Senior",".",241,{"$f":"VLOOKUP('entries and results'!G243,$A$3:$E$30018,4,FALSE)","v":" "},{"$f":"VLOOKUP('entries and results'!G243,$A$3:$F$30018,6,FALSE)","v":" "},{"$f":"VLOOKUP('entries and results'!G243,$A$3:$E$30018,2,FALSE)","v":" "},null,241,".",{"$f":"VLOOKUP('entries and results'!N243,$H$3:$K$30018,2,FALSE)","v":" "},{"$f":"VLOOKUP('entries and results'!N243,$H$3:$K$30018,3,FALSE)","v":" "},{"$f":"VLOOKUP('entries and results'!N243,$H$3:$K$30018,4,FALSE)","v":" "},{"$f":"VLOOKUP('entries and results'!N243,$H$3:$L$30018,5,FALSE)","v":0}," ","00:00",null,null,null,null,null,null,null,null,null,null,null,null,null,null,null,null,null,null,null,null,null,null,null,null,null,null,null,null,null,null,null,null,null,null,null,null,null,null,null,null,null,null,null,"00:00",241,0,"0000000","00","00","00"]
["SA01196","Falkirk Victoria Harriers","1992-07-21","Karen Glover","SA01196","Senior",".",242,{"$f":"VLOOKUP('entries and results'!G244,$A$3:$E$30018,4,FALSE)","v":" "},{"$f":"VLOOKUP('entries and results'!G244,$A$3:$F$30018,6,FALSE)","v":" "},{"$f":"VLOOKUP('entries and results'!G244,$A$3:$E$30018,2,FALSE)","v":" "},null,242,".",{"$f":"VLOOKUP('entries and results'!N244,$H$3:$K$30018,2,FALSE)","v":" "},{"$f":"VLOOKUP('entries and results'!N244,$H$3:$K$30018,3,FALSE)","v":" "},{"$f":"VLOOKUP('entries and results'!N244,$H$3:$K$30018,4,FALSE)","v":" "},{"$f":"VLOOKUP('entries and results'!N244,$H$3:$L$30018,5,FALSE)","v":0}," ","00:00",null,null,null,null,null,null,null,null,null,null,null,null,null,null,null,null,null,null,null,null,null,null,null,null,null,null,null,null,null,null,null,null,null,null,null,null,null,null,null,null,null,null,null,"00:00",242,0,"0000000","00","00","00"]
["SA01203","Kilbarchan AAC","1993-11-07","Elaine Eadie","SA01203","Under 17",".",243,{"$f":"VLOOKUP('entries and results'!G245,$A$3:$E$30018,4,FALSE)","v":" "},{"$f":"VLOOKUP('entries and results'!G245,$A$3:$F$30018,6,FALSE)","v":" "},{"$f":"VLOOKUP('entries and results'!G245,$A$3:$E$30018,2,FALSE)","v":" "},null,243,".",{"$f":"VLOOKUP('entries and results'!N245,$H$3:$K$30018,2,FALSE)","v":" "},{"$f":"VLOOKUP('entries and results'!N245,$H$3:$K$30018,3,FALSE)","v":" "},{"$f":"VLOOKUP('entries and results'!N245,$H$3:$K$30018,4,FALSE)","v":" "},{"$f":"VLOOKUP('entries and results'!N245,$H$3:$L$30018,5,FALSE)","v":0}," ","00:00",null,null,null,null,null,null,null,null,null,null,null,null,null,null,null,null,null,null,null,null,null,null,null,null,null,null,null,null,null,null,null,null,null,null,null,null,null,null,null,null,null,null,null,"00:00",243,0,"0000000","00","00","00"]
["SA01206","Lasswade AAC","1996-06-04","Rachel Robertson","SA01206","Under 15",".",244,{"$f":"VLOOKUP('entries and results'!G246,$A$3:$E$30018,4,FALSE)","v":" "},{"$f":"VLOOKUP('entries and results'!G246,$A$3:$F$30018,6,FALSE)","v":" "},{"$f":"VLOOKUP('entries and results'!G246,$A$3:$E$30018,2,FALSE)","v":" "},null,244,".",{"$f":"VLOOKUP('entries and results'!N246,$H$3:$K$30018,2,FALSE)","v":" "},{"$f":"VLOOKUP('entries and results'!N246,$H$3:$K$30018,3,FALSE)","v":" "},{"$f":"VLOOKUP('entries and results'!N246,$H$3:$K$30018,4,FALSE)","v":" "},{"$f":"VLOOKUP('entries and results'!N246,$H$3:$L$30018,5,FALSE)","v":0}," ","00:00",null,null,null,null,null,null,null,null,null,null,null,null,null,null,null,null,null,null,null,null,null,null,null,null,null,null,null,null,null,null,null,null,null,null,null,null,null,null,null,null,null,null,null,"00:00",244,0,"0000000","00","00","00"]
["SA01208","Montrose & District AC","1994-09-07","Donavan Webster","SA01208","Under 17",".",245,{"$f":"VLOOKUP('entries and results'!G247,$A$3:$E$30018,4,FALSE)","v":" "},{"$f":"VLOOKUP('entries and results'!G247,$A$3:$F$30018,6,FALSE)","v":" "},{"$f":"VLOOKUP('entries and results'!G247,$A$3:$E$30018,2,FALSE)","v":" "},null,245,".",{"$f":"VLOOKUP('entries and results'!N247,$H$3:$K$30018,2,FALSE)","v":" "},{"$f":"VLOOKUP('entries and results'!N247,$H$3:$K$30018,3,FALSE)","v":" "},{"$f":"VLOOKUP('entries and results'!N247,$H$3:$K$30018,4,FALSE)","v":" "},{"$f":"VLOOKUP('entries and results'!N247,$H$3:$L$30018,5,FALSE)","v":0}," ","00:00",null,null,null,null,null,null,null,null,null,null,null,null,null,null,null,null,null,null,null,null,null,null,null,null,null,null,null,null,null,null,null,null,null,null,null,null,null,null,null,null,null,null,null,"00:00",245,0,"0000000","00","00","00"]
["SA01219","Giffnock North AAC","1992-08-25","Kristina Manson","SA01219","Senior",".",246,{"$f":"VLOOKUP('entries and results'!G248,$A$3:$E$30018,4,FALSE)","v":" "},{"$f":"VLOOKUP('entries and results'!G248,$A$3:$F$30018,6,FALSE)","v":" "},{"$f":"VLOOKUP('entries and results'!G248,$A$3:$E$30018,2,FALSE)","v":" "},null,246,".",{"$f":"VLOOKUP('entries and results'!N248,$H$3:$K$30018,2,FALSE)","v":" "},{"$f":"VLOOKUP('entries and results'!N248,$H$3:$K$30018,3,FALSE)","v":" "},{"$f":"VLOOKUP('entries and results'!N248,$H$3:$K$30018,4,FALSE)","v":" "},{"$f":"VLOOKUP('entries and results'!N248,$H$3:$L$30018,5,FALSE)","v":0}," ","00:00",null,null,null,null,null,null,null,null,null,null,null,null,null,null,null,null,null,null,null,null,null,null,null,null,null,null,null,null,null,null,null,null,null,null,null,null,null,null,null,null,null,null,null,"00:00",246,0,"0000000","00","00","00"]
["SA01220","Arbroath & District AC","1990-08-31","Nicola Bell","SA01220","Senior",".",247,{"$f":"VLOOKUP('entries and results'!G249,$A$3:$E$30018,4,FALSE)","v":" "},{"$f":"VLOOKUP('entries and results'!G249,$A$3:$F$30018,6,FALSE)","v":" "},{"$f":"VLOOKUP('entries and results'!G249,$A$3:$E$30018,2,FALSE)","v":" "},null,247,".",{"$f":"VLOOKUP('entries and results'!N249,$H$3:$K$30018,2,FALSE)","v":" "},{"$f":"VLOOKUP('entries and results'!N249,$H$3:$K$30018,3,FALSE)","v":" "},{"$f":"VLOOKUP('entries and results'!N249,$H$3:$K$30018,4,FALSE)","v":" "},{"$f":"VLOOKUP('entries and results'!N249,$H$3:$L$30018,5,FALSE)","v":0}," ","00:00",null,null,null,null,null,null,null,null,null,null,null,null,null,null,null,null,null,null,null,null,null,null,null,null,null,null,null,null,null,null,null,null,null,null,null,null,null,null,null,null,null,null,null,"00:00",247,0,"0000000","00","00","00"]
["SA01221","Unattached","1989-10-13","Kerry Steel","SA01221","Senior",".",248,{"$f":"VLOOKUP('entries and results'!G250,$A$3:$E$30018,4,FALSE)","v":" "},{"$f":"VLOOKUP('entries and results'!G250,$A$3:$F$30018,6,FALSE)","v":" "},{"$f":"VLOOKUP('entries and results'!G250,$A$3:$E$30018,2,FALSE)","v":" "},null,248,".",{"$f":"VLOOKUP('entries and results'!N250,$H$3:$K$30018,2,FALSE)","v":" "},{"$f":"VLOOKUP('entries and results'!N250,$H$3:$K$30018,3,FALSE)","v":" "},{"$f":"VLOOKUP('entries and results'!N250,$H$3:$K$30018,4,FALSE)","v":" "},{"$f":"VLOOKUP('entries and results'!N250,$H$3:$L$30018,5,FALSE)","v":0}," ","00:00",null,null,null,null,null,null,null,null,null,null,null,null,null,null,null,null,null,null,null,null,null,null,null,null,null,null,null,null,null,null,null,null,null,null,null,null,null,null,null,null,null,null,null,"00:00",248,0,"0000000","00","00","00"]
["SA01226","Edinburgh AC","1991-09-25","Tom Ryan","SA01226","Senior",".",249,{"$f":"VLOOKUP('entries and results'!G251,$A$3:$E$30018,4,FALSE)","v":" "},{"$f":"VLOOKUP('entries and results'!G251,$A$3:$F$30018,6,FALSE)","v":" "},{"$f":"VLOOKUP('entries and results'!G251,$A$3:$E$30018,2,FALSE)","v":" "},null,249,".",{"$f":"VLOOKUP('entries and results'!N251,$H$3:$K$30018,2,FALSE)","v":" "},{"$f":"VLOOKUP('entries and results'!N251,$H$3:$K$30018,3,FALSE)","v":" "},{"$f":"VLOOKUP('entries and results'!N251,$H$3:$K$30018,4,FALSE)","v":" "},{"$f":"VLOOKUP('entries and results'!N251,$H$3:$L$30018,5,FALSE)","v":0}," ","00:00",null,null,null,null,null,null,null,null,null,null,null,null,null,null,null,null,null,null,null,null,null,null,null,null,null,null,null,null,null,null,null,null,null,null,null,null,null,null,null,null,null,null,null,"00:00",249,0,"0000000","00","00","00"]
["SA01230","Dundee Hawkhill Harriers","1994-05-20","Iona Brodie","SA01230","Under 17",".",250,{"$f":"VLOOKUP('entries and results'!G252,$A$3:$E$30018,4,FALSE)","v":" "},{"$f":"VLOOKUP('entries and results'!G252,$A$3:$F$30018,6,FALSE)","v":" "},{"$f":"VLOOKUP('entries and results'!G252,$A$3:$E$30018,2,FALSE)","v":" "},null,250,".",{"$f":"VLOOKUP('entries and results'!N252,$H$3:$K$30018,2,FALSE)","v":" "},{"$f":"VLOOKUP('entries and results'!N252,$H$3:$K$30018,3,FALSE)","v":" "},{"$f":"VLOOKUP('entries and results'!N252,$H$3:$K$30018,4,FALSE)","v":" "},{"$f":"VLOOKUP('entries and results'!N252,$H$3:$L$30018,5,FALSE)","v":0}," ","00:00",null,null,null,null,null,null,null,null,null,null,null,null,null,null,null,null,null,null,null,null,null,null,null,null,null,null,null,null,null,null,null,null,null,null,null,null,null,null,null,null,null,null,null,"00:00",250,0,"0000000","00","00","00"]
["SA01236","Edinburgh AC","1992-04-18","Laurie McKenna","SA01236","Senior",".",251,{"$f":"VLOOKUP('entries and results'!G253,$A$3:$E$30018,4,FALSE)","v":" "},{"$f":"VLOOKUP('entries and results'!G253,$A$3:$F$30018,6,FALSE)","v":" "},{"$f":"VLOOKUP('entries and results'!G253,$A$3:$E$30018,2,FALSE)","v":" "},null,251,".",{"$f":"VLOOKUP('entries and results'!N253,$H$3:$K$30018,2,FALSE)","v":" "},{"$f":"VLOOKUP('entries and results'!N253,$H$3:$K$30018,3,FALSE)","v":" "},{"$f":"VLOOKUP('entries and results'!N253,$H$3:$K$30018,4,FALSE)","v":" "},{"$f":"VLOOKUP('entries and results'!N253,$H$3:$L$30018,5,FALSE)","v":0}," ","00:00",null,null,null,null,null,null,null,null,null,null,null,null,null,null,null,null,null,null,null,null,null,null,null,null,null,null,null,null,null,null,null,null,null,null,null,null,null,null,null,null,null,null,null,"00:00",251,0,"0000000","00","00","00"]
["SA01238","Falkirk Victoria Harriers","1990-10-15","Rhianydd Parry","SA01238","Senior",".",252,{"$f":"VLOOKUP('entries and results'!G254,$A$3:$E$30018,4,FALSE)","v":" "},{"$f":"VLOOKUP('entries and results'!G254,$A$3:$F$30018,6,FALSE)","v":" "},{"$f":"VLOOKUP('entries and results'!G254,$A$3:$E$30018,2,FALSE)","v":" "},null,252,".",{"$f":"VLOOKUP('entries and results'!N254,$H$3:$K$30018,2,FALSE)","v":" "},{"$f":"VLOOKUP('entries and results'!N254,$H$3:$K$30018,3,FALSE)","v":" "},{"$f":"VLOOKUP('entries and results'!N254,$H$3:$K$30018,4,FALSE)","v":" "},{"$f":"VLOOKUP('entries and results'!N254,$H$3:$L$30018,5,FALSE)","v":0}," ","00:00",null,null,null,null,null,null,null,null,null,null,null,null,null,null,null,null,null,null,null,null,null,null,null,null,null,null,null,null,null,null,null,null,null,null,null,null,null,null,null,null,null,null,null,"00:00",252,0,"0000000","00","00","00"]
["SA01239","Giffnock North AAC","1991-02-05","Caroline Adams","SA01239","Senior",".",253,{"$f":"VLOOKUP('entries and results'!G255,$A$3:$E$30018,4,FALSE)","v":" "},{"$f":"VLOOKUP('entries and results'!G255,$A$3:$F$30018,6,FALSE)","v":" "},{"$f":"VLOOKUP('entries and results'!G255,$A$3:$E$30018,2,FALSE)","v":" "},null,253,".",{"$f":"VLOOKUP('entries and results'!N255,$H$3:$K$30018,2,FALSE)","v":" "},{"$f":"VLOOKUP('entries and results'!N255,$H$3:$K$30018,3,FALSE)","v":" "},{"$f":"VLOOKUP('entries and results'!N255,$H$3:$K$30018,4,FALSE)","v":" "},{"$f":"VLOOKUP('entries and results'!N255,$H$3:$L$30018,5,FALSE)","v":0}," ","00:00",null,null,null,null,null,null,null,null,null,null,null,null,null,null,null,null,null,null,null,null,null,null,null,null,null,null,null,null,null,null,null,null,null,null,null,null,null,null,null,null,null,null,null,"00:00",253,0,"0000000","00","00","00"]
["SA01244","Giffnock North AAC","1993-06-07","Helena Brown","SA01244","Senior",".",254,{"$f":"VLOOKUP('entries and results'!G256,$A$3:$E$30018,4,FALSE)","v":" "},{"$f":"VLOOKUP('entries and results'!G256,$A$3:$F$30018,6,FALSE)","v":" "},{"$f":"VLOOKUP('entries and results'!G256,$A$3:$E$30018,2,FALSE)","v":" "},null,254,".",{"$f":"VLOOKUP('entries and results'!N256,$H$3:$K$30018,2,FALSE)","v":" "},{"$f":"VLOOKUP('entries and results'!N256,$H$3:$K$30018,3,FALSE)","v":" "},{"$f":"VLOOKUP('entries and results'!N256,$H$3:$K$30018,4,FALSE)","v":" "},{"$f":"VLOOKUP('entries and results'!N256,$H$3:$L$30018,5,FALSE)","v":0}," ","00:00",null,null,null,null,null,null,null,null,null,null,null,null,null,null,null,null,null,null,null,null,null,null,null,null,null,null,null,null,null,null,null,null,null,null,null,null,null,null,null,null,null,null,null,"00:00",254,0,"0000000","00","00","00"]
["SA01245","Giffnock North AAC","1989-03-22","Jennifer Conway","SA01245","Senior",".",255,{"$f":"VLOOKUP('entries and results'!G257,$A$3:$E$30018,4,FALSE)","v":" "},{"$f":"VLOOKUP('entries and results'!G257,$A$3:$F$30018,6,FALSE)","v":" "},{"$f":"VLOOKUP('entries and results'!G257,$A$3:$E$30018,2,FALSE)","v":" "},null,255,".",{"$f":"VLOOKUP('entries and results'!N257,$H$3:$K$30018,2,FALSE)","v":" "},{"$f":"VLOOKUP('entries and results'!N257,$H$3:$K$30018,3,FALSE)","v":" "},{"$f":"VLOOKUP('entries and results'!N257,$H$3:$K$30018,4,FALSE)","v":" "},{"$f":"VLOOKUP('entries and results'!N257,$H$3:$L$30018,5,FALSE)","v":0}," ","00:00",null,null,null,null,null,null,null,null,null,null,null,null,null,null,null,null,null,null,null,null,null,null,null,null,null,null,null,null,null,null,null,null,null,null,null,null,null,null,null,null,null,null,null,"00:00",255,0,"0000000","00","00","00"]
["SA01247","Giffnock North AAC","1992-09-22","Emma Dowd","SA01247","Senior",".",256,{"$f":"VLOOKUP('entries and results'!G258,$A$3:$E$30018,4,FALSE)","v":" "},{"$f":"VLOOKUP('entries and results'!G258,$A$3:$F$30018,6,FALSE)","v":" "},{"$f":"VLOOKUP('entries and results'!G258,$A$3:$E$30018,2,FALSE)","v":" "},null,256,".",{"$f":"VLOOKUP('entries and results'!N258,$H$3:$K$30018,2,FALSE)","v":" "},{"$f":"VLOOKUP('entries and results'!N258,$H$3:$K$30018,3,FALSE)","v":" "},{"$f":"VLOOKUP('entries and results'!N258,$H$3:$K$30018,4,FALSE)","v":" "},{"$f":"VLOOKUP('entries and results'!N258,$H$3:$L$30018,5,FALSE)","v":0}," ","00:00",null,null,null,null,null,null,null,null,null,null,null,null,null,null,null,null,null,null,null,null,null,null,null,null,null,null,null,null,null,null,null,null,null,null,null,null,null,null,null,null,null,null,null,"00:00",256,0,"0000000","00","00","00"]
["SA01249","Giffnock North AAC","1994-07-03","James Gray","SA01249","Under 17",".",257,{"$f":"VLOOKUP('entries and results'!G259,$A$3:$E$30018,4,FALSE)","v":" "},{"$f":"VLOOKUP('entries and results'!G259,$A$3:$F$30018,6,FALSE)","v":" "},{"$f":"VLOOKUP('entries and results'!G259,$A$3:$E$30018,2,FALSE)","v":" "},null,257,".",{"$f":"VLOOKUP('entries and results'!N259,$H$3:$K$30018,2,FALSE)","v":" "},{"$f":"VLOOKUP('entries and results'!N259,$H$3:$K$30018,3,FALSE)","v":" "},{"$f":"VLOOKUP('entries and results'!N259,$H$3:$K$30018,4,FALSE)","v":" "},{"$f":"VLOOKUP('entries and results'!N259,$H$3:$L$30018,5,FALSE)","v":0}," ","00:00",null,null,null,null,null,null,null,null,null,null,null,null,null,null,null,null,null,null,null,null,null,null,null,null,null,null,null,null,null,null,null,null,null,null,null,null,null,null,null,null,null,null,null,"00:00",257,{"$f":"SUMIF($H$3:$H$601,$BM259,$S$3:$S$601)","v":0},"0000000","00","00","00"]
["SA01252","Giffnock North AAC","1995-03-04","Lauren Lambie","SA01252","Under 17",".",258,{"$f":"VLOOKUP('entries and results'!G260,$A$3:$E$30018,4,FALSE)","v":" "},{"$f":"VLOOKUP('entries and results'!G260,$A$3:$F$30018,6,FALSE)","v":" "},{"$f":"VLOOKUP('entries and results'!G260,$A$3:$E$30018,2,FALSE)","v":" "},null,258,".",{"$f":"VLOOKUP('entries and results'!N260,$H$3:$K$30018,2,FALSE)","v":" "},{"$f":"VLOOKUP('entries and results'!N260,$H$3:$K$30018,3,FALSE)","v":" "},{"$f":"VLOOKUP('entries and results'!N260,$H$3:$K$30018,4,FALSE)","v":" "},{"$f":"VLOOKUP('entries and results'!N260,$H$3:$L$30018,5,FALSE)","v":0}," ",{"$f":"IF($H260=\"\",\" \",(LOOKUP($H260,$BM$3:$BM$1601,$BL$3:$BL$1601)))","v":"00:00"},null,null,null,null,null,null,null,null,null,null,null,null,null,null,null,null,null,null,null,null,null,null,null,null,null,null,null,null,null,null,null,null,null,null,null,null,null,null,null,null,null,null,null,{"$f":"CONCATENATE(BQ260,\":\",BR260)","v":"00:00"},258,0,{"$f":"CONCATENATE($BI$2,$BN260)","v":"0000000"},{"$f":"MID(RIGHT($BO260,6),1,2)","v":"00"},{"$f":"MID(RIGHT($BO260,6),3,2)","v":"00"},{"$f":"MID(RIGHT($BO260,6),5,2)","v":"00"}]
["SA01254","Giffnock North AAC","1991-01-10","Nicole McLeod","SA01254","Senior",".",259,{"$f":"VLOOKUP('entries and results'!G261,$A$3:$E$30018,4,FALSE)","v":" "},{"$f":"VLOOKUP('entries and results'!G261,$A$3:$F$30018,6,FALSE)","v":" "},{"$f":"VLOOKUP('entries and results'!G261,$A$3:$E$30018,2,FALSE)","v":" "},null,259,".",{"$f":"VLOOKUP('entries and results'!N261,$H$3:$K$30018,2,FALSE)","v":" "},{"$f":"VLOOKUP('entries and results'!N261,$H$3:$K$30018,3,FALSE)","v":" "},{"$f":"VLOOKUP('entries and results'!N261,$H$3:$K$30018,4,FALSE)","v":" "},{"$f":"VLOOKUP('entries and results'!N261,$H$3:$L$30018,5,FALSE)","v":0}," ","00:00",null,null,null,null,null,null,null,null,null,null,null,null,null,null,null,null,null,null,null,null,null,null,null,null,null,null,null,null,null,null,null,null,null,null,null,null,null,null,null,null,null,null,null,"00:00",259,0,"0000000","00","00","00"]
["SA01260","Giffnock North AAC","1992-09-25","Ruth Wallace","SA01260","Senior",".",260,{"$f":"VLOOKUP('entries and results'!G262,$A$3:$E$30018,4,FALSE)","v":" "},{"$f":"VLOOKUP('entries and results'!G262,$A$3:$F$30018,6,FALSE)","v":" "},{"$f":"VLOOKUP('entries and results'!G262,$A$3:$E$30018,2,FALSE)","v":" "},null,260,".",{"$f":"VLOOKUP('entries and results'!N262,$H$3:$K$30018,2,FALSE)","v":" "},{"$f":"VLOOKUP('entries and results'!N262,$H$3:$K$30018,3,FALSE)","v":" "},{"$f":"VLOOKUP('entries and results'!N262,$H$3:$K$30018,4,FALSE)","v":" "},{"$f":"VLOOKUP('entries and results'!N262,$H$3:$L$30018,5,FALSE)","v":0}," ","00:00",null,null,null,null,null,null,null,null,null,null,null,null,null,null,null,null,null,null,null,null,null,null,null,null,null,null,null,null,null,null,null,null,null,null,null,null,null,null,null,null,null,null,null,"00:00",260,0,"0000000","00","00","00"]
["SA01272","Lasswade AAC","1992-10-25","Greg Louden","SA01272","Senior",".",261,{"$f":"VLOOKUP('entries and results'!G263,$A$3:$E$30018,4,FALSE)","v":" "},{"$f":"VLOOKUP('entries and results'!G263,$A$3:$F$30018,6,FALSE)","v":" "},{"$f":"VLOOKUP('entries and results'!G263,$A$3:$E$30018,2,FALSE)","v":" "},null,261,".",{"$f":"VLOOKUP('entries and results'!N263,$H$3:$K$30018,2,FALSE)","v":" "},{"$f":"VLOOKUP('entries and results'!N263,$H$3:$K$30018,3,FALSE)","v":" "},{"$f":"VLOOKUP('entries and results'!N263,$H$3:$K$30018,4,FALSE)","v":" "},{"$f":"VLOOKUP('entries and results'!N263,$H$3:$L$30018,5,FALSE)","v":0}," ","00:00",null,null,null,null,null,null,null,null,null,null,null,null,null,null,null,null,null,null,null,null,null,null,null,null,null,null,null,null,null,null,null,null,null,null,null,null,null,null,null,null,null,null,null,"00:00",261,0,"0000000","00","00","00"]
["SA01278","Arbroath & District AC","1990-07-14","Paula Murray","SA01278","Senior",".",262,{"$f":"VLOOKUP('entries and results'!G264,$A$3:$E$30018,4,FALSE)","v":" "},{"$f":"VLOOKUP('entries and results'!G264,$A$3:$F$30018,6,FALSE)","v":" "},{"$f":"VLOOKUP('entries and results'!G264,$A$3:$E$30018,2,FALSE)","v":" "},null,262,".",{"$f":"VLOOKUP('entries and results'!N264,$H$3:$K$30018,2,FALSE)","v":" "},{"$f":"VLOOKUP('entries and results'!N264,$H$3:$K$30018,3,FALSE)","v":" "},{"$f":"VLOOKUP('entries and results'!N264,$H$3:$K$30018,4,FALSE)","v":" "},{"$f":"VLOOKUP('entries and results'!N264,$H$3:$L$30018,5,FALSE)","v":0}," ","00:00",null,null,null,null,null,null,null,null,null,null,null,null,null,null,null,null,null,null,null,null,null,null,null,null,null,null,null,null,null,null,null,null,null,null,null,null,null,null,null,null,null,null,null,"00:00",262,0,"0000000","00","00","00"]
["SA01279","Moray Road Runners","1989-05-20","Ian Garioch","SA01279","Senior",".",263,{"$f":"VLOOKUP('entries and results'!G265,$A$3:$E$30018,4,FALSE)","v":" "},{"$f":"VLOOKUP('entries and results'!G265,$A$3:$F$30018,6,FALSE)","v":" "},{"$f":"VLOOKUP('entries and results'!G265,$A$3:$E$30018,2,FALSE)","v":" "},null,263,".",{"$f":"VLOOKUP('entries and results'!N265,$H$3:$K$30018,2,FALSE)","v":" "},{"$f":"VLOOKUP('entries and results'!N265,$H$3:$K$30018,3,FALSE)","v":" "},{"$f":"VLOOKUP('entries and results'!N265,$H$3:$K$30018,4,FALSE)","v":" "},{"$f":"VLOOKUP('entries and results'!N265,$H$3:$L$30018,5,FALSE)","v":0}," ","00:00",null,null,null,null,null,null,null,null,null,null,null,null,null,null,null,null,null,null,null,null,null,null,null,null,null,null,null,null,null,null,null,null,null,null,null,null,null,null,null,null,null,null,null,"00:00",263,0,"0000000","00","00","00"]
["SA01284","Pitreavie AAC","1995-04-14","Naomi Fox","SA01284","Under 17",".",264,{"$f":"VLOOKUP('entries and results'!G266,$A$3:$E$30018,4,FALSE)","v":" "},{"$f":"VLOOKUP('entries and results'!G266,$A$3:$F$30018,6,FALSE)","v":" "},{"$f":"VLOOKUP('entries and results'!G266,$A$3:$E$30018,2,FALSE)","v":" "},null,264,".",{"$f":"VLOOKUP('entries and results'!N266,$H$3:$K$30018,2,FALSE)","v":" "},{"$f":"VLOOKUP('entries and results'!N266,$H$3:$K$30018,3,FALSE)","v":" "},{"$f":"VLOOKUP('entries and results'!N266,$H$3:$K$30018,4,FALSE)","v":" "},{"$f":"VLOOKUP('entries and results'!N266,$H$3:$L$30018,5,FALSE)","v":0}," ","00:00",null,null,null,null,null,null,null,null,null,null,null,null,null,null,null,null,null,null,null,null,null,null,null,null,null,null,null,null,null,null,null,null,null,null,null,null,null,null,null,null,null,null,null,"00:00",264,0,"0000000","00","00","00"]
["SA01285","Pitreavie AAC","1992-07-31","Natalie Fox","SA01285","Senior",".",265,{"$f":"VLOOKUP('entries and results'!G267,$A$3:$E$30018,4,FALSE)","v":" "},{"$f":"VLOOKUP('entries and results'!G267,$A$3:$F$30018,6,FALSE)","v":" "},{"$f":"VLOOKUP('entries and results'!G267,$A$3:$E$30018,2,FALSE)","v":" "},null,265,".",{"$f":"VLOOKUP('entries and results'!N267,$H$3:$K$30018,2,FALSE)","v":" "},{"$f":"VLOOKUP('entries and results'!N267,$H$3:$K$30018,3,FALSE)","v":" "},{"$f":"VLOOKUP('entries and results'!N267,$H$3:$K$30018,4,FALSE)","v":" "},{"$f":"VLOOKUP('entries and results'!N267,$H$3:$L$30018,5,FALSE)","v":0}," ","00:00",null,null,null,null,null,null,null,null,null,null,null,null,null,null,null,null,null,null,null,null,null,null,null,null,null,null,null,null,null,null,null,null,null,null,null,null,null,null,null,null,null,null,null,"00:00",265,0,"0000000","00","00","00"]
["SA01292","Shettleston Harriers","1991-01-31","Ruairidh Munro","SA01292","Senior",".",266,{"$f":"VLOOKUP('entries and results'!G268,$A$3:$E$30018,4,FALSE)","v":" "},{"$f":"VLOOKUP('entries and results'!G268,$A$3:$F$30018,6,FALSE)","v":" "},{"$f":"VLOOKUP('entries and results'!G268,$A$3:$E$30018,2,FALSE)","v":" "},null,266,".",{"$f":"VLOOKUP('entries and results'!N268,$H$3:$K$30018,2,FALSE)","v":" "},{"$f":"VLOOKUP('entries and results'!N268,$H$3:$K$30018,3,FALSE)","v":" "},{"$f":"VLOOKUP('entries and results'!N268,$H$3:$K$30018,4,FALSE)","v":" "},{"$f":"VLOOKUP('entries and results'!N268,$H$3:$L$30018,5,FALSE)","v":0}," ","00:00",null,null,null,null,null,null,null,null,null,null,null,null,null,null,null,null,null,null,null,null,null,null,null,null,null,null,null,null,null,null,null,null,null,null,null,null,null,null,null,null,null,null,null,"00:00",266,0,"0000000","00","00","00"]
["SA01294","VP-Glasgow AC","1991-04-20","Lorn Menzies","SA01294","Senior",".",267,{"$f":"VLOOKUP('entries and results'!G269,$A$3:$E$30018,4,FALSE)","v":" "},{"$f":"VLOOKUP('entries and results'!G269,$A$3:$F$30018,6,FALSE)","v":" "},{"$f":"VLOOKUP('entries and results'!G269,$A$3:$E$30018,2,FALSE)","v":" "},null,267,".",{"$f":"VLOOKUP('entries and results'!N269,$H$3:$K$30018,2,FALSE)","v":" "},{"$f":"VLOOKUP('entries and results'!N269,$H$3:$K$30018,3,FALSE)","v":" "},{"$f":"VLOOKUP('entries and results'!N269,$H$3:$K$30018,4,FALSE)","v":" "},{"$f":"VLOOKUP('entries and results'!N269,$H$3:$L$30018,5,FALSE)","v":0}," ","00:00",null,null,null,null,null,null,null,null,null,null,null,null,null,null,null,null,null,null,null,null,null,null,null,null,null,null,null,null,null,null,null,null,null,null,null,null,null,null,null,null,null,null,null,"00:00",267,0,"0000000","00","00","00"]
["SA01317","Giffnock North AAC","1990-02-09","Ross McLearie","SA01317","Senior",".",268,{"$f":"VLOOKUP('entries and results'!G270,$A$3:$E$30018,4,FALSE)","v":" "},{"$f":"VLOOKUP('entries and results'!G270,$A$3:$F$30018,6,FALSE)","v":" "},{"$f":"VLOOKUP('entries and results'!G270,$A$3:$E$30018,2,FALSE)","v":" "},null,268,".",{"$f":"VLOOKUP('entries and results'!N270,$H$3:$K$30018,2,FALSE)","v":" "},{"$f":"VLOOKUP('entries and results'!N270,$H$3:$K$30018,3,FALSE)","v":" "},{"$f":"VLOOKUP('entries and results'!N270,$H$3:$K$30018,4,FALSE)","v":" "},{"$f":"VLOOKUP('entries and results'!N270,$H$3:$L$30018,5,FALSE)","v":0}," ","00:00",null,null,null,null,null,null,null,null,null,null,null,null,null,null,null,null,null,null,null,null,null,null,null,null,null,null,null,null,null,null,null,null,null,null,null,null,null,null,null,null,null,null,null,"00:00",268,0,"0000000","00","00","00"]
["SA01325","Nairn Area AAC","1992-10-12","Kerri Cameron","SA01325","Senior",".",269,{"$f":"VLOOKUP('entries and results'!G271,$A$3:$E$30018,4,FALSE)","v":" "},{"$f":"VLOOKUP('entries and results'!G271,$A$3:$F$30018,6,FALSE)","v":" "},{"$f":"VLOOKUP('entries and results'!G271,$A$3:$E$30018,2,FALSE)","v":" "},null,269,".",{"$f":"VLOOKUP('entries and results'!N271,$H$3:$K$30018,2,FALSE)","v":" "},{"$f":"VLOOKUP('entries and results'!N271,$H$3:$K$30018,3,FALSE)","v":" "},{"$f":"VLOOKUP('entries and results'!N271,$H$3:$K$30018,4,FALSE)","v":" "},{"$f":"VLOOKUP('entries and results'!N271,$H$3:$L$30018,5,FALSE)","v":0}," ","00:00",null,null,null,null,null,null,null,null,null,null,null,null,null,null,null,null,null,null,null,null,null,null,null,null,null,null,null,null,null,null,null,null,null,null,null,null,null,null,null,null,null,null,null,"00:00",269,0,"0000000","00","00","00"]
["SA01332","VP-Glasgow AC","1989-09-16","Niall Murray","SA01332","Senior",".",270,{"$f":"VLOOKUP('entries and results'!G272,$A$3:$E$30018,4,FALSE)","v":" "},{"$f":"VLOOKUP('entries and results'!G272,$A$3:$F$30018,6,FALSE)","v":" "},{"$f":"VLOOKUP('entries and results'!G272,$A$3:$E$30018,2,FALSE)","v":" "},null,270,".",{"$f":"VLOOKUP('entries and results'!N272,$H$3:$K$30018,2,FALSE)","v":" "},{"$f":"VLOOKUP('entries and results'!N272,$H$3:$K$30018,3,FALSE)","v":" "},{"$f":"VLOOKUP('entries and results'!N272,$H$3:$K$30018,4,FALSE)","v":" "},{"$f":"VLOOKUP('entries and results'!N272,$H$3:$L$30018,5,FALSE)","v":0}," ","00:00",null,null,null,null,null,null,null,null,null,null,null,null,null,null,null,null,null,null,null,null,null,null,null,null,null,null,null,null,null,null,null,null,null,null,null,null,null,null,null,null,null,null,null,"00:00",270,0,"0000000","00","00","00"]
["SA01335","Airdrie Harriers","1990-03-03","Claire Boyd","SA01335","Senior",".",271,{"$f":"VLOOKUP('entries and results'!G273,$A$3:$E$30018,4,FALSE)","v":" "},{"$f":"VLOOKUP('entries and results'!G273,$A$3:$F$30018,6,FALSE)","v":" "},{"$f":"VLOOKUP('entries and results'!G273,$A$3:$E$30018,2,FALSE)","v":" "},null,271,".",{"$f":"VLOOKUP('entries and results'!N273,$H$3:$K$30018,2,FALSE)","v":" "},{"$f":"VLOOKUP('entries and results'!N273,$H$3:$K$30018,3,FALSE)","v":" "},{"$f":"VLOOKUP('entries and results'!N273,$H$3:$K$30018,4,FALSE)","v":" "},{"$f":"VLOOKUP('entries and results'!N273,$H$3:$L$30018,5,FALSE)","v":0}," ","00:00",null,null,null,null,null,null,null,null,null,null,null,null,null,null,null,null,null,null,null,null,null,null,null,null,null,null,null,null,null,null,null,null,null,null,null,null,null,null,null,null,null,null,null,"00:00",271,0,"0000000","00","00","00"]
["SA01336","Airdrie Harriers","1992-09-30","Stephanie Boyd","SA01336","Senior",".",272,{"$f":"VLOOKUP('entries and results'!G274,$A$3:$E$30018,4,FALSE)","v":" "},{"$f":"VLOOKUP('entries and results'!G274,$A$3:$F$30018,6,FALSE)","v":" "},{"$f":"VLOOKUP('entries and results'!G274,$A$3:$E$30018,2,FALSE)","v":" "},null,272,".",{"$f":"VLOOKUP('entries and results'!N274,$H$3:$K$30018,2,FALSE)","v":" "},{"$f":"VLOOKUP('entries and results'!N274,$H$3:$K$30018,3,FALSE)","v":" "},{"$f":"VLOOKUP('entries and results'!N274,$H$3:$K$30018,4,FALSE)","v":" "},{"$f":"VLOOKUP('entries and results'!N274,$H$3:$L$30018,5,FALSE)","v":0}," ","00:00",null,null,null,null,null,null,null,null,null,null,null,null,null,null,null,null,null,null,null,null,null,null,null,null,null,null,null,null,null,null,null,null,null,null,null,null,null,null,null,null,null,null,null,"00:00",272,0,"0000000","00","00","00"]
["SA01344","Arbroath & District AC","1989-09-23","Sarah Connolly","SA01344","Senior",".",273,{"$f":"VLOOKUP('entries and results'!G275,$A$3:$E$30018,4,FALSE)","v":" "},{"$f":"VLOOKUP('entries and results'!G275,$A$3:$F$30018,6,FALSE)","v":" "},{"$f":"VLOOKUP('entries and results'!G275,$A$3:$E$30018,2,FALSE)","v":" "},null,273,".",{"$f":"VLOOKUP('entries and results'!N275,$H$3:$K$30018,2,FALSE)","v":" "},{"$f":"VLOOKUP('entries and results'!N275,$H$3:$K$30018,3,FALSE)","v":" "},{"$f":"VLOOKUP('entries and results'!N275,$H$3:$K$30018,4,FALSE)","v":" "},{"$f":"VLOOKUP('entries and results'!N275,$H$3:$L$30018,5,FALSE)","v":0}," ","00:00",null,null,null,null,null,null,null,null,null,null,null,null,null,null,null,null,null,null,null,null,null,null,null,null,null,null,null,null,null,null,null,null,null,null,null,null,null,null,null,null,null,null,null,"00:00",273,0,"0000000","00","00","00"]
["SA01345","Ayr Seaforth AAC","1989-08-09","Elaine Montgomerie","SA01345","Senior",".",274,{"$f":"VLOOKUP('entries and results'!G276,$A$3:$E$30018,4,FALSE)","v":" "},{"$f":"VLOOKUP('entries and results'!G276,$A$3:$F$30018,6,FALSE)","v":" "},{"$f":"VLOOKUP('entries and results'!G276,$A$3:$E$30018,2,FALSE)","v":" "},null,274,".",{"$f":"VLOOKUP('entries and results'!N276,$H$3:$K$30018,2,FALSE)","v":" "},{"$f":"VLOOKUP('entries and results'!N276,$H$3:$K$30018,3,FALSE)","v":" "},{"$f":"VLOOKUP('entries and results'!N276,$H$3:$K$30018,4,FALSE)","v":" "},{"$f":"VLOOKUP('entries and results'!N276,$H$3:$L$30018,5,FALSE)","v":0}," ","00:00",null,null,null,null,null,null,null,null,null,null,null,null,null,null,null,null,null,null,null,null,null,null,null,null,null,null,null,null,null,null,null,null,null,null,null,null,null,null,null,null,null,null,null,"00:00",274,0,"0000000","00","00","00"]
["SA01347","Banchory Stonehaven AC","1991-11-14","Robbie Simpson","SA01347","Senior",".",275,{"$f":"VLOOKUP('entries and results'!G277,$A$3:$E$30018,4,FALSE)","v":" "},{"$f":"VLOOKUP('entries and results'!G277,$A$3:$F$30018,6,FALSE)","v":" "},{"$f":"VLOOKUP('entries and results'!G277,$A$3:$E$30018,2,FALSE)","v":" "},null,275,".",{"$f":"VLOOKUP('entries and results'!N277,$H$3:$K$30018,2,FALSE)","v":" "},{"$f":"VLOOKUP('entries and results'!N277,$H$3:$K$30018,3,FALSE)","v":" "},{"$f":"VLOOKUP('entries and results'!N277,$H$3:$K$30018,4,FALSE)","v":" "},{"$f":"VLOOKUP('entries and results'!N277,$H$3:$L$30018,5,FALSE)","v":0}," ","00:00",null,null,null,null,null,null,null,null,null,null,null,null,null,null,null,null,null,null,null,null,null,null,null,null,null,null,null,null,null,null,null,null,null,null,null,null,null,null,null,null,null,null,null,"00:00",275,0,"0000000","00","00","00"]
["SA01348","Blackheath","1989-07-27","Scott Huggins","SA01348","Senior",".",276,{"$f":"VLOOKUP('entries and results'!G278,$A$3:$E$30018,4,FALSE)","v":" "},{"$f":"VLOOKUP('entries and results'!G278,$A$3:$F$30018,6,FALSE)","v":" "},{"$f":"VLOOKUP('entries and results'!G278,$A$3:$E$30018,2,FALSE)","v":" "},null,276,".",{"$f":"VLOOKUP('entries and results'!N278,$H$3:$K$30018,2,FALSE)","v":" "},{"$f":"VLOOKUP('entries and results'!N278,$H$3:$K$30018,3,FALSE)","v":" "},{"$f":"VLOOKUP('entries and results'!N278,$H$3:$K$30018,4,FALSE)","v":" "},{"$f":"VLOOKUP('entries and results'!N278,$H$3:$L$30018,5,FALSE)","v":0}," ","00:00",null,null,null,null,null,null,null,null,null,null,null,null,null,null,null,null,null,null,null,null,null,null,null,null,null,null,null,null,null,null,null,null,null,null,null,null,null,null,null,null,null,null,null,"00:00",276,0,"0000000","00","00","00"]
["SA01354","Clydesdale Harriers","1991-02-10","Johnathon Farrell","SA01354","Senior",".",277,{"$f":"VLOOKUP('entries and results'!G279,$A$3:$E$30018,4,FALSE)","v":" "},{"$f":"VLOOKUP('entries and results'!G279,$A$3:$F$30018,6,FALSE)","v":" "},{"$f":"VLOOKUP('entries and results'!G279,$A$3:$E$30018,2,FALSE)","v":" "},null,277,".",{"$f":"VLOOKUP('entries and results'!N279,$H$3:$K$30018,2,FALSE)","v":" "},{"$f":"VLOOKUP('entries and results'!N279,$H$3:$K$30018,3,FALSE)","v":" "},{"$f":"VLOOKUP('entries and results'!N279,$H$3:$K$30018,4,FALSE)","v":" "},{"$f":"VLOOKUP('entries and results'!N279,$H$3:$L$30018,5,FALSE)","v":0}," ","00:00",null,null,null,null,null,null,null,null,null,null,null,null,null,null,null,null,null,null,null,null,null,null,null,null,null,null,null,null,null,null,null,null,null,null,null,null,null,null,null,null,null,null,null,"00:00",277,0,"0000000","00","00","00"]
["SA01357","Corstorphine AAC","1991-12-18","Hamish Hepburn","SA01357","Senior",".",278,{"$f":"VLOOKUP('entries and results'!G280,$A$3:$E$30018,4,FALSE)","v":" "},{"$f":"VLOOKUP('entries and results'!G280,$A$3:$F$30018,6,FALSE)","v":" "},{"$f":"VLOOKUP('entries and results'!G280,$A$3:$E$30018,2,FALSE)","v":" "},null,278,".",{"$f":"VLOOKUP('entries and results'!N280,$H$3:$K$30018,2,FALSE)","v":" "},{"$f":"VLOOKUP('entries and results'!N280,$H$3:$K$30018,3,FALSE)","v":" "},{"$f":"VLOOKUP('entries and results'!N280,$H$3:$K$30018,4,FALSE)","v":" "},{"$f":"VLOOKUP('entries and results'!N280,$H$3:$L$30018,5,FALSE)","v":0}," ","00:00",null,null,null,null,null,null,null,null,null,null,null,null,null,null,null,null,null,null,null,null,null,null,null,null,null,null,null,null,null,null,null,null,null,null,null,null,null,null,null,null,null,null,null,"00:00",278,0,"0000000","00","00","00"]
["SA01360","Dundee Hawkhill Harriers","1989-03-24","Robert Mitchell","SA01360","Senior",".",279,{"$f":"VLOOKUP('entries and results'!G281,$A$3:$E$30018,4,FALSE)","v":" "},{"$f":"VLOOKUP('entries and results'!G281,$A$3:$F$30018,6,FALSE)","v":" "},{"$f":"VLOOKUP('entries and results'!G281,$A$3:$E$30018,2,FALSE)","v":" "},null,279,".",{"$f":"VLOOKUP('entries and results'!N281,$H$3:$K$30018,2,FALSE)","v":" "},{"$f":"VLOOKUP('entries and results'!N281,$H$3:$K$30018,3,FALSE)","v":" "},{"$f":"VLOOKUP('entries and results'!N281,$H$3:$K$30018,4,FALSE)","v":" "},{"$f":"VLOOKUP('entries and results'!N281,$H$3:$L$30018,5,FALSE)","v":0}," ","00:00",null,null,null,null,null,null,null,null,null,null,null,null,null,null,null,null,null,null,null,null,null,null,null,null,null,null,null,null,null,null,null,null,null,null,null,null,null,null,null,null,null,null,null,"00:00",279,0,"0000000","00","00","00"]
["SA01375","Moorfoot Runners","1993-08-26","Faye Nicholson","SA01375","Senior",".",280,{"$f":"VLOOKUP('entries and results'!G282,$A$3:$E$30018,4,FALSE)","v":" "},{"$f":"VLOOKUP('entries and results'!G282,$A$3:$F$30018,6,FALSE)","v":" "},{"$f":"VLOOKUP('entries and results'!G282,$A$3:$E$30018,2,FALSE)","v":" "},null,280,".",{"$f":"VLOOKUP('entries and results'!N282,$H$3:$K$30018,2,FALSE)","v":" "},{"$f":"VLOOKUP('entries and results'!N282,$H$3:$K$30018,3,FALSE)","v":" "},{"$f":"VLOOKUP('entries and results'!N282,$H$3:$K$30018,4,FALSE)","v":" "},{"$f":"VLOOKUP('entries and results'!N282,$H$3:$L$30018,5,FALSE)","v":0}," ","00:00",null,null,null,null,null,null,null,null,null,null,null,null,null,null,null,null,null,null,null,null,null,null,null,null,null,null,null,null,null,null,null,null,null,null,null,null,null,null,null,null,null,null,null,"00:00",280,0,"0000000","00","00","00"]
["SA01383","Kilbarchan AAC","1990-09-06","Cameron Clark","SA01383","Senior",".",281,{"$f":"VLOOKUP('entries and results'!G283,$A$3:$E$30018,4,FALSE)","v":" "},{"$f":"VLOOKUP('entries and results'!G283,$A$3:$F$30018,6,FALSE)","v":" "},{"$f":"VLOOKUP('entries and results'!G283,$A$3:$E$30018,2,FALSE)","v":" "},null,281,".",{"$f":"VLOOKUP('entries and results'!N283,$H$3:$K$30018,2,FALSE)","v":" "},{"$f":"VLOOKUP('entries and results'!N283,$H$3:$K$30018,3,FALSE)","v":" "},{"$f":"VLOOKUP('entries and results'!N283,$H$3:$K$30018,4,FALSE)","v":" "},{"$f":"VLOOKUP('entries and results'!N283,$H$3:$L$30018,5,FALSE)","v":0}," ","00:00",null,null,null,null,null,null,null,null,null,null,null,null,null,null,null,null,null,null,null,null,null,null,null,null,null,null,null,null,null,null,null,null,null,null,null,null,null,null,null,null,null,null,null,"00:00",281,0,"0000000","00","00","00"]
["SA01386","VP-Glasgow AC","1994-04-13","Deborah Hannah","SA01386","Under 17",".",282,{"$f":"VLOOKUP('entries and results'!G284,$A$3:$E$30018,4,FALSE)","v":" "},{"$f":"VLOOKUP('entries and results'!G284,$A$3:$F$30018,6,FALSE)","v":" "},{"$f":"VLOOKUP('entries and results'!G284,$A$3:$E$30018,2,FALSE)","v":" "},null,282,".",{"$f":"VLOOKUP('entries and results'!N284,$H$3:$K$30018,2,FALSE)","v":" "},{"$f":"VLOOKUP('entries and results'!N284,$H$3:$K$30018,3,FALSE)","v":" "},{"$f":"VLOOKUP('entries and results'!N284,$H$3:$K$30018,4,FALSE)","v":" "},{"$f":"VLOOKUP('entries and results'!N284,$H$3:$L$30018,5,FALSE)","v":0}," ","00:00",null,null,null,null,null,null,null,null,null,null,null,null,null,null,null,null,null,null,null,null,null,null,null,null,null,null,null,null,null,null,null,null,null,null,null,null,null,null,null,null,null,null,null,"00:00",282,0,"0000000","00","00","00"]
["SA01388","Edinburgh AC","1993-09-13","Cameron Goodall","SA01388","Under 17",".",283,{"$f":"VLOOKUP('entries and results'!G285,$A$3:$E$30018,4,FALSE)","v":" "},{"$f":"VLOOKUP('entries and results'!G285,$A$3:$F$30018,6,FALSE)","v":" "},{"$f":"VLOOKUP('entries and results'!G285,$A$3:$E$30018,2,FALSE)","v":" "},null,283,".",{"$f":"VLOOKUP('entries and results'!N285,$H$3:$K$30018,2,FALSE)","v":" "},{"$f":"VLOOKUP('entries and results'!N285,$H$3:$K$30018,3,FALSE)","v":" "},{"$f":"VLOOKUP('entries and results'!N285,$H$3:$K$30018,4,FALSE)","v":" "},{"$f":"VLOOKUP('entries and results'!N285,$H$3:$L$30018,5,FALSE)","v":0}," ","00:00",null,null,null,null,null,null,null,null,null,null,null,null,null,null,null,null,null,null,null,null,null,null,null,null,null,null,null,null,null,null,null,null,null,null,null,null,null,null,null,null,null,null,null,"00:00",283,0,"0000000","00","00","00"]
["SA01389","Law & District AAC","1992-05-17","Alan Robb","SA01389","Senior",".",284,{"$f":"VLOOKUP('entries and results'!G286,$A$3:$E$30018,4,FALSE)","v":" "},{"$f":"VLOOKUP('entries and results'!G286,$A$3:$F$30018,6,FALSE)","v":" "},{"$f":"VLOOKUP('entries and results'!G286,$A$3:$E$30018,2,FALSE)","v":" "},null,284,".",{"$f":"VLOOKUP('entries and results'!N286,$H$3:$K$30018,2,FALSE)","v":" "},{"$f":"VLOOKUP('entries and results'!N286,$H$3:$K$30018,3,FALSE)","v":" "},{"$f":"VLOOKUP('entries and results'!N286,$H$3:$K$30018,4,FALSE)","v":" "},{"$f":"VLOOKUP('entries and results'!N286,$H$3:$L$30018,5,FALSE)","v":0}," ","00:00",null,null,null,null,null,null,null,null,null,null,null,null,null,null,null,null,null,null,null,null,null,null,null,null,null,null,null,null,null,null,null,null,null,null,null,null,null,null,null,null,null,null,null,"00:00",284,0,"0000000","00","00","00"]
["SA01394","Moray Road Runners","1988-04-04","Colin McRae","SA01394","Senior",".",285,{"$f":"VLOOKUP('entries and results'!G287,$A$3:$E$30018,4,FALSE)","v":" "},{"$f":"VLOOKUP('entries and results'!G287,$A$3:$F$30018,6,FALSE)","v":" "},{"$f":"VLOOKUP('entries and results'!G287,$A$3:$E$30018,2,FALSE)","v":" "},null,285,".",{"$f":"VLOOKUP('entries and results'!N287,$H$3:$K$30018,2,FALSE)","v":" "},{"$f":"VLOOKUP('entries and results'!N287,$H$3:$K$30018,3,FALSE)","v":" "},{"$f":"VLOOKUP('entries and results'!N287,$H$3:$K$30018,4,FALSE)","v":" "},{"$f":"VLOOKUP('entries and results'!N287,$H$3:$L$30018,5,FALSE)","v":0}," ","00:00",null,null,null,null,null,null,null,null,null,null,null,null,null,null,null,null,null,null,null,null,null,null,null,null,null,null,null,null,null,null,null,null,null,null,null,null,null,null,null,null,null,null,null,"00:00",285,0,"0000000","00","00","00"]
["SA01395","Motherwell AC","1990-08-04","Christopher McCrum","SA01395","Senior",".",286,{"$f":"VLOOKUP('entries and results'!G288,$A$3:$E$30018,4,FALSE)","v":" "},{"$f":"VLOOKUP('entries and results'!G288,$A$3:$F$30018,6,FALSE)","v":" "},{"$f":"VLOOKUP('entries and results'!G288,$A$3:$E$30018,2,FALSE)","v":" "},null,286,".",{"$f":"VLOOKUP('entries and results'!N288,$H$3:$K$30018,2,FALSE)","v":" "},{"$f":"VLOOKUP('entries and results'!N288,$H$3:$K$30018,3,FALSE)","v":" "},{"$f":"VLOOKUP('entries and results'!N288,$H$3:$K$30018,4,FALSE)","v":" "},{"$f":"VLOOKUP('entries and results'!N288,$H$3:$L$30018,5,FALSE)","v":0}," ","00:00",null,null,null,null,null,null,null,null,null,null,null,null,null,null,null,null,null,null,null,null,null,null,null,null,null,null,null,null,null,null,null,null,null,null,null,null,null,null,null,null,null,null,null,"00:00",286,0,"0000000","00","00","00"]
["SA01396","Motherwell AC","1994-07-04","David McCrum","SA01396","Under 17",".",287,{"$f":"VLOOKUP('entries and results'!G289,$A$3:$E$30018,4,FALSE)","v":" "},{"$f":"VLOOKUP('entries and results'!G289,$A$3:$F$30018,6,FALSE)","v":" "},{"$f":"VLOOKUP('entries and results'!G289,$A$3:$E$30018,2,FALSE)","v":" "},null,287,".",{"$f":"VLOOKUP('entries and results'!N289,$H$3:$K$30018,2,FALSE)","v":" "},{"$f":"VLOOKUP('entries and results'!N289,$H$3:$K$30018,3,FALSE)","v":" "},{"$f":"VLOOKUP('entries and results'!N289,$H$3:$K$30018,4,FALSE)","v":" "},{"$f":"VLOOKUP('entries and results'!N289,$H$3:$L$30018,5,FALSE)","v":0}," ","00:00",null,null,null,null,null,null,null,null,null,null,null,null,null,null,null,null,null,null,null,null,null,null,null,null,null,null,null,null,null,null,null,null,null,null,null,null,null,null,null,null,null,null,null,"00:00",287,0,"0000000","00","00","00"]
["SA01403","Pitreavie AAC","1989-04-28","Lucy Crookston","SA01403","Senior",".",288,{"$f":"VLOOKUP('entries and results'!G290,$A$3:$E$30018,4,FALSE)","v":" "},{"$f":"VLOOKUP('entries and results'!G290,$A$3:$F$30018,6,FALSE)","v":" "},{"$f":"VLOOKUP('entries and results'!G290,$A$3:$E$30018,2,FALSE)","v":" "},null,288,".",{"$f":"VLOOKUP('entries and results'!N290,$H$3:$K$30018,2,FALSE)","v":" "},{"$f":"VLOOKUP('entries and results'!N290,$H$3:$K$30018,3,FALSE)","v":" "},{"$f":"VLOOKUP('entries and results'!N290,$H$3:$K$30018,4,FALSE)","v":" "},{"$f":"VLOOKUP('entries and results'!N290,$H$3:$L$30018,5,FALSE)","v":0}," ","00:00",null,null,null,null,null,null,null,null,null,null,null,null,null,null,null,null,null,null,null,null,null,null,null,null,null,null,null,null,null,null,null,null,null,null,null,null,null,null,null,null,null,null,null,"00:00",288,0,"0000000","00","00","00"]
["SA01404","Edinburgh AC","1994-01-21","Rebecca Law","SA01404","Under 17",".",289,{"$f":"VLOOKUP('entries and results'!G291,$A$3:$E$30018,4,FALSE)","v":" "},{"$f":"VLOOKUP('entries and results'!G291,$A$3:$F$30018,6,FALSE)","v":" "},{"$f":"VLOOKUP('entries and results'!G291,$A$3:$E$30018,2,FALSE)","v":" "},null,289,".",{"$f":"VLOOKUP('entries and results'!N291,$H$3:$K$30018,2,FALSE)","v":" "},{"$f":"VLOOKUP('entries and results'!N291,$H$3:$K$30018,3,FALSE)","v":" "},{"$f":"VLOOKUP('entries and results'!N291,$H$3:$K$30018,4,FALSE)","v":" "},{"$f":"VLOOKUP('entries and results'!N291,$H$3:$L$30018,5,FALSE)","v":0}," ","00:00",null,null,null,null,null,null,null,null,null,null,null,null,null,null,null,null,null,null,null,null,null,null,null,null,null,null,null,null,null,null,null,null,null,null,null,null,null,null,null,null,null,null,null,"00:00",289,0,"0000000","00","00","00"]
["SA01405","VP-Glasgow AC","1989-12-17","Christopher Bennett","SA01405","Senior",".",290,{"$f":"VLOOKUP('entries and results'!G292,$A$3:$E$30018,4,FALSE)","v":" "},{"$f":"VLOOKUP('entries and results'!G292,$A$3:$F$30018,6,FALSE)","v":" "},{"$f":"VLOOKUP('entries and results'!G292,$A$3:$E$30018,2,FALSE)","v":" "},null,290,".",{"$f":"VLOOKUP('entries and results'!N292,$H$3:$K$30018,2,FALSE)","v":" "},{"$f":"VLOOKUP('entries and results'!N292,$H$3:$K$30018,3,FALSE)","v":" "},{"$f":"VLOOKUP('entries and results'!N292,$H$3:$K$30018,4,FALSE)","v":" "},{"$f":"VLOOKUP('entries and results'!N292,$H$3:$L$30018,5,FALSE)","v":0}," ","00:00",null,null,null,null,null,null,null,null,null,null,null,null,null,null,null,null,null,null,null,null,null,null,null,null,null,null,null,null,null,null,null,null,null,null,null,null,null,null,null,null,null,null,null,"00:00",290,0,"0000000","00","00","00"]
["SA01419","Falkirk Victoria Harriers","1993-12-11","Sarah Hamilton","SA01419","Under 17",".",291,{"$f":"VLOOKUP('entries and results'!G293,$A$3:$E$30018,4,FALSE)","v":" "},{"$f":"VLOOKUP('entries and results'!G293,$A$3:$F$30018,6,FALSE)","v":" "},{"$f":"VLOOKUP('entries and results'!G293,$A$3:$E$30018,2,FALSE)","v":" "},null,291,".",{"$f":"VLOOKUP('entries and results'!N293,$H$3:$K$30018,2,FALSE)","v":" "},{"$f":"VLOOKUP('entries and results'!N293,$H$3:$K$30018,3,FALSE)","v":" "},{"$f":"VLOOKUP('entries and results'!N293,$H$3:$K$30018,4,FALSE)","v":" "},{"$f":"VLOOKUP('entries and results'!N293,$H$3:$L$30018,5,FALSE)","v":0}," ","00:00",null,null,null,null,null,null,null,null,null,null,null,null,null,null,null,null,null,null,null,null,null,null,null,null,null,null,null,null,null,null,null,null,null,null,null,null,null,null,null,null,null,null,null,"00:00",291,0,"0000000","00","00","00"]
["SA01422","Stornoway Running & AC","1989-03-27","Andrew MacKenzie","SA01422","Senior",".",292,{"$f":"VLOOKUP('entries and results'!G294,$A$3:$E$30018,4,FALSE)","v":" "},{"$f":"VLOOKUP('entries and results'!G294,$A$3:$F$30018,6,FALSE)","v":" "},{"$f":"VLOOKUP('entries and results'!G294,$A$3:$E$30018,2,FALSE)","v":" "},null,292,".",{"$f":"VLOOKUP('entries and results'!N294,$H$3:$K$30018,2,FALSE)","v":" "},{"$f":"VLOOKUP('entries and results'!N294,$H$3:$K$30018,3,FALSE)","v":" "},{"$f":"VLOOKUP('entries and results'!N294,$H$3:$K$30018,4,FALSE)","v":" "},{"$f":"VLOOKUP('entries and results'!N294,$H$3:$L$30018,5,FALSE)","v":0}," ","00:00",null,null,null,null,null,null,null,null,null,null,null,null,null,null,null,null,null,null,null,null,null,null,null,null,null,null,null,null,null,null,null,null,null,null,null,null,null,null,null,null,null,null,null,"00:00",292,0,"0000000","00","00","00"]
["SA01429","Airdrie Harriers","1993-06-09","Samantha Donnelly","SA01429","Senior",".",293,{"$f":"VLOOKUP('entries and results'!G295,$A$3:$E$30018,4,FALSE)","v":" "},{"$f":"VLOOKUP('entries and results'!G295,$A$3:$F$30018,6,FALSE)","v":" "},{"$f":"VLOOKUP('entries and results'!G295,$A$3:$E$30018,2,FALSE)","v":" "},null,293,".",{"$f":"VLOOKUP('entries and results'!N295,$H$3:$K$30018,2,FALSE)","v":" "},{"$f":"VLOOKUP('entries and results'!N295,$H$3:$K$30018,3,FALSE)","v":" "},{"$f":"VLOOKUP('entries and results'!N295,$H$3:$K$30018,4,FALSE)","v":" "},{"$f":"VLOOKUP('entries and results'!N295,$H$3:$L$30018,5,FALSE)","v":0}," ","00:00",null,null,null,null,null,null,null,null,null,null,null,null,null,null,null,null,null,null,null,null,null,null,null,null,null,null,null,null,null,null,null,null,null,null,null,null,null,null,null,null,null,null,null,"00:00",293,0,"0000000","00","00","00"]
["SA01433","Arbroath & District AC","1993-03-24","Christine McLoughlin","SA01433","Senior",".",294,{"$f":"VLOOKUP('entries and results'!G296,$A$3:$E$30018,4,FALSE)","v":" "},{"$f":"VLOOKUP('entries and results'!G296,$A$3:$F$30018,6,FALSE)","v":" "},{"$f":"VLOOKUP('entries and results'!G296,$A$3:$E$30018,2,FALSE)","v":" "},null,294,".",{"$f":"VLOOKUP('entries and results'!N296,$H$3:$K$30018,2,FALSE)","v":" "},{"$f":"VLOOKUP('entries and results'!N296,$H$3:$K$30018,3,FALSE)","v":" "},{"$f":"VLOOKUP('entries and results'!N296,$H$3:$K$30018,4,FALSE)","v":" "},{"$f":"VLOOKUP('entries and results'!N296,$H$3:$L$30018,5,FALSE)","v":0}," ","00:00",null,null,null,null,null,null,null,null,null,null,null,null,null,null,null,null,null,null,null,null,null,null,null,null,null,null,null,null,null,null,null,null,null,null,null,null,null,null,null,null,null,null,null,"00:00",294,0,"0000000","00","00","00"]
["SA01434","Ayr Seaforth AAC","1994-06-18","Lauren Goldie","SA01434","Under 17",".",295,{"$f":"VLOOKUP('entries and results'!G297,$A$3:$E$30018,4,FALSE)","v":" "},{"$f":"VLOOKUP('entries and results'!G297,$A$3:$F$30018,6,FALSE)","v":" "},{"$f":"VLOOKUP('entries and results'!G297,$A$3:$E$30018,2,FALSE)","v":" "},null,295,".",{"$f":"VLOOKUP('entries and results'!N297,$H$3:$K$30018,2,FALSE)","v":" "},{"$f":"VLOOKUP('entries and results'!N297,$H$3:$K$30018,3,FALSE)","v":" "},{"$f":"VLOOKUP('entries and results'!N297,$H$3:$K$30018,4,FALSE)","v":" "},{"$f":"VLOOKUP('entries and results'!N297,$H$3:$L$30018,5,FALSE)","v":0}," ","00:00",null,null,null,null,null,null,null,null,null,null,null,null,null,null,null,null,null,null,null,null,null,null,null,null,null,null,null,null,null,null,null,null,null,null,null,null,null,null,null,null,null,null,null,"00:00",295,0,"0000000","00","00","00"]
["SA01435","Central AC","1993-11-24","Roddy Irvine","SA01435","Under 17",".",296,{"$f":"VLOOKUP('entries and results'!G298,$A$3:$E$30018,4,FALSE)","v":" "},{"$f":"VLOOKUP('entries and results'!G298,$A$3:$F$30018,6,FALSE)","v":" "},{"$f":"VLOOKUP('entries and results'!G298,$A$3:$E$30018,2,FALSE)","v":" "},null,296,".",{"$f":"VLOOKUP('entries and results'!N298,$H$3:$K$30018,2,FALSE)","v":" "},{"$f":"VLOOKUP('entries and results'!N298,$H$3:$K$30018,3,FALSE)","v":" "},{"$f":"VLOOKUP('entries and results'!N298,$H$3:$K$30018,4,FALSE)","v":" "},{"$f":"VLOOKUP('entries and results'!N298,$H$3:$L$30018,5,FALSE)","v":0}," ","00:00",null,null,null,null,null,null,null,null,null,null,null,null,null,null,null,null,null,null,null,null,null,null,null,null,null,null,null,null,null,null,null,null,null,null,null,null,null,null,null,null,null,null,null,"00:00",296,0,"0000000","00","00","00"]
["SA01440","Corstorphine AAC","1994-06-26","Callum Smith","SA01440","Under 17",".",297,{"$f":"VLOOKUP('entries and results'!G299,$A$3:$E$30018,4,FALSE)","v":" "},{"$f":"VLOOKUP('entries and results'!G299,$A$3:$F$30018,6,FALSE)","v":" "},{"$f":"VLOOKUP('entries and results'!G299,$A$3:$E$30018,2,FALSE)","v":" "},null,297,".",{"$f":"VLOOKUP('entries and results'!N299,$H$3:$K$30018,2,FALSE)","v":" "},{"$f":"VLOOKUP('entries and results'!N299,$H$3:$K$30018,3,FALSE)","v":" "},{"$f":"VLOOKUP('entries and results'!N299,$H$3:$K$30018,4,FALSE)","v":" "},{"$f":"VLOOKUP('entries and results'!N299,$H$3:$L$30018,5,FALSE)","v":0}," ","00:00",null,null,null,null,null,null,null,null,null,null,null,null,null,null,null,null,null,null,null,null,null,null,null,null,null,null,null,null,null,null,null,null,null,null,null,null,null,null,null,null,null,null,null,"00:00",297,0,"0000000","00","00","00"]
["SA01446","Edinburgh AC","1991-10-16","Laura Goodson","SA01446","Senior",".",298,{"$f":"VLOOKUP('entries and results'!G300,$A$3:$E$30018,4,FALSE)","v":" "},{"$f":"VLOOKUP('entries and results'!G300,$A$3:$F$30018,6,FALSE)","v":" "},{"$f":"VLOOKUP('entries and results'!G300,$A$3:$E$30018,2,FALSE)","v":" "},null,298,".",{"$f":"VLOOKUP('entries and results'!N300,$H$3:$K$30018,2,FALSE)","v":" "},{"$f":"VLOOKUP('entries and results'!N300,$H$3:$K$30018,3,FALSE)","v":" "},{"$f":"VLOOKUP('entries and results'!N300,$H$3:$K$30018,4,FALSE)","v":" "},{"$f":"VLOOKUP('entries and results'!N300,$H$3:$L$30018,5,FALSE)","v":0}," ","00:00",null,null,null,null,null,null,null,null,null,null,null,null,null,null,null,null,null,null,null,null,null,null,null,null,null,null,null,null,null,null,null,null,null,null,null,null,null,null,null,null,null,null,null,"00:00",298,0,"0000000","00","00","00"]
["SA01448","Falkirk Victoria Harriers","1992-06-21","Lewis Grant","SA01448","Senior",".",299,{"$f":"VLOOKUP('entries and results'!G301,$A$3:$E$30018,4,FALSE)","v":" "},{"$f":"VLOOKUP('entries and results'!G301,$A$3:$F$30018,6,FALSE)","v":" "},{"$f":"VLOOKUP('entries and results'!G301,$A$3:$E$30018,2,FALSE)","v":" "},null,299,".",{"$f":"VLOOKUP('entries and results'!N301,$H$3:$K$30018,2,FALSE)","v":" "},{"$f":"VLOOKUP('entries and results'!N301,$H$3:$K$30018,3,FALSE)","v":" "},{"$f":"VLOOKUP('entries and results'!N301,$H$3:$K$30018,4,FALSE)","v":" "},{"$f":"VLOOKUP('entries and results'!N301,$H$3:$L$30018,5,FALSE)","v":0}," ","00:00",null,null,null,null,null,null,null,null,null,null,null,null,null,null,null,null,null,null,null,null,null,null,null,null,null,null,null,null,null,null,null,null,null,null,null,null,null,null,null,null,null,null,null,"00:00",299,0,"0000000","00","00","00"]
["SA01449","Falkirk Victoria Harriers","1994-08-19","Abby Kemp","SA01449","Under 17",".",300,{"$f":"VLOOKUP('entries and results'!G302,$A$3:$E$30018,4,FALSE)","v":" "},{"$f":"VLOOKUP('entries and results'!G302,$A$3:$F$30018,6,FALSE)","v":" "},{"$f":"VLOOKUP('entries and results'!G302,$A$3:$E$30018,2,FALSE)","v":" "},null,300,".",{"$f":"VLOOKUP('entries and results'!N302,$H$3:$K$30018,2,FALSE)","v":" "},{"$f":"VLOOKUP('entries and results'!N302,$H$3:$K$30018,3,FALSE)","v":" "},{"$f":"VLOOKUP('entries and results'!N302,$H$3:$K$30018,4,FALSE)","v":" "},{"$f":"VLOOKUP('entries and results'!N302,$H$3:$L$30018,5,FALSE)","v":0}," ","00:00",null,null,null,null,null,null,null,null,null,null,null,null,null,null,null,null,null,null,null,null,null,null,null,null,null,null,null,null,null,null,null,null,null,null,null,null,null,null,null,null,null,null,null,"00:00",300,0,"0000000","00","00","00"]
["SA01456","Kilmarnock H&AC","1994-11-01","Evan Cornforth","SA01456","Under 17",".",301,{"$f":"VLOOKUP('entries and results'!G303,$A$3:$E$30018,4,FALSE)","v":" "},{"$f":"VLOOKUP('entries and results'!G303,$A$3:$F$30018,6,FALSE)","v":" "},{"$f":"VLOOKUP('entries and results'!G303,$A$3:$E$30018,2,FALSE)","v":" "},null,301,".",{"$f":"VLOOKUP('entries and results'!N303,$H$3:$K$30018,2,FALSE)","v":" "},{"$f":"VLOOKUP('entries and results'!N303,$H$3:$K$30018,3,FALSE)","v":" "},{"$f":"VLOOKUP('entries and results'!N303,$H$3:$K$30018,4,FALSE)","v":" "},{"$f":"VLOOKUP('entries and results'!N303,$H$3:$L$30018,5,FALSE)","v":0}," ","00:00",null,null,null,null,null,null,null,null,null,null,null,null,null,null,null,null,null,null,null,null,null,null,null,null,null,null,null,null,null,null,null,null,null,null,null,null,null,null,null,null,null,null,null,"00:00",301,0,"0000000","00","00","00"]
["SA01457","Ayr Seaforth AAC","1992-10-10","Sarah McNish","SA01457","Senior",".",302,{"$f":"VLOOKUP('entries and results'!G304,$A$3:$E$30018,4,FALSE)","v":" "},{"$f":"VLOOKUP('entries and results'!G304,$A$3:$F$30018,6,FALSE)","v":" "},{"$f":"VLOOKUP('entries and results'!G304,$A$3:$E$30018,2,FALSE)","v":" "},null,302,".",{"$f":"VLOOKUP('entries and results'!N304,$H$3:$K$30018,2,FALSE)","v":" "},{"$f":"VLOOKUP('entries and results'!N304,$H$3:$K$30018,3,FALSE)","v":" "},{"$f":"VLOOKUP('entries and results'!N304,$H$3:$K$30018,4,FALSE)","v":" "},{"$f":"VLOOKUP('entries and results'!N304,$H$3:$L$30018,5,FALSE)","v":0}," ","00:00",null,null,null,null,null,null,null,null,null,null,null,null,null,null,null,null,null,null,null,null,null,null,null,null,null,null,null,null,null,null,null,null,null,null,null,null,null,null,null,null,null,null,null,"00:00",302,0,"0000000","00","00","00"]
["SA01458","Kilbarchan AAC","1990-06-22","Paul Leck","SA01458","Senior",".",303,{"$f":"VLOOKUP('entries and results'!G305,$A$3:$E$30018,4,FALSE)","v":" "},{"$f":"VLOOKUP('entries and results'!G305,$A$3:$F$30018,6,FALSE)","v":" "},{"$f":"VLOOKUP('entries and results'!G305,$A$3:$E$30018,2,FALSE)","v":" "},null,303,".",{"$f":"VLOOKUP('entries and results'!N305,$H$3:$K$30018,2,FALSE)","v":" "},{"$f":"VLOOKUP('entries and results'!N305,$H$3:$K$30018,3,FALSE)","v":" "},{"$f":"VLOOKUP('entries and results'!N305,$H$3:$K$30018,4,FALSE)","v":" "},{"$f":"VLOOKUP('entries and results'!N305,$H$3:$L$30018,5,FALSE)","v":0}," ","00:00",null,null,null,null,null,null,null,null,null,null,null,null,null,null,null,null,null,null,null,null,null,null,null,null,null,null,null,null,null,null,null,null,null,null,null,null,null,null,null,null,null,null,null,"00:00",303,0,"0000000","00","00","00"]
["SA01460","Lasswade AAC","1994-02-07","Adam Lyon","SA01460","Under 17",".",304,{"$f":"VLOOKUP('entries and results'!G306,$A$3:$E$30018,4,FALSE)","v":" "},{"$f":"VLOOKUP('entries and results'!G306,$A$3:$F$30018,6,FALSE)","v":" "},{"$f":"VLOOKUP('entries and results'!G306,$A$3:$E$30018,2,FALSE)","v":" "},null,304,".",{"$f":"VLOOKUP('entries and results'!N306,$H$3:$K$30018,2,FALSE)","v":" "},{"$f":"VLOOKUP('entries and results'!N306,$H$3:$K$30018,3,FALSE)","v":" "},{"$f":"VLOOKUP('entries and results'!N306,$H$3:$K$30018,4,FALSE)","v":" "},{"$f":"VLOOKUP('entries and results'!N306,$H$3:$L$30018,5,FALSE)","v":0}," ","00:00",null,null,null,null,null,null,null,null,null,null,null,null,null,null,null,null,null,null,null,null,null,null,null,null,null,null,null,null,null,null,null,null,null,null,null,null,null,null,null,null,null,null,null,"00:00",304,0,"0000000","00","00","00"]
["SA01461","Lasswade AAC","1991-10-19","Zander Lyon","SA01461","Senior",".",305,{"$f":"VLOOKUP('entries and results'!G307,$A$3:$E$30018,4,FALSE)","v":" "},{"$f":"VLOOKUP('entries and results'!G307,$A$3:$F$30018,6,FALSE)","v":" "},{"$f":"VLOOKUP('entries and results'!G307,$A$3:$E$30018,2,FALSE)","v":" "},null,305,".",{"$f":"VLOOKUP('entries and results'!N307,$H$3:$K$30018,2,FALSE)","v":" "},{"$f":"VLOOKUP('entries and results'!N307,$H$3:$K$30018,3,FALSE)","v":" "},{"$f":"VLOOKUP('entries and results'!N307,$H$3:$K$30018,4,FALSE)","v":" "},{"$f":"VLOOKUP('entries and results'!N307,$H$3:$L$30018,5,FALSE)","v":0}," ","00:00",null,null,null,null,null,null,null,null,null,null,null,null,null,null,null,null,null,null,null,null,null,null,null,null,null,null,null,null,null,null,null,null,null,null,null,null,null,null,null,null,null,null,null,"00:00",305,0,"0000000","00","00","00"]
["SA01462","Lothian Running Club","1992-05-23","Craig McDowall","SA01462","Senior",".",306,{"$f":"VLOOKUP('entries and results'!G308,$A$3:$E$30018,4,FALSE)","v":" "},{"$f":"VLOOKUP('entries and results'!G308,$A$3:$F$30018,6,FALSE)","v":" "},{"$f":"VLOOKUP('entries and results'!G308,$A$3:$E$30018,2,FALSE)","v":" "},null,306,".",{"$f":"VLOOKUP('entries and results'!N308,$H$3:$K$30018,2,FALSE)","v":" "},{"$f":"VLOOKUP('entries and results'!N308,$H$3:$K$30018,3,FALSE)","v":" "},{"$f":"VLOOKUP('entries and results'!N308,$H$3:$K$30018,4,FALSE)","v":" "},{"$f":"VLOOKUP('entries and results'!N308,$H$3:$L$30018,5,FALSE)","v":0}," ","00:00",null,null,null,null,null,null,null,null,null,null,null,null,null,null,null,null,null,null,null,null,null,null,null,null,null,null,null,null,null,null,null,null,null,null,null,null,null,null,null,null,null,null,null,"00:00",306,0,"0000000","00","00","00"]
["SA01463","Livingston & District AAC","1989-02-09","Robyn McDowall","SA01463","Senior",".",307,{"$f":"VLOOKUP('entries and results'!G309,$A$3:$E$30018,4,FALSE)","v":" "},{"$f":"VLOOKUP('entries and results'!G309,$A$3:$F$30018,6,FALSE)","v":" "},{"$f":"VLOOKUP('entries and results'!G309,$A$3:$E$30018,2,FALSE)","v":" "},null,307,".",{"$f":"VLOOKUP('entries and results'!N309,$H$3:$K$30018,2,FALSE)","v":" "},{"$f":"VLOOKUP('entries and results'!N309,$H$3:$K$30018,3,FALSE)","v":" "},{"$f":"VLOOKUP('entries and results'!N309,$H$3:$K$30018,4,FALSE)","v":" "},{"$f":"VLOOKUP('entries and results'!N309,$H$3:$L$30018,5,FALSE)","v":0}," ","00:00",null,null,null,null,null,null,null,null,null,null,null,null,null,null,null,null,null,null,null,null,null,null,null,null,null,null,null,null,null,null,null,null,null,null,null,null,null,null,null,null,null,null,null,"00:00",307,0,"0000000","00","00","00"]
["SA01465","Montrose & District AC","1990-03-03","Mark Tough","SA01465","Senior",".",308,{"$f":"VLOOKUP('entries and results'!G310,$A$3:$E$30018,4,FALSE)","v":" "},{"$f":"VLOOKUP('entries and results'!G310,$A$3:$F$30018,6,FALSE)","v":" "},{"$f":"VLOOKUP('entries and results'!G310,$A$3:$E$30018,2,FALSE)","v":" "},null,308,".",{"$f":"VLOOKUP('entries and results'!N310,$H$3:$K$30018,2,FALSE)","v":" "},{"$f":"VLOOKUP('entries and results'!N310,$H$3:$K$30018,3,FALSE)","v":" "},{"$f":"VLOOKUP('entries and results'!N310,$H$3:$K$30018,4,FALSE)","v":" "},{"$f":"VLOOKUP('entries and results'!N310,$H$3:$L$30018,5,FALSE)","v":0}," ","00:00",null,null,null,null,null,null,null,null,null,null,null,null,null,null,null,null,null,null,null,null,null,null,null,null,null,null,null,null,null,null,null,null,null,null,null,null,null,null,null,null,null,null,null,"00:00",308,0,"0000000","00","00","00"]
["SA01478","Ayr Seaforth AAC","1992-08-21","Jonathan Dunn","SA01478","Senior",".",309,{"$f":"VLOOKUP('entries and results'!G311,$A$3:$E$30018,4,FALSE)","v":" "},{"$f":"VLOOKUP('entries and results'!G311,$A$3:$F$30018,6,FALSE)","v":" "},{"$f":"VLOOKUP('entries and results'!G311,$A$3:$E$30018,2,FALSE)","v":" "},null,309,".",{"$f":"VLOOKUP('entries and results'!N311,$H$3:$K$30018,2,FALSE)","v":" "},{"$f":"VLOOKUP('entries and results'!N311,$H$3:$K$30018,3,FALSE)","v":" "},{"$f":"VLOOKUP('entries and results'!N311,$H$3:$K$30018,4,FALSE)","v":" "},{"$f":"VLOOKUP('entries and results'!N311,$H$3:$L$30018,5,FALSE)","v":0}," ","00:00",null,null,null,null,null,null,null,null,null,null,null,null,null,null,null,null,null,null,null,null,null,null,null,null,null,null,null,null,null,null,null,null,null,null,null,null,null,null,null,null,null,null,null,"00:00",309,0,"0000000","00","00","00"]
["SA01479","Ayr Seaforth AAC","1994-07-09","Nicola Dunn","SA01479","Under 17",".",310,{"$f":"VLOOKUP('entries and results'!G312,$A$3:$E$30018,4,FALSE)","v":" "},{"$f":"VLOOKUP('entries and results'!G312,$A$3:$F$30018,6,FALSE)","v":" "},{"$f":"VLOOKUP('entries and results'!G312,$A$3:$E$30018,2,FALSE)","v":" "},null,310,".",{"$f":"VLOOKUP('entries and results'!N312,$H$3:$K$30018,2,FALSE)","v":" "},{"$f":"VLOOKUP('entries and results'!N312,$H$3:$K$30018,3,FALSE)","v":" "},{"$f":"VLOOKUP('entries and results'!N312,$H$3:$K$30018,4,FALSE)","v":" "},{"$f":"VLOOKUP('entries and results'!N312,$H$3:$L$30018,5,FALSE)","v":0}," ","00:00",null,null,null,null,null,null,null,null,null,null,null,null,null,null,null,null,null,null,null,null,null,null,null,null,null,null,null,null,null,null,null,null,null,null,null,null,null,null,null,null,null,null,null,"00:00",310,0,"0000000","00","00","00"]
["SA01480","Ayr Seaforth AAC","1992-12-23","Andrew Rae","SA01480","Senior",".",311,{"$f":"VLOOKUP('entries and results'!G313,$A$3:$E$30018,4,FALSE)","v":" "},{"$f":"VLOOKUP('entries and results'!G313,$A$3:$F$30018,6,FALSE)","v":" "},{"$f":"VLOOKUP('entries and results'!G313,$A$3:$E$30018,2,FALSE)","v":" "},null,311,".",{"$f":"VLOOKUP('entries and results'!N313,$H$3:$K$30018,2,FALSE)","v":" "},{"$f":"VLOOKUP('entries and results'!N313,$H$3:$K$30018,3,FALSE)","v":" "},{"$f":"VLOOKUP('entries and results'!N313,$H$3:$K$30018,4,FALSE)","v":" "},{"$f":"VLOOKUP('entries and results'!N313,$H$3:$L$30018,5,FALSE)","v":0}," ","00:00",null,null,null,null,null,null,null,null,null,null,null,null,null,null,null,null,null,null,null,null,null,null,null,null,null,null,null,null,null,null,null,null,null,null,null,null,null,null,null,null,null,null,null,"00:00",311,0,"0000000","00","00","00"]
["SA01481","Ayr Seaforth AAC","1994-08-05","Rachel Whittle","SA01481","Under 17",".",312,{"$f":"VLOOKUP('entries and results'!G314,$A$3:$E$30018,4,FALSE)","v":" "},{"$f":"VLOOKUP('entries and results'!G314,$A$3:$F$30018,6,FALSE)","v":" "},{"$f":"VLOOKUP('entries and results'!G314,$A$3:$E$30018,2,FALSE)","v":" "},null,312,".",{"$f":"VLOOKUP('entries and results'!N314,$H$3:$K$30018,2,FALSE)","v":" "},{"$f":"VLOOKUP('entries and results'!N314,$H$3:$K$30018,3,FALSE)","v":" "},{"$f":"VLOOKUP('entries and results'!N314,$H$3:$K$30018,4,FALSE)","v":" "},{"$f":"VLOOKUP('entries and results'!N314,$H$3:$L$30018,5,FALSE)","v":0}," ","00:00",null,null,null,null,null,null,null,null,null,null,null,null,null,null,null,null,null,null,null,null,null,null,null,null,null,null,null,null,null,null,null,null,null,null,null,null,null,null,null,null,null,null,null,"00:00",312,0,"0000000","00","00","00"]
["SA01490","Dundee Hawkhill Harriers","1992-04-11","Paul Dempsey","SA01490","Senior",".",313,{"$f":"VLOOKUP('entries and results'!G315,$A$3:$E$30018,4,FALSE)","v":" "},{"$f":"VLOOKUP('entries and results'!G315,$A$3:$F$30018,6,FALSE)","v":" "},{"$f":"VLOOKUP('entries and results'!G315,$A$3:$E$30018,2,FALSE)","v":" "},null,313,".",{"$f":"VLOOKUP('entries and results'!N315,$H$3:$K$30018,2,FALSE)","v":" "},{"$f":"VLOOKUP('entries and results'!N315,$H$3:$K$30018,3,FALSE)","v":" "},{"$f":"VLOOKUP('entries and results'!N315,$H$3:$K$30018,4,FALSE)","v":" "},{"$f":"VLOOKUP('entries and results'!N315,$H$3:$L$30018,5,FALSE)","v":0}," ","00:00",null,null,null,null,null,null,null,null,null,null,null,null,null,null,null,null,null,null,null,null,null,null,null,null,null,null,null,null,null,null,null,null,null,null,null,null,null,null,null,null,null,null,null,"00:00",313,0,"0000000","00","00","00"]
["SA01491","Unattached","1992-04-27","Martyn Gall","SA01491","Senior",".",314,{"$f":"VLOOKUP('entries and results'!G316,$A$3:$E$30018,4,FALSE)","v":" "},{"$f":"VLOOKUP('entries and results'!G316,$A$3:$F$30018,6,FALSE)","v":" "},{"$f":"VLOOKUP('entries and results'!G316,$A$3:$E$30018,2,FALSE)","v":" "},null,314,".",{"$f":"VLOOKUP('entries and results'!N316,$H$3:$K$30018,2,FALSE)","v":" "},{"$f":"VLOOKUP('entries and results'!N316,$H$3:$K$30018,3,FALSE)","v":" "},{"$f":"VLOOKUP('entries and results'!N316,$H$3:$K$30018,4,FALSE)","v":" "},{"$f":"VLOOKUP('entries and results'!N316,$H$3:$L$30018,5,FALSE)","v":0}," ","00:00",null,null,null,null,null,null,null,null,null,null,null,null,null,null,null,null,null,null,null,null,null,null,null,null,null,null,null,null,null,null,null,null,null,null,null,null,null,null,null,null,null,null,null,"00:00",314,0,"0000000","00","00","00"]
["SA01493","East Kilbride A.C.","1990-09-10","David Gorman","SA01493","Senior",".",315,{"$f":"VLOOKUP('entries and results'!G317,$A$3:$E$30018,4,FALSE)","v":" "},{"$f":"VLOOKUP('entries and results'!G317,$A$3:$F$30018,6,FALSE)","v":" "},{"$f":"VLOOKUP('entries and results'!G317,$A$3:$E$30018,2,FALSE)","v":" "},null,315,".",{"$f":"VLOOKUP('entries and results'!N317,$H$3:$K$30018,2,FALSE)","v":" "},{"$f":"VLOOKUP('entries and results'!N317,$H$3:$K$30018,3,FALSE)","v":" "},{"$f":"VLOOKUP('entries and results'!N317,$H$3:$K$30018,4,FALSE)","v":" "},{"$f":"VLOOKUP('entries and results'!N317,$H$3:$L$30018,5,FALSE)","v":0}," ","00:00",null,null,null,null,null,null,null,null,null,null,null,null,null,null,null,null,null,null,null,null,null,null,null,null,null,null,null,null,null,null,null,null,null,null,null,null,null,null,null,null,null,null,null,"00:00",315,0,"0000000","00","00","00"]
["SA01496","Fife AC","1994-07-04","Katy Tan","SA01496","Under 17",".",316,{"$f":"VLOOKUP('entries and results'!G318,$A$3:$E$30018,4,FALSE)","v":" "},{"$f":"VLOOKUP('entries and results'!G318,$A$3:$F$30018,6,FALSE)","v":" "},{"$f":"VLOOKUP('entries and results'!G318,$A$3:$E$30018,2,FALSE)","v":" "},null,316,".",{"$f":"VLOOKUP('entries and results'!N318,$H$3:$K$30018,2,FALSE)","v":" "},{"$f":"VLOOKUP('entries and results'!N318,$H$3:$K$30018,3,FALSE)","v":" "},{"$f":"VLOOKUP('entries and results'!N318,$H$3:$K$30018,4,FALSE)","v":" "},{"$f":"VLOOKUP('entries and results'!N318,$H$3:$L$30018,5,FALSE)","v":0}," ","00:00",null,null,null,null,null,null,null,null,null,null,null,null,null,null,null,null,null,null,null,null,null,null,null,null,null,null,null,null,null,null,null,null,null,null,null,null,null,null,null,null,null,null,null,"00:00",316,0,"0000000","00","00","00"]
["SA01498","Giffnock North AAC","1993-01-20","Matthew Cumming","SA01498","Senior",".",317,{"$f":"VLOOKUP('entries and results'!G319,$A$3:$E$30018,4,FALSE)","v":" "},{"$f":"VLOOKUP('entries and results'!G319,$A$3:$F$30018,6,FALSE)","v":" "},{"$f":"VLOOKUP('entries and results'!G319,$A$3:$E$30018,2,FALSE)","v":" "},null,317,".",{"$f":"VLOOKUP('entries and results'!N319,$H$3:$K$30018,2,FALSE)","v":" "},{"$f":"VLOOKUP('entries and results'!N319,$H$3:$K$30018,3,FALSE)","v":" "},{"$f":"VLOOKUP('entries and results'!N319,$H$3:$K$30018,4,FALSE)","v":" "},{"$f":"VLOOKUP('entries and results'!N319,$H$3:$L$30018,5,FALSE)","v":0}," ","00:00",null,null,null,null,null,null,null,null,null,null,null,null,null,null,null,null,null,null,null,null,null,null,null,null,null,null,null,null,null,null,null,null,null,null,null,null,null,null,null,null,null,null,null,"00:00",317,0,"0000000","00","00","00"]
["SA01503","Inverclyde AC","1992-11-02","Paul Currie","SA01503","Senior",".",318,{"$f":"VLOOKUP('entries and results'!G320,$A$3:$E$30018,4,FALSE)","v":" "},{"$f":"VLOOKUP('entries and results'!G320,$A$3:$F$30018,6,FALSE)","v":" "},{"$f":"VLOOKUP('entries and results'!G320,$A$3:$E$30018,2,FALSE)","v":" "},null,318,".",{"$f":"VLOOKUP('entries and results'!N320,$H$3:$K$30018,2,FALSE)","v":" "},{"$f":"VLOOKUP('entries and results'!N320,$H$3:$K$30018,3,FALSE)","v":" "},{"$f":"VLOOKUP('entries and results'!N320,$H$3:$K$30018,4,FALSE)","v":" "},{"$f":"VLOOKUP('entries and results'!N320,$H$3:$L$30018,5,FALSE)","v":0}," ","00:00",null,null,null,null,null,null,null,null,null,null,null,null,null,null,null,null,null,null,null,null,null,null,null,null,null,null,null,null,null,null,null,null,null,null,null,null,null,null,null,null,null,null,null,"00:00",318,0,"0000000","00","00","00"]
["SA01506","Sale Harriers","1990-06-13","Holly Belch","SA01506","Senior",".",319,{"$f":"VLOOKUP('entries and results'!G321,$A$3:$E$30018,4,FALSE)","v":" "},{"$f":"VLOOKUP('entries and results'!G321,$A$3:$F$30018,6,FALSE)","v":" "},{"$f":"VLOOKUP('entries and results'!G321,$A$3:$E$30018,2,FALSE)","v":" "},null,319,".",{"$f":"VLOOKUP('entries and results'!N321,$H$3:$K$30018,2,FALSE)","v":" "},{"$f":"VLOOKUP('entries and results'!N321,$H$3:$K$30018,3,FALSE)","v":" "},{"$f":"VLOOKUP('entries and results'!N321,$H$3:$K$30018,4,FALSE)","v":" "},{"$f":"VLOOKUP('entries and results'!N321,$H$3:$L$30018,5,FALSE)","v":0}," ","00:00",null,null,null,null,null,null,null,null,null,null,null,null,null,null,null,null,null,null,null,null,null,null,null,null,null,null,null,null,null,null,null,null,null,null,null,null,null,null,null,null,null,null,null,"00:00",319,0,"0000000","00","00","00"]
["SA01507","Kilbarchan AAC","1991-07-30","Michelle Bell","SA01507","Senior",".",320,{"$f":"VLOOKUP('entries and results'!G322,$A$3:$E$30018,4,FALSE)","v":" "},{"$f":"VLOOKUP('entries and results'!G322,$A$3:$F$30018,6,FALSE)","v":" "},{"$f":"VLOOKUP('entries and results'!G322,$A$3:$E$30018,2,FALSE)","v":" "},null,320,".",{"$f":"VLOOKUP('entries and results'!N322,$H$3:$K$30018,2,FALSE)","v":" "},{"$f":"VLOOKUP('entries and results'!N322,$H$3:$K$30018,3,FALSE)","v":" "},{"$f":"VLOOKUP('entries and results'!N322,$H$3:$K$30018,4,FALSE)","v":" "},{"$f":"VLOOKUP('entries and results'!N322,$H$3:$L$30018,5,FALSE)","v":0}," ","00:00",null,null,null,null,null,null,null,null,null,null,null,null,null,null,null,null,null,null,null,null,null,null,null,null,null,null,null,null,null,null,null,null,null,null,null,null,null,null,null,null,null,null,null,"00:00",320,0,"0000000","00","00","00"]
["SA01508","Kilbarchan AAC","1993-10-11","Andrew Cunningham","SA01508","Under 17",".",321,{"$f":"VLOOKUP('entries and results'!G323,$A$3:$E$30018,4,FALSE)","v":" "},{"$f":"VLOOKUP('entries and results'!G323,$A$3:$F$30018,6,FALSE)","v":" "},{"$f":"VLOOKUP('entries and results'!G323,$A$3:$E$30018,2,FALSE)","v":" "},null,321,".",{"$f":"VLOOKUP('entries and results'!N323,$H$3:$K$30018,2,FALSE)","v":" "},{"$f":"VLOOKUP('entries and results'!N323,$H$3:$K$30018,3,FALSE)","v":" "},{"$f":"VLOOKUP('entries and results'!N323,$H$3:$K$30018,4,FALSE)","v":" "},{"$f":"VLOOKUP('entries and results'!N323,$H$3:$L$30018,5,FALSE)","v":0}," ","00:00",null,null,null,null,null,null,null,null,null,null,null,null,null,null,null,null,null,null,null,null,null,null,null,null,null,null,null,null,null,null,null,null,null,null,null,null,null,null,null,null,null,null,null,"00:00",321,{"$f":"SUMIF($H$3:$H$601,$BM323,$S$3:$S$601)","v":0},"0000000","00","00","00"]
["SA01509","Kilbarchan AAC","1989-04-29","Derek Hawkins","SA01509","Senior",".",322,{"$f":"VLOOKUP('entries and results'!G324,$A$3:$E$30018,4,FALSE)","v":" "},{"$f":"VLOOKUP('entries and results'!G324,$A$3:$F$30018,6,FALSE)","v":" "},{"$f":"VLOOKUP('entries and results'!G324,$A$3:$E$30018,2,FALSE)","v":" "},null,322,".",{"$f":"VLOOKUP('entries and results'!N324,$H$3:$K$30018,2,FALSE)","v":" "},{"$f":"VLOOKUP('entries and results'!N324,$H$3:$K$30018,3,FALSE)","v":" "},{"$f":"VLOOKUP('entries and results'!N324,$H$3:$K$30018,4,FALSE)","v":" "},{"$f":"VLOOKUP('entries and results'!N324,$H$3:$L$30018,5,FALSE)","v":0}," ",{"$f":"IF($H324=\"\",\" \",(LOOKUP($H324,$BM$3:$BM$1601,$BL$3:$BL$1601)))","v":"00:00"},null,null,null,null,null,null,null,null,null,null,null,null,null,null,null,null,null,null,null,null,null,null,null,null,null,null,null,null,null,null,null,null,null,null,null,null,null,null,null,null,null,null,null,{"$f":"CONCATENATE(BQ324,\":\",BR324)","v":"00:00"},322,0,{"$f":"CONCATENATE($BI$2,$BN324)","v":"0000000"},{"$f":"MID(RIGHT($BO324,6),1,2)","v":"00"},{"$f":"MID(RIGHT($BO324,6),3,2)","v":"00"},{"$f":"MID(RIGHT($BO324,6),5,2)","v":"00"}]
["SA01510","Kilbarchan AAC","1990-03-24","Scott Hawkins","SA01510","Senior",".",323,{"$f":"VLOOKUP('entries and results'!G325,$A$3:$E$30018,4,FALSE)","v":" "},{"$f":"VLOOKUP('entries and results'!G325,$A$3:$F$30018,6,FALSE)","v":" "},{"$f":"VLOOKUP('entries and results'!G325,$A$3:$E$30018,2,FALSE)","v":" "},null,323,".",{"$f":"VLOOKUP('entries and results'!N325,$H$3:$K$30018,2,FALSE)","v":" "},{"$f":"VLOOKUP('entries and results'!N325,$H$3:$K$30018,3,FALSE)","v":" "},{"$f":"VLOOKUP('entries and results'!N325,$H$3:$K$30018,4,FALSE)","v":" "},{"$f":"VLOOKUP('entries and results'!N325,$H$3:$L$30018,5,FALSE)","v":0}," ","00:00",null,null,null,null,null,null,null,null,null,null,null,null,null,null,null,null,null,null,null,null,null,null,null,null,null,null,null,null,null,null,null,null,null,null,null,null,null,null,null,null,null,null,null,{"$f":"CONCATENATE(BQ325,\":\",BR325)","v":"00:00"},323,0,{"$f":"CONCATENATE($BI$2,$BN325)","v":"0000000"},{"$f":"MID(RIGHT($BO325,6),1,2)","v":"00"},{"$f":"MID(RIGHT($BO325,6),3,2)","v":"00"},{"$f":"MID(RIGHT($BO325,6),5,2)","v":"00"}]
["SA01511","Kilbarchan AAC","1992-09-01","Andrew McLaughlan","SA01511","Senior",".",324,{"$f":"VLOOKUP('entries and results'!G326,$A$3:$E$30018,4,FALSE)","v":" "},{"$f":"VLOOKUP('entries and results'!G326,$A$3:$F$30018,6,FALSE)","v":" "},{"$f":"VLOOKUP('entries and results'!G326,$A$3:$E$30018,2,FALSE)","v":" "},null,324,".",{"$f":"VLOOKUP('entries and results'!N326,$H$3:$K$30018,2,FALSE)","v":" "},{"$f":"VLOOKUP('entries and results'!N326,$H$3:$K$30018,3,FALSE)","v":" "},{"$f":"VLOOKUP('entries and results'!N326,$H$3:$K$30018,4,FALSE)","v":" "},{"$f":"VLOOKUP('entries and results'!N326,$H$3:$L$30018,5,FALSE)","v":0}," ","00:00",null,null,null,null,null,null,null,null,null,null,null,null,null,null,null,null,null,null,null,null,null,null,null,null,null,null,null,null,null,null,null,null,null,null,null,null,null,null,null,null,null,null,null,{"$f":"CONCATENATE(BQ326,\":\",BR326)","v":"00:00"},324,0,{"$f":"CONCATENATE($BI$2,$BN326)","v":"0000000"},{"$f":"MID(RIGHT($BO326,6),1,2)","v":"00"},{"$f":"MID(RIGHT($BO326,6),3,2)","v":"00"},{"$f":"MID(RIGHT($BO326,6),5,2)","v":"00"}]
["SA01517","Pitreavie AAC","1990-09-26","Lauren McManus","SA01517","Senior",".",325,{"$f":"VLOOKUP('entries and results'!G327,$A$3:$E$30018,4,FALSE)","v":" "},{"$f":"VLOOKUP('entries and results'!G327,$A$3:$F$30018,6,FALSE)","v":" "},{"$f":"VLOOKUP('entries and results'!G327,$A$3:$E$30018,2,FALSE)","v":" "},null,325,".",{"$f":"VLOOKUP('entries and results'!N327,$H$3:$K$30018,2,FALSE)","v":" "},{"$f":"VLOOKUP('entries and results'!N327,$H$3:$K$30018,3,FALSE)","v":" "},{"$f":"VLOOKUP('entries and results'!N327,$H$3:$K$30018,4,FALSE)","v":" "},{"$f":"VLOOKUP('entries and results'!N327,$H$3:$L$30018,5,FALSE)","v":0}," ","00:00",null,null,null,null,null,null,null,null,null,null,null,null,null,null,null,null,null,null,null,null,null,null,null,null,null,null,null,null,null,null,null,null,null,null,null,null,null,null,null,null,null,null,null,"00:00",325,0,"0000000","00","00","00"]
["SA01523","Whitemoss AAC","1991-07-06","Stuart Jamieson","SA01523","Senior",".",326,{"$f":"VLOOKUP('entries and results'!G328,$A$3:$E$30018,4,FALSE)","v":" "},{"$f":"VLOOKUP('entries and results'!G328,$A$3:$F$30018,6,FALSE)","v":" "},{"$f":"VLOOKUP('entries and results'!G328,$A$3:$E$30018,2,FALSE)","v":" "},null,326,".",{"$f":"VLOOKUP('entries and results'!N328,$H$3:$K$30018,2,FALSE)","v":" "},{"$f":"VLOOKUP('entries and results'!N328,$H$3:$K$30018,3,FALSE)","v":" "},{"$f":"VLOOKUP('entries and results'!N328,$H$3:$K$30018,4,FALSE)","v":" "},{"$f":"VLOOKUP('entries and results'!N328,$H$3:$L$30018,5,FALSE)","v":0}," ","00:00",null,null,null,null,null,null,null,null,null,null,null,null,null,null,null,null,null,null,null,null,null,null,null,null,null,null,null,null,null,null,null,null,null,null,null,null,null,null,null,null,null,null,null,"00:00",326,0,"0000000","00","00","00"]
["SA01526","Kilmarnock H&AC","1990-09-04","James Wales","SA01526","Senior",".",327,{"$f":"VLOOKUP('entries and results'!G329,$A$3:$E$30018,4,FALSE)","v":" "},{"$f":"VLOOKUP('entries and results'!G329,$A$3:$F$30018,6,FALSE)","v":" "},{"$f":"VLOOKUP('entries and results'!G329,$A$3:$E$30018,2,FALSE)","v":" "},null,327,".",{"$f":"VLOOKUP('entries and results'!N329,$H$3:$K$30018,2,FALSE)","v":" "},{"$f":"VLOOKUP('entries and results'!N329,$H$3:$K$30018,3,FALSE)","v":" "},{"$f":"VLOOKUP('entries and results'!N329,$H$3:$K$30018,4,FALSE)","v":" "},{"$f":"VLOOKUP('entries and results'!N329,$H$3:$L$30018,5,FALSE)","v":0}," ","00:00",null,null,null,null,null,null,null,null,null,null,null,null,null,null,null,null,null,null,null,null,null,null,null,null,null,null,null,null,null,null,null,null,null,null,null,null,null,null,null,null,null,null,null,"00:00",327,0,"0000000","00","00","00"]
["SA01534","Ayr Seaforth AAC","1993-10-12","David Carter","SA01534","Under 17",".",328,{"$f":"VLOOKUP('entries and results'!G330,$A$3:$E$30018,4,FALSE)","v":" "},{"$f":"VLOOKUP('entries and results'!G330,$A$3:$F$30018,6,FALSE)","v":" "},{"$f":"VLOOKUP('entries and results'!G330,$A$3:$E$30018,2,FALSE)","v":" "},null,328,".",{"$f":"VLOOKUP('entries and results'!N330,$H$3:$K$30018,2,FALSE)","v":" "},{"$f":"VLOOKUP('entries and results'!N330,$H$3:$K$30018,3,FALSE)","v":" "},{"$f":"VLOOKUP('entries and results'!N330,$H$3:$K$30018,4,FALSE)","v":" "},{"$f":"VLOOKUP('entries and results'!N330,$H$3:$L$30018,5,FALSE)","v":0}," ","00:00",null,null,null,null,null,null,null,null,null,null,null,null,null,null,null,null,null,null,null,null,null,null,null,null,null,null,null,null,null,null,null,null,null,null,null,null,null,null,null,null,null,null,null,"00:00",328,0,"0000000","00","00","00"]
["SA01535","Edinburgh AC","1988-01-29","Kris Gauson","SA01535","Senior",".",329,{"$f":"VLOOKUP('entries and results'!G331,$A$3:$E$30018,4,FALSE)","v":" "},{"$f":"VLOOKUP('entries and results'!G331,$A$3:$F$30018,6,FALSE)","v":" "},{"$f":"VLOOKUP('entries and results'!G331,$A$3:$E$30018,2,FALSE)","v":" "},null,329,".",{"$f":"VLOOKUP('entries and results'!N331,$H$3:$K$30018,2,FALSE)","v":" "},{"$f":"VLOOKUP('entries and results'!N331,$H$3:$K$30018,3,FALSE)","v":" "},{"$f":"VLOOKUP('entries and results'!N331,$H$3:$K$30018,4,FALSE)","v":" "},{"$f":"VLOOKUP('entries and results'!N331,$H$3:$L$30018,5,FALSE)","v":0}," ","00:00",null,null,null,null,null,null,null,null,null,null,null,null,null,null,null,null,null,null,null,null,null,null,null,null,null,null,null,null,null,null,null,null,null,null,null,null,null,null,null,null,null,null,null,"00:00",329,0,"0000000","00","00","00"]
["SA01541","Edinburgh AC","1989-11-03","Carly Beattie","SA01541","Senior",".",330,{"$f":"VLOOKUP('entries and results'!G332,$A$3:$E$30018,4,FALSE)","v":" "},{"$f":"VLOOKUP('entries and results'!G332,$A$3:$F$30018,6,FALSE)","v":" "},{"$f":"VLOOKUP('entries and results'!G332,$A$3:$E$30018,2,FALSE)","v":" "},null,330,".",{"$f":"VLOOKUP('entries and results'!N332,$H$3:$K$30018,2,FALSE)","v":" "},{"$f":"VLOOKUP('entries and results'!N332,$H$3:$K$30018,3,FALSE)","v":" "},{"$f":"VLOOKUP('entries and results'!N332,$H$3:$K$30018,4,FALSE)","v":" "},{"$f":"VLOOKUP('entries and results'!N332,$H$3:$L$30018,5,FALSE)","v":0}," ","00:00",null,null,null,null,null,null,null,null,null,null,null,null,null,null,null,null,null,null,null,null,null,null,null,null,null,null,null,null,null,null,null,null,null,null,null,null,null,null,null,null,null,null,null,"00:00",330,0,"0000000","00","00","00"]
["SA01543","Edinburgh AC","1992-02-25","Toby Harris","SA01543","Senior",".",331,{"$f":"VLOOKUP('entries and results'!G333,$A$3:$E$30018,4,FALSE)","v":" "},{"$f":"VLOOKUP('entries and results'!G333,$A$3:$F$30018,6,FALSE)","v":" "},{"$f":"VLOOKUP('entries and results'!G333,$A$3:$E$30018,2,FALSE)","v":" "},null,331,".",{"$f":"VLOOKUP('entries and results'!N333,$H$3:$K$30018,2,FALSE)","v":" "},{"$f":"VLOOKUP('entries and results'!N333,$H$3:$K$30018,3,FALSE)","v":" "},{"$f":"VLOOKUP('entries and results'!N333,$H$3:$K$30018,4,FALSE)","v":" "},{"$f":"VLOOKUP('entries and results'!N333,$H$3:$L$30018,5,FALSE)","v":0}," ","00:00",null,null,null,null,null,null,null,null,null,null,null,null,null,null,null,null,null,null,null,null,null,null,null,null,null,null,null,null,null,null,null,null,null,null,null,null,null,null,null,null,null,null,null,"00:00",331,0,"0000000","00","00","00"]
["SA01544","George Heriots School","1992-04-18","Grant McEwan","SA01544","Senior",".",332,{"$f":"VLOOKUP('entries and results'!G334,$A$3:$E$30018,4,FALSE)","v":" "},{"$f":"VLOOKUP('entries and results'!G334,$A$3:$F$30018,6,FALSE)","v":" "},{"$f":"VLOOKUP('entries and results'!G334,$A$3:$E$30018,2,FALSE)","v":" "},null,332,".",{"$f":"VLOOKUP('entries and results'!N334,$H$3:$K$30018,2,FALSE)","v":" "},{"$f":"VLOOKUP('entries and results'!N334,$H$3:$K$30018,3,FALSE)","v":" "},{"$f":"VLOOKUP('entries and results'!N334,$H$3:$K$30018,4,FALSE)","v":" "},{"$f":"VLOOKUP('entries and results'!N334,$H$3:$L$30018,5,FALSE)","v":0}," ","00:00",null,null,null,null,null,null,null,null,null,null,null,null,null,null,null,null,null,null,null,null,null,null,null,null,null,null,null,null,null,null,null,null,null,null,null,null,null,null,null,null,null,null,null,"00:00",332,0,"0000000","00","00","00"]
["SA01546","Edinburgh AC","1990-11-23","Chris O'Hare","SA01546","Senior",".",333,{"$f":"VLOOKUP('entries and results'!G335,$A$3:$E$30018,4,FALSE)","v":" "},{"$f":"VLOOKUP('entries and results'!G335,$A$3:$F$30018,6,FALSE)","v":" "},{"$f":"VLOOKUP('entries and results'!G335,$A$3:$E$30018,2,FALSE)","v":" "},null,333,".",{"$f":"VLOOKUP('entries and results'!N335,$H$3:$K$30018,2,FALSE)","v":" "},{"$f":"VLOOKUP('entries and results'!N335,$H$3:$K$30018,3,FALSE)","v":" "},{"$f":"VLOOKUP('entries and results'!N335,$H$3:$K$30018,4,FALSE)","v":" "},{"$f":"VLOOKUP('entries and results'!N335,$H$3:$L$30018,5,FALSE)","v":0}," ","00:00",null,null,null,null,null,null,null,null,null,null,null,null,null,null,null,null,null,null,null,null,null,null,null,null,null,null,null,null,null,null,null,null,null,null,null,null,null,null,null,null,null,null,null,"00:00",333,0,"0000000","00","00","00"]
["SA01555","East Kilbride A.C.","1993-04-07","Adam Gatens","SA01555","Senior",".",334,{"$f":"VLOOKUP('entries and results'!G336,$A$3:$E$30018,4,FALSE)","v":" "},{"$f":"VLOOKUP('entries and results'!G336,$A$3:$F$30018,6,FALSE)","v":" "},{"$f":"VLOOKUP('entries and results'!G336,$A$3:$E$30018,2,FALSE)","v":" "},null,334,".",{"$f":"VLOOKUP('entries and results'!N336,$H$3:$K$30018,2,FALSE)","v":" "},{"$f":"VLOOKUP('entries and results'!N336,$H$3:$K$30018,3,FALSE)","v":" "},{"$f":"VLOOKUP('entries and results'!N336,$H$3:$K$30018,4,FALSE)","v":" "},{"$f":"VLOOKUP('entries and results'!N336,$H$3:$L$30018,5,FALSE)","v":0}," ","00:00",null,null,null,null,null,null,null,null,null,null,null,null,null,null,null,null,null,null,null,null,null,null,null,null,null,null,null,null,null,null,null,null,null,null,null,null,null,null,null,null,null,null,null,"00:00",334,0,"0000000","00","00","00"]
["SA01556","East Kilbride A.C.","1993-12-26","Rachael Thomson","SA01556","Under 17",".",335,{"$f":"VLOOKUP('entries and results'!G337,$A$3:$E$30018,4,FALSE)","v":" "},{"$f":"VLOOKUP('entries and results'!G337,$A$3:$F$30018,6,FALSE)","v":" "},{"$f":"VLOOKUP('entries and results'!G337,$A$3:$E$30018,2,FALSE)","v":" "},null,335,".",{"$f":"VLOOKUP('entries and results'!N337,$H$3:$K$30018,2,FALSE)","v":" "},{"$f":"VLOOKUP('entries and results'!N337,$H$3:$K$30018,3,FALSE)","v":" "},{"$f":"VLOOKUP('entries and results'!N337,$H$3:$K$30018,4,FALSE)","v":" "},{"$f":"VLOOKUP('entries and results'!N337,$H$3:$L$30018,5,FALSE)","v":0}," ","00:00",null,null,null,null,null,null,null,null,null,null,null,null,null,null,null,null,null,null,null,null,null,null,null,null,null,null,null,null,null,null,null,null,null,null,null,null,null,null,null,null,null,null,null,"00:00",335,0,"0000000","00","00","00"]
["SA01557","Edinburgh AC","1994-04-22","Rebecca Caswell","SA01557","Under 17",".",336,{"$f":"VLOOKUP('entries and results'!G338,$A$3:$E$30018,4,FALSE)","v":" "},{"$f":"VLOOKUP('entries and results'!G338,$A$3:$F$30018,6,FALSE)","v":" "},{"$f":"VLOOKUP('entries and results'!G338,$A$3:$E$30018,2,FALSE)","v":" "},null,336,".",{"$f":"VLOOKUP('entries and results'!N338,$H$3:$K$30018,2,FALSE)","v":" "},{"$f":"VLOOKUP('entries and results'!N338,$H$3:$K$30018,3,FALSE)","v":" "},{"$f":"VLOOKUP('entries and results'!N338,$H$3:$K$30018,4,FALSE)","v":" "},{"$f":"VLOOKUP('entries and results'!N338,$H$3:$L$30018,5,FALSE)","v":0}," ","00:00",null,null,null,null,null,null,null,null,null,null,null,null,null,null,null,null,null,null,null,null,null,null,null,null,null,null,null,null,null,null,null,null,null,null,null,null,null,null,null,null,null,null,null,"00:00",336,0,"0000000","00","00","00"]
["SA01558","Edinburgh AC","1989-02-06","Laura Dunn","SA01558","Senior",".",337,{"$f":"VLOOKUP('entries and results'!G339,$A$3:$E$30018,4,FALSE)","v":" "},{"$f":"VLOOKUP('entries and results'!G339,$A$3:$F$30018,6,FALSE)","v":" "},{"$f":"VLOOKUP('entries and results'!G339,$A$3:$E$30018,2,FALSE)","v":" "},null,337,".",{"$f":"VLOOKUP('entries and results'!N339,$H$3:$K$30018,2,FALSE)","v":" "},{"$f":"VLOOKUP('entries and results'!N339,$H$3:$K$30018,3,FALSE)","v":" "},{"$f":"VLOOKUP('entries and results'!N339,$H$3:$K$30018,4,FALSE)","v":" "},{"$f":"VLOOKUP('entries and results'!N339,$H$3:$L$30018,5,FALSE)","v":0}," ","00:00",null,null,null,null,null,null,null,null,null,null,null,null,null,null,null,null,null,null,null,null,null,null,null,null,null,null,null,null,null,null,null,null,null,null,null,null,null,null,null,null,null,null,null,"00:00",337,0,"0000000","00","00","00"]
["SA01579","Inverclyde AC","1991-12-26","Rachael Bushfield","SA01579","Senior",".",338,{"$f":"VLOOKUP('entries and results'!G340,$A$3:$E$30018,4,FALSE)","v":" "},{"$f":"VLOOKUP('entries and results'!G340,$A$3:$F$30018,6,FALSE)","v":" "},{"$f":"VLOOKUP('entries and results'!G340,$A$3:$E$30018,2,FALSE)","v":" "},null,338,".",{"$f":"VLOOKUP('entries and results'!N340,$H$3:$K$30018,2,FALSE)","v":" "},{"$f":"VLOOKUP('entries and results'!N340,$H$3:$K$30018,3,FALSE)","v":" "},{"$f":"VLOOKUP('entries and results'!N340,$H$3:$K$30018,4,FALSE)","v":" "},{"$f":"VLOOKUP('entries and results'!N340,$H$3:$L$30018,5,FALSE)","v":0}," ","00:00",null,null,null,null,null,null,null,null,null,null,null,null,null,null,null,null,null,null,null,null,null,null,null,null,null,null,null,null,null,null,null,null,null,null,null,null,null,null,null,null,null,null,null,"00:00",338,0,"0000000","00","00","00"]
["SA01585","Kilmarnock H&AC","1991-04-06","Jamie Hannah","SA01585","Senior",".",339,{"$f":"VLOOKUP('entries and results'!G341,$A$3:$E$30018,4,FALSE)","v":" "},{"$f":"VLOOKUP('entries and results'!G341,$A$3:$F$30018,6,FALSE)","v":" "},{"$f":"VLOOKUP('entries and results'!G341,$A$3:$E$30018,2,FALSE)","v":" "},null,339,".",{"$f":"VLOOKUP('entries and results'!N341,$H$3:$K$30018,2,FALSE)","v":" "},{"$f":"VLOOKUP('entries and results'!N341,$H$3:$K$30018,3,FALSE)","v":" "},{"$f":"VLOOKUP('entries and results'!N341,$H$3:$K$30018,4,FALSE)","v":" "},{"$f":"VLOOKUP('entries and results'!N341,$H$3:$L$30018,5,FALSE)","v":0}," ","00:00",null,null,null,null,null,null,null,null,null,null,null,null,null,null,null,null,null,null,null,null,null,null,null,null,null,null,null,null,null,null,null,null,null,null,null,null,null,null,null,null,null,null,null,"00:00",339,0,"0000000","00","00","00"]
["SA01591","Kilbarchan AAC","1992-06-05","Andrew McAlpine","SA01591","Senior",".",340,{"$f":"VLOOKUP('entries and results'!G342,$A$3:$E$30018,4,FALSE)","v":" "},{"$f":"VLOOKUP('entries and results'!G342,$A$3:$F$30018,6,FALSE)","v":" "},{"$f":"VLOOKUP('entries and results'!G342,$A$3:$E$30018,2,FALSE)","v":" "},null,340,".",{"$f":"VLOOKUP('entries and results'!N342,$H$3:$K$30018,2,FALSE)","v":" "},{"$f":"VLOOKUP('entries and results'!N342,$H$3:$K$30018,3,FALSE)","v":" "},{"$f":"VLOOKUP('entries and results'!N342,$H$3:$K$30018,4,FALSE)","v":" "},{"$f":"VLOOKUP('entries and results'!N342,$H$3:$L$30018,5,FALSE)","v":0}," ","00:00",null,null,null,null,null,null,null,null,null,null,null,null,null,null,null,null,null,null,null,null,null,null,null,null,null,null,null,null,null,null,null,null,null,null,null,null,null,null,null,null,null,null,null,"00:00",340,0,"0000000","00","00","00"]
["SA01592","Kirkintilloch Olympians","1991-05-02","Matthew Graham","SA01592","Senior",".",341,{"$f":"VLOOKUP('entries and results'!G343,$A$3:$E$30018,4,FALSE)","v":" "},{"$f":"VLOOKUP('entries and results'!G343,$A$3:$F$30018,6,FALSE)","v":" "},{"$f":"VLOOKUP('entries and results'!G343,$A$3:$E$30018,2,FALSE)","v":" "},null,341,".",{"$f":"VLOOKUP('entries and results'!N343,$H$3:$K$30018,2,FALSE)","v":" "},{"$f":"VLOOKUP('entries and results'!N343,$H$3:$K$30018,3,FALSE)","v":" "},{"$f":"VLOOKUP('entries and results'!N343,$H$3:$K$30018,4,FALSE)","v":" "},{"$f":"VLOOKUP('entries and results'!N343,$H$3:$L$30018,5,FALSE)","v":0}," ","00:00",null,null,null,null,null,null,null,null,null,null,null,null,null,null,null,null,null,null,null,null,null,null,null,null,null,null,null,null,null,null,null,null,null,null,null,null,null,null,null,null,null,null,null,"00:00",341,0,"0000000","00","00","00"]
["SA01593","Law & District AAC","1990-03-15","Cheryl Adam","SA01593","Senior",".",342,{"$f":"VLOOKUP('entries and results'!G344,$A$3:$E$30018,4,FALSE)","v":" "},{"$f":"VLOOKUP('entries and results'!G344,$A$3:$F$30018,6,FALSE)","v":" "},{"$f":"VLOOKUP('entries and results'!G344,$A$3:$E$30018,2,FALSE)","v":" "},null,342,".",{"$f":"VLOOKUP('entries and results'!N344,$H$3:$K$30018,2,FALSE)","v":" "},{"$f":"VLOOKUP('entries and results'!N344,$H$3:$K$30018,3,FALSE)","v":" "},{"$f":"VLOOKUP('entries and results'!N344,$H$3:$K$30018,4,FALSE)","v":" "},{"$f":"VLOOKUP('entries and results'!N344,$H$3:$L$30018,5,FALSE)","v":0}," ","00:00",null,null,null,null,null,null,null,null,null,null,null,null,null,null,null,null,null,null,null,null,null,null,null,null,null,null,null,null,null,null,null,null,null,null,null,null,null,null,null,null,null,null,null,"00:00",342,0,"0000000","00","00","00"]
["SA01594","Law & District AAC","1995-05-24","Colette Bradley","SA01594","Under 17",".",343,{"$f":"VLOOKUP('entries and results'!G345,$A$3:$E$30018,4,FALSE)","v":" "},{"$f":"VLOOKUP('entries and results'!G345,$A$3:$F$30018,6,FALSE)","v":" "},{"$f":"VLOOKUP('entries and results'!G345,$A$3:$E$30018,2,FALSE)","v":" "},null,343,".",{"$f":"VLOOKUP('entries and results'!N345,$H$3:$K$30018,2,FALSE)","v":" "},{"$f":"VLOOKUP('entries and results'!N345,$H$3:$K$30018,3,FALSE)","v":" "},{"$f":"VLOOKUP('entries and results'!N345,$H$3:$K$30018,4,FALSE)","v":" "},{"$f":"VLOOKUP('entries and results'!N345,$H$3:$L$30018,5,FALSE)","v":0}," ","00:00",null,null,null,null,null,null,null,null,null,null,null,null,null,null,null,null,null,null,null,null,null,null,null,null,null,null,null,null,null,null,null,null,null,null,null,null,null,null,null,null,null,null,null,"00:00",343,0,"0000000","00","00","00"]
["SA01595","Law & District AAC","1993-06-20","Thomas Lafferty","SA01595","Senior",".",344,{"$f":"VLOOKUP('entries and results'!G346,$A$3:$E$30018,4,FALSE)","v":" "},{"$f":"VLOOKUP('entries and results'!G346,$A$3:$F$30018,6,FALSE)","v":" "},{"$f":"VLOOKUP('entries and results'!G346,$A$3:$E$30018,2,FALSE)","v":" "},null,344,".",{"$f":"VLOOKUP('entries and results'!N346,$H$3:$K$30018,2,FALSE)","v":" "},{"$f":"VLOOKUP('entries and results'!N346,$H$3:$K$30018,3,FALSE)","v":" "},{"$f":"VLOOKUP('entries and results'!N346,$H$3:$K$30018,4,FALSE)","v":" "},{"$f":"VLOOKUP('entries and results'!N346,$H$3:$L$30018,5,FALSE)","v":0}," ","00:00",null,null,null,null,null,null,null,null,null,null,null,null,null,null,null,null,null,null,null,null,null,null,null,null,null,null,null,null,null,null,null,null,null,null,null,null,null,null,null,null,null,null,null,"00:00",344,0,"0000000","00","00","00"]
["SA01598","Mid Argyll AC","1993-01-18","Gary Turner","SA01598","Senior",".",345,{"$f":"VLOOKUP('entries and results'!G347,$A$3:$E$30018,4,FALSE)","v":" "},{"$f":"VLOOKUP('entries and results'!G347,$A$3:$F$30018,6,FALSE)","v":" "},{"$f":"VLOOKUP('entries and results'!G347,$A$3:$E$30018,2,FALSE)","v":" "},null,345,".",{"$f":"VLOOKUP('entries and results'!N347,$H$3:$K$30018,2,FALSE)","v":" "},{"$f":"VLOOKUP('entries and results'!N347,$H$3:$K$30018,3,FALSE)","v":" "},{"$f":"VLOOKUP('entries and results'!N347,$H$3:$K$30018,4,FALSE)","v":" "},{"$f":"VLOOKUP('entries and results'!N347,$H$3:$L$30018,5,FALSE)","v":0}," ","00:00",null,null,null,null,null,null,null,null,null,null,null,null,null,null,null,null,null,null,null,null,null,null,null,null,null,null,null,null,null,null,null,null,null,null,null,null,null,null,null,null,null,null,null,"00:00",345,0,"0000000","00","00","00"]
["SA01601","Edinburgh AC","1991-10-17","Gregor Maclean","SA01601","Senior",".",346,{"$f":"VLOOKUP('entries and results'!G348,$A$3:$E$30018,4,FALSE)","v":" "},{"$f":"VLOOKUP('entries and results'!G348,$A$3:$F$30018,6,FALSE)","v":" "},{"$f":"VLOOKUP('entries and results'!G348,$A$3:$E$30018,2,FALSE)","v":" "},null,346,".",{"$f":"VLOOKUP('entries and results'!N348,$H$3:$K$30018,2,FALSE)","v":" "},{"$f":"VLOOKUP('entries and results'!N348,$H$3:$K$30018,3,FALSE)","v":" "},{"$f":"VLOOKUP('entries and results'!N348,$H$3:$K$30018,4,FALSE)","v":" "},{"$f":"VLOOKUP('entries and results'!N348,$H$3:$L$30018,5,FALSE)","v":0}," ","00:00",null,null,null,null,null,null,null,null,null,null,null,null,null,null,null,null,null,null,null,null,null,null,null,null,null,null,null,null,null,null,null,null,null,null,null,null,null,null,null,null,null,null,null,"00:00",346,0,"0000000","00","00","00"]
["SA01609","Perth Strathtay Harriers","1991-01-17","Michelle MacKay","SA01609","Senior",".",347,{"$f":"VLOOKUP('entries and results'!G349,$A$3:$E$30018,4,FALSE)","v":" "},{"$f":"VLOOKUP('entries and results'!G349,$A$3:$F$30018,6,FALSE)","v":" "},{"$f":"VLOOKUP('entries and results'!G349,$A$3:$E$30018,2,FALSE)","v":" "},null,347,".",{"$f":"VLOOKUP('entries and results'!N349,$H$3:$K$30018,2,FALSE)","v":" "},{"$f":"VLOOKUP('entries and results'!N349,$H$3:$K$30018,3,FALSE)","v":" "},{"$f":"VLOOKUP('entries and results'!N349,$H$3:$K$30018,4,FALSE)","v":" "},{"$f":"VLOOKUP('entries and results'!N349,$H$3:$L$30018,5,FALSE)","v":0}," ","00:00",null,null,null,null,null,null,null,null,null,null,null,null,null,null,null,null,null,null,null,null,null,null,null,null,null,null,null,null,null,null,null,null,null,null,null,null,null,null,null,null,null,null,null,"00:00",347,0,"0000000","00","00","00"]
["SA01616","Ron Hill Cambuslang Harriers","1991-08-27","Caitlin Hendry","SA01616","Senior",".",348,{"$f":"VLOOKUP('entries and results'!G350,$A$3:$E$30018,4,FALSE)","v":" "},{"$f":"VLOOKUP('entries and results'!G350,$A$3:$F$30018,6,FALSE)","v":" "},{"$f":"VLOOKUP('entries and results'!G350,$A$3:$E$30018,2,FALSE)","v":" "},null,348,".",{"$f":"VLOOKUP('entries and results'!N350,$H$3:$K$30018,2,FALSE)","v":" "},{"$f":"VLOOKUP('entries and results'!N350,$H$3:$K$30018,3,FALSE)","v":" "},{"$f":"VLOOKUP('entries and results'!N350,$H$3:$K$30018,4,FALSE)","v":" "},{"$f":"VLOOKUP('entries and results'!N350,$H$3:$L$30018,5,FALSE)","v":0}," ","00:00",null,null,null,null,null,null,null,null,null,null,null,null,null,null,null,null,null,null,null,null,null,null,null,null,null,null,null,null,null,null,null,null,null,null,null,null,null,null,null,null,null,null,null,"00:00",348,0,"0000000","00","00","00"]
["SA01618","Ron Hill Cambuslang Harriers","1992-12-03","Stewart Orr","SA01618","Senior",".",349,{"$f":"VLOOKUP('entries and results'!G351,$A$3:$E$30018,4,FALSE)","v":" "},{"$f":"VLOOKUP('entries and results'!G351,$A$3:$F$30018,6,FALSE)","v":" "},{"$f":"VLOOKUP('entries and results'!G351,$A$3:$E$30018,2,FALSE)","v":" "},null,349,".",{"$f":"VLOOKUP('entries and results'!N351,$H$3:$K$30018,2,FALSE)","v":" "},{"$f":"VLOOKUP('entries and results'!N351,$H$3:$K$30018,3,FALSE)","v":" "},{"$f":"VLOOKUP('entries and results'!N351,$H$3:$K$30018,4,FALSE)","v":" "},{"$f":"VLOOKUP('entries and results'!N351,$H$3:$L$30018,5,FALSE)","v":0}," ","00:00",null,null,null,null,null,null,null,null,null,null,null,null,null,null,null,null,null,null,null,null,null,null,null,null,null,null,null,null,null,null,null,null,null,null,null,null,null,null,null,null,null,null,null,"00:00",349,0,"0000000","00","00","00"]
["SA01628","Whitemoss AAC","1992-12-18","Lynsey Greenfield","SA01628","Senior",".",350,{"$f":"VLOOKUP('entries and results'!G352,$A$3:$E$30018,4,FALSE)","v":" "},{"$f":"VLOOKUP('entries and results'!G352,$A$3:$F$30018,6,FALSE)","v":" "},{"$f":"VLOOKUP('entries and results'!G352,$A$3:$E$30018,2,FALSE)","v":" "},null,350,".",{"$f":"VLOOKUP('entries and results'!N352,$H$3:$K$30018,2,FALSE)","v":" "},{"$f":"VLOOKUP('entries and results'!N352,$H$3:$K$30018,3,FALSE)","v":" "},{"$f":"VLOOKUP('entries and results'!N352,$H$3:$K$30018,4,FALSE)","v":" "},{"$f":"VLOOKUP('entries and results'!N352,$H$3:$L$30018,5,FALSE)","v":0}," ","00:00",null,null,null,null,null,null,null,null,null,null,null,null,null,null,null,null,null,null,null,null,null,null,null,null,null,null,null,null,null,null,null,null,null,null,null,null,null,null,null,null,null,null,null,"00:00",350,0,"0000000","00","00","00"]
["SA01639","Carnegie Harriers","1995-04-29","Fergus McGaw","SA01639","Under 17",".",351,{"$f":"VLOOKUP('entries and results'!G353,$A$3:$E$30018,4,FALSE)","v":" "},{"$f":"VLOOKUP('entries and results'!G353,$A$3:$F$30018,6,FALSE)","v":" "},{"$f":"VLOOKUP('entries and results'!G353,$A$3:$E$30018,2,FALSE)","v":" "},null,351,".",{"$f":"VLOOKUP('entries and results'!N353,$H$3:$K$30018,2,FALSE)","v":" "},{"$f":"VLOOKUP('entries and results'!N353,$H$3:$K$30018,3,FALSE)","v":" "},{"$f":"VLOOKUP('entries and results'!N353,$H$3:$K$30018,4,FALSE)","v":" "},{"$f":"VLOOKUP('entries and results'!N353,$H$3:$L$30018,5,FALSE)","v":0}," ","00:00",null,null,null,null,null,null,null,null,null,null,null,null,null,null,null,null,null,null,null,null,null,null,null,null,null,null,null,null,null,null,null,null,null,null,null,null,null,null,null,null,null,null,null,"00:00",351,0,"0000000","00","00","00"]
["SA01643","Amber Valley A.C.","1987-10-17","David Feeney","SA01643","Senior",".",352,{"$f":"VLOOKUP('entries and results'!G354,$A$3:$E$30018,4,FALSE)","v":" "},{"$f":"VLOOKUP('entries and results'!G354,$A$3:$F$30018,6,FALSE)","v":" "},{"$f":"VLOOKUP('entries and results'!G354,$A$3:$E$30018,2,FALSE)","v":" "},null,352,".",{"$f":"VLOOKUP('entries and results'!N354,$H$3:$K$30018,2,FALSE)","v":" "},{"$f":"VLOOKUP('entries and results'!N354,$H$3:$K$30018,3,FALSE)","v":" "},{"$f":"VLOOKUP('entries and results'!N354,$H$3:$K$30018,4,FALSE)","v":" "},{"$f":"VLOOKUP('entries and results'!N354,$H$3:$L$30018,5,FALSE)","v":0}," ","00:00",null,null,null,null,null,null,null,null,null,null,null,null,null,null,null,null,null,null,null,null,null,null,null,null,null,null,null,null,null,null,null,null,null,null,null,null,null,null,null,null,null,null,null,"00:00",352,0,"0000000","00","00","00"]
["SA01646","Ayr Seaforth AAC","1995-06-28","Jemma McSheffery","SA01646","Under 17",".",353,{"$f":"VLOOKUP('entries and results'!G355,$A$3:$E$30018,4,FALSE)","v":" "},{"$f":"VLOOKUP('entries and results'!G355,$A$3:$F$30018,6,FALSE)","v":" "},{"$f":"VLOOKUP('entries and results'!G355,$A$3:$E$30018,2,FALSE)","v":" "},null,353,".",{"$f":"VLOOKUP('entries and results'!N355,$H$3:$K$30018,2,FALSE)","v":" "},{"$f":"VLOOKUP('entries and results'!N355,$H$3:$K$30018,3,FALSE)","v":" "},{"$f":"VLOOKUP('entries and results'!N355,$H$3:$K$30018,4,FALSE)","v":" "},{"$f":"VLOOKUP('entries and results'!N355,$H$3:$L$30018,5,FALSE)","v":0}," ","00:00",null,null,null,null,null,null,null,null,null,null,null,null,null,null,null,null,null,null,null,null,null,null,null,null,null,null,null,null,null,null,null,null,null,null,null,null,null,null,null,null,null,null,null,"00:00",353,0,"0000000","00","00","00"]
["SA01649","East Sutherland AC","1994-11-29","Jade Currie","SA01649","Under 17",".",354,{"$f":"VLOOKUP('entries and results'!G356,$A$3:$E$30018,4,FALSE)","v":" "},{"$f":"VLOOKUP('entries and results'!G356,$A$3:$F$30018,6,FALSE)","v":" "},{"$f":"VLOOKUP('entries and results'!G356,$A$3:$E$30018,2,FALSE)","v":" "},null,354,".",{"$f":"VLOOKUP('entries and results'!N356,$H$3:$K$30018,2,FALSE)","v":" "},{"$f":"VLOOKUP('entries and results'!N356,$H$3:$K$30018,3,FALSE)","v":" "},{"$f":"VLOOKUP('entries and results'!N356,$H$3:$K$30018,4,FALSE)","v":" "},{"$f":"VLOOKUP('entries and results'!N356,$H$3:$L$30018,5,FALSE)","v":0}," ","00:00",null,null,null,null,null,null,null,null,null,null,null,null,null,null,null,null,null,null,null,null,null,null,null,null,null,null,null,null,null,null,null,null,null,null,null,null,null,null,null,null,null,null,null,"00:00",354,0,"0000000","00","00","00"]
["SA01650","Edinburgh AC","1995-04-30","Emma Dunnett","SA01650","Under 17",".",355,{"$f":"VLOOKUP('entries and results'!G357,$A$3:$E$30018,4,FALSE)","v":" "},{"$f":"VLOOKUP('entries and results'!G357,$A$3:$F$30018,6,FALSE)","v":" "},{"$f":"VLOOKUP('entries and results'!G357,$A$3:$E$30018,2,FALSE)","v":" "},null,355,".",{"$f":"VLOOKUP('entries and results'!N357,$H$3:$K$30018,2,FALSE)","v":" "},{"$f":"VLOOKUP('entries and results'!N357,$H$3:$K$30018,3,FALSE)","v":" "},{"$f":"VLOOKUP('entries and results'!N357,$H$3:$K$30018,4,FALSE)","v":" "},{"$f":"VLOOKUP('entries and results'!N357,$H$3:$L$30018,5,FALSE)","v":0}," ","00:00",null,null,null,null,null,null,null,null,null,null,null,null,null,null,null,null,null,null,null,null,null,null,null,null,null,null,null,null,null,null,null,null,null,null,null,null,null,null,null,null,null,null,null,"00:00",355,0,"0000000","00","00","00"]
["SA01651","Edinburgh AC","1995-04-30","Oonagh Dunnett","SA01651","Under 17",".",356,{"$f":"VLOOKUP('entries and results'!G358,$A$3:$E$30018,4,FALSE)","v":" "},{"$f":"VLOOKUP('entries and results'!G358,$A$3:$F$30018,6,FALSE)","v":" "},{"$f":"VLOOKUP('entries and results'!G358,$A$3:$E$30018,2,FALSE)","v":" "},null,356,".",{"$f":"VLOOKUP('entries and results'!N358,$H$3:$K$30018,2,FALSE)","v":" "},{"$f":"VLOOKUP('entries and results'!N358,$H$3:$K$30018,3,FALSE)","v":" "},{"$f":"VLOOKUP('entries and results'!N358,$H$3:$K$30018,4,FALSE)","v":" "},{"$f":"VLOOKUP('entries and results'!N358,$H$3:$L$30018,5,FALSE)","v":0}," ","00:00",null,null,null,null,null,null,null,null,null,null,null,null,null,null,null,null,null,null,null,null,null,null,null,null,null,null,null,null,null,null,null,null,null,null,null,null,null,null,null,null,null,null,null,"00:00",356,0,"0000000","00","00","00"]
["SA01652","Caithness AAC","1994-10-16","Rob Murdoch","SA01652","Under 17",".",357,{"$f":"VLOOKUP('entries and results'!G359,$A$3:$E$30018,4,FALSE)","v":" "},{"$f":"VLOOKUP('entries and results'!G359,$A$3:$F$30018,6,FALSE)","v":" "},{"$f":"VLOOKUP('entries and results'!G359,$A$3:$E$30018,2,FALSE)","v":" "},null,357,".",{"$f":"VLOOKUP('entries and results'!N359,$H$3:$K$30018,2,FALSE)","v":" "},{"$f":"VLOOKUP('entries and results'!N359,$H$3:$K$30018,3,FALSE)","v":" "},{"$f":"VLOOKUP('entries and results'!N359,$H$3:$K$30018,4,FALSE)","v":" "},{"$f":"VLOOKUP('entries and results'!N359,$H$3:$L$30018,5,FALSE)","v":0}," ","00:00",null,null,null,null,null,null,null,null,null,null,null,null,null,null,null,null,null,null,null,null,null,null,null,null,null,null,null,null,null,null,null,null,null,null,null,null,null,null,null,null,null,null,null,"00:00",357,0,"0000000","00","00","00"]
["SA01653","Caithness AAC","1992-12-18","Sam O'Kane","SA01653","Senior",".",358,{"$f":"VLOOKUP('entries and results'!G360,$A$3:$E$30018,4,FALSE)","v":" "},{"$f":"VLOOKUP('entries and results'!G360,$A$3:$F$30018,6,FALSE)","v":" "},{"$f":"VLOOKUP('entries and results'!G360,$A$3:$E$30018,2,FALSE)","v":" "},null,358,".",{"$f":"VLOOKUP('entries and results'!N360,$H$3:$K$30018,2,FALSE)","v":" "},{"$f":"VLOOKUP('entries and results'!N360,$H$3:$K$30018,3,FALSE)","v":" "},{"$f":"VLOOKUP('entries and results'!N360,$H$3:$K$30018,4,FALSE)","v":" "},{"$f":"VLOOKUP('entries and results'!N360,$H$3:$L$30018,5,FALSE)","v":0}," ","00:00",null,null,null,null,null,null,null,null,null,null,null,null,null,null,null,null,null,null,null,null,null,null,null,null,null,null,null,null,null,null,null,null,null,null,null,null,null,null,null,null,null,null,null,"00:00",358,0,"0000000","00","00","00"]
["SA01657","Central AC","1988-10-22","Graham Harvey","SA01657","Senior",".",359,{"$f":"VLOOKUP('entries and results'!G361,$A$3:$E$30018,4,FALSE)","v":" "},{"$f":"VLOOKUP('entries and results'!G361,$A$3:$F$30018,6,FALSE)","v":" "},{"$f":"VLOOKUP('entries and results'!G361,$A$3:$E$30018,2,FALSE)","v":" "},null,359,".",{"$f":"VLOOKUP('entries and results'!N361,$H$3:$K$30018,2,FALSE)","v":" "},{"$f":"VLOOKUP('entries and results'!N361,$H$3:$K$30018,3,FALSE)","v":" "},{"$f":"VLOOKUP('entries and results'!N361,$H$3:$K$30018,4,FALSE)","v":" "},{"$f":"VLOOKUP('entries and results'!N361,$H$3:$L$30018,5,FALSE)","v":0}," ","00:00",null,null,null,null,null,null,null,null,null,null,null,null,null,null,null,null,null,null,null,null,null,null,null,null,null,null,null,null,null,null,null,null,null,null,null,null,null,null,null,null,null,null,null,"00:00",359,0,"0000000","00","00","00"]
["SA01658","Central AC","1992-10-19","Kyle Henderson","SA01658","Senior",".",360,{"$f":"VLOOKUP('entries and results'!G362,$A$3:$E$30018,4,FALSE)","v":" "},{"$f":"VLOOKUP('entries and results'!G362,$A$3:$F$30018,6,FALSE)","v":" "},{"$f":"VLOOKUP('entries and results'!G362,$A$3:$E$30018,2,FALSE)","v":" "},null,360,".",{"$f":"VLOOKUP('entries and results'!N362,$H$3:$K$30018,2,FALSE)","v":" "},{"$f":"VLOOKUP('entries and results'!N362,$H$3:$K$30018,3,FALSE)","v":" "},{"$f":"VLOOKUP('entries and results'!N362,$H$3:$K$30018,4,FALSE)","v":" "},{"$f":"VLOOKUP('entries and results'!N362,$H$3:$L$30018,5,FALSE)","v":0}," ","00:00",null,null,null,null,null,null,null,null,null,null,null,null,null,null,null,null,null,null,null,null,null,null,null,null,null,null,null,null,null,null,null,null,null,null,null,null,null,null,null,null,null,null,null,"00:00",360,0,"0000000","00","00","00"]
["SA01659","Central AC","1990-09-24","Sean Reilly","SA01659","Senior",".",361,{"$f":"VLOOKUP('entries and results'!G363,$A$3:$E$30018,4,FALSE)","v":" "},{"$f":"VLOOKUP('entries and results'!G363,$A$3:$F$30018,6,FALSE)","v":" "},{"$f":"VLOOKUP('entries and results'!G363,$A$3:$E$30018,2,FALSE)","v":" "},null,361,".",{"$f":"VLOOKUP('entries and results'!N363,$H$3:$K$30018,2,FALSE)","v":" "},{"$f":"VLOOKUP('entries and results'!N363,$H$3:$K$30018,3,FALSE)","v":" "},{"$f":"VLOOKUP('entries and results'!N363,$H$3:$K$30018,4,FALSE)","v":" "},{"$f":"VLOOKUP('entries and results'!N363,$H$3:$L$30018,5,FALSE)","v":0}," ","00:00",null,null,null,null,null,null,null,null,null,null,null,null,null,null,null,null,null,null,null,null,null,null,null,null,null,null,null,null,null,null,null,null,null,null,null,null,null,null,null,null,null,null,null,"00:00",361,0,"0000000","00","00","00"]
["SA01660","Edinburgh AC","1994-03-10","Faye Kearney","SA01660","Under 17",".",362,{"$f":"VLOOKUP('entries and results'!G364,$A$3:$E$30018,4,FALSE)","v":" "},{"$f":"VLOOKUP('entries and results'!G364,$A$3:$F$30018,6,FALSE)","v":" "},{"$f":"VLOOKUP('entries and results'!G364,$A$3:$E$30018,2,FALSE)","v":" "},null,362,".",{"$f":"VLOOKUP('entries and results'!N364,$H$3:$K$30018,2,FALSE)","v":" "},{"$f":"VLOOKUP('entries and results'!N364,$H$3:$K$30018,3,FALSE)","v":" "},{"$f":"VLOOKUP('entries and results'!N364,$H$3:$K$30018,4,FALSE)","v":" "},{"$f":"VLOOKUP('entries and results'!N364,$H$3:$L$30018,5,FALSE)","v":0}," ","00:00",null,null,null,null,null,null,null,null,null,null,null,null,null,null,null,null,null,null,null,null,null,null,null,null,null,null,null,null,null,null,null,null,null,null,null,null,null,null,null,null,null,null,null,"00:00",362,0,"0000000","00","00","00"]
["SA01662","Edinburgh AC","1991-10-14","Fraser Mann","SA01662","Senior",".",363,{"$f":"VLOOKUP('entries and results'!G365,$A$3:$E$30018,4,FALSE)","v":" "},{"$f":"VLOOKUP('entries and results'!G365,$A$3:$F$30018,6,FALSE)","v":" "},{"$f":"VLOOKUP('entries and results'!G365,$A$3:$E$30018,2,FALSE)","v":" "},null,363,".",{"$f":"VLOOKUP('entries and results'!N365,$H$3:$K$30018,2,FALSE)","v":" "},{"$f":"VLOOKUP('entries and results'!N365,$H$3:$K$30018,3,FALSE)","v":" "},{"$f":"VLOOKUP('entries and results'!N365,$H$3:$K$30018,4,FALSE)","v":" "},{"$f":"VLOOKUP('entries and results'!N365,$H$3:$L$30018,5,FALSE)","v":0}," ","00:00",null,null,null,null,null,null,null,null,null,null,null,null,null,null,null,null,null,null,null,null,null,null,null,null,null,null,null,null,null,null,null,null,null,null,null,null,null,null,null,null,null,null,null,"00:00",363,0,"0000000","00","00","00"]
["SA01663","Edinburgh AC","1995-07-13","Olivia O'Hare","SA01663","Under 17",".",364,{"$f":"VLOOKUP('entries and results'!G366,$A$3:$E$30018,4,FALSE)","v":" "},{"$f":"VLOOKUP('entries and results'!G366,$A$3:$F$30018,6,FALSE)","v":" "},{"$f":"VLOOKUP('entries and results'!G366,$A$3:$E$30018,2,FALSE)","v":" "},null,364,".",{"$f":"VLOOKUP('entries and results'!N366,$H$3:$K$30018,2,FALSE)","v":" "},{"$f":"VLOOKUP('entries and results'!N366,$H$3:$K$30018,3,FALSE)","v":" "},{"$f":"VLOOKUP('entries and results'!N366,$H$3:$K$30018,4,FALSE)","v":" "},{"$f":"VLOOKUP('entries and results'!N366,$H$3:$L$30018,5,FALSE)","v":0}," ","00:00",null,null,null,null,null,null,null,null,null,null,null,null,null,null,null,null,null,null,null,null,null,null,null,null,null,null,null,null,null,null,null,null,null,null,null,null,null,null,null,null,null,null,null,"00:00",364,0,"0000000","00","00","00"]
["SA01666","VP-Glasgow AC","1993-05-03","Michaela Stephen","SA01666","Senior",".",365,{"$f":"VLOOKUP('entries and results'!G367,$A$3:$E$30018,4,FALSE)","v":" "},{"$f":"VLOOKUP('entries and results'!G367,$A$3:$F$30018,6,FALSE)","v":" "},{"$f":"VLOOKUP('entries and results'!G367,$A$3:$E$30018,2,FALSE)","v":" "},null,365,".",{"$f":"VLOOKUP('entries and results'!N367,$H$3:$K$30018,2,FALSE)","v":" "},{"$f":"VLOOKUP('entries and results'!N367,$H$3:$K$30018,3,FALSE)","v":" "},{"$f":"VLOOKUP('entries and results'!N367,$H$3:$K$30018,4,FALSE)","v":" "},{"$f":"VLOOKUP('entries and results'!N367,$H$3:$L$30018,5,FALSE)","v":0}," ","00:00",null,null,null,null,null,null,null,null,null,null,null,null,null,null,null,null,null,null,null,null,null,null,null,null,null,null,null,null,null,null,null,null,null,null,null,null,null,null,null,null,null,null,null,"00:00",365,0,"0000000","00","00","00"]
["SA01670","East Kilbride A.C.","1989-09-18","Jamie Clements","SA01670","Senior",".",366,{"$f":"VLOOKUP('entries and results'!G368,$A$3:$E$30018,4,FALSE)","v":" "},{"$f":"VLOOKUP('entries and results'!G368,$A$3:$F$30018,6,FALSE)","v":" "},{"$f":"VLOOKUP('entries and results'!G368,$A$3:$E$30018,2,FALSE)","v":" "},null,366,".",{"$f":"VLOOKUP('entries and results'!N368,$H$3:$K$30018,2,FALSE)","v":" "},{"$f":"VLOOKUP('entries and results'!N368,$H$3:$K$30018,3,FALSE)","v":" "},{"$f":"VLOOKUP('entries and results'!N368,$H$3:$K$30018,4,FALSE)","v":" "},{"$f":"VLOOKUP('entries and results'!N368,$H$3:$L$30018,5,FALSE)","v":0}," ","00:00",null,null,null,null,null,null,null,null,null,null,null,null,null,null,null,null,null,null,null,null,null,null,null,null,null,null,null,null,null,null,null,null,null,null,null,null,null,null,null,null,null,null,null,"00:00",366,0,"0000000","00","00","00"]
["SA01671","East Kilbride A.C.","1991-04-04","Beth Duff","SA01671","Senior",".",367,{"$f":"VLOOKUP('entries and results'!G369,$A$3:$E$30018,4,FALSE)","v":" "},{"$f":"VLOOKUP('entries and results'!G369,$A$3:$F$30018,6,FALSE)","v":" "},{"$f":"VLOOKUP('entries and results'!G369,$A$3:$E$30018,2,FALSE)","v":" "},null,367,".",{"$f":"VLOOKUP('entries and results'!N369,$H$3:$K$30018,2,FALSE)","v":" "},{"$f":"VLOOKUP('entries and results'!N369,$H$3:$K$30018,3,FALSE)","v":" "},{"$f":"VLOOKUP('entries and results'!N369,$H$3:$K$30018,4,FALSE)","v":" "},{"$f":"VLOOKUP('entries and results'!N369,$H$3:$L$30018,5,FALSE)","v":0}," ","00:00",null,null,null,null,null,null,null,null,null,null,null,null,null,null,null,null,null,null,null,null,null,null,null,null,null,null,null,null,null,null,null,null,null,null,null,null,null,null,null,null,null,null,null,"00:00",367,0,"0000000","00","00","00"]
["SA01677","Edinburgh AC","1993-06-25","Claire Florence","SA01677","Senior",".",368,{"$f":"VLOOKUP('entries and results'!G370,$A$3:$E$30018,4,FALSE)","v":" "},{"$f":"VLOOKUP('entries and results'!G370,$A$3:$F$30018,6,FALSE)","v":" "},{"$f":"VLOOKUP('entries and results'!G370,$A$3:$E$30018,2,FALSE)","v":" "},null,368,".",{"$f":"VLOOKUP('entries and results'!N370,$H$3:$K$30018,2,FALSE)","v":" "},{"$f":"VLOOKUP('entries and results'!N370,$H$3:$K$30018,3,FALSE)","v":" "},{"$f":"VLOOKUP('entries and results'!N370,$H$3:$K$30018,4,FALSE)","v":" "},{"$f":"VLOOKUP('entries and results'!N370,$H$3:$L$30018,5,FALSE)","v":0}," ","00:00",null,null,null,null,null,null,null,null,null,null,null,null,null,null,null,null,null,null,null,null,null,null,null,null,null,null,null,null,null,null,null,null,null,null,null,null,null,null,null,null,null,null,null,"00:00",368,0,"0000000","00","00","00"]
["SA01679","Edinburgh AC","1991-12-24","Emily Stewart","SA01679","Senior",".",369,{"$f":"VLOOKUP('entries and results'!G371,$A$3:$E$30018,4,FALSE)","v":" "},{"$f":"VLOOKUP('entries and results'!G371,$A$3:$F$30018,6,FALSE)","v":" "},{"$f":"VLOOKUP('entries and results'!G371,$A$3:$E$30018,2,FALSE)","v":" "},null,369,".",{"$f":"VLOOKUP('entries and results'!N371,$H$3:$K$30018,2,FALSE)","v":" "},{"$f":"VLOOKUP('entries and results'!N371,$H$3:$K$30018,3,FALSE)","v":" "},{"$f":"VLOOKUP('entries and results'!N371,$H$3:$K$30018,4,FALSE)","v":" "},{"$f":"VLOOKUP('entries and results'!N371,$H$3:$L$30018,5,FALSE)","v":0}," ","00:00",null,null,null,null,null,null,null,null,null,null,null,null,null,null,null,null,null,null,null,null,null,null,null,null,null,null,null,null,null,null,null,null,null,null,null,null,null,null,null,null,null,null,null,"00:00",369,0,"0000000","00","00","00"]
["SA01680","Edinburgh AC","1994-06-19","Louisa Stewart","SA01680","Under 17",".",370,{"$f":"VLOOKUP('entries and results'!G372,$A$3:$E$30018,4,FALSE)","v":" "},{"$f":"VLOOKUP('entries and results'!G372,$A$3:$F$30018,6,FALSE)","v":" "},{"$f":"VLOOKUP('entries and results'!G372,$A$3:$E$30018,2,FALSE)","v":" "},null,370,".",{"$f":"VLOOKUP('entries and results'!N372,$H$3:$K$30018,2,FALSE)","v":" "},{"$f":"VLOOKUP('entries and results'!N372,$H$3:$K$30018,3,FALSE)","v":" "},{"$f":"VLOOKUP('entries and results'!N372,$H$3:$K$30018,4,FALSE)","v":" "},{"$f":"VLOOKUP('entries and results'!N372,$H$3:$L$30018,5,FALSE)","v":0}," ","00:00",null,null,null,null,null,null,null,null,null,null,null,null,null,null,null,null,null,null,null,null,null,null,null,null,null,null,null,null,null,null,null,null,null,null,null,null,null,null,null,null,null,null,null,"00:00",370,0,"0000000","00","00","00"]
["SA01681","Ellon AAC","1994-07-03","Kelly Bodley","SA01681","Under 17",".",371,{"$f":"VLOOKUP('entries and results'!G373,$A$3:$E$30018,4,FALSE)","v":" "},{"$f":"VLOOKUP('entries and results'!G373,$A$3:$F$30018,6,FALSE)","v":" "},{"$f":"VLOOKUP('entries and results'!G373,$A$3:$E$30018,2,FALSE)","v":" "},null,371,".",{"$f":"VLOOKUP('entries and results'!N373,$H$3:$K$30018,2,FALSE)","v":" "},{"$f":"VLOOKUP('entries and results'!N373,$H$3:$K$30018,3,FALSE)","v":" "},{"$f":"VLOOKUP('entries and results'!N373,$H$3:$K$30018,4,FALSE)","v":" "},{"$f":"VLOOKUP('entries and results'!N373,$H$3:$L$30018,5,FALSE)","v":0}," ","00:00",null,null,null,null,null,null,null,null,null,null,null,null,null,null,null,null,null,null,null,null,null,null,null,null,null,null,null,null,null,null,null,null,null,null,null,null,null,null,null,null,null,null,null,"00:00",371,0,"0000000","00","00","00"]
["SA01682","Ellon AAC","1990-10-02","Michelle Bodley","SA01682","Senior",".",372,{"$f":"VLOOKUP('entries and results'!G374,$A$3:$E$30018,4,FALSE)","v":" "},{"$f":"VLOOKUP('entries and results'!G374,$A$3:$F$30018,6,FALSE)","v":" "},{"$f":"VLOOKUP('entries and results'!G374,$A$3:$E$30018,2,FALSE)","v":" "},null,372,".",{"$f":"VLOOKUP('entries and results'!N374,$H$3:$K$30018,2,FALSE)","v":" "},{"$f":"VLOOKUP('entries and results'!N374,$H$3:$K$30018,3,FALSE)","v":" "},{"$f":"VLOOKUP('entries and results'!N374,$H$3:$K$30018,4,FALSE)","v":" "},{"$f":"VLOOKUP('entries and results'!N374,$H$3:$L$30018,5,FALSE)","v":0}," ","00:00",null,null,null,null,null,null,null,null,null,null,null,null,null,null,null,null,null,null,null,null,null,null,null,null,null,null,null,null,null,null,null,null,null,null,null,null,null,null,null,null,null,null,null,"00:00",372,0,"0000000","00","00","00"]
["SA01684","Falkirk Victoria Harriers","1991-12-11","Kyle Randalls","SA01684","Senior",".",373,{"$f":"VLOOKUP('entries and results'!G375,$A$3:$E$30018,4,FALSE)","v":" "},{"$f":"VLOOKUP('entries and results'!G375,$A$3:$F$30018,6,FALSE)","v":" "},{"$f":"VLOOKUP('entries and results'!G375,$A$3:$E$30018,2,FALSE)","v":" "},null,373,".",{"$f":"VLOOKUP('entries and results'!N375,$H$3:$K$30018,2,FALSE)","v":" "},{"$f":"VLOOKUP('entries and results'!N375,$H$3:$K$30018,3,FALSE)","v":" "},{"$f":"VLOOKUP('entries and results'!N375,$H$3:$K$30018,4,FALSE)","v":" "},{"$f":"VLOOKUP('entries and results'!N375,$H$3:$L$30018,5,FALSE)","v":0}," ","00:00",null,null,null,null,null,null,null,null,null,null,null,null,null,null,null,null,null,null,null,null,null,null,null,null,null,null,null,null,null,null,null,null,null,null,null,null,null,null,null,null,null,null,null,"00:00",373,0,"0000000","00","00","00"]
["SA01686","Fife AC","1992-01-29","Kiri Stone","SA01686","Senior",".",374,{"$f":"VLOOKUP('entries and results'!G376,$A$3:$E$30018,4,FALSE)","v":" "},{"$f":"VLOOKUP('entries and results'!G376,$A$3:$F$30018,6,FALSE)","v":" "},{"$f":"VLOOKUP('entries and results'!G376,$A$3:$E$30018,2,FALSE)","v":" "},null,374,".",{"$f":"VLOOKUP('entries and results'!N376,$H$3:$K$30018,2,FALSE)","v":" "},{"$f":"VLOOKUP('entries and results'!N376,$H$3:$K$30018,3,FALSE)","v":" "},{"$f":"VLOOKUP('entries and results'!N376,$H$3:$K$30018,4,FALSE)","v":" "},{"$f":"VLOOKUP('entries and results'!N376,$H$3:$L$30018,5,FALSE)","v":0}," ","00:00",null,null,null,null,null,null,null,null,null,null,null,null,null,null,null,null,null,null,null,null,null,null,null,null,null,null,null,null,null,null,null,null,null,null,null,null,null,null,null,null,null,null,null,"00:00",374,0,"0000000","00","00","00"]
["SA01688","Forres Harriers","1992-02-14","Eleanor Duncan","SA01688","Senior",".",375,{"$f":"VLOOKUP('entries and results'!G377,$A$3:$E$30018,4,FALSE)","v":" "},{"$f":"VLOOKUP('entries and results'!G377,$A$3:$F$30018,6,FALSE)","v":" "},{"$f":"VLOOKUP('entries and results'!G377,$A$3:$E$30018,2,FALSE)","v":" "},null,375,".",{"$f":"VLOOKUP('entries and results'!N377,$H$3:$K$30018,2,FALSE)","v":" "},{"$f":"VLOOKUP('entries and results'!N377,$H$3:$K$30018,3,FALSE)","v":" "},{"$f":"VLOOKUP('entries and results'!N377,$H$3:$K$30018,4,FALSE)","v":" "},{"$f":"VLOOKUP('entries and results'!N377,$H$3:$L$30018,5,FALSE)","v":0}," ","00:00",null,null,null,null,null,null,null,null,null,null,null,null,null,null,null,null,null,null,null,null,null,null,null,null,null,null,null,null,null,null,null,null,null,null,null,null,null,null,null,null,null,null,null,"00:00",375,0,"0000000","00","00","00"]
["SA01701","Inverclyde AC","1989-02-02","Sean Gaffney","SA01701","Senior",".",376,{"$f":"VLOOKUP('entries and results'!G378,$A$3:$E$30018,4,FALSE)","v":" "},{"$f":"VLOOKUP('entries and results'!G378,$A$3:$F$30018,6,FALSE)","v":" "},{"$f":"VLOOKUP('entries and results'!G378,$A$3:$E$30018,2,FALSE)","v":" "},null,376,".",{"$f":"VLOOKUP('entries and results'!N378,$H$3:$K$30018,2,FALSE)","v":" "},{"$f":"VLOOKUP('entries and results'!N378,$H$3:$K$30018,3,FALSE)","v":" "},{"$f":"VLOOKUP('entries and results'!N378,$H$3:$K$30018,4,FALSE)","v":" "},{"$f":"VLOOKUP('entries and results'!N378,$H$3:$L$30018,5,FALSE)","v":0}," ","00:00",null,null,null,null,null,null,null,null,null,null,null,null,null,null,null,null,null,null,null,null,null,null,null,null,null,null,null,null,null,null,null,null,null,null,null,null,null,null,null,null,null,null,null,"00:00",376,0,"0000000","00","00","00"]
["SA01703","Irvine AC","1991-08-28","Ryan McDonald","SA01703","Senior",".",377,{"$f":"VLOOKUP('entries and results'!G379,$A$3:$E$30018,4,FALSE)","v":" "},{"$f":"VLOOKUP('entries and results'!G379,$A$3:$F$30018,6,FALSE)","v":" "},{"$f":"VLOOKUP('entries and results'!G379,$A$3:$E$30018,2,FALSE)","v":" "},null,377,".",{"$f":"VLOOKUP('entries and results'!N379,$H$3:$K$30018,2,FALSE)","v":" "},{"$f":"VLOOKUP('entries and results'!N379,$H$3:$K$30018,3,FALSE)","v":" "},{"$f":"VLOOKUP('entries and results'!N379,$H$3:$K$30018,4,FALSE)","v":" "},{"$f":"VLOOKUP('entries and results'!N379,$H$3:$L$30018,5,FALSE)","v":0}," ","00:00",null,null,null,null,null,null,null,null,null,null,null,null,null,null,null,null,null,null,null,null,null,null,null,null,null,null,null,null,null,null,null,null,null,null,null,null,null,null,null,null,null,null,null,"00:00",377,0,"0000000","00","00","00"]
["SA01707","Kilbarchan AAC","1989-07-27","Elspeth Curran","SA01707","Senior",".",378,{"$f":"VLOOKUP('entries and results'!G380,$A$3:$E$30018,4,FALSE)","v":" "},{"$f":"VLOOKUP('entries and results'!G380,$A$3:$F$30018,6,FALSE)","v":" "},{"$f":"VLOOKUP('entries and results'!G380,$A$3:$E$30018,2,FALSE)","v":" "},null,378,".",{"$f":"VLOOKUP('entries and results'!N380,$H$3:$K$30018,2,FALSE)","v":" "},{"$f":"VLOOKUP('entries and results'!N380,$H$3:$K$30018,3,FALSE)","v":" "},{"$f":"VLOOKUP('entries and results'!N380,$H$3:$K$30018,4,FALSE)","v":" "},{"$f":"VLOOKUP('entries and results'!N380,$H$3:$L$30018,5,FALSE)","v":0}," ","00:00",null,null,null,null,null,null,null,null,null,null,null,null,null,null,null,null,null,null,null,null,null,null,null,null,null,null,null,null,null,null,null,null,null,null,null,null,null,null,null,null,null,null,null,"00:00",378,0,"0000000","00","00","00"]
["SA01709","Kilbarchan AAC","1989-01-14","Martin Lipton","SA01709","Senior",".",379,{"$f":"VLOOKUP('entries and results'!G381,$A$3:$E$30018,4,FALSE)","v":" "},{"$f":"VLOOKUP('entries and results'!G381,$A$3:$F$30018,6,FALSE)","v":" "},{"$f":"VLOOKUP('entries and results'!G381,$A$3:$E$30018,2,FALSE)","v":" "},null,379,".",{"$f":"VLOOKUP('entries and results'!N381,$H$3:$K$30018,2,FALSE)","v":" "},{"$f":"VLOOKUP('entries and results'!N381,$H$3:$K$30018,3,FALSE)","v":" "},{"$f":"VLOOKUP('entries and results'!N381,$H$3:$K$30018,4,FALSE)","v":" "},{"$f":"VLOOKUP('entries and results'!N381,$H$3:$L$30018,5,FALSE)","v":0}," ","00:00",null,null,null,null,null,null,null,null,null,null,null,null,null,null,null,null,null,null,null,null,null,null,null,null,null,null,null,null,null,null,null,null,null,null,null,null,null,null,null,null,null,null,null,"00:00",379,0,"0000000","00","00","00"]
["SA01711","Kilbarchan AAC","1990-10-25","Jessica Martin","SA01711","Senior",".",380,{"$f":"VLOOKUP('entries and results'!G382,$A$3:$E$30018,4,FALSE)","v":" "},{"$f":"VLOOKUP('entries and results'!G382,$A$3:$F$30018,6,FALSE)","v":" "},{"$f":"VLOOKUP('entries and results'!G382,$A$3:$E$30018,2,FALSE)","v":" "},null,380,".",{"$f":"VLOOKUP('entries and results'!N382,$H$3:$K$30018,2,FALSE)","v":" "},{"$f":"VLOOKUP('entries and results'!N382,$H$3:$K$30018,3,FALSE)","v":" "},{"$f":"VLOOKUP('entries and results'!N382,$H$3:$K$30018,4,FALSE)","v":" "},{"$f":"VLOOKUP('entries and results'!N382,$H$3:$L$30018,5,FALSE)","v":0}," ","00:00",null,null,null,null,null,null,null,null,null,null,null,null,null,null,null,null,null,null,null,null,null,null,null,null,null,null,null,null,null,null,null,null,null,null,null,null,null,null,null,null,null,null,null,"00:00",380,0,"0000000","00","00","00"]
["SA01719","VP-Glasgow AC","1994-04-14","Andrea Gaffney","SA01719","Under 17",".",381,{"$f":"VLOOKUP('entries and results'!G383,$A$3:$E$30018,4,FALSE)","v":" "},{"$f":"VLOOKUP('entries and results'!G383,$A$3:$F$30018,6,FALSE)","v":" "},{"$f":"VLOOKUP('entries and results'!G383,$A$3:$E$30018,2,FALSE)","v":" "},null,381,".",{"$f":"VLOOKUP('entries and results'!N383,$H$3:$K$30018,2,FALSE)","v":" "},{"$f":"VLOOKUP('entries and results'!N383,$H$3:$K$30018,3,FALSE)","v":" "},{"$f":"VLOOKUP('entries and results'!N383,$H$3:$K$30018,4,FALSE)","v":" "},{"$f":"VLOOKUP('entries and results'!N383,$H$3:$L$30018,5,FALSE)","v":0}," ","00:00",null,null,null,null,null,null,null,null,null,null,null,null,null,null,null,null,null,null,null,null,null,null,null,null,null,null,null,null,null,null,null,null,null,null,null,null,null,null,null,null,null,null,null,"00:00",381,0,"0000000","00","00","00"]
["SA01720","VP-Glasgow AC","1992-04-07","Jennifer Hannah","SA01720","Senior",".",382,{"$f":"VLOOKUP('entries and results'!G384,$A$3:$E$30018,4,FALSE)","v":" "},{"$f":"VLOOKUP('entries and results'!G384,$A$3:$F$30018,6,FALSE)","v":" "},{"$f":"VLOOKUP('entries and results'!G384,$A$3:$E$30018,2,FALSE)","v":" "},null,382,".",{"$f":"VLOOKUP('entries and results'!N384,$H$3:$K$30018,2,FALSE)","v":" "},{"$f":"VLOOKUP('entries and results'!N384,$H$3:$K$30018,3,FALSE)","v":" "},{"$f":"VLOOKUP('entries and results'!N384,$H$3:$K$30018,4,FALSE)","v":" "},{"$f":"VLOOKUP('entries and results'!N384,$H$3:$L$30018,5,FALSE)","v":0}," ","00:00",null,null,null,null,null,null,null,null,null,null,null,null,null,null,null,null,null,null,null,null,null,null,null,null,null,null,null,null,null,null,null,null,null,null,null,null,null,null,null,null,null,null,null,"00:00",382,0,"0000000","00","00","00"]
["SA01722","Kirkintilloch Olympians","1993-06-05","Alexandra Lamond","SA01722","Senior",".",383,{"$f":"VLOOKUP('entries and results'!G385,$A$3:$E$30018,4,FALSE)","v":" "},{"$f":"VLOOKUP('entries and results'!G385,$A$3:$F$30018,6,FALSE)","v":" "},{"$f":"VLOOKUP('entries and results'!G385,$A$3:$E$30018,2,FALSE)","v":" "},null,383,".",{"$f":"VLOOKUP('entries and results'!N385,$H$3:$K$30018,2,FALSE)","v":" "},{"$f":"VLOOKUP('entries and results'!N385,$H$3:$K$30018,3,FALSE)","v":" "},{"$f":"VLOOKUP('entries and results'!N385,$H$3:$K$30018,4,FALSE)","v":" "},{"$f":"VLOOKUP('entries and results'!N385,$H$3:$L$30018,5,FALSE)","v":0}," ","00:00",null,null,null,null,null,null,null,null,null,null,null,null,null,null,null,null,null,null,null,null,null,null,null,null,null,null,null,null,null,null,null,null,null,null,null,null,null,null,null,null,null,null,null,"00:00",383,0,"0000000","00","00","00"]
["SA01723","Shettleston Harriers","1990-11-18","John Ruddy","SA01723","Senior",".",384,{"$f":"VLOOKUP('entries and results'!G386,$A$3:$E$30018,4,FALSE)","v":" "},{"$f":"VLOOKUP('entries and results'!G386,$A$3:$F$30018,6,FALSE)","v":" "},{"$f":"VLOOKUP('entries and results'!G386,$A$3:$E$30018,2,FALSE)","v":" "},null,384,".",{"$f":"VLOOKUP('entries and results'!N386,$H$3:$K$30018,2,FALSE)","v":" "},{"$f":"VLOOKUP('entries and results'!N386,$H$3:$K$30018,3,FALSE)","v":" "},{"$f":"VLOOKUP('entries and results'!N386,$H$3:$K$30018,4,FALSE)","v":" "},{"$f":"VLOOKUP('entries and results'!N386,$H$3:$L$30018,5,FALSE)","v":0}," ","00:00",null,null,null,null,null,null,null,null,null,null,null,null,null,null,null,null,null,null,null,null,null,null,null,null,null,null,null,null,null,null,null,null,null,null,null,null,null,null,null,null,null,null,null,"00:00",384,0,"0000000","00","00","00"]
["SA01726","Lasswade AAC","1994-06-26","Ryan Cook","SA01726","Under 17",".",385,{"$f":"VLOOKUP('entries and results'!G387,$A$3:$E$30018,4,FALSE)","v":" "},{"$f":"VLOOKUP('entries and results'!G387,$A$3:$F$30018,6,FALSE)","v":" "},{"$f":"VLOOKUP('entries and results'!G387,$A$3:$E$30018,2,FALSE)","v":" "},null,385,".",{"$f":"VLOOKUP('entries and results'!N387,$H$3:$K$30018,2,FALSE)","v":" "},{"$f":"VLOOKUP('entries and results'!N387,$H$3:$K$30018,3,FALSE)","v":" "},{"$f":"VLOOKUP('entries and results'!N387,$H$3:$K$30018,4,FALSE)","v":" "},{"$f":"VLOOKUP('entries and results'!N387,$H$3:$L$30018,5,FALSE)","v":0}," ","00:00",null,null,null,null,null,null,null,null,null,null,null,null,null,null,null,null,null,null,null,null,null,null,null,null,null,null,null,null,null,null,null,null,null,null,null,null,null,null,null,null,null,null,null,"00:00",385,{"$f":"SUMIF($H$3:$H$601,$BM387,$S$3:$S$601)","v":0},"0000000","00","00","00"]
["SA01729","Law & District AAC","1992-10-16","Billy Clarkson","SA01729","Senior",".",386,{"$f":"VLOOKUP('entries and results'!G388,$A$3:$E$30018,4,FALSE)","v":" "},{"$f":"VLOOKUP('entries and results'!G388,$A$3:$F$30018,6,FALSE)","v":" "},{"$f":"VLOOKUP('entries and results'!G388,$A$3:$E$30018,2,FALSE)","v":" "},null,386,".",{"$f":"VLOOKUP('entries and results'!N388,$H$3:$K$30018,2,FALSE)","v":" "},{"$f":"VLOOKUP('entries and results'!N388,$H$3:$K$30018,3,FALSE)","v":" "},{"$f":"VLOOKUP('entries and results'!N388,$H$3:$K$30018,4,FALSE)","v":" "},{"$f":"VLOOKUP('entries and results'!N388,$H$3:$L$30018,5,FALSE)","v":0}," ",{"$f":"IF($H388=\"\",\" \",(LOOKUP($H388,$BM$3:$BM$1601,$BL$3:$BL$1601)))","v":"00:00"},null,null,null,null,null,null,null,null,null,null,null,null,null,null,null,null,null,null,null,null,null,null,null,null,null,null,null,null,null,null,null,null,null,null,null,null,null,null,null,null,null,null,null,"00:00",386,0,"0000000","00","00","00"]
["SA01741","Edinburgh AC","1994-11-08","Andrew Loudon","SA01741","Under 17",".",387,{"$f":"VLOOKUP('entries and results'!G389,$A$3:$E$30018,4,FALSE)","v":" "},{"$f":"VLOOKUP('entries and results'!G389,$A$3:$F$30018,6,FALSE)","v":" "},{"$f":"VLOOKUP('entries and results'!G389,$A$3:$E$30018,2,FALSE)","v":" "},null,387,".",{"$f":"VLOOKUP('entries and results'!N389,$H$3:$K$30018,2,FALSE)","v":" "},{"$f":"VLOOKUP('entries and results'!N389,$H$3:$K$30018,3,FALSE)","v":" "},{"$f":"VLOOKUP('entries and results'!N389,$H$3:$K$30018,4,FALSE)","v":" "},{"$f":"VLOOKUP('entries and results'!N389,$H$3:$L$30018,5,FALSE)","v":0}," ","00:00",null,null,null,null,null,null,null,null,null,null,null,null,null,null,null,null,null,null,null,null,null,null,null,null,null,null,null,null,null,null,null,null,null,null,null,null,null,null,null,null,null,null,null,"00:00",387,0,"0000000","00","00","00"]
["SA01742","Edinburgh AC","1995-10-31","George Loudon","SA01742","Under 15",".",388,{"$f":"VLOOKUP('entries and results'!G390,$A$3:$E$30018,4,FALSE)","v":" "},{"$f":"VLOOKUP('entries and results'!G390,$A$3:$F$30018,6,FALSE)","v":" "},{"$f":"VLOOKUP('entries and results'!G390,$A$3:$E$30018,2,FALSE)","v":" "},null,388,".",{"$f":"VLOOKUP('entries and results'!N390,$H$3:$K$30018,2,FALSE)","v":" "},{"$f":"VLOOKUP('entries and results'!N390,$H$3:$K$30018,3,FALSE)","v":" "},{"$f":"VLOOKUP('entries and results'!N390,$H$3:$K$30018,4,FALSE)","v":" "},{"$f":"VLOOKUP('entries and results'!N390,$H$3:$L$30018,5,FALSE)","v":0}," ","00:00",null,null,null,null,null,null,null,null,null,null,null,null,null,null,null,null,null,null,null,null,null,null,null,null,null,null,null,null,null,null,null,null,null,null,null,null,null,null,null,null,null,null,null,{"$f":"CONCATENATE(BQ390,\":\",BR390)","v":"00:00"},388,0,{"$f":"CONCATENATE($BI$2,$BN390)","v":"0000000"},{"$f":"MID(RIGHT($BO390,6),1,2)","v":"00"},{"$f":"MID(RIGHT($BO390,6),3,2)","v":"00"},{"$f":"MID(RIGHT($BO390,6),5,2)","v":"00"}]
["SA01743","Edinburgh AC","1993-03-09","Peter Loudon","SA01743","Senior",".",389,{"$f":"VLOOKUP('entries and results'!G391,$A$3:$E$30018,4,FALSE)","v":" "},{"$f":"VLOOKUP('entries and results'!G391,$A$3:$F$30018,6,FALSE)","v":" "},{"$f":"VLOOKUP('entries and results'!G391,$A$3:$E$30018,2,FALSE)","v":" "},null,389,".",{"$f":"VLOOKUP('entries and results'!N391,$H$3:$K$30018,2,FALSE)","v":" "},{"$f":"VLOOKUP('entries and results'!N391,$H$3:$K$30018,3,FALSE)","v":" "},{"$f":"VLOOKUP('entries and results'!N391,$H$3:$K$30018,4,FALSE)","v":" "},{"$f":"VLOOKUP('entries and results'!N391,$H$3:$L$30018,5,FALSE)","v":0}," ","00:00",null,null,null,null,null,null,null,null,null,null,null,null,null,null,null,null,null,null,null,null,null,null,null,null,null,null,null,null,null,null,null,null,null,null,null,null,null,null,null,null,null,null,null,"00:00",389,0,"0000000","00","00","00"]
["SA01750","Pitreavie AAC","1991-03-29","Sarah Ross","SA01750","Senior",".",390,{"$f":"VLOOKUP('entries and results'!G392,$A$3:$E$30018,4,FALSE)","v":" "},{"$f":"VLOOKUP('entries and results'!G392,$A$3:$F$30018,6,FALSE)","v":" "},{"$f":"VLOOKUP('entries and results'!G392,$A$3:$E$30018,2,FALSE)","v":" "},null,390,".",{"$f":"VLOOKUP('entries and results'!N392,$H$3:$K$30018,2,FALSE)","v":" "},{"$f":"VLOOKUP('entries and results'!N392,$H$3:$K$30018,3,FALSE)","v":" "},{"$f":"VLOOKUP('entries and results'!N392,$H$3:$K$30018,4,FALSE)","v":" "},{"$f":"VLOOKUP('entries and results'!N392,$H$3:$L$30018,5,FALSE)","v":0}," ","00:00",null,null,null,null,null,null,null,null,null,null,null,null,null,null,null,null,null,null,null,null,null,null,null,null,null,null,null,null,null,null,null,null,null,null,null,null,null,null,null,null,null,null,null,"00:00",390,0,"0000000","00","00","00"]
["SA01761","VP-Glasgow AC","1995-03-14","Max Aitchison","SA01761","Under 17",".",391,{"$f":"VLOOKUP('entries and results'!G393,$A$3:$E$30018,4,FALSE)","v":" "},{"$f":"VLOOKUP('entries and results'!G393,$A$3:$F$30018,6,FALSE)","v":" "},{"$f":"VLOOKUP('entries and results'!G393,$A$3:$E$30018,2,FALSE)","v":" "},null,391,".",{"$f":"VLOOKUP('entries and results'!N393,$H$3:$K$30018,2,FALSE)","v":" "},{"$f":"VLOOKUP('entries and results'!N393,$H$3:$K$30018,3,FALSE)","v":" "},{"$f":"VLOOKUP('entries and results'!N393,$H$3:$K$30018,4,FALSE)","v":" "},{"$f":"VLOOKUP('entries and results'!N393,$H$3:$L$30018,5,FALSE)","v":0}," ","00:00",null,null,null,null,null,null,null,null,null,null,null,null,null,null,null,null,null,null,null,null,null,null,null,null,null,null,null,null,null,null,null,null,null,null,null,null,null,null,null,null,null,null,null,"00:00",391,0,"0000000","00","00","00"]
["SA01765","VP-Glasgow AC","1990-03-02","Abbey McGhee","SA01765","Senior",".",392,{"$f":"VLOOKUP('entries and results'!G394,$A$3:$E$30018,4,FALSE)","v":" "},{"$f":"VLOOKUP('entries and results'!G394,$A$3:$F$30018,6,FALSE)","v":" "},{"$f":"VLOOKUP('entries and results'!G394,$A$3:$E$30018,2,FALSE)","v":" "},null,392,".",{"$f":"VLOOKUP('entries and results'!N394,$H$3:$K$30018,2,FALSE)","v":" "},{"$f":"VLOOKUP('entries and results'!N394,$H$3:$K$30018,3,FALSE)","v":" "},{"$f":"VLOOKUP('entries and results'!N394,$H$3:$K$30018,4,FALSE)","v":" "},{"$f":"VLOOKUP('entries and results'!N394,$H$3:$L$30018,5,FALSE)","v":0}," ","00:00",null,null,null,null,null,null,null,null,null,null,null,null,null,null,null,null,null,null,null,null,null,null,null,null,null,null,null,null,null,null,null,null,null,null,null,null,null,null,null,null,null,null,null,"00:00",392,0,"0000000","00","00","00"]
["SA01766","VP-Glasgow AC","1990-03-02","Aisling McGhee","SA01766","Senior",".",393,{"$f":"VLOOKUP('entries and results'!G395,$A$3:$E$30018,4,FALSE)","v":" "},{"$f":"VLOOKUP('entries and results'!G395,$A$3:$F$30018,6,FALSE)","v":" "},{"$f":"VLOOKUP('entries and results'!G395,$A$3:$E$30018,2,FALSE)","v":" "},null,393,".",{"$f":"VLOOKUP('entries and results'!N395,$H$3:$K$30018,2,FALSE)","v":" "},{"$f":"VLOOKUP('entries and results'!N395,$H$3:$K$30018,3,FALSE)","v":" "},{"$f":"VLOOKUP('entries and results'!N395,$H$3:$K$30018,4,FALSE)","v":" "},{"$f":"VLOOKUP('entries and results'!N395,$H$3:$L$30018,5,FALSE)","v":0}," ","00:00",null,null,null,null,null,null,null,null,null,null,null,null,null,null,null,null,null,null,null,null,null,null,null,null,null,null,null,null,null,null,null,null,null,null,null,null,null,null,null,null,null,null,null,"00:00",393,0,"0000000","00","00","00"]
["SA01774","Lasswade AAC","1994-10-21","Francesca Benham","SA01774","Under 17",".",394,{"$f":"VLOOKUP('entries and results'!G396,$A$3:$E$30018,4,FALSE)","v":" "},{"$f":"VLOOKUP('entries and results'!G396,$A$3:$F$30018,6,FALSE)","v":" "},{"$f":"VLOOKUP('entries and results'!G396,$A$3:$E$30018,2,FALSE)","v":" "},null,394,".",{"$f":"VLOOKUP('entries and results'!N396,$H$3:$K$30018,2,FALSE)","v":" "},{"$f":"VLOOKUP('entries and results'!N396,$H$3:$K$30018,3,FALSE)","v":" "},{"$f":"VLOOKUP('entries and results'!N396,$H$3:$K$30018,4,FALSE)","v":" "},{"$f":"VLOOKUP('entries and results'!N396,$H$3:$L$30018,5,FALSE)","v":0}," ","00:00",null,null,null,null,null,null,null,null,null,null,null,null,null,null,null,null,null,null,null,null,null,null,null,null,null,null,null,null,null,null,null,null,null,null,null,null,null,null,null,null,null,null,null,"00:00",394,0,"0000000","00","00","00"]
["SA01784","Kilbarchan AAC","1991-11-09","Deborah Henderson","SA01784","Senior",".",395,{"$f":"VLOOKUP('entries and results'!G397,$A$3:$E$30018,4,FALSE)","v":" "},{"$f":"VLOOKUP('entries and results'!G397,$A$3:$F$30018,6,FALSE)","v":" "},{"$f":"VLOOKUP('entries and results'!G397,$A$3:$E$30018,2,FALSE)","v":" "},null,395,".",{"$f":"VLOOKUP('entries and results'!N397,$H$3:$K$30018,2,FALSE)","v":" "},{"$f":"VLOOKUP('entries and results'!N397,$H$3:$K$30018,3,FALSE)","v":" "},{"$f":"VLOOKUP('entries and results'!N397,$H$3:$K$30018,4,FALSE)","v":" "},{"$f":"VLOOKUP('entries and results'!N397,$H$3:$L$30018,5,FALSE)","v":0}," ","00:00",null,null,null,null,null,null,null,null,null,null,null,null,null,null,null,null,null,null,null,null,null,null,null,null,null,null,null,null,null,null,null,null,null,null,null,null,null,null,null,null,null,null,null,"00:00",395,0,"0000000","00","00","00"]
["SA01787","Aberdeen AAC","1988-10-28","Myles Edwards","SA01787","Senior",".",396,{"$f":"VLOOKUP('entries and results'!G398,$A$3:$E$30018,4,FALSE)","v":" "},{"$f":"VLOOKUP('entries and results'!G398,$A$3:$F$30018,6,FALSE)","v":" "},{"$f":"VLOOKUP('entries and results'!G398,$A$3:$E$30018,2,FALSE)","v":" "},null,396,".",{"$f":"VLOOKUP('entries and results'!N398,$H$3:$K$30018,2,FALSE)","v":" "},{"$f":"VLOOKUP('entries and results'!N398,$H$3:$K$30018,3,FALSE)","v":" "},{"$f":"VLOOKUP('entries and results'!N398,$H$3:$K$30018,4,FALSE)","v":" "},{"$f":"VLOOKUP('entries and results'!N398,$H$3:$L$30018,5,FALSE)","v":0}," ","00:00",null,null,null,null,null,null,null,null,null,null,null,null,null,null,null,null,null,null,null,null,null,null,null,null,null,null,null,null,null,null,null,null,null,null,null,null,null,null,null,null,null,null,null,"00:00",396,0,"0000000","00","00","00"]
["SA01788","Aberdeen AAC","1995-02-21","Kate Murdoch","SA01788","Under 17",".",397,{"$f":"VLOOKUP('entries and results'!G399,$A$3:$E$30018,4,FALSE)","v":" "},{"$f":"VLOOKUP('entries and results'!G399,$A$3:$F$30018,6,FALSE)","v":" "},{"$f":"VLOOKUP('entries and results'!G399,$A$3:$E$30018,2,FALSE)","v":" "},null,397,".",{"$f":"VLOOKUP('entries and results'!N399,$H$3:$K$30018,2,FALSE)","v":" "},{"$f":"VLOOKUP('entries and results'!N399,$H$3:$K$30018,3,FALSE)","v":" "},{"$f":"VLOOKUP('entries and results'!N399,$H$3:$K$30018,4,FALSE)","v":" "},{"$f":"VLOOKUP('entries and results'!N399,$H$3:$L$30018,5,FALSE)","v":0}," ","00:00",null,null,null,null,null,null,null,null,null,null,null,null,null,null,null,null,null,null,null,null,null,null,null,null,null,null,null,null,null,null,null,null,null,null,null,null,null,null,null,null,null,null,null,"00:00",397,0,"0000000","00","00","00"]
["SA01790","Aberdeen AAC","1989-10-18","Siobhan Prise","SA01790","Senior",".",398,{"$f":"VLOOKUP('entries and results'!G400,$A$3:$E$30018,4,FALSE)","v":" "},{"$f":"VLOOKUP('entries and results'!G400,$A$3:$F$30018,6,FALSE)","v":" "},{"$f":"VLOOKUP('entries and results'!G400,$A$3:$E$30018,2,FALSE)","v":" "},null,398,".",{"$f":"VLOOKUP('entries and results'!N400,$H$3:$K$30018,2,FALSE)","v":" "},{"$f":"VLOOKUP('entries and results'!N400,$H$3:$K$30018,3,FALSE)","v":" "},{"$f":"VLOOKUP('entries and results'!N400,$H$3:$K$30018,4,FALSE)","v":" "},{"$f":"VLOOKUP('entries and results'!N400,$H$3:$L$30018,5,FALSE)","v":0}," ","00:00",null,null,null,null,null,null,null,null,null,null,null,null,null,null,null,null,null,null,null,null,null,null,null,null,null,null,null,null,null,null,null,null,null,null,null,null,null,null,null,null,null,null,null,"00:00",398,0,"0000000","00","00","00"]
["SA01795","Ayr Seaforth AAC","1993-05-24","Kerry Leith","SA01795","Senior",".",399,{"$f":"VLOOKUP('entries and results'!G401,$A$3:$E$30018,4,FALSE)","v":" "},{"$f":"VLOOKUP('entries and results'!G401,$A$3:$F$30018,6,FALSE)","v":" "},{"$f":"VLOOKUP('entries and results'!G401,$A$3:$E$30018,2,FALSE)","v":" "},null,399,".",{"$f":"VLOOKUP('entries and results'!N401,$H$3:$K$30018,2,FALSE)","v":" "},{"$f":"VLOOKUP('entries and results'!N401,$H$3:$K$30018,3,FALSE)","v":" "},{"$f":"VLOOKUP('entries and results'!N401,$H$3:$K$30018,4,FALSE)","v":" "},{"$f":"VLOOKUP('entries and results'!N401,$H$3:$L$30018,5,FALSE)","v":0}," ","00:00",null,null,null,null,null,null,null,null,null,null,null,null,null,null,null,null,null,null,null,null,null,null,null,null,null,null,null,null,null,null,null,null,null,null,null,null,null,null,null,null,null,null,null,"00:00",399,0,"0000000","00","00","00"]
["SA01798","Banchory Stonehaven AC","1993-02-18","Stewart Clark","SA01798","Senior",".",400,{"$f":"VLOOKUP('entries and results'!G402,$A$3:$E$30018,4,FALSE)","v":" "},{"$f":"VLOOKUP('entries and results'!G402,$A$3:$F$30018,6,FALSE)","v":" "},{"$f":"VLOOKUP('entries and results'!G402,$A$3:$E$30018,2,FALSE)","v":" "},null,400,".",{"$f":"VLOOKUP('entries and results'!N402,$H$3:$K$30018,2,FALSE)","v":" "},{"$f":"VLOOKUP('entries and results'!N402,$H$3:$K$30018,3,FALSE)","v":" "},{"$f":"VLOOKUP('entries and results'!N402,$H$3:$K$30018,4,FALSE)","v":" "},{"$f":"VLOOKUP('entries and results'!N402,$H$3:$L$30018,5,FALSE)","v":0}," ","00:00",null,null,null,null,null,null,null,null,null,null,null,null,null,null,null,null,null,null,null,null,null,null,null,null,null,null,null,null,null,null,null,null,null,null,null,null,null,null,null,null,null,null,null,"00:00",400,0,"0000000","00","00","00"]
["SA01801","Banchory Stonehaven AC","1992-10-03","Eleanor Workman","SA01801","Senior",".",401,{"$f":"VLOOKUP('entries and results'!G403,$A$3:$E$30018,4,FALSE)","v":" "},{"$f":"VLOOKUP('entries and results'!G403,$A$3:$F$30018,6,FALSE)","v":" "},{"$f":"VLOOKUP('entries and results'!G403,$A$3:$E$30018,2,FALSE)","v":" "},null,401,".",{"$f":"VLOOKUP('entries and results'!N403,$H$3:$K$30018,2,FALSE)","v":" "},{"$f":"VLOOKUP('entries and results'!N403,$H$3:$K$30018,3,FALSE)","v":" "},{"$f":"VLOOKUP('entries and results'!N403,$H$3:$K$30018,4,FALSE)","v":" "},{"$f":"VLOOKUP('entries and results'!N403,$H$3:$L$30018,5,FALSE)","v":0}," ","00:00",null,null,null,null,null,null,null,null,null,null,null,null,null,null,null,null,null,null,null,null,null,null,null,null,null,null,null,null,null,null,null,null,null,null,null,null,null,null,null,null,null,null,null,"00:00",401,0,"0000000","00","00","00"]
["SA01802","Moray Road Runners","1992-06-25","Gemma Cormack","SA01802","Senior",".",402,{"$f":"VLOOKUP('entries and results'!G404,$A$3:$E$30018,4,FALSE)","v":" "},{"$f":"VLOOKUP('entries and results'!G404,$A$3:$F$30018,6,FALSE)","v":" "},{"$f":"VLOOKUP('entries and results'!G404,$A$3:$E$30018,2,FALSE)","v":" "},null,402,".",{"$f":"VLOOKUP('entries and results'!N404,$H$3:$K$30018,2,FALSE)","v":" "},{"$f":"VLOOKUP('entries and results'!N404,$H$3:$K$30018,3,FALSE)","v":" "},{"$f":"VLOOKUP('entries and results'!N404,$H$3:$K$30018,4,FALSE)","v":" "},{"$f":"VLOOKUP('entries and results'!N404,$H$3:$L$30018,5,FALSE)","v":0}," ","00:00",null,null,null,null,null,null,null,null,null,null,null,null,null,null,null,null,null,null,null,null,null,null,null,null,null,null,null,null,null,null,null,null,null,null,null,null,null,null,null,null,null,null,null,"00:00",402,0,"0000000","00","00","00"]
["SA01805","Calderglen Harriers","1990-08-13","Stephen Reilly","SA01805","Senior",".",403,{"$f":"VLOOKUP('entries and results'!G405,$A$3:$E$30018,4,FALSE)","v":" "},{"$f":"VLOOKUP('entries and results'!G405,$A$3:$F$30018,6,FALSE)","v":" "},{"$f":"VLOOKUP('entries and results'!G405,$A$3:$E$30018,2,FALSE)","v":" "},null,403,".",{"$f":"VLOOKUP('entries and results'!N405,$H$3:$K$30018,2,FALSE)","v":" "},{"$f":"VLOOKUP('entries and results'!N405,$H$3:$K$30018,3,FALSE)","v":" "},{"$f":"VLOOKUP('entries and results'!N405,$H$3:$K$30018,4,FALSE)","v":" "},{"$f":"VLOOKUP('entries and results'!N405,$H$3:$L$30018,5,FALSE)","v":0}," ","00:00",null,null,null,null,null,null,null,null,null,null,null,null,null,null,null,null,null,null,null,null,null,null,null,null,null,null,null,null,null,null,null,null,null,null,null,null,null,null,null,null,null,null,null,"00:00",403,0,"0000000","00","00","00"]
["SA01808","Central AC","1992-12-31","Martyn Paterson","SA01808","Senior",".",404,{"$f":"VLOOKUP('entries and results'!G406,$A$3:$E$30018,4,FALSE)","v":" "},{"$f":"VLOOKUP('entries and results'!G406,$A$3:$F$30018,6,FALSE)","v":" "},{"$f":"VLOOKUP('entries and results'!G406,$A$3:$E$30018,2,FALSE)","v":" "},null,404,".",{"$f":"VLOOKUP('entries and results'!N406,$H$3:$K$30018,2,FALSE)","v":" "},{"$f":"VLOOKUP('entries and results'!N406,$H$3:$K$30018,3,FALSE)","v":" "},{"$f":"VLOOKUP('entries and results'!N406,$H$3:$K$30018,4,FALSE)","v":" "},{"$f":"VLOOKUP('entries and results'!N406,$H$3:$L$30018,5,FALSE)","v":0}," ","00:00",null,null,null,null,null,null,null,null,null,null,null,null,null,null,null,null,null,null,null,null,null,null,null,null,null,null,null,null,null,null,null,null,null,null,null,null,null,null,null,null,null,null,null,"00:00",404,0,"0000000","00","00","00"]
["SA01810","Edinburgh AC","1992-02-27","Hannah Chrisp","SA01810","Senior",".",405,{"$f":"VLOOKUP('entries and results'!G407,$A$3:$E$30018,4,FALSE)","v":" "},{"$f":"VLOOKUP('entries and results'!G407,$A$3:$F$30018,6,FALSE)","v":" "},{"$f":"VLOOKUP('entries and results'!G407,$A$3:$E$30018,2,FALSE)","v":" "},null,405,".",{"$f":"VLOOKUP('entries and results'!N407,$H$3:$K$30018,2,FALSE)","v":" "},{"$f":"VLOOKUP('entries and results'!N407,$H$3:$K$30018,3,FALSE)","v":" "},{"$f":"VLOOKUP('entries and results'!N407,$H$3:$K$30018,4,FALSE)","v":" "},{"$f":"VLOOKUP('entries and results'!N407,$H$3:$L$30018,5,FALSE)","v":0}," ","00:00",null,null,null,null,null,null,null,null,null,null,null,null,null,null,null,null,null,null,null,null,null,null,null,null,null,null,null,null,null,null,null,null,null,null,null,null,null,null,null,null,null,null,null,"00:00",405,0,"0000000","00","00","00"]
["SA01813","Edinburgh AC","1994-10-17","Scott MacDougall","SA01813","Under 17",".",406,{"$f":"VLOOKUP('entries and results'!G408,$A$3:$E$30018,4,FALSE)","v":" "},{"$f":"VLOOKUP('entries and results'!G408,$A$3:$F$30018,6,FALSE)","v":" "},{"$f":"VLOOKUP('entries and results'!G408,$A$3:$E$30018,2,FALSE)","v":" "},null,406,".",{"$f":"VLOOKUP('entries and results'!N408,$H$3:$K$30018,2,FALSE)","v":" "},{"$f":"VLOOKUP('entries and results'!N408,$H$3:$K$30018,3,FALSE)","v":" "},{"$f":"VLOOKUP('entries and results'!N408,$H$3:$K$30018,4,FALSE)","v":" "},{"$f":"VLOOKUP('entries and results'!N408,$H$3:$L$30018,5,FALSE)","v":0}," ","00:00",null,null,null,null,null,null,null,null,null,null,null,null,null,null,null,null,null,null,null,null,null,null,null,null,null,null,null,null,null,null,null,null,null,null,null,null,null,null,null,null,null,null,null,"00:00",406,0,"0000000","00","00","00"]
["SA01814","Edinburgh AC","1995-08-07","Caitlin O'Neil","SA01814","Under 17",".",407,{"$f":"VLOOKUP('entries and results'!G409,$A$3:$E$30018,4,FALSE)","v":" "},{"$f":"VLOOKUP('entries and results'!G409,$A$3:$F$30018,6,FALSE)","v":" "},{"$f":"VLOOKUP('entries and results'!G409,$A$3:$E$30018,2,FALSE)","v":" "},null,407,".",{"$f":"VLOOKUP('entries and results'!N409,$H$3:$K$30018,2,FALSE)","v":" "},{"$f":"VLOOKUP('entries and results'!N409,$H$3:$K$30018,3,FALSE)","v":" "},{"$f":"VLOOKUP('entries and results'!N409,$H$3:$K$30018,4,FALSE)","v":" "},{"$f":"VLOOKUP('entries and results'!N409,$H$3:$L$30018,5,FALSE)","v":0}," ","00:00",null,null,null,null,null,null,null,null,null,null,null,null,null,null,null,null,null,null,null,null,null,null,null,null,null,null,null,null,null,null,null,null,null,null,null,null,null,null,null,null,null,null,null,"00:00",407,0,"0000000","00","00","00"]
["SA01826","Corstorphine AAC","1991-12-18","Fraser Scott","SA01826","Senior",".",408,{"$f":"VLOOKUP('entries and results'!G410,$A$3:$E$30018,4,FALSE)","v":" "},{"$f":"VLOOKUP('entries and results'!G410,$A$3:$F$30018,6,FALSE)","v":" "},{"$f":"VLOOKUP('entries and results'!G410,$A$3:$E$30018,2,FALSE)","v":" "},null,408,".",{"$f":"VLOOKUP('entries and results'!N410,$H$3:$K$30018,2,FALSE)","v":" "},{"$f":"VLOOKUP('entries and results'!N410,$H$3:$K$30018,3,FALSE)","v":" "},{"$f":"VLOOKUP('entries and results'!N410,$H$3:$K$30018,4,FALSE)","v":" "},{"$f":"VLOOKUP('entries and results'!N410,$H$3:$L$30018,5,FALSE)","v":0}," ","00:00",null,null,null,null,null,null,null,null,null,null,null,null,null,null,null,null,null,null,null,null,null,null,null,null,null,null,null,null,null,null,null,null,null,null,null,null,null,null,null,null,null,null,null,"00:00",408,0,"0000000","00","00","00"]
["SA01837","Edinburgh AC","1993-03-03","Emily Dudgeon","SA01837","Senior",".",409,{"$f":"VLOOKUP('entries and results'!G411,$A$3:$E$30018,4,FALSE)","v":" "},{"$f":"VLOOKUP('entries and results'!G411,$A$3:$F$30018,6,FALSE)","v":" "},{"$f":"VLOOKUP('entries and results'!G411,$A$3:$E$30018,2,FALSE)","v":" "},null,409,".",{"$f":"VLOOKUP('entries and results'!N411,$H$3:$K$30018,2,FALSE)","v":" "},{"$f":"VLOOKUP('entries and results'!N411,$H$3:$K$30018,3,FALSE)","v":" "},{"$f":"VLOOKUP('entries and results'!N411,$H$3:$K$30018,4,FALSE)","v":" "},{"$f":"VLOOKUP('entries and results'!N411,$H$3:$L$30018,5,FALSE)","v":0}," ","00:00",null,null,null,null,null,null,null,null,null,null,null,null,null,null,null,null,null,null,null,null,null,null,null,null,null,null,null,null,null,null,null,null,null,null,null,null,null,null,null,null,null,null,null,"00:00",409,0,"0000000","00","00","00"]
["SA01848","Falkirk Victoria Harriers","1995-11-12","Holly Meikle","SA01848","Under 15",".",410,{"$f":"VLOOKUP('entries and results'!G412,$A$3:$E$30018,4,FALSE)","v":" "},{"$f":"VLOOKUP('entries and results'!G412,$A$3:$F$30018,6,FALSE)","v":" "},{"$f":"VLOOKUP('entries and results'!G412,$A$3:$E$30018,2,FALSE)","v":" "},null,410,".",{"$f":"VLOOKUP('entries and results'!N412,$H$3:$K$30018,2,FALSE)","v":" "},{"$f":"VLOOKUP('entries and results'!N412,$H$3:$K$30018,3,FALSE)","v":" "},{"$f":"VLOOKUP('entries and results'!N412,$H$3:$K$30018,4,FALSE)","v":" "},{"$f":"VLOOKUP('entries and results'!N412,$H$3:$L$30018,5,FALSE)","v":0}," ","00:00",null,null,null,null,null,null,null,null,null,null,null,null,null,null,null,null,null,null,null,null,null,null,null,null,null,null,null,null,null,null,null,null,null,null,null,null,null,null,null,null,null,null,null,"00:00",410,0,"0000000","00","00","00"]
["SA01849","Falkirk Victoria Harriers","1991-03-23","Jade Nimmo","SA01849","Senior",".",411,{"$f":"VLOOKUP('entries and results'!G413,$A$3:$E$30018,4,FALSE)","v":" "},{"$f":"VLOOKUP('entries and results'!G413,$A$3:$F$30018,6,FALSE)","v":" "},{"$f":"VLOOKUP('entries and results'!G413,$A$3:$E$30018,2,FALSE)","v":" "},null,411,".",{"$f":"VLOOKUP('entries and results'!N413,$H$3:$K$30018,2,FALSE)","v":" "},{"$f":"VLOOKUP('entries and results'!N413,$H$3:$K$30018,3,FALSE)","v":" "},{"$f":"VLOOKUP('entries and results'!N413,$H$3:$K$30018,4,FALSE)","v":" "},{"$f":"VLOOKUP('entries and results'!N413,$H$3:$L$30018,5,FALSE)","v":0}," ","00:00",null,null,null,null,null,null,null,null,null,null,null,null,null,null,null,null,null,null,null,null,null,null,null,null,null,null,null,null,null,null,null,null,null,null,null,null,null,null,null,null,null,null,null,"00:00",411,0,"0000000","00","00","00"]
["SA01850","Falkirk Victoria Harriers","1994-10-30","Clare O'Neill","SA01850","Under 17",".",412,{"$f":"VLOOKUP('entries and results'!G414,$A$3:$E$30018,4,FALSE)","v":" "},{"$f":"VLOOKUP('entries and results'!G414,$A$3:$F$30018,6,FALSE)","v":" "},{"$f":"VLOOKUP('entries and results'!G414,$A$3:$E$30018,2,FALSE)","v":" "},null,412,".",{"$f":"VLOOKUP('entries and results'!N414,$H$3:$K$30018,2,FALSE)","v":" "},{"$f":"VLOOKUP('entries and results'!N414,$H$3:$K$30018,3,FALSE)","v":" "},{"$f":"VLOOKUP('entries and results'!N414,$H$3:$K$30018,4,FALSE)","v":" "},{"$f":"VLOOKUP('entries and results'!N414,$H$3:$L$30018,5,FALSE)","v":0}," ","00:00",null,null,null,null,null,null,null,null,null,null,null,null,null,null,null,null,null,null,null,null,null,null,null,null,null,null,null,null,null,null,null,null,null,null,null,null,null,null,null,null,null,null,null,"00:00",412,0,"0000000","00","00","00"]
["SA01852","Unattached","1993-08-05","Andrew Spears","SA01852","Senior",".",413,{"$f":"VLOOKUP('entries and results'!G415,$A$3:$E$30018,4,FALSE)","v":" "},{"$f":"VLOOKUP('entries and results'!G415,$A$3:$F$30018,6,FALSE)","v":" "},{"$f":"VLOOKUP('entries and results'!G415,$A$3:$E$30018,2,FALSE)","v":" "},null,413,".",{"$f":"VLOOKUP('entries and results'!N415,$H$3:$K$30018,2,FALSE)","v":" "},{"$f":"VLOOKUP('entries and results'!N415,$H$3:$K$30018,3,FALSE)","v":" "},{"$f":"VLOOKUP('entries and results'!N415,$H$3:$K$30018,4,FALSE)","v":" "},{"$f":"VLOOKUP('entries and results'!N415,$H$3:$L$30018,5,FALSE)","v":0}," ","00:00",null,null,null,null,null,null,null,null,null,null,null,null,null,null,null,null,null,null,null,null,null,null,null,null,null,null,null,null,null,null,null,null,null,null,null,null,null,null,null,null,null,null,null,"00:00",413,0,"0000000","00","00","00"]
["SA01855","Fife AC","1993-08-18","Lucy Duff","SA01855","Senior",".",414,{"$f":"VLOOKUP('entries and results'!G416,$A$3:$E$30018,4,FALSE)","v":" "},{"$f":"VLOOKUP('entries and results'!G416,$A$3:$F$30018,6,FALSE)","v":" "},{"$f":"VLOOKUP('entries and results'!G416,$A$3:$E$30018,2,FALSE)","v":" "},null,414,".",{"$f":"VLOOKUP('entries and results'!N416,$H$3:$K$30018,2,FALSE)","v":" "},{"$f":"VLOOKUP('entries and results'!N416,$H$3:$K$30018,3,FALSE)","v":" "},{"$f":"VLOOKUP('entries and results'!N416,$H$3:$K$30018,4,FALSE)","v":" "},{"$f":"VLOOKUP('entries and results'!N416,$H$3:$L$30018,5,FALSE)","v":0}," ","00:00",null,null,null,null,null,null,null,null,null,null,null,null,null,null,null,null,null,null,null,null,null,null,null,null,null,null,null,null,null,null,null,null,null,null,null,null,null,null,null,null,null,null,null,"00:00",414,0,"0000000","00","00","00"]
["SA01860","Forres Harriers","1994-06-09","Hannah Duncan","SA01860","Under 17",".",415,{"$f":"VLOOKUP('entries and results'!G417,$A$3:$E$30018,4,FALSE)","v":" "},{"$f":"VLOOKUP('entries and results'!G417,$A$3:$F$30018,6,FALSE)","v":" "},{"$f":"VLOOKUP('entries and results'!G417,$A$3:$E$30018,2,FALSE)","v":" "},null,415,".",{"$f":"VLOOKUP('entries and results'!N417,$H$3:$K$30018,2,FALSE)","v":" "},{"$f":"VLOOKUP('entries and results'!N417,$H$3:$K$30018,3,FALSE)","v":" "},{"$f":"VLOOKUP('entries and results'!N417,$H$3:$K$30018,4,FALSE)","v":" "},{"$f":"VLOOKUP('entries and results'!N417,$H$3:$L$30018,5,FALSE)","v":0}," ","00:00",null,null,null,null,null,null,null,null,null,null,null,null,null,null,null,null,null,null,null,null,null,null,null,null,null,null,null,null,null,null,null,null,null,null,null,null,null,null,null,null,null,null,null,"00:00",415,0,"0000000","00","00","00"]
["SA01862","Gala Harriers","1994-01-09","Alice Haining","SA01862","Under 17",".",416,{"$f":"VLOOKUP('entries and results'!G418,$A$3:$E$30018,4,FALSE)","v":" "},{"$f":"VLOOKUP('entries and results'!G418,$A$3:$F$30018,6,FALSE)","v":" "},{"$f":"VLOOKUP('entries and results'!G418,$A$3:$E$30018,2,FALSE)","v":" "},null,416,".",{"$f":"VLOOKUP('entries and results'!N418,$H$3:$K$30018,2,FALSE)","v":" "},{"$f":"VLOOKUP('entries and results'!N418,$H$3:$K$30018,3,FALSE)","v":" "},{"$f":"VLOOKUP('entries and results'!N418,$H$3:$K$30018,4,FALSE)","v":" "},{"$f":"VLOOKUP('entries and results'!N418,$H$3:$L$30018,5,FALSE)","v":0}," ","00:00",null,null,null,null,null,null,null,null,null,null,null,null,null,null,null,null,null,null,null,null,null,null,null,null,null,null,null,null,null,null,null,null,null,null,null,null,null,null,null,null,null,null,null,"00:00",416,0,"0000000","00","00","00"]
["SA01884","Inverness Harriers AAC","1993-04-02","Eilidh Black","SA01884","Senior",".",417,{"$f":"VLOOKUP('entries and results'!G419,$A$3:$E$30018,4,FALSE)","v":" "},{"$f":"VLOOKUP('entries and results'!G419,$A$3:$F$30018,6,FALSE)","v":" "},{"$f":"VLOOKUP('entries and results'!G419,$A$3:$E$30018,2,FALSE)","v":" "},null,417,".",{"$f":"VLOOKUP('entries and results'!N419,$H$3:$K$30018,2,FALSE)","v":" "},{"$f":"VLOOKUP('entries and results'!N419,$H$3:$K$30018,3,FALSE)","v":" "},{"$f":"VLOOKUP('entries and results'!N419,$H$3:$K$30018,4,FALSE)","v":" "},{"$f":"VLOOKUP('entries and results'!N419,$H$3:$L$30018,5,FALSE)","v":0}," ","00:00",null,null,null,null,null,null,null,null,null,null,null,null,null,null,null,null,null,null,null,null,null,null,null,null,null,null,null,null,null,null,null,null,null,null,null,null,null,null,null,null,null,null,null,"00:00",417,0,"0000000","00","00","00"]
["SA01892","Inverness Harriers AAC","1992-05-03","Katie Munro","SA01892","Senior",".",418,{"$f":"VLOOKUP('entries and results'!G420,$A$3:$E$30018,4,FALSE)","v":" "},{"$f":"VLOOKUP('entries and results'!G420,$A$3:$F$30018,6,FALSE)","v":" "},{"$f":"VLOOKUP('entries and results'!G420,$A$3:$E$30018,2,FALSE)","v":" "},null,418,".",{"$f":"VLOOKUP('entries and results'!N420,$H$3:$K$30018,2,FALSE)","v":" "},{"$f":"VLOOKUP('entries and results'!N420,$H$3:$K$30018,3,FALSE)","v":" "},{"$f":"VLOOKUP('entries and results'!N420,$H$3:$K$30018,4,FALSE)","v":" "},{"$f":"VLOOKUP('entries and results'!N420,$H$3:$L$30018,5,FALSE)","v":0}," ","00:00",null,null,null,null,null,null,null,null,null,null,null,null,null,null,null,null,null,null,null,null,null,null,null,null,null,null,null,null,null,null,null,null,null,null,null,null,null,null,null,null,null,null,null,"00:00",418,0,"0000000","00","00","00"]
["SA01901","North Ayrshire AC","1995-11-11","Gordon Wilson","SA01901","Under 15",".",419,{"$f":"VLOOKUP('entries and results'!G421,$A$3:$E$30018,4,FALSE)","v":" "},{"$f":"VLOOKUP('entries and results'!G421,$A$3:$F$30018,6,FALSE)","v":" "},{"$f":"VLOOKUP('entries and results'!G421,$A$3:$E$30018,2,FALSE)","v":" "},null,419,".",{"$f":"VLOOKUP('entries and results'!N421,$H$3:$K$30018,2,FALSE)","v":" "},{"$f":"VLOOKUP('entries and results'!N421,$H$3:$K$30018,3,FALSE)","v":" "},{"$f":"VLOOKUP('entries and results'!N421,$H$3:$K$30018,4,FALSE)","v":" "},{"$f":"VLOOKUP('entries and results'!N421,$H$3:$L$30018,5,FALSE)","v":0}," ","00:00",null,null,null,null,null,null,null,null,null,null,null,null,null,null,null,null,null,null,null,null,null,null,null,null,null,null,null,null,null,null,null,null,null,null,null,null,null,null,null,null,null,null,null,"00:00",419,0,"0000000","00","00","00"]
["SA01905","Kilbarchan AAC","1992-01-27","Amanda Herron","SA01905","Senior",".",420,{"$f":"VLOOKUP('entries and results'!G422,$A$3:$E$30018,4,FALSE)","v":" "},{"$f":"VLOOKUP('entries and results'!G422,$A$3:$F$30018,6,FALSE)","v":" "},{"$f":"VLOOKUP('entries and results'!G422,$A$3:$E$30018,2,FALSE)","v":" "},null,420,".",{"$f":"VLOOKUP('entries and results'!N422,$H$3:$K$30018,2,FALSE)","v":" "},{"$f":"VLOOKUP('entries and results'!N422,$H$3:$K$30018,3,FALSE)","v":" "},{"$f":"VLOOKUP('entries and results'!N422,$H$3:$K$30018,4,FALSE)","v":" "},{"$f":"VLOOKUP('entries and results'!N422,$H$3:$L$30018,5,FALSE)","v":0}," ","00:00",null,null,null,null,null,null,null,null,null,null,null,null,null,null,null,null,null,null,null,null,null,null,null,null,null,null,null,null,null,null,null,null,null,null,null,null,null,null,null,null,null,null,null,"00:00",420,0,"0000000","00","00","00"]
["SA01906","Kilbarchan AAC","1992-01-25","Scott MacAulay","SA01906","Senior",".",421,{"$f":"VLOOKUP('entries and results'!G423,$A$3:$E$30018,4,FALSE)","v":" "},{"$f":"VLOOKUP('entries and results'!G423,$A$3:$F$30018,6,FALSE)","v":" "},{"$f":"VLOOKUP('entries and results'!G423,$A$3:$E$30018,2,FALSE)","v":" "},null,421,".",{"$f":"VLOOKUP('entries and results'!N423,$H$3:$K$30018,2,FALSE)","v":" "},{"$f":"VLOOKUP('entries and results'!N423,$H$3:$K$30018,3,FALSE)","v":" "},{"$f":"VLOOKUP('entries and results'!N423,$H$3:$K$30018,4,FALSE)","v":" "},{"$f":"VLOOKUP('entries and results'!N423,$H$3:$L$30018,5,FALSE)","v":0}," ","00:00",null,null,null,null,null,null,null,null,null,null,null,null,null,null,null,null,null,null,null,null,null,null,null,null,null,null,null,null,null,null,null,null,null,null,null,null,null,null,null,null,null,null,null,"00:00",421,0,"0000000","00","00","00"]
["SA01913","Kilbarchan AAC","1991-10-09","Sally Webster","SA01913","Senior",".",422,{"$f":"VLOOKUP('entries and results'!G424,$A$3:$E$30018,4,FALSE)","v":" "},{"$f":"VLOOKUP('entries and results'!G424,$A$3:$F$30018,6,FALSE)","v":" "},{"$f":"VLOOKUP('entries and results'!G424,$A$3:$E$30018,2,FALSE)","v":" "},null,422,".",{"$f":"VLOOKUP('entries and results'!N424,$H$3:$K$30018,2,FALSE)","v":" "},{"$f":"VLOOKUP('entries and results'!N424,$H$3:$K$30018,3,FALSE)","v":" "},{"$f":"VLOOKUP('entries and results'!N424,$H$3:$K$30018,4,FALSE)","v":" "},{"$f":"VLOOKUP('entries and results'!N424,$H$3:$L$30018,5,FALSE)","v":0}," ","00:00",null,null,null,null,null,null,null,null,null,null,null,null,null,null,null,null,null,null,null,null,null,null,null,null,null,null,null,null,null,null,null,null,null,null,null,null,null,null,null,null,null,null,null,"00:00",422,0,"0000000","00","00","00"]
["SA01916","Shettleston Harriers","1995-05-25","Calum Divers","SA01916","Under 17",".",423,{"$f":"VLOOKUP('entries and results'!G425,$A$3:$E$30018,4,FALSE)","v":" "},{"$f":"VLOOKUP('entries and results'!G425,$A$3:$F$30018,6,FALSE)","v":" "},{"$f":"VLOOKUP('entries and results'!G425,$A$3:$E$30018,2,FALSE)","v":" "},null,423,".",{"$f":"VLOOKUP('entries and results'!N425,$H$3:$K$30018,2,FALSE)","v":" "},{"$f":"VLOOKUP('entries and results'!N425,$H$3:$K$30018,3,FALSE)","v":" "},{"$f":"VLOOKUP('entries and results'!N425,$H$3:$K$30018,4,FALSE)","v":" "},{"$f":"VLOOKUP('entries and results'!N425,$H$3:$L$30018,5,FALSE)","v":0}," ","00:00",null,null,null,null,null,null,null,null,null,null,null,null,null,null,null,null,null,null,null,null,null,null,null,null,null,null,null,null,null,null,null,null,null,null,null,null,null,null,null,null,null,null,null,"00:00",423,0,"0000000","00","00","00"]
["SA01921","Lasswade AAC","1992-08-27","Lesley Campbell","SA01921","Senior",".",424,{"$f":"VLOOKUP('entries and results'!G426,$A$3:$E$30018,4,FALSE)","v":" "},{"$f":"VLOOKUP('entries and results'!G426,$A$3:$F$30018,6,FALSE)","v":" "},{"$f":"VLOOKUP('entries and results'!G426,$A$3:$E$30018,2,FALSE)","v":" "},null,424,".",{"$f":"VLOOKUP('entries and results'!N426,$H$3:$K$30018,2,FALSE)","v":" "},{"$f":"VLOOKUP('entries and results'!N426,$H$3:$K$30018,3,FALSE)","v":" "},{"$f":"VLOOKUP('entries and results'!N426,$H$3:$K$30018,4,FALSE)","v":" "},{"$f":"VLOOKUP('entries and results'!N426,$H$3:$L$30018,5,FALSE)","v":0}," ","00:00",null,null,null,null,null,null,null,null,null,null,null,null,null,null,null,null,null,null,null,null,null,null,null,null,null,null,null,null,null,null,null,null,null,null,null,null,null,null,null,null,null,null,null,"00:00",424,0,"0000000","00","00","00"]
["SA01924","Channel Island AC","1988-05-05","David Martin","SA01924","Senior",".",425,{"$f":"VLOOKUP('entries and results'!G427,$A$3:$E$30018,4,FALSE)","v":" "},{"$f":"VLOOKUP('entries and results'!G427,$A$3:$F$30018,6,FALSE)","v":" "},{"$f":"VLOOKUP('entries and results'!G427,$A$3:$E$30018,2,FALSE)","v":" "},null,425,".",{"$f":"VLOOKUP('entries and results'!N427,$H$3:$K$30018,2,FALSE)","v":" "},{"$f":"VLOOKUP('entries and results'!N427,$H$3:$K$30018,3,FALSE)","v":" "},{"$f":"VLOOKUP('entries and results'!N427,$H$3:$K$30018,4,FALSE)","v":" "},{"$f":"VLOOKUP('entries and results'!N427,$H$3:$L$30018,5,FALSE)","v":0}," ","00:00",null,null,null,null,null,null,null,null,null,null,null,null,null,null,null,null,null,null,null,null,null,null,null,null,null,null,null,null,null,null,null,null,null,null,null,null,null,null,null,null,null,null,null,"00:00",425,0,"0000000","00","00","00"]
["SA01933","Falkirk Victoria Harriers","1993-07-31","Declan Wright","SA01933","Senior",".",426,{"$f":"VLOOKUP('entries and results'!G428,$A$3:$E$30018,4,FALSE)","v":" "},{"$f":"VLOOKUP('entries and results'!G428,$A$3:$F$30018,6,FALSE)","v":" "},{"$f":"VLOOKUP('entries and results'!G428,$A$3:$E$30018,2,FALSE)","v":" "},null,426,".",{"$f":"VLOOKUP('entries and results'!N428,$H$3:$K$30018,2,FALSE)","v":" "},{"$f":"VLOOKUP('entries and results'!N428,$H$3:$K$30018,3,FALSE)","v":" "},{"$f":"VLOOKUP('entries and results'!N428,$H$3:$K$30018,4,FALSE)","v":" "},{"$f":"VLOOKUP('entries and results'!N428,$H$3:$L$30018,5,FALSE)","v":0}," ","00:00",null,null,null,null,null,null,null,null,null,null,null,null,null,null,null,null,null,null,null,null,null,null,null,null,null,null,null,null,null,null,null,null,null,null,null,null,null,null,null,null,null,null,null,"00:00",426,0,"0000000","00","00","00"]
["SA01935","Livingston & District AAC","1995-09-25","Mhairi Horn","SA01935","Under 15",".",427,{"$f":"VLOOKUP('entries and results'!G429,$A$3:$E$30018,4,FALSE)","v":" "},{"$f":"VLOOKUP('entries and results'!G429,$A$3:$F$30018,6,FALSE)","v":" "},{"$f":"VLOOKUP('entries and results'!G429,$A$3:$E$30018,2,FALSE)","v":" "},null,427,".",{"$f":"VLOOKUP('entries and results'!N429,$H$3:$K$30018,2,FALSE)","v":" "},{"$f":"VLOOKUP('entries and results'!N429,$H$3:$K$30018,3,FALSE)","v":" "},{"$f":"VLOOKUP('entries and results'!N429,$H$3:$K$30018,4,FALSE)","v":" "},{"$f":"VLOOKUP('entries and results'!N429,$H$3:$L$30018,5,FALSE)","v":0}," ","00:00",null,null,null,null,null,null,null,null,null,null,null,null,null,null,null,null,null,null,null,null,null,null,null,null,null,null,null,null,null,null,null,null,null,null,null,null,null,null,null,null,null,null,null,"00:00",427,0,"0000000","00","00","00"]
["SA01936","Livingston & District AAC","1990-06-02","John McOmish","SA01936","Senior",".",428,{"$f":"VLOOKUP('entries and results'!G430,$A$3:$E$30018,4,FALSE)","v":" "},{"$f":"VLOOKUP('entries and results'!G430,$A$3:$F$30018,6,FALSE)","v":" "},{"$f":"VLOOKUP('entries and results'!G430,$A$3:$E$30018,2,FALSE)","v":" "},null,428,".",{"$f":"VLOOKUP('entries and results'!N430,$H$3:$K$30018,2,FALSE)","v":" "},{"$f":"VLOOKUP('entries and results'!N430,$H$3:$K$30018,3,FALSE)","v":" "},{"$f":"VLOOKUP('entries and results'!N430,$H$3:$K$30018,4,FALSE)","v":" "},{"$f":"VLOOKUP('entries and results'!N430,$H$3:$L$30018,5,FALSE)","v":0}," ","00:00",null,null,null,null,null,null,null,null,null,null,null,null,null,null,null,null,null,null,null,null,null,null,null,null,null,null,null,null,null,null,null,null,null,null,null,null,null,null,null,null,null,null,null,"00:00",428,0,"0000000","00","00","00"]
["SA01943","Moray Road Runners","1993-05-17","Scott Bowie","SA01943","Senior",".",429,{"$f":"VLOOKUP('entries and results'!G431,$A$3:$E$30018,4,FALSE)","v":" "},{"$f":"VLOOKUP('entries and results'!G431,$A$3:$F$30018,6,FALSE)","v":" "},{"$f":"VLOOKUP('entries and results'!G431,$A$3:$E$30018,2,FALSE)","v":" "},null,429,".",{"$f":"VLOOKUP('entries and results'!N431,$H$3:$K$30018,2,FALSE)","v":" "},{"$f":"VLOOKUP('entries and results'!N431,$H$3:$K$30018,3,FALSE)","v":" "},{"$f":"VLOOKUP('entries and results'!N431,$H$3:$K$30018,4,FALSE)","v":" "},{"$f":"VLOOKUP('entries and results'!N431,$H$3:$L$30018,5,FALSE)","v":0}," ","00:00",null,null,null,null,null,null,null,null,null,null,null,null,null,null,null,null,null,null,null,null,null,null,null,null,null,null,null,null,null,null,null,null,null,null,null,null,null,null,null,null,null,null,null,"00:00",429,0,"0000000","00","00","00"]
["SA01947","Moray Road Runners","1993-10-23","Moray Goodfellow","SA01947","Under 17",".",430,{"$f":"VLOOKUP('entries and results'!G432,$A$3:$E$30018,4,FALSE)","v":" "},{"$f":"VLOOKUP('entries and results'!G432,$A$3:$F$30018,6,FALSE)","v":" "},{"$f":"VLOOKUP('entries and results'!G432,$A$3:$E$30018,2,FALSE)","v":" "},null,430,".",{"$f":"VLOOKUP('entries and results'!N432,$H$3:$K$30018,2,FALSE)","v":" "},{"$f":"VLOOKUP('entries and results'!N432,$H$3:$K$30018,3,FALSE)","v":" "},{"$f":"VLOOKUP('entries and results'!N432,$H$3:$K$30018,4,FALSE)","v":" "},{"$f":"VLOOKUP('entries and results'!N432,$H$3:$L$30018,5,FALSE)","v":0}," ","00:00",null,null,null,null,null,null,null,null,null,null,null,null,null,null,null,null,null,null,null,null,null,null,null,null,null,null,null,null,null,null,null,null,null,null,null,null,null,null,null,null,null,null,null,"00:00",430,0,"0000000","00","00","00"]
["SA01950","Moray Road Runners","1995-11-07","Adam Jays","SA01950","Under 15",".",431,{"$f":"VLOOKUP('entries and results'!G433,$A$3:$E$30018,4,FALSE)","v":" "},{"$f":"VLOOKUP('entries and results'!G433,$A$3:$F$30018,6,FALSE)","v":" "},{"$f":"VLOOKUP('entries and results'!G433,$A$3:$E$30018,2,FALSE)","v":" "},null,431,".",{"$f":"VLOOKUP('entries and results'!N433,$H$3:$K$30018,2,FALSE)","v":" "},{"$f":"VLOOKUP('entries and results'!N433,$H$3:$K$30018,3,FALSE)","v":" "},{"$f":"VLOOKUP('entries and results'!N433,$H$3:$K$30018,4,FALSE)","v":" "},{"$f":"VLOOKUP('entries and results'!N433,$H$3:$L$30018,5,FALSE)","v":0}," ","00:00",null,null,null,null,null,null,null,null,null,null,null,null,null,null,null,null,null,null,null,null,null,null,null,null,null,null,null,null,null,null,null,null,null,null,null,null,null,null,null,null,null,null,null,"00:00",431,0,"0000000","00","00","00"]
["SA01951","Central AC","1993-12-14","Rachel Adamson","SA01951","Under 17",".",432,{"$f":"VLOOKUP('entries and results'!G434,$A$3:$E$30018,4,FALSE)","v":" "},{"$f":"VLOOKUP('entries and results'!G434,$A$3:$F$30018,6,FALSE)","v":" "},{"$f":"VLOOKUP('entries and results'!G434,$A$3:$E$30018,2,FALSE)","v":" "},null,432,".",{"$f":"VLOOKUP('entries and results'!N434,$H$3:$K$30018,2,FALSE)","v":" "},{"$f":"VLOOKUP('entries and results'!N434,$H$3:$K$30018,3,FALSE)","v":" "},{"$f":"VLOOKUP('entries and results'!N434,$H$3:$K$30018,4,FALSE)","v":" "},{"$f":"VLOOKUP('entries and results'!N434,$H$3:$L$30018,5,FALSE)","v":0}," ","00:00",null,null,null,null,null,null,null,null,null,null,null,null,null,null,null,null,null,null,null,null,null,null,null,null,null,null,null,null,null,null,null,null,null,null,null,null,null,null,null,null,null,null,null,"00:00",432,0,"0000000","00","00","00"]
["SA01955","Motherwell AC","1993-05-12","Scott Dickson","SA01955","Senior",".",433,{"$f":"VLOOKUP('entries and results'!G435,$A$3:$E$30018,4,FALSE)","v":" "},{"$f":"VLOOKUP('entries and results'!G435,$A$3:$F$30018,6,FALSE)","v":" "},{"$f":"VLOOKUP('entries and results'!G435,$A$3:$E$30018,2,FALSE)","v":" "},null,433,".",{"$f":"VLOOKUP('entries and results'!N435,$H$3:$K$30018,2,FALSE)","v":" "},{"$f":"VLOOKUP('entries and results'!N435,$H$3:$K$30018,3,FALSE)","v":" "},{"$f":"VLOOKUP('entries and results'!N435,$H$3:$K$30018,4,FALSE)","v":" "},{"$f":"VLOOKUP('entries and results'!N435,$H$3:$L$30018,5,FALSE)","v":0}," ","00:00",null,null,null,null,null,null,null,null,null,null,null,null,null,null,null,null,null,null,null,null,null,null,null,null,null,null,null,null,null,null,null,null,null,null,null,null,null,null,null,null,null,null,null,"00:00",433,0,"0000000","00","00","00"]
["SA01959","North Uist AAC","1993-05-15","Angus MacIntosh","SA01959","Senior",".",434,{"$f":"VLOOKUP('entries and results'!G436,$A$3:$E$30018,4,FALSE)","v":" "},{"$f":"VLOOKUP('entries and results'!G436,$A$3:$F$30018,6,FALSE)","v":" "},{"$f":"VLOOKUP('entries and results'!G436,$A$3:$E$30018,2,FALSE)","v":" "},null,434,".",{"$f":"VLOOKUP('entries and results'!N436,$H$3:$K$30018,2,FALSE)","v":" "},{"$f":"VLOOKUP('entries and results'!N436,$H$3:$K$30018,3,FALSE)","v":" "},{"$f":"VLOOKUP('entries and results'!N436,$H$3:$K$30018,4,FALSE)","v":" "},{"$f":"VLOOKUP('entries and results'!N436,$H$3:$L$30018,5,FALSE)","v":0}," ","00:00",null,null,null,null,null,null,null,null,null,null,null,null,null,null,null,null,null,null,null,null,null,null,null,null,null,null,null,null,null,null,null,null,null,null,null,null,null,null,null,null,null,null,null,"00:00",434,0,"0000000","00","00","00"]
["SA01966","Perth Strathtay Harriers","1992-12-30","Murray Sturrock","SA01966","Senior",".",435,{"$f":"VLOOKUP('entries and results'!G437,$A$3:$E$30018,4,FALSE)","v":" "},{"$f":"VLOOKUP('entries and results'!G437,$A$3:$F$30018,6,FALSE)","v":" "},{"$f":"VLOOKUP('entries and results'!G437,$A$3:$E$30018,2,FALSE)","v":" "},null,435,".",{"$f":"VLOOKUP('entries and results'!N437,$H$3:$K$30018,2,FALSE)","v":" "},{"$f":"VLOOKUP('entries and results'!N437,$H$3:$K$30018,3,FALSE)","v":" "},{"$f":"VLOOKUP('entries and results'!N437,$H$3:$K$30018,4,FALSE)","v":" "},{"$f":"VLOOKUP('entries and results'!N437,$H$3:$L$30018,5,FALSE)","v":0}," ","00:00",null,null,null,null,null,null,null,null,null,null,null,null,null,null,null,null,null,null,null,null,null,null,null,null,null,null,null,null,null,null,null,null,null,null,null,null,null,null,null,null,null,null,null,"00:00",435,0,"0000000","00","00","00"]
["SA01967","Pitreavie AAC","1992-03-21","Donald Tod","SA01967","Senior",".",436,{"$f":"VLOOKUP('entries and results'!G438,$A$3:$E$30018,4,FALSE)","v":" "},{"$f":"VLOOKUP('entries and results'!G438,$A$3:$F$30018,6,FALSE)","v":" "},{"$f":"VLOOKUP('entries and results'!G438,$A$3:$E$30018,2,FALSE)","v":" "},null,436,".",{"$f":"VLOOKUP('entries and results'!N438,$H$3:$K$30018,2,FALSE)","v":" "},{"$f":"VLOOKUP('entries and results'!N438,$H$3:$K$30018,3,FALSE)","v":" "},{"$f":"VLOOKUP('entries and results'!N438,$H$3:$K$30018,4,FALSE)","v":" "},{"$f":"VLOOKUP('entries and results'!N438,$H$3:$L$30018,5,FALSE)","v":0}," ","00:00",null,null,null,null,null,null,null,null,null,null,null,null,null,null,null,null,null,null,null,null,null,null,null,null,null,null,null,null,null,null,null,null,null,null,null,null,null,null,null,null,null,null,null,"00:00",436,0,"0000000","00","00","00"]
["SA01969","Pitreavie AAC","1995-07-01","Micaela Brown","SA01969","Under 17",".",437,{"$f":"VLOOKUP('entries and results'!G439,$A$3:$E$30018,4,FALSE)","v":" "},{"$f":"VLOOKUP('entries and results'!G439,$A$3:$F$30018,6,FALSE)","v":" "},{"$f":"VLOOKUP('entries and results'!G439,$A$3:$E$30018,2,FALSE)","v":" "},null,437,".",{"$f":"VLOOKUP('entries and results'!N439,$H$3:$K$30018,2,FALSE)","v":" "},{"$f":"VLOOKUP('entries and results'!N439,$H$3:$K$30018,3,FALSE)","v":" "},{"$f":"VLOOKUP('entries and results'!N439,$H$3:$K$30018,4,FALSE)","v":" "},{"$f":"VLOOKUP('entries and results'!N439,$H$3:$L$30018,5,FALSE)","v":0}," ","00:00",null,null,null,null,null,null,null,null,null,null,null,null,null,null,null,null,null,null,null,null,null,null,null,null,null,null,null,null,null,null,null,null,null,null,null,null,null,null,null,null,null,null,null,"00:00",437,0,"0000000","00","00","00"]
["SA01970","Pitreavie AAC","1988-10-25","Stephanie Walker","SA01970","Senior",".",438,{"$f":"VLOOKUP('entries and results'!G440,$A$3:$E$30018,4,FALSE)","v":" "},{"$f":"VLOOKUP('entries and results'!G440,$A$3:$F$30018,6,FALSE)","v":" "},{"$f":"VLOOKUP('entries and results'!G440,$A$3:$E$30018,2,FALSE)","v":" "},null,438,".",{"$f":"VLOOKUP('entries and results'!N440,$H$3:$K$30018,2,FALSE)","v":" "},{"$f":"VLOOKUP('entries and results'!N440,$H$3:$K$30018,3,FALSE)","v":" "},{"$f":"VLOOKUP('entries and results'!N440,$H$3:$K$30018,4,FALSE)","v":" "},{"$f":"VLOOKUP('entries and results'!N440,$H$3:$L$30018,5,FALSE)","v":0}," ","00:00",null,null,null,null,null,null,null,null,null,null,null,null,null,null,null,null,null,null,null,null,null,null,null,null,null,null,null,null,null,null,null,null,null,null,null,null,null,null,null,null,null,null,null,"00:00",438,0,"0000000","00","00","00"]
["SA01971","Pitreavie AAC","1992-09-14","Anthony Young","SA01971","Senior",".",439,{"$f":"VLOOKUP('entries and results'!G441,$A$3:$E$30018,4,FALSE)","v":" "},{"$f":"VLOOKUP('entries and results'!G441,$A$3:$F$30018,6,FALSE)","v":" "},{"$f":"VLOOKUP('entries and results'!G441,$A$3:$E$30018,2,FALSE)","v":" "},null,439,".",{"$f":"VLOOKUP('entries and results'!N441,$H$3:$K$30018,2,FALSE)","v":" "},{"$f":"VLOOKUP('entries and results'!N441,$H$3:$K$30018,3,FALSE)","v":" "},{"$f":"VLOOKUP('entries and results'!N441,$H$3:$K$30018,4,FALSE)","v":" "},{"$f":"VLOOKUP('entries and results'!N441,$H$3:$L$30018,5,FALSE)","v":0}," ","00:00",null,null,null,null,null,null,null,null,null,null,null,null,null,null,null,null,null,null,null,null,null,null,null,null,null,null,null,null,null,null,null,null,null,null,null,null,null,null,null,null,null,null,null,"00:00",439,0,"0000000","00","00","00"]
["SA01972","Inverness Harriers AAC","1992-04-21","James MacPhail","SA01972","Senior",".",440,{"$f":"VLOOKUP('entries and results'!G442,$A$3:$E$30018,4,FALSE)","v":" "},{"$f":"VLOOKUP('entries and results'!G442,$A$3:$F$30018,6,FALSE)","v":" "},{"$f":"VLOOKUP('entries and results'!G442,$A$3:$E$30018,2,FALSE)","v":" "},null,440,".",{"$f":"VLOOKUP('entries and results'!N442,$H$3:$K$30018,2,FALSE)","v":" "},{"$f":"VLOOKUP('entries and results'!N442,$H$3:$K$30018,3,FALSE)","v":" "},{"$f":"VLOOKUP('entries and results'!N442,$H$3:$K$30018,4,FALSE)","v":" "},{"$f":"VLOOKUP('entries and results'!N442,$H$3:$L$30018,5,FALSE)","v":0}," ","00:00",null,null,null,null,null,null,null,null,null,null,null,null,null,null,null,null,null,null,null,null,null,null,null,null,null,null,null,null,null,null,null,null,null,null,null,null,null,null,null,null,null,null,null,"00:00",440,0,"0000000","00","00","00"]
["SA01973","Ross County Athletic Club","1995-04-06","Scott MacPhail","SA01973","Under 17",".",441,{"$f":"VLOOKUP('entries and results'!G443,$A$3:$E$30018,4,FALSE)","v":" "},{"$f":"VLOOKUP('entries and results'!G443,$A$3:$F$30018,6,FALSE)","v":" "},{"$f":"VLOOKUP('entries and results'!G443,$A$3:$E$30018,2,FALSE)","v":" "},null,441,".",{"$f":"VLOOKUP('entries and results'!N443,$H$3:$K$30018,2,FALSE)","v":" "},{"$f":"VLOOKUP('entries and results'!N443,$H$3:$K$30018,3,FALSE)","v":" "},{"$f":"VLOOKUP('entries and results'!N443,$H$3:$K$30018,4,FALSE)","v":" "},{"$f":"VLOOKUP('entries and results'!N443,$H$3:$L$30018,5,FALSE)","v":0}," ","00:00",null,null,null,null,null,null,null,null,null,null,null,null,null,null,null,null,null,null,null,null,null,null,null,null,null,null,null,null,null,null,null,null,null,null,null,null,null,null,null,null,null,null,null,"00:00",441,0,"0000000","00","00","00"]
["SA01974","Shettleston Harriers","1993-10-14","Jack Bishop","SA01974","Under 17",".",442,{"$f":"VLOOKUP('entries and results'!G444,$A$3:$E$30018,4,FALSE)","v":" "},{"$f":"VLOOKUP('entries and results'!G444,$A$3:$F$30018,6,FALSE)","v":" "},{"$f":"VLOOKUP('entries and results'!G444,$A$3:$E$30018,2,FALSE)","v":" "},null,442,".",{"$f":"VLOOKUP('entries and results'!N444,$H$3:$K$30018,2,FALSE)","v":" "},{"$f":"VLOOKUP('entries and results'!N444,$H$3:$K$30018,3,FALSE)","v":" "},{"$f":"VLOOKUP('entries and results'!N444,$H$3:$K$30018,4,FALSE)","v":" "},{"$f":"VLOOKUP('entries and results'!N444,$H$3:$L$30018,5,FALSE)","v":0}," ","00:00",null,null,null,null,null,null,null,null,null,null,null,null,null,null,null,null,null,null,null,null,null,null,null,null,null,null,null,null,null,null,null,null,null,null,null,null,null,null,null,null,null,null,null,"00:00",442,0,"0000000","00","00","00"]
["SA01977","Shettleston Harriers","1993-10-17","Nicholas Devlin","SA01977","Under 17",".",443,{"$f":"VLOOKUP('entries and results'!G445,$A$3:$E$30018,4,FALSE)","v":" "},{"$f":"VLOOKUP('entries and results'!G445,$A$3:$F$30018,6,FALSE)","v":" "},{"$f":"VLOOKUP('entries and results'!G445,$A$3:$E$30018,2,FALSE)","v":" "},null,443,".",{"$f":"VLOOKUP('entries and results'!N445,$H$3:$K$30018,2,FALSE)","v":" "},{"$f":"VLOOKUP('entries and results'!N445,$H$3:$K$30018,3,FALSE)","v":" "},{"$f":"VLOOKUP('entries and results'!N445,$H$3:$K$30018,4,FALSE)","v":" "},{"$f":"VLOOKUP('entries and results'!N445,$H$3:$L$30018,5,FALSE)","v":0}," ","00:00",null,null,null,null,null,null,null,null,null,null,null,null,null,null,null,null,null,null,null,null,null,null,null,null,null,null,null,null,null,null,null,null,null,null,null,null,null,null,null,null,null,null,null,"00:00",443,0,"0000000","00","00","00"]
["SA01980","Shettleston Harriers","1992-01-30","Lachlan Oates","SA01980","Senior",".",444,{"$f":"VLOOKUP('entries and results'!G446,$A$3:$E$30018,4,FALSE)","v":" "},{"$f":"VLOOKUP('entries and results'!G446,$A$3:$F$30018,6,FALSE)","v":" "},{"$f":"VLOOKUP('entries and results'!G446,$A$3:$E$30018,2,FALSE)","v":" "},null,444,".",{"$f":"VLOOKUP('entries and results'!N446,$H$3:$K$30018,2,FALSE)","v":" "},{"$f":"VLOOKUP('entries and results'!N446,$H$3:$K$30018,3,FALSE)","v":" "},{"$f":"VLOOKUP('entries and results'!N446,$H$3:$K$30018,4,FALSE)","v":" "},{"$f":"VLOOKUP('entries and results'!N446,$H$3:$L$30018,5,FALSE)","v":0}," ","00:00",null,null,null,null,null,null,null,null,null,null,null,null,null,null,null,null,null,null,null,null,null,null,null,null,null,null,null,null,null,null,null,null,null,null,null,null,null,null,null,null,null,null,null,"00:00",444,0,"0000000","00","00","00"]
["SA01984","Stornoway Running & AC","1992-06-23","Kirsty Munro","SA01984","Senior",".",445,{"$f":"VLOOKUP('entries and results'!G447,$A$3:$E$30018,4,FALSE)","v":" "},{"$f":"VLOOKUP('entries and results'!G447,$A$3:$F$30018,6,FALSE)","v":" "},{"$f":"VLOOKUP('entries and results'!G447,$A$3:$E$30018,2,FALSE)","v":" "},null,445,".",{"$f":"VLOOKUP('entries and results'!N447,$H$3:$K$30018,2,FALSE)","v":" "},{"$f":"VLOOKUP('entries and results'!N447,$H$3:$K$30018,3,FALSE)","v":" "},{"$f":"VLOOKUP('entries and results'!N447,$H$3:$K$30018,4,FALSE)","v":" "},{"$f":"VLOOKUP('entries and results'!N447,$H$3:$L$30018,5,FALSE)","v":0}," ","00:00",null,null,null,null,null,null,null,null,null,null,null,null,null,null,null,null,null,null,null,null,null,null,null,null,null,null,null,null,null,null,null,null,null,null,null,null,null,null,null,null,null,null,null,"00:00",445,0,"0000000","00","00","00"]
["SA01985","Stornoway Running & AC","1993-07-05","Ceit Stewart","SA01985","Senior",".",446,{"$f":"VLOOKUP('entries and results'!G448,$A$3:$E$30018,4,FALSE)","v":" "},{"$f":"VLOOKUP('entries and results'!G448,$A$3:$F$30018,6,FALSE)","v":" "},{"$f":"VLOOKUP('entries and results'!G448,$A$3:$E$30018,2,FALSE)","v":" "},null,446,".",{"$f":"VLOOKUP('entries and results'!N448,$H$3:$K$30018,2,FALSE)","v":" "},{"$f":"VLOOKUP('entries and results'!N448,$H$3:$K$30018,3,FALSE)","v":" "},{"$f":"VLOOKUP('entries and results'!N448,$H$3:$K$30018,4,FALSE)","v":" "},{"$f":"VLOOKUP('entries and results'!N448,$H$3:$L$30018,5,FALSE)","v":0}," ","00:00",null,null,null,null,null,null,null,null,null,null,null,null,null,null,null,null,null,null,null,null,null,null,null,null,null,null,null,null,null,null,null,null,null,null,null,null,null,null,null,null,null,null,null,"00:00",446,0,"0000000","00","00","00"]
["SA01986","Stornoway Running & AC","1991-12-17","Ruaraidh Stewart","SA01986","Senior",".",447,{"$f":"VLOOKUP('entries and results'!G449,$A$3:$E$30018,4,FALSE)","v":" "},{"$f":"VLOOKUP('entries and results'!G449,$A$3:$F$30018,6,FALSE)","v":" "},{"$f":"VLOOKUP('entries and results'!G449,$A$3:$E$30018,2,FALSE)","v":" "},null,447,".",{"$f":"VLOOKUP('entries and results'!N449,$H$3:$K$30018,2,FALSE)","v":" "},{"$f":"VLOOKUP('entries and results'!N449,$H$3:$K$30018,3,FALSE)","v":" "},{"$f":"VLOOKUP('entries and results'!N449,$H$3:$K$30018,4,FALSE)","v":" "},{"$f":"VLOOKUP('entries and results'!N449,$H$3:$L$30018,5,FALSE)","v":0}," ","00:00",null,null,null,null,null,null,null,null,null,null,null,null,null,null,null,null,null,null,null,null,null,null,null,null,null,null,null,null,null,null,null,null,null,null,null,null,null,null,null,null,null,null,null,"00:00",447,0,"0000000","00","00","00"]
["SA01991","VP-Glasgow AC","1992-09-08","Alison Innes","SA01991","Senior",".",448,{"$f":"VLOOKUP('entries and results'!G450,$A$3:$E$30018,4,FALSE)","v":" "},{"$f":"VLOOKUP('entries and results'!G450,$A$3:$F$30018,6,FALSE)","v":" "},{"$f":"VLOOKUP('entries and results'!G450,$A$3:$E$30018,2,FALSE)","v":" "},null,448,".",{"$f":"VLOOKUP('entries and results'!N450,$H$3:$K$30018,2,FALSE)","v":" "},{"$f":"VLOOKUP('entries and results'!N450,$H$3:$K$30018,3,FALSE)","v":" "},{"$f":"VLOOKUP('entries and results'!N450,$H$3:$K$30018,4,FALSE)","v":" "},{"$f":"VLOOKUP('entries and results'!N450,$H$3:$L$30018,5,FALSE)","v":0}," ","00:00",null,null,null,null,null,null,null,null,null,null,null,null,null,null,null,null,null,null,null,null,null,null,null,null,null,null,null,null,null,null,null,null,null,null,null,null,null,null,null,null,null,null,null,"00:00",448,0,"0000000","00","00","00"]
["SA01992","VP-Glasgow AC","1990-09-17","Calum Innes","SA01992","Senior",".",449,{"$f":"VLOOKUP('entries and results'!G451,$A$3:$E$30018,4,FALSE)","v":" "},{"$f":"VLOOKUP('entries and results'!G451,$A$3:$F$30018,6,FALSE)","v":" "},{"$f":"VLOOKUP('entries and results'!G451,$A$3:$E$30018,2,FALSE)","v":" "},null,449,".",{"$f":"VLOOKUP('entries and results'!N451,$H$3:$K$30018,2,FALSE)","v":" "},{"$f":"VLOOKUP('entries and results'!N451,$H$3:$K$30018,3,FALSE)","v":" "},{"$f":"VLOOKUP('entries and results'!N451,$H$3:$K$30018,4,FALSE)","v":" "},{"$f":"VLOOKUP('entries and results'!N451,$H$3:$L$30018,5,FALSE)","v":0}," ","00:00",null,null,null,null,null,null,null,null,null,null,null,null,null,null,null,null,null,null,null,null,null,null,null,null,null,null,null,null,null,null,null,null,null,null,null,null,null,null,null,null,null,null,null,"00:00",449,{"$f":"SUMIF($H$3:$H$601,$BM451,$S$3:$S$601)","v":0},"0000000","00","00","00"]
["SA01993","VP-Glasgow AC","1990-09-17","Gregor Innes","SA01993","Senior",".",450,{"$f":"VLOOKUP('entries and results'!G452,$A$3:$E$30018,4,FALSE)","v":" "},{"$f":"VLOOKUP('entries and results'!G452,$A$3:$F$30018,6,FALSE)","v":" "},{"$f":"VLOOKUP('entries and results'!G452,$A$3:$E$30018,2,FALSE)","v":" "},null,450,".",{"$f":"VLOOKUP('entries and results'!N452,$H$3:$K$30018,2,FALSE)","v":" "},{"$f":"VLOOKUP('entries and results'!N452,$H$3:$K$30018,3,FALSE)","v":" "},{"$f":"VLOOKUP('entries and results'!N452,$H$3:$K$30018,4,FALSE)","v":" "},{"$f":"VLOOKUP('entries and results'!N452,$H$3:$L$30018,5,FALSE)","v":0}," ",{"$f":"IF($H452=\"\",\" \",(LOOKUP($H452,$BM$3:$BM$1601,$BL$3:$BL$1601)))","v":"00:00"},null,null,null,null,null,null,null,null,null,null,null,null,null,null,null,null,null,null,null,null,null,null,null,null,null,null,null,null,null,null,null,null,null,null,null,null,null,null,null,null,null,null,null,"00:00",450,0,"0000000","00","00","00"]
["SA01995","VP-Glasgow AC","1993-04-05","Jade Barclay","SA01995","Senior",".",451,{"$f":"VLOOKUP('entries and results'!G453,$A$3:$E$30018,4,FALSE)","v":" "},{"$f":"VLOOKUP('entries and results'!G453,$A$3:$F$30018,6,FALSE)","v":" "},{"$f":"VLOOKUP('entries and results'!G453,$A$3:$E$30018,2,FALSE)","v":" "},null,451,".",{"$f":"VLOOKUP('entries and results'!N453,$H$3:$K$30018,2,FALSE)","v":" "},{"$f":"VLOOKUP('entries and results'!N453,$H$3:$K$30018,3,FALSE)","v":" "},{"$f":"VLOOKUP('entries and results'!N453,$H$3:$K$30018,4,FALSE)","v":" "},{"$f":"VLOOKUP('entries and results'!N453,$H$3:$L$30018,5,FALSE)","v":0}," ","00:00",null,null,null,null,null,null,null,null,null,null,null,null,null,null,null,null,null,null,null,null,null,null,null,null,null,null,null,null,null,null,null,null,null,null,null,null,null,null,null,null,null,null,null,"00:00",451,0,"0000000","00","00","00"]
["SA01998","Ron Hill Cambuslang Harriers","1994-10-28","Rachel Fraser","SA01998","Under 17",".",452,{"$f":"VLOOKUP('entries and results'!G454,$A$3:$E$30018,4,FALSE)","v":" "},{"$f":"VLOOKUP('entries and results'!G454,$A$3:$F$30018,6,FALSE)","v":" "},{"$f":"VLOOKUP('entries and results'!G454,$A$3:$E$30018,2,FALSE)","v":" "},null,452,".",{"$f":"VLOOKUP('entries and results'!N454,$H$3:$K$30018,2,FALSE)","v":" "},{"$f":"VLOOKUP('entries and results'!N454,$H$3:$K$30018,3,FALSE)","v":" "},{"$f":"VLOOKUP('entries and results'!N454,$H$3:$K$30018,4,FALSE)","v":" "},{"$f":"VLOOKUP('entries and results'!N454,$H$3:$L$30018,5,FALSE)","v":0}," ","00:00",null,null,null,null,null,null,null,null,null,null,null,null,null,null,null,null,null,null,null,null,null,null,null,null,null,null,null,null,null,null,null,null,null,null,null,null,null,null,null,null,null,null,null,{"$f":"CONCATENATE(BQ454,\":\",BR454)","v":"00:00"},452,0,{"$f":"CONCATENATE($BI$2,$BN454)","v":"0000000"},{"$f":"MID(RIGHT($BO454,6),1,2)","v":"00"},{"$f":"MID(RIGHT($BO454,6),3,2)","v":"00"},{"$f":"MID(RIGHT($BO454,6),5,2)","v":"00"}]
["SA02011","Ron Hill Cambuslang Harriers","1990-02-01","Kenneth Boyd","SA02011","Senior",".",453,{"$f":"VLOOKUP('entries and results'!G455,$A$3:$E$30018,4,FALSE)","v":" "},{"$f":"VLOOKUP('entries and results'!G455,$A$3:$F$30018,6,FALSE)","v":" "},{"$f":"VLOOKUP('entries and results'!G455,$A$3:$E$30018,2,FALSE)","v":" "},null,453,".",{"$f":"VLOOKUP('entries and results'!N455,$H$3:$K$30018,2,FALSE)","v":" "},{"$f":"VLOOKUP('entries and results'!N455,$H$3:$K$30018,3,FALSE)","v":" "},{"$f":"VLOOKUP('entries and results'!N455,$H$3:$K$30018,4,FALSE)","v":" "},{"$f":"VLOOKUP('entries and results'!N455,$H$3:$L$30018,5,FALSE)","v":0}," ","00:00",null,null,null,null,null,null,null,null,null,null,null,null,null,null,null,null,null,null,null,null,null,null,null,null,null,null,null,null,null,null,null,null,null,null,null,null,null,null,null,null,null,null,null,"00:00",453,0,"0000000","00","00","00"]
["SA02013","Aberdeen AAC","1993-11-12","Sebastian Wilson","SA02013","Under 17",".",454,{"$f":"VLOOKUP('entries and results'!G456,$A$3:$E$30018,4,FALSE)","v":" "},{"$f":"VLOOKUP('entries and results'!G456,$A$3:$F$30018,6,FALSE)","v":" "},{"$f":"VLOOKUP('entries and results'!G456,$A$3:$E$30018,2,FALSE)","v":" "},null,454,".",{"$f":"VLOOKUP('entries and results'!N456,$H$3:$K$30018,2,FALSE)","v":" "},{"$f":"VLOOKUP('entries and results'!N456,$H$3:$K$30018,3,FALSE)","v":" "},{"$f":"VLOOKUP('entries and results'!N456,$H$3:$K$30018,4,FALSE)","v":" "},{"$f":"VLOOKUP('entries and results'!N456,$H$3:$L$30018,5,FALSE)","v":0}," ","00:00",null,null,null,null,null,null,null,null,null,null,null,null,null,null,null,null,null,null,null,null,null,null,null,null,null,null,null,null,null,null,null,null,null,null,null,null,null,null,null,null,null,null,null,"00:00",454,0,"0000000","00","00","00"]
["SA02018","Airdrie Harriers","1991-12-21","Ross Mclean","SA02018","Senior",".",455,{"$f":"VLOOKUP('entries and results'!G457,$A$3:$E$30018,4,FALSE)","v":" "},{"$f":"VLOOKUP('entries and results'!G457,$A$3:$F$30018,6,FALSE)","v":" "},{"$f":"VLOOKUP('entries and results'!G457,$A$3:$E$30018,2,FALSE)","v":" "},null,455,".",{"$f":"VLOOKUP('entries and results'!N457,$H$3:$K$30018,2,FALSE)","v":" "},{"$f":"VLOOKUP('entries and results'!N457,$H$3:$K$30018,3,FALSE)","v":" "},{"$f":"VLOOKUP('entries and results'!N457,$H$3:$K$30018,4,FALSE)","v":" "},{"$f":"VLOOKUP('entries and results'!N457,$H$3:$L$30018,5,FALSE)","v":0}," ","00:00",null,null,null,null,null,null,null,null,null,null,null,null,null,null,null,null,null,null,null,null,null,null,null,null,null,null,null,null,null,null,null,null,null,null,null,null,null,null,null,null,null,null,null,"00:00",455,0,"0000000","00","00","00"]
["SA02024","Ayr Seaforth AAC","1994-08-26","Caroline George","SA02024","Under 17",".",456,{"$f":"VLOOKUP('entries and results'!G458,$A$3:$E$30018,4,FALSE)","v":" "},{"$f":"VLOOKUP('entries and results'!G458,$A$3:$F$30018,6,FALSE)","v":" "},{"$f":"VLOOKUP('entries and results'!G458,$A$3:$E$30018,2,FALSE)","v":" "},null,456,".",{"$f":"VLOOKUP('entries and results'!N458,$H$3:$K$30018,2,FALSE)","v":" "},{"$f":"VLOOKUP('entries and results'!N458,$H$3:$K$30018,3,FALSE)","v":" "},{"$f":"VLOOKUP('entries and results'!N458,$H$3:$K$30018,4,FALSE)","v":" "},{"$f":"VLOOKUP('entries and results'!N458,$H$3:$L$30018,5,FALSE)","v":0}," ","00:00",null,null,null,null,null,null,null,null,null,null,null,null,null,null,null,null,null,null,null,null,null,null,null,null,null,null,null,null,null,null,null,null,null,null,null,null,null,null,null,null,null,null,null,"00:00",456,0,"0000000","00","00","00"]
["SA02035","Edinburgh AC","1993-04-21","Joanna Dudgeon","SA02035","Senior",".",457,{"$f":"VLOOKUP('entries and results'!G459,$A$3:$E$30018,4,FALSE)","v":" "},{"$f":"VLOOKUP('entries and results'!G459,$A$3:$F$30018,6,FALSE)","v":" "},{"$f":"VLOOKUP('entries and results'!G459,$A$3:$E$30018,2,FALSE)","v":" "},null,457,".",{"$f":"VLOOKUP('entries and results'!N459,$H$3:$K$30018,2,FALSE)","v":" "},{"$f":"VLOOKUP('entries and results'!N459,$H$3:$K$30018,3,FALSE)","v":" "},{"$f":"VLOOKUP('entries and results'!N459,$H$3:$K$30018,4,FALSE)","v":" "},{"$f":"VLOOKUP('entries and results'!N459,$H$3:$L$30018,5,FALSE)","v":0}," ","00:00",null,null,null,null,null,null,null,null,null,null,null,null,null,null,null,null,null,null,null,null,null,null,null,null,null,null,null,null,null,null,null,null,null,null,null,null,null,null,null,null,null,null,null,"00:00",457,0,"0000000","00","00","00"]
["SA02036","George Heriots School","1993-04-16","Amber Lockhart","SA02036","Senior",".",458,{"$f":"VLOOKUP('entries and results'!G460,$A$3:$E$30018,4,FALSE)","v":" "},{"$f":"VLOOKUP('entries and results'!G460,$A$3:$F$30018,6,FALSE)","v":" "},{"$f":"VLOOKUP('entries and results'!G460,$A$3:$E$30018,2,FALSE)","v":" "},null,458,".",{"$f":"VLOOKUP('entries and results'!N460,$H$3:$K$30018,2,FALSE)","v":" "},{"$f":"VLOOKUP('entries and results'!N460,$H$3:$K$30018,3,FALSE)","v":" "},{"$f":"VLOOKUP('entries and results'!N460,$H$3:$K$30018,4,FALSE)","v":" "},{"$f":"VLOOKUP('entries and results'!N460,$H$3:$L$30018,5,FALSE)","v":0}," ","00:00",null,null,null,null,null,null,null,null,null,null,null,null,null,null,null,null,null,null,null,null,null,null,null,null,null,null,null,null,null,null,null,null,null,null,null,null,null,null,null,null,null,null,null,"00:00",458,0,"0000000","00","00","00"]
["SA02037","Edinburgh AC","1994-09-10","Amil Mair","SA02037","Under 17",".",459,{"$f":"VLOOKUP('entries and results'!G461,$A$3:$E$30018,4,FALSE)","v":" "},{"$f":"VLOOKUP('entries and results'!G461,$A$3:$F$30018,6,FALSE)","v":" "},{"$f":"VLOOKUP('entries and results'!G461,$A$3:$E$30018,2,FALSE)","v":" "},null,459,".",{"$f":"VLOOKUP('entries and results'!N461,$H$3:$K$30018,2,FALSE)","v":" "},{"$f":"VLOOKUP('entries and results'!N461,$H$3:$K$30018,3,FALSE)","v":" "},{"$f":"VLOOKUP('entries and results'!N461,$H$3:$K$30018,4,FALSE)","v":" "},{"$f":"VLOOKUP('entries and results'!N461,$H$3:$L$30018,5,FALSE)","v":0}," ","00:00",null,null,null,null,null,null,null,null,null,null,null,null,null,null,null,null,null,null,null,null,null,null,null,null,null,null,null,null,null,null,null,null,null,null,null,null,null,null,null,null,null,null,null,"00:00",459,0,"0000000","00","00","00"]
["SA02038","Edinburgh AC","1993-05-13","Nikhil Mair","SA02038","Senior",".",460,{"$f":"VLOOKUP('entries and results'!G462,$A$3:$E$30018,4,FALSE)","v":" "},{"$f":"VLOOKUP('entries and results'!G462,$A$3:$F$30018,6,FALSE)","v":" "},{"$f":"VLOOKUP('entries and results'!G462,$A$3:$E$30018,2,FALSE)","v":" "},null,460,".",{"$f":"VLOOKUP('entries and results'!N462,$H$3:$K$30018,2,FALSE)","v":" "},{"$f":"VLOOKUP('entries and results'!N462,$H$3:$K$30018,3,FALSE)","v":" "},{"$f":"VLOOKUP('entries and results'!N462,$H$3:$K$30018,4,FALSE)","v":" "},{"$f":"VLOOKUP('entries and results'!N462,$H$3:$L$30018,5,FALSE)","v":0}," ","00:00",null,null,null,null,null,null,null,null,null,null,null,null,null,null,null,null,null,null,null,null,null,null,null,null,null,null,null,null,null,null,null,null,null,null,null,null,null,null,null,null,null,null,null,"00:00",460,0,"0000000","00","00","00"]
["SA02039","Edinburgh AC","1992-03-16","Amy Rogers","SA02039","Senior",".",461,{"$f":"VLOOKUP('entries and results'!G463,$A$3:$E$30018,4,FALSE)","v":" "},{"$f":"VLOOKUP('entries and results'!G463,$A$3:$F$30018,6,FALSE)","v":" "},{"$f":"VLOOKUP('entries and results'!G463,$A$3:$E$30018,2,FALSE)","v":" "},null,461,".",{"$f":"VLOOKUP('entries and results'!N463,$H$3:$K$30018,2,FALSE)","v":" "},{"$f":"VLOOKUP('entries and results'!N463,$H$3:$K$30018,3,FALSE)","v":" "},{"$f":"VLOOKUP('entries and results'!N463,$H$3:$K$30018,4,FALSE)","v":" "},{"$f":"VLOOKUP('entries and results'!N463,$H$3:$L$30018,5,FALSE)","v":0}," ","00:00",null,null,null,null,null,null,null,null,null,null,null,null,null,null,null,null,null,null,null,null,null,null,null,null,null,null,null,null,null,null,null,null,null,null,null,null,null,null,null,null,null,null,null,"00:00",461,0,"0000000","00","00","00"]
["SA02040","Edinburgh AC","1993-02-26","Philipa Valente","SA02040","Senior",".",462,{"$f":"VLOOKUP('entries and results'!G464,$A$3:$E$30018,4,FALSE)","v":" "},{"$f":"VLOOKUP('entries and results'!G464,$A$3:$F$30018,6,FALSE)","v":" "},{"$f":"VLOOKUP('entries and results'!G464,$A$3:$E$30018,2,FALSE)","v":" "},null,462,".",{"$f":"VLOOKUP('entries and results'!N464,$H$3:$K$30018,2,FALSE)","v":" "},{"$f":"VLOOKUP('entries and results'!N464,$H$3:$K$30018,3,FALSE)","v":" "},{"$f":"VLOOKUP('entries and results'!N464,$H$3:$K$30018,4,FALSE)","v":" "},{"$f":"VLOOKUP('entries and results'!N464,$H$3:$L$30018,5,FALSE)","v":0}," ","00:00",null,null,null,null,null,null,null,null,null,null,null,null,null,null,null,null,null,null,null,null,null,null,null,null,null,null,null,null,null,null,null,null,null,null,null,null,null,null,null,null,null,null,null,"00:00",462,0,"0000000","00","00","00"]
["SA02041","VP-Glasgow AC","1989-02-06","Erin Leggate","SA02041","Senior",".",463,{"$f":"VLOOKUP('entries and results'!G465,$A$3:$E$30018,4,FALSE)","v":" "},{"$f":"VLOOKUP('entries and results'!G465,$A$3:$F$30018,6,FALSE)","v":" "},{"$f":"VLOOKUP('entries and results'!G465,$A$3:$E$30018,2,FALSE)","v":" "},null,463,".",{"$f":"VLOOKUP('entries and results'!N465,$H$3:$K$30018,2,FALSE)","v":" "},{"$f":"VLOOKUP('entries and results'!N465,$H$3:$K$30018,3,FALSE)","v":" "},{"$f":"VLOOKUP('entries and results'!N465,$H$3:$K$30018,4,FALSE)","v":" "},{"$f":"VLOOKUP('entries and results'!N465,$H$3:$L$30018,5,FALSE)","v":0}," ","00:00",null,null,null,null,null,null,null,null,null,null,null,null,null,null,null,null,null,null,null,null,null,null,null,null,null,null,null,null,null,null,null,null,null,null,null,null,null,null,null,null,null,null,null,"00:00",463,0,"0000000","00","00","00"]
["SA02052","East Kilbride A.C.","1995-04-20","Scott Hernon","SA02052","Under 17",".",464,{"$f":"VLOOKUP('entries and results'!G466,$A$3:$E$30018,4,FALSE)","v":" "},{"$f":"VLOOKUP('entries and results'!G466,$A$3:$F$30018,6,FALSE)","v":" "},{"$f":"VLOOKUP('entries and results'!G466,$A$3:$E$30018,2,FALSE)","v":" "},null,464,".",{"$f":"VLOOKUP('entries and results'!N466,$H$3:$K$30018,2,FALSE)","v":" "},{"$f":"VLOOKUP('entries and results'!N466,$H$3:$K$30018,3,FALSE)","v":" "},{"$f":"VLOOKUP('entries and results'!N466,$H$3:$K$30018,4,FALSE)","v":" "},{"$f":"VLOOKUP('entries and results'!N466,$H$3:$L$30018,5,FALSE)","v":0}," ","00:00",null,null,null,null,null,null,null,null,null,null,null,null,null,null,null,null,null,null,null,null,null,null,null,null,null,null,null,null,null,null,null,null,null,null,null,null,null,null,null,null,null,null,null,"00:00",464,0,"0000000","00","00","00"]
["SA02054","Edinburgh AC","1990-01-06","Anna Cathro","SA02054","Senior",".",465,{"$f":"VLOOKUP('entries and results'!G467,$A$3:$E$30018,4,FALSE)","v":" "},{"$f":"VLOOKUP('entries and results'!G467,$A$3:$F$30018,6,FALSE)","v":" "},{"$f":"VLOOKUP('entries and results'!G467,$A$3:$E$30018,2,FALSE)","v":" "},null,465,".",{"$f":"VLOOKUP('entries and results'!N467,$H$3:$K$30018,2,FALSE)","v":" "},{"$f":"VLOOKUP('entries and results'!N467,$H$3:$K$30018,3,FALSE)","v":" "},{"$f":"VLOOKUP('entries and results'!N467,$H$3:$K$30018,4,FALSE)","v":" "},{"$f":"VLOOKUP('entries and results'!N467,$H$3:$L$30018,5,FALSE)","v":0}," ","00:00",null,null,null,null,null,null,null,null,null,null,null,null,null,null,null,null,null,null,null,null,null,null,null,null,null,null,null,null,null,null,null,null,null,null,null,null,null,null,null,null,null,null,null,"00:00",465,0,"0000000","00","00","00"]
["SA02056","Edinburgh AC","1992-09-25","Ailsa Mackie","SA02056","Senior",".",466,{"$f":"VLOOKUP('entries and results'!G468,$A$3:$E$30018,4,FALSE)","v":" "},{"$f":"VLOOKUP('entries and results'!G468,$A$3:$F$30018,6,FALSE)","v":" "},{"$f":"VLOOKUP('entries and results'!G468,$A$3:$E$30018,2,FALSE)","v":" "},null,466,".",{"$f":"VLOOKUP('entries and results'!N468,$H$3:$K$30018,2,FALSE)","v":" "},{"$f":"VLOOKUP('entries and results'!N468,$H$3:$K$30018,3,FALSE)","v":" "},{"$f":"VLOOKUP('entries and results'!N468,$H$3:$K$30018,4,FALSE)","v":" "},{"$f":"VLOOKUP('entries and results'!N468,$H$3:$L$30018,5,FALSE)","v":0}," ","00:00",null,null,null,null,null,null,null,null,null,null,null,null,null,null,null,null,null,null,null,null,null,null,null,null,null,null,null,null,null,null,null,null,null,null,null,null,null,null,null,null,null,null,null,"00:00",466,0,"0000000","00","00","00"]
["SA02057","Edinburgh AC","1994-10-08","Tatiana Spens","SA02057","Under 17",".",467,{"$f":"VLOOKUP('entries and results'!G469,$A$3:$E$30018,4,FALSE)","v":" "},{"$f":"VLOOKUP('entries and results'!G469,$A$3:$F$30018,6,FALSE)","v":" "},{"$f":"VLOOKUP('entries and results'!G469,$A$3:$E$30018,2,FALSE)","v":" "},null,467,".",{"$f":"VLOOKUP('entries and results'!N469,$H$3:$K$30018,2,FALSE)","v":" "},{"$f":"VLOOKUP('entries and results'!N469,$H$3:$K$30018,3,FALSE)","v":" "},{"$f":"VLOOKUP('entries and results'!N469,$H$3:$K$30018,4,FALSE)","v":" "},{"$f":"VLOOKUP('entries and results'!N469,$H$3:$L$30018,5,FALSE)","v":0}," ","00:00",null,null,null,null,null,null,null,null,null,null,null,null,null,null,null,null,null,null,null,null,null,null,null,null,null,null,null,null,null,null,null,null,null,null,null,null,null,null,null,null,null,null,null,"00:00",467,0,"0000000","00","00","00"]
["SA02062","Falkirk Victoria Harriers","1994-05-11","Lucy Mitchell","SA02062","Under 17",".",468,{"$f":"VLOOKUP('entries and results'!G470,$A$3:$E$30018,4,FALSE)","v":" "},{"$f":"VLOOKUP('entries and results'!G470,$A$3:$F$30018,6,FALSE)","v":" "},{"$f":"VLOOKUP('entries and results'!G470,$A$3:$E$30018,2,FALSE)","v":" "},null,468,".",{"$f":"VLOOKUP('entries and results'!N470,$H$3:$K$30018,2,FALSE)","v":" "},{"$f":"VLOOKUP('entries and results'!N470,$H$3:$K$30018,3,FALSE)","v":" "},{"$f":"VLOOKUP('entries and results'!N470,$H$3:$K$30018,4,FALSE)","v":" "},{"$f":"VLOOKUP('entries and results'!N470,$H$3:$L$30018,5,FALSE)","v":0}," ","00:00",null,null,null,null,null,null,null,null,null,null,null,null,null,null,null,null,null,null,null,null,null,null,null,null,null,null,null,null,null,null,null,null,null,null,null,null,null,null,null,null,null,null,null,"00:00",468,0,"0000000","00","00","00"]
["SA02063","Falkirk Victoria Harriers","1993-01-13","Darren Weir","SA02063","Senior",".",469,{"$f":"VLOOKUP('entries and results'!G471,$A$3:$E$30018,4,FALSE)","v":" "},{"$f":"VLOOKUP('entries and results'!G471,$A$3:$F$30018,6,FALSE)","v":" "},{"$f":"VLOOKUP('entries and results'!G471,$A$3:$E$30018,2,FALSE)","v":" "},null,469,".",{"$f":"VLOOKUP('entries and results'!N471,$H$3:$K$30018,2,FALSE)","v":" "},{"$f":"VLOOKUP('entries and results'!N471,$H$3:$K$30018,3,FALSE)","v":" "},{"$f":"VLOOKUP('entries and results'!N471,$H$3:$K$30018,4,FALSE)","v":" "},{"$f":"VLOOKUP('entries and results'!N471,$H$3:$L$30018,5,FALSE)","v":0}," ","00:00",null,null,null,null,null,null,null,null,null,null,null,null,null,null,null,null,null,null,null,null,null,null,null,null,null,null,null,null,null,null,null,null,null,null,null,null,null,null,null,null,null,null,null,"00:00",469,0,"0000000","00","00","00"]
["SA02064","Fife AC","1995-05-27","Gareth Clark","SA02064","Under 17",".",470,{"$f":"VLOOKUP('entries and results'!G472,$A$3:$E$30018,4,FALSE)","v":" "},{"$f":"VLOOKUP('entries and results'!G472,$A$3:$F$30018,6,FALSE)","v":" "},{"$f":"VLOOKUP('entries and results'!G472,$A$3:$E$30018,2,FALSE)","v":" "},null,470,".",{"$f":"VLOOKUP('entries and results'!N472,$H$3:$K$30018,2,FALSE)","v":" "},{"$f":"VLOOKUP('entries and results'!N472,$H$3:$K$30018,3,FALSE)","v":" "},{"$f":"VLOOKUP('entries and results'!N472,$H$3:$K$30018,4,FALSE)","v":" "},{"$f":"VLOOKUP('entries and results'!N472,$H$3:$L$30018,5,FALSE)","v":0}," ","00:00",null,null,null,null,null,null,null,null,null,null,null,null,null,null,null,null,null,null,null,null,null,null,null,null,null,null,null,null,null,null,null,null,null,null,null,null,null,null,null,null,null,null,null,"00:00",470,0,"0000000","00","00","00"]
["SA02071","Fife AC","1992-05-30","Peter Silvera","SA02071","Senior",".",471,{"$f":"VLOOKUP('entries and results'!G473,$A$3:$E$30018,4,FALSE)","v":" "},{"$f":"VLOOKUP('entries and results'!G473,$A$3:$F$30018,6,FALSE)","v":" "},{"$f":"VLOOKUP('entries and results'!G473,$A$3:$E$30018,2,FALSE)","v":" "},null,471,".",{"$f":"VLOOKUP('entries and results'!N473,$H$3:$K$30018,2,FALSE)","v":" "},{"$f":"VLOOKUP('entries and results'!N473,$H$3:$K$30018,3,FALSE)","v":" "},{"$f":"VLOOKUP('entries and results'!N473,$H$3:$K$30018,4,FALSE)","v":" "},{"$f":"VLOOKUP('entries and results'!N473,$H$3:$L$30018,5,FALSE)","v":0}," ","00:00",null,null,null,null,null,null,null,null,null,null,null,null,null,null,null,null,null,null,null,null,null,null,null,null,null,null,null,null,null,null,null,null,null,null,null,null,null,null,null,null,null,null,null,"00:00",471,0,"0000000","00","00","00"]
["SA02080","Giffnock North AAC","1994-06-29","Emma Brown","SA02080","Under 17",".",472,{"$f":"VLOOKUP('entries and results'!G474,$A$3:$E$30018,4,FALSE)","v":" "},{"$f":"VLOOKUP('entries and results'!G474,$A$3:$F$30018,6,FALSE)","v":" "},{"$f":"VLOOKUP('entries and results'!G474,$A$3:$E$30018,2,FALSE)","v":" "},null,472,".",{"$f":"VLOOKUP('entries and results'!N474,$H$3:$K$30018,2,FALSE)","v":" "},{"$f":"VLOOKUP('entries and results'!N474,$H$3:$K$30018,3,FALSE)","v":" "},{"$f":"VLOOKUP('entries and results'!N474,$H$3:$K$30018,4,FALSE)","v":" "},{"$f":"VLOOKUP('entries and results'!N474,$H$3:$L$30018,5,FALSE)","v":0}," ","00:00",null,null,null,null,null,null,null,null,null,null,null,null,null,null,null,null,null,null,null,null,null,null,null,null,null,null,null,null,null,null,null,null,null,null,null,null,null,null,null,null,null,null,null,"00:00",472,0,"0000000","00","00","00"]
["SA02083","Giffnock North AAC","1994-10-15","Nikki Manson","SA02083","Under 17",".",473,{"$f":"VLOOKUP('entries and results'!G475,$A$3:$E$30018,4,FALSE)","v":" "},{"$f":"VLOOKUP('entries and results'!G475,$A$3:$F$30018,6,FALSE)","v":" "},{"$f":"VLOOKUP('entries and results'!G475,$A$3:$E$30018,2,FALSE)","v":" "},null,473,".",{"$f":"VLOOKUP('entries and results'!N475,$H$3:$K$30018,2,FALSE)","v":" "},{"$f":"VLOOKUP('entries and results'!N475,$H$3:$K$30018,3,FALSE)","v":" "},{"$f":"VLOOKUP('entries and results'!N475,$H$3:$K$30018,4,FALSE)","v":" "},{"$f":"VLOOKUP('entries and results'!N475,$H$3:$L$30018,5,FALSE)","v":0}," ","00:00",null,null,null,null,null,null,null,null,null,null,null,null,null,null,null,null,null,null,null,null,null,null,null,null,null,null,null,null,null,null,null,null,null,null,null,null,null,null,null,null,null,null,null,"00:00",473,0,"0000000","00","00","00"]
["SA02084","Greenock Glenpark Harriers","1991-06-27","Emma Baxter","SA02084","Senior",".",474,{"$f":"VLOOKUP('entries and results'!G476,$A$3:$E$30018,4,FALSE)","v":" "},{"$f":"VLOOKUP('entries and results'!G476,$A$3:$F$30018,6,FALSE)","v":" "},{"$f":"VLOOKUP('entries and results'!G476,$A$3:$E$30018,2,FALSE)","v":" "},null,474,".",{"$f":"VLOOKUP('entries and results'!N476,$H$3:$K$30018,2,FALSE)","v":" "},{"$f":"VLOOKUP('entries and results'!N476,$H$3:$K$30018,3,FALSE)","v":" "},{"$f":"VLOOKUP('entries and results'!N476,$H$3:$K$30018,4,FALSE)","v":" "},{"$f":"VLOOKUP('entries and results'!N476,$H$3:$L$30018,5,FALSE)","v":0}," ","00:00",null,null,null,null,null,null,null,null,null,null,null,null,null,null,null,null,null,null,null,null,null,null,null,null,null,null,null,null,null,null,null,null,null,null,null,null,null,null,null,null,null,null,null,"00:00",474,0,"0000000","00","00","00"]
["SA02087","Kilmarnock H&AC","1991-08-02","Lauren Campbell","SA02087","Senior",".",475,{"$f":"VLOOKUP('entries and results'!G477,$A$3:$E$30018,4,FALSE)","v":" "},{"$f":"VLOOKUP('entries and results'!G477,$A$3:$F$30018,6,FALSE)","v":" "},{"$f":"VLOOKUP('entries and results'!G477,$A$3:$E$30018,2,FALSE)","v":" "},null,475,".",{"$f":"VLOOKUP('entries and results'!N477,$H$3:$K$30018,2,FALSE)","v":" "},{"$f":"VLOOKUP('entries and results'!N477,$H$3:$K$30018,3,FALSE)","v":" "},{"$f":"VLOOKUP('entries and results'!N477,$H$3:$K$30018,4,FALSE)","v":" "},{"$f":"VLOOKUP('entries and results'!N477,$H$3:$L$30018,5,FALSE)","v":0}," ","00:00",null,null,null,null,null,null,null,null,null,null,null,null,null,null,null,null,null,null,null,null,null,null,null,null,null,null,null,null,null,null,null,null,null,null,null,null,null,null,null,null,null,null,null,"00:00",475,0,"0000000","00","00","00"]
["SA02088","Kilmarnock H&AC","1993-04-13","Murray McDonald","SA02088","Senior",".",476,{"$f":"VLOOKUP('entries and results'!G478,$A$3:$E$30018,4,FALSE)","v":" "},{"$f":"VLOOKUP('entries and results'!G478,$A$3:$F$30018,6,FALSE)","v":" "},{"$f":"VLOOKUP('entries and results'!G478,$A$3:$E$30018,2,FALSE)","v":" "},null,476,".",{"$f":"VLOOKUP('entries and results'!N478,$H$3:$K$30018,2,FALSE)","v":" "},{"$f":"VLOOKUP('entries and results'!N478,$H$3:$K$30018,3,FALSE)","v":" "},{"$f":"VLOOKUP('entries and results'!N478,$H$3:$K$30018,4,FALSE)","v":" "},{"$f":"VLOOKUP('entries and results'!N478,$H$3:$L$30018,5,FALSE)","v":0}," ","00:00",null,null,null,null,null,null,null,null,null,null,null,null,null,null,null,null,null,null,null,null,null,null,null,null,null,null,null,null,null,null,null,null,null,null,null,null,null,null,null,null,null,null,null,"00:00",476,0,"0000000","00","00","00"]
["SA02089","Kilbarchan AAC","1992-05-05","Blair Crawford","SA02089","Senior",".",477,{"$f":"VLOOKUP('entries and results'!G479,$A$3:$E$30018,4,FALSE)","v":" "},{"$f":"VLOOKUP('entries and results'!G479,$A$3:$F$30018,6,FALSE)","v":" "},{"$f":"VLOOKUP('entries and results'!G479,$A$3:$E$30018,2,FALSE)","v":" "},null,477,".",{"$f":"VLOOKUP('entries and results'!N479,$H$3:$K$30018,2,FALSE)","v":" "},{"$f":"VLOOKUP('entries and results'!N479,$H$3:$K$30018,3,FALSE)","v":" "},{"$f":"VLOOKUP('entries and results'!N479,$H$3:$K$30018,4,FALSE)","v":" "},{"$f":"VLOOKUP('entries and results'!N479,$H$3:$L$30018,5,FALSE)","v":0}," ","00:00",null,null,null,null,null,null,null,null,null,null,null,null,null,null,null,null,null,null,null,null,null,null,null,null,null,null,null,null,null,null,null,null,null,null,null,null,null,null,null,null,null,null,null,"00:00",477,0,"0000000","00","00","00"]
["SA02090","Kilbarchan AAC","1992-10-02","Connor Henderson","SA02090","Senior",".",478,{"$f":"VLOOKUP('entries and results'!G480,$A$3:$E$30018,4,FALSE)","v":" "},{"$f":"VLOOKUP('entries and results'!G480,$A$3:$F$30018,6,FALSE)","v":" "},{"$f":"VLOOKUP('entries and results'!G480,$A$3:$E$30018,2,FALSE)","v":" "},null,478,".",{"$f":"VLOOKUP('entries and results'!N480,$H$3:$K$30018,2,FALSE)","v":" "},{"$f":"VLOOKUP('entries and results'!N480,$H$3:$K$30018,3,FALSE)","v":" "},{"$f":"VLOOKUP('entries and results'!N480,$H$3:$K$30018,4,FALSE)","v":" "},{"$f":"VLOOKUP('entries and results'!N480,$H$3:$L$30018,5,FALSE)","v":0}," ","00:00",null,null,null,null,null,null,null,null,null,null,null,null,null,null,null,null,null,null,null,null,null,null,null,null,null,null,null,null,null,null,null,null,null,null,null,null,null,null,null,null,null,null,null,"00:00",478,0,"0000000","00","00","00"]
["SA02091","Kilbarchan AAC","1990-07-17","Grant Higgins","SA02091","Senior",".",479,{"$f":"VLOOKUP('entries and results'!G481,$A$3:$E$30018,4,FALSE)","v":" "},{"$f":"VLOOKUP('entries and results'!G481,$A$3:$F$30018,6,FALSE)","v":" "},{"$f":"VLOOKUP('entries and results'!G481,$A$3:$E$30018,2,FALSE)","v":" "},null,479,".",{"$f":"VLOOKUP('entries and results'!N481,$H$3:$K$30018,2,FALSE)","v":" "},{"$f":"VLOOKUP('entries and results'!N481,$H$3:$K$30018,3,FALSE)","v":" "},{"$f":"VLOOKUP('entries and results'!N481,$H$3:$K$30018,4,FALSE)","v":" "},{"$f":"VLOOKUP('entries and results'!N481,$H$3:$L$30018,5,FALSE)","v":0}," ","00:00",null,null,null,null,null,null,null,null,null,null,null,null,null,null,null,null,null,null,null,null,null,null,null,null,null,null,null,null,null,null,null,null,null,null,null,null,null,null,null,null,null,null,null,"00:00",479,0,"0000000","00","00","00"]
["SA02094","Kilbarchan AAC","1992-02-20","Judith McNicol","SA02094","Senior",".",480,{"$f":"VLOOKUP('entries and results'!G482,$A$3:$E$30018,4,FALSE)","v":" "},{"$f":"VLOOKUP('entries and results'!G482,$A$3:$F$30018,6,FALSE)","v":" "},{"$f":"VLOOKUP('entries and results'!G482,$A$3:$E$30018,2,FALSE)","v":" "},null,480,".",{"$f":"VLOOKUP('entries and results'!N482,$H$3:$K$30018,2,FALSE)","v":" "},{"$f":"VLOOKUP('entries and results'!N482,$H$3:$K$30018,3,FALSE)","v":" "},{"$f":"VLOOKUP('entries and results'!N482,$H$3:$K$30018,4,FALSE)","v":" "},{"$f":"VLOOKUP('entries and results'!N482,$H$3:$L$30018,5,FALSE)","v":0}," ","00:00",null,null,null,null,null,null,null,null,null,null,null,null,null,null,null,null,null,null,null,null,null,null,null,null,null,null,null,null,null,null,null,null,null,null,null,null,null,null,null,null,null,null,null,"00:00",480,0,"0000000","00","00","00"]
["SA02096","Kilbarchan AAC","1991-04-05","Natalie Sharp","SA02096","Senior",".",481,{"$f":"VLOOKUP('entries and results'!G483,$A$3:$E$30018,4,FALSE)","v":" "},{"$f":"VLOOKUP('entries and results'!G483,$A$3:$F$30018,6,FALSE)","v":" "},{"$f":"VLOOKUP('entries and results'!G483,$A$3:$E$30018,2,FALSE)","v":" "},null,481,".",{"$f":"VLOOKUP('entries and results'!N483,$H$3:$K$30018,2,FALSE)","v":" "},{"$f":"VLOOKUP('entries and results'!N483,$H$3:$K$30018,3,FALSE)","v":" "},{"$f":"VLOOKUP('entries and results'!N483,$H$3:$K$30018,4,FALSE)","v":" "},{"$f":"VLOOKUP('entries and results'!N483,$H$3:$L$30018,5,FALSE)","v":0}," ","00:00",null,null,null,null,null,null,null,null,null,null,null,null,null,null,null,null,null,null,null,null,null,null,null,null,null,null,null,null,null,null,null,null,null,null,null,null,null,null,null,null,null,null,null,"00:00",481,0,"0000000","00","00","00"]
["SA02104","Mull Athletic Club","1993-07-19","Iain McDowall","SA02104","Senior",".",482,{"$f":"VLOOKUP('entries and results'!G484,$A$3:$E$30018,4,FALSE)","v":" "},{"$f":"VLOOKUP('entries and results'!G484,$A$3:$F$30018,6,FALSE)","v":" "},{"$f":"VLOOKUP('entries and results'!G484,$A$3:$E$30018,2,FALSE)","v":" "},null,482,".",{"$f":"VLOOKUP('entries and results'!N484,$H$3:$K$30018,2,FALSE)","v":" "},{"$f":"VLOOKUP('entries and results'!N484,$H$3:$K$30018,3,FALSE)","v":" "},{"$f":"VLOOKUP('entries and results'!N484,$H$3:$K$30018,4,FALSE)","v":" "},{"$f":"VLOOKUP('entries and results'!N484,$H$3:$L$30018,5,FALSE)","v":0}," ","00:00",null,null,null,null,null,null,null,null,null,null,null,null,null,null,null,null,null,null,null,null,null,null,null,null,null,null,null,null,null,null,null,null,null,null,null,null,null,null,null,null,null,null,null,"00:00",482,0,"0000000","00","00","00"]
["SA02110","North Uist AAC","1994-12-17","Graham Black","SA02110","Under 17",".",483,{"$f":"VLOOKUP('entries and results'!G485,$A$3:$E$30018,4,FALSE)","v":" "},{"$f":"VLOOKUP('entries and results'!G485,$A$3:$F$30018,6,FALSE)","v":" "},{"$f":"VLOOKUP('entries and results'!G485,$A$3:$E$30018,2,FALSE)","v":" "},null,483,".",{"$f":"VLOOKUP('entries and results'!N485,$H$3:$K$30018,2,FALSE)","v":" "},{"$f":"VLOOKUP('entries and results'!N485,$H$3:$K$30018,3,FALSE)","v":" "},{"$f":"VLOOKUP('entries and results'!N485,$H$3:$K$30018,4,FALSE)","v":" "},{"$f":"VLOOKUP('entries and results'!N485,$H$3:$L$30018,5,FALSE)","v":0}," ","00:00",null,null,null,null,null,null,null,null,null,null,null,null,null,null,null,null,null,null,null,null,null,null,null,null,null,null,null,null,null,null,null,null,null,null,null,null,null,null,null,null,null,null,null,"00:00",483,0,"0000000","00","00","00"]
["SA02113","North Uist AAC","1993-03-08","Mairi Morrison","SA02113","Senior",".",484,{"$f":"VLOOKUP('entries and results'!G486,$A$3:$E$30018,4,FALSE)","v":" "},{"$f":"VLOOKUP('entries and results'!G486,$A$3:$F$30018,6,FALSE)","v":" "},{"$f":"VLOOKUP('entries and results'!G486,$A$3:$E$30018,2,FALSE)","v":" "},null,484,".",{"$f":"VLOOKUP('entries and results'!N486,$H$3:$K$30018,2,FALSE)","v":" "},{"$f":"VLOOKUP('entries and results'!N486,$H$3:$K$30018,3,FALSE)","v":" "},{"$f":"VLOOKUP('entries and results'!N486,$H$3:$K$30018,4,FALSE)","v":" "},{"$f":"VLOOKUP('entries and results'!N486,$H$3:$L$30018,5,FALSE)","v":0}," ","00:00",null,null,null,null,null,null,null,null,null,null,null,null,null,null,null,null,null,null,null,null,null,null,null,null,null,null,null,null,null,null,null,null,null,null,null,null,null,null,null,null,null,null,null,"00:00",484,0,"0000000","00","00","00"]
["SA02129","East Kilbride A.C.","1992-05-28","Deborah Stokoe","SA02129","Senior",".",485,{"$f":"VLOOKUP('entries and results'!G487,$A$3:$E$30018,4,FALSE)","v":" "},{"$f":"VLOOKUP('entries and results'!G487,$A$3:$F$30018,6,FALSE)","v":" "},{"$f":"VLOOKUP('entries and results'!G487,$A$3:$E$30018,2,FALSE)","v":" "},null,485,".",{"$f":"VLOOKUP('entries and results'!N487,$H$3:$K$30018,2,FALSE)","v":" "},{"$f":"VLOOKUP('entries and results'!N487,$H$3:$K$30018,3,FALSE)","v":" "},{"$f":"VLOOKUP('entries and results'!N487,$H$3:$K$30018,4,FALSE)","v":" "},{"$f":"VLOOKUP('entries and results'!N487,$H$3:$L$30018,5,FALSE)","v":0}," ","00:00",null,null,null,null,null,null,null,null,null,null,null,null,null,null,null,null,null,null,null,null,null,null,null,null,null,null,null,null,null,null,null,null,null,null,null,null,null,null,null,null,null,null,null,"00:00",485,0,"0000000","00","00","00"]
["SA02134","Garioch Road Runners","1992-06-29","Cameron Leel","SA02134","Senior",".",486,{"$f":"VLOOKUP('entries and results'!G488,$A$3:$E$30018,4,FALSE)","v":" "},{"$f":"VLOOKUP('entries and results'!G488,$A$3:$F$30018,6,FALSE)","v":" "},{"$f":"VLOOKUP('entries and results'!G488,$A$3:$E$30018,2,FALSE)","v":" "},null,486,".",{"$f":"VLOOKUP('entries and results'!N488,$H$3:$K$30018,2,FALSE)","v":" "},{"$f":"VLOOKUP('entries and results'!N488,$H$3:$K$30018,3,FALSE)","v":" "},{"$f":"VLOOKUP('entries and results'!N488,$H$3:$K$30018,4,FALSE)","v":" "},{"$f":"VLOOKUP('entries and results'!N488,$H$3:$L$30018,5,FALSE)","v":0}," ","00:00",null,null,null,null,null,null,null,null,null,null,null,null,null,null,null,null,null,null,null,null,null,null,null,null,null,null,null,null,null,null,null,null,null,null,null,null,null,null,null,null,null,null,null,"00:00",486,0,"0000000","00","00","00"]
["SA02140","Aberdeen AAC","1991-09-08","Tom Brodie","SA02140","Senior",".",487,{"$f":"VLOOKUP('entries and results'!G489,$A$3:$E$30018,4,FALSE)","v":" "},{"$f":"VLOOKUP('entries and results'!G489,$A$3:$F$30018,6,FALSE)","v":" "},{"$f":"VLOOKUP('entries and results'!G489,$A$3:$E$30018,2,FALSE)","v":" "},null,487,".",{"$f":"VLOOKUP('entries and results'!N489,$H$3:$K$30018,2,FALSE)","v":" "},{"$f":"VLOOKUP('entries and results'!N489,$H$3:$K$30018,3,FALSE)","v":" "},{"$f":"VLOOKUP('entries and results'!N489,$H$3:$K$30018,4,FALSE)","v":" "},{"$f":"VLOOKUP('entries and results'!N489,$H$3:$L$30018,5,FALSE)","v":0}," ","00:00",null,null,null,null,null,null,null,null,null,null,null,null,null,null,null,null,null,null,null,null,null,null,null,null,null,null,null,null,null,null,null,null,null,null,null,null,null,null,null,null,null,null,null,"00:00",487,0,"0000000","00","00","00"]
["SA02145","Aberdeen AAC","1991-03-27","Ross Fulton","SA02145","Senior",".",488,{"$f":"VLOOKUP('entries and results'!G490,$A$3:$E$30018,4,FALSE)","v":" "},{"$f":"VLOOKUP('entries and results'!G490,$A$3:$F$30018,6,FALSE)","v":" "},{"$f":"VLOOKUP('entries and results'!G490,$A$3:$E$30018,2,FALSE)","v":" "},null,488,".",{"$f":"VLOOKUP('entries and results'!N490,$H$3:$K$30018,2,FALSE)","v":" "},{"$f":"VLOOKUP('entries and results'!N490,$H$3:$K$30018,3,FALSE)","v":" "},{"$f":"VLOOKUP('entries and results'!N490,$H$3:$K$30018,4,FALSE)","v":" "},{"$f":"VLOOKUP('entries and results'!N490,$H$3:$L$30018,5,FALSE)","v":0}," ","00:00",null,null,null,null,null,null,null,null,null,null,null,null,null,null,null,null,null,null,null,null,null,null,null,null,null,null,null,null,null,null,null,null,null,null,null,null,null,null,null,null,null,null,null,"00:00",488,0,"0000000","00","00","00"]
["SA02152","Aberdeen AAC","1994-05-29","Yasmin Milne","SA02152","Under 17",".",489,{"$f":"VLOOKUP('entries and results'!G491,$A$3:$E$30018,4,FALSE)","v":" "},{"$f":"VLOOKUP('entries and results'!G491,$A$3:$F$30018,6,FALSE)","v":" "},{"$f":"VLOOKUP('entries and results'!G491,$A$3:$E$30018,2,FALSE)","v":" "},null,489,".",{"$f":"VLOOKUP('entries and results'!N491,$H$3:$K$30018,2,FALSE)","v":" "},{"$f":"VLOOKUP('entries and results'!N491,$H$3:$K$30018,3,FALSE)","v":" "},{"$f":"VLOOKUP('entries and results'!N491,$H$3:$K$30018,4,FALSE)","v":" "},{"$f":"VLOOKUP('entries and results'!N491,$H$3:$L$30018,5,FALSE)","v":0}," ","00:00",null,null,null,null,null,null,null,null,null,null,null,null,null,null,null,null,null,null,null,null,null,null,null,null,null,null,null,null,null,null,null,null,null,null,null,null,null,null,null,null,null,null,null,"00:00",489,0,"0000000","00","00","00"]
["SA02157","Aberdeen AAC","1995-06-15","Morven Sneddon","SA02157","Under 17",".",490,{"$f":"VLOOKUP('entries and results'!G492,$A$3:$E$30018,4,FALSE)","v":" "},{"$f":"VLOOKUP('entries and results'!G492,$A$3:$F$30018,6,FALSE)","v":" "},{"$f":"VLOOKUP('entries and results'!G492,$A$3:$E$30018,2,FALSE)","v":" "},null,490,".",{"$f":"VLOOKUP('entries and results'!N492,$H$3:$K$30018,2,FALSE)","v":" "},{"$f":"VLOOKUP('entries and results'!N492,$H$3:$K$30018,3,FALSE)","v":" "},{"$f":"VLOOKUP('entries and results'!N492,$H$3:$K$30018,4,FALSE)","v":" "},{"$f":"VLOOKUP('entries and results'!N492,$H$3:$L$30018,5,FALSE)","v":0}," ","00:00",null,null,null,null,null,null,null,null,null,null,null,null,null,null,null,null,null,null,null,null,null,null,null,null,null,null,null,null,null,null,null,null,null,null,null,null,null,null,null,null,null,null,null,"00:00",490,0,"0000000","00","00","00"]
["SA02162","Airdrie Harriers","1991-12-15","Robert Ferrie","SA02162","Senior",".",491,{"$f":"VLOOKUP('entries and results'!G493,$A$3:$E$30018,4,FALSE)","v":" "},{"$f":"VLOOKUP('entries and results'!G493,$A$3:$F$30018,6,FALSE)","v":" "},{"$f":"VLOOKUP('entries and results'!G493,$A$3:$E$30018,2,FALSE)","v":" "},null,491,".",{"$f":"VLOOKUP('entries and results'!N493,$H$3:$K$30018,2,FALSE)","v":" "},{"$f":"VLOOKUP('entries and results'!N493,$H$3:$K$30018,3,FALSE)","v":" "},{"$f":"VLOOKUP('entries and results'!N493,$H$3:$K$30018,4,FALSE)","v":" "},{"$f":"VLOOKUP('entries and results'!N493,$H$3:$L$30018,5,FALSE)","v":0}," ","00:00",null,null,null,null,null,null,null,null,null,null,null,null,null,null,null,null,null,null,null,null,null,null,null,null,null,null,null,null,null,null,null,null,null,null,null,null,null,null,null,null,null,null,null,"00:00",491,0,"0000000","00","00","00"]
["SA02164","Airdrie Harriers","1995-09-22","Rebecca Gibson","SA02164","Under 15",".",492,{"$f":"VLOOKUP('entries and results'!G494,$A$3:$E$30018,4,FALSE)","v":" "},{"$f":"VLOOKUP('entries and results'!G494,$A$3:$F$30018,6,FALSE)","v":" "},{"$f":"VLOOKUP('entries and results'!G494,$A$3:$E$30018,2,FALSE)","v":" "},null,492,".",{"$f":"VLOOKUP('entries and results'!N494,$H$3:$K$30018,2,FALSE)","v":" "},{"$f":"VLOOKUP('entries and results'!N494,$H$3:$K$30018,3,FALSE)","v":" "},{"$f":"VLOOKUP('entries and results'!N494,$H$3:$K$30018,4,FALSE)","v":" "},{"$f":"VLOOKUP('entries and results'!N494,$H$3:$L$30018,5,FALSE)","v":0}," ","00:00",null,null,null,null,null,null,null,null,null,null,null,null,null,null,null,null,null,null,null,null,null,null,null,null,null,null,null,null,null,null,null,null,null,null,null,null,null,null,null,null,null,null,null,"00:00",492,0,"0000000","00","00","00"]
["SA02166","Airdrie Harriers","1993-08-18","Emma Mulholland","SA02166","Senior",".",493,{"$f":"VLOOKUP('entries and results'!G495,$A$3:$E$30018,4,FALSE)","v":" "},{"$f":"VLOOKUP('entries and results'!G495,$A$3:$F$30018,6,FALSE)","v":" "},{"$f":"VLOOKUP('entries and results'!G495,$A$3:$E$30018,2,FALSE)","v":" "},null,493,".",{"$f":"VLOOKUP('entries and results'!N495,$H$3:$K$30018,2,FALSE)","v":" "},{"$f":"VLOOKUP('entries and results'!N495,$H$3:$K$30018,3,FALSE)","v":" "},{"$f":"VLOOKUP('entries and results'!N495,$H$3:$K$30018,4,FALSE)","v":" "},{"$f":"VLOOKUP('entries and results'!N495,$H$3:$L$30018,5,FALSE)","v":0}," ","00:00",null,null,null,null,null,null,null,null,null,null,null,null,null,null,null,null,null,null,null,null,null,null,null,null,null,null,null,null,null,null,null,null,null,null,null,null,null,null,null,null,null,null,null,"00:00",493,0,"0000000","00","00","00"]
["SA02167","Airdrie Harriers","1994-05-19","Nicole Mulholland","SA02167","Under 17",".",494,{"$f":"VLOOKUP('entries and results'!G496,$A$3:$E$30018,4,FALSE)","v":" "},{"$f":"VLOOKUP('entries and results'!G496,$A$3:$F$30018,6,FALSE)","v":" "},{"$f":"VLOOKUP('entries and results'!G496,$A$3:$E$30018,2,FALSE)","v":" "},null,494,".",{"$f":"VLOOKUP('entries and results'!N496,$H$3:$K$30018,2,FALSE)","v":" "},{"$f":"VLOOKUP('entries and results'!N496,$H$3:$K$30018,3,FALSE)","v":" "},{"$f":"VLOOKUP('entries and results'!N496,$H$3:$K$30018,4,FALSE)","v":" "},{"$f":"VLOOKUP('entries and results'!N496,$H$3:$L$30018,5,FALSE)","v":0}," ","00:00",null,null,null,null,null,null,null,null,null,null,null,null,null,null,null,null,null,null,null,null,null,null,null,null,null,null,null,null,null,null,null,null,null,null,null,null,null,null,null,null,null,null,null,"00:00",494,0,"0000000","00","00","00"]
["SA02169","Airdrie Harriers","1992-07-20","Jane Williams","SA02169","Senior",".",495,{"$f":"VLOOKUP('entries and results'!G497,$A$3:$E$30018,4,FALSE)","v":" "},{"$f":"VLOOKUP('entries and results'!G497,$A$3:$F$30018,6,FALSE)","v":" "},{"$f":"VLOOKUP('entries and results'!G497,$A$3:$E$30018,2,FALSE)","v":" "},null,495,".",{"$f":"VLOOKUP('entries and results'!N497,$H$3:$K$30018,2,FALSE)","v":" "},{"$f":"VLOOKUP('entries and results'!N497,$H$3:$K$30018,3,FALSE)","v":" "},{"$f":"VLOOKUP('entries and results'!N497,$H$3:$K$30018,4,FALSE)","v":" "},{"$f":"VLOOKUP('entries and results'!N497,$H$3:$L$30018,5,FALSE)","v":0}," ","00:00",null,null,null,null,null,null,null,null,null,null,null,null,null,null,null,null,null,null,null,null,null,null,null,null,null,null,null,null,null,null,null,null,null,null,null,null,null,null,null,null,null,null,null,"00:00",495,0,"0000000","00","00","00"]
["SA02171","Stewartry AC","1995-12-16","Jacqueline Pringle","SA02171","Under 15",".",496,{"$f":"VLOOKUP('entries and results'!G498,$A$3:$E$30018,4,FALSE)","v":" "},{"$f":"VLOOKUP('entries and results'!G498,$A$3:$F$30018,6,FALSE)","v":" "},{"$f":"VLOOKUP('entries and results'!G498,$A$3:$E$30018,2,FALSE)","v":" "},null,496,".",{"$f":"VLOOKUP('entries and results'!N498,$H$3:$K$30018,2,FALSE)","v":" "},{"$f":"VLOOKUP('entries and results'!N498,$H$3:$K$30018,3,FALSE)","v":" "},{"$f":"VLOOKUP('entries and results'!N498,$H$3:$K$30018,4,FALSE)","v":" "},{"$f":"VLOOKUP('entries and results'!N498,$H$3:$L$30018,5,FALSE)","v":0}," ","00:00",null,null,null,null,null,null,null,null,null,null,null,null,null,null,null,null,null,null,null,null,null,null,null,null,null,null,null,null,null,null,null,null,null,null,null,null,null,null,null,null,null,null,null,"00:00",496,0,"0000000","00","00","00"]
["SA02175","Arbroath & District AC","1996-02-15","Ross Croall","SA02175","Under 15",".",497,{"$f":"VLOOKUP('entries and results'!G499,$A$3:$E$30018,4,FALSE)","v":" "},{"$f":"VLOOKUP('entries and results'!G499,$A$3:$F$30018,6,FALSE)","v":" "},{"$f":"VLOOKUP('entries and results'!G499,$A$3:$E$30018,2,FALSE)","v":" "},null,497,".",{"$f":"VLOOKUP('entries and results'!N499,$H$3:$K$30018,2,FALSE)","v":" "},{"$f":"VLOOKUP('entries and results'!N499,$H$3:$K$30018,3,FALSE)","v":" "},{"$f":"VLOOKUP('entries and results'!N499,$H$3:$K$30018,4,FALSE)","v":" "},{"$f":"VLOOKUP('entries and results'!N499,$H$3:$L$30018,5,FALSE)","v":0}," ","00:00",null,null,null,null,null,null,null,null,null,null,null,null,null,null,null,null,null,null,null,null,null,null,null,null,null,null,null,null,null,null,null,null,null,null,null,null,null,null,null,null,null,null,null,"00:00",497,0,"0000000","00","00","00"]
["SA02176","Arbroath & District AC","1995-09-06","Corey Feighan","SA02176","Under 15",".",498,{"$f":"VLOOKUP('entries and results'!G500,$A$3:$E$30018,4,FALSE)","v":" "},{"$f":"VLOOKUP('entries and results'!G500,$A$3:$F$30018,6,FALSE)","v":" "},{"$f":"VLOOKUP('entries and results'!G500,$A$3:$E$30018,2,FALSE)","v":" "},null,498,".",{"$f":"VLOOKUP('entries and results'!N500,$H$3:$K$30018,2,FALSE)","v":" "},{"$f":"VLOOKUP('entries and results'!N500,$H$3:$K$30018,3,FALSE)","v":" "},{"$f":"VLOOKUP('entries and results'!N500,$H$3:$K$30018,4,FALSE)","v":" "},{"$f":"VLOOKUP('entries and results'!N500,$H$3:$L$30018,5,FALSE)","v":0}," ","00:00",null,null,null,null,null,null,null,null,null,null,null,null,null,null,null,null,null,null,null,null,null,null,null,null,null,null,null,null,null,null,null,null,null,null,null,null,null,null,null,null,null,null,null,"00:00",498,0,"0000000","00","00","00"]
["SA02177","Arbroath & District AC","1992-04-02","Paul Feighan","SA02177","Senior",".",499,{"$f":"VLOOKUP('entries and results'!G501,$A$3:$E$30018,4,FALSE)","v":" "},{"$f":"VLOOKUP('entries and results'!G501,$A$3:$F$30018,6,FALSE)","v":" "},{"$f":"VLOOKUP('entries and results'!G501,$A$3:$E$30018,2,FALSE)","v":" "},null,499,".",{"$f":"VLOOKUP('entries and results'!N501,$H$3:$K$30018,2,FALSE)","v":" "},{"$f":"VLOOKUP('entries and results'!N501,$H$3:$K$30018,3,FALSE)","v":" "},{"$f":"VLOOKUP('entries and results'!N501,$H$3:$K$30018,4,FALSE)","v":" "},{"$f":"VLOOKUP('entries and results'!N501,$H$3:$L$30018,5,FALSE)","v":0}," ","00:00",null,null,null,null,null,null,null,null,null,null,null,null,null,null,null,null,null,null,null,null,null,null,null,null,null,null,null,null,null,null,null,null,null,null,null,null,null,null,null,null,null,null,null,"00:00",499,0,"0000000","00","00","00"]
["SA02187","Arbroath & District AC","1996-06-23","Ellen Robertson","SA02187","Under 15",".",500,{"$f":"VLOOKUP('entries and results'!G502,$A$3:$E$30018,4,FALSE)","v":" "},{"$f":"VLOOKUP('entries and results'!G502,$A$3:$F$30018,6,FALSE)","v":" "},{"$f":"VLOOKUP('entries and results'!G502,$A$3:$E$30018,2,FALSE)","v":" "},null,500,".",{"$f":"VLOOKUP('entries and results'!N502,$H$3:$K$30018,2,FALSE)","v":" "},{"$f":"VLOOKUP('entries and results'!N502,$H$3:$K$30018,3,FALSE)","v":" "},{"$f":"VLOOKUP('entries and results'!N502,$H$3:$K$30018,4,FALSE)","v":" "},{"$f":"VLOOKUP('entries and results'!N502,$H$3:$L$30018,5,FALSE)","v":0}," ","00:00",null,null,null,null,null,null,null,null,null,null,null,null,null,null,null,null,null,null,null,null,null,null,null,null,null,null,null,null,null,null,null,null,null,null,null,null,null,null,null,null,null,null,null,"00:00",500,0,"0000000","00","00","00"]
["SA02188","Arbroath & District AC","1996-04-16","Luke Shepherd","SA02188","Under 15",".",501,{"$f":"VLOOKUP('entries and results'!G503,$A$3:$E$30018,4,FALSE)","v":" "},{"$f":"VLOOKUP('entries and results'!G503,$A$3:$F$30018,6,FALSE)","v":" "},{"$f":"VLOOKUP('entries and results'!G503,$A$3:$E$30018,2,FALSE)","v":" "},null,501,".",{"$f":"VLOOKUP('entries and results'!N503,$H$3:$K$30018,2,FALSE)","v":" "},{"$f":"VLOOKUP('entries and results'!N503,$H$3:$K$30018,3,FALSE)","v":" "},{"$f":"VLOOKUP('entries and results'!N503,$H$3:$K$30018,4,FALSE)","v":" "},{"$f":"VLOOKUP('entries and results'!N503,$H$3:$L$30018,5,FALSE)","v":0}," ","00:00",null,null,null,null,null,null,null,null,null,null,null,null,null,null,null,null,null,null,null,null,null,null,null,null,null,null,null,null,null,null,null,null,null,null,null,null,null,null,null,null,null,null,null,"00:00",501,0,"0000000","00","00","00"]
["SA02195","Ayr Seaforth AAC","1993-05-18","Murray Beckwith","SA02195","Senior",".",502,{"$f":"VLOOKUP('entries and results'!G504,$A$3:$E$30018,4,FALSE)","v":" "},{"$f":"VLOOKUP('entries and results'!G504,$A$3:$F$30018,6,FALSE)","v":" "},{"$f":"VLOOKUP('entries and results'!G504,$A$3:$E$30018,2,FALSE)","v":" "},null,502,".",{"$f":"VLOOKUP('entries and results'!N504,$H$3:$K$30018,2,FALSE)","v":" "},{"$f":"VLOOKUP('entries and results'!N504,$H$3:$K$30018,3,FALSE)","v":" "},{"$f":"VLOOKUP('entries and results'!N504,$H$3:$K$30018,4,FALSE)","v":" "},{"$f":"VLOOKUP('entries and results'!N504,$H$3:$L$30018,5,FALSE)","v":0}," ","00:00",null,null,null,null,null,null,null,null,null,null,null,null,null,null,null,null,null,null,null,null,null,null,null,null,null,null,null,null,null,null,null,null,null,null,null,null,null,null,null,null,null,null,null,"00:00",502,0,"0000000","00","00","00"]
["SA02220","Unattached","1995-08-28","Rebecca McVeigh","SA02220","Under 17",".",503,{"$f":"VLOOKUP('entries and results'!G505,$A$3:$E$30018,4,FALSE)","v":" "},{"$f":"VLOOKUP('entries and results'!G505,$A$3:$F$30018,6,FALSE)","v":" "},{"$f":"VLOOKUP('entries and results'!G505,$A$3:$E$30018,2,FALSE)","v":" "},null,503,".",{"$f":"VLOOKUP('entries and results'!N505,$H$3:$K$30018,2,FALSE)","v":" "},{"$f":"VLOOKUP('entries and results'!N505,$H$3:$K$30018,3,FALSE)","v":" "},{"$f":"VLOOKUP('entries and results'!N505,$H$3:$K$30018,4,FALSE)","v":" "},{"$f":"VLOOKUP('entries and results'!N505,$H$3:$L$30018,5,FALSE)","v":0}," ","00:00",null,null,null,null,null,null,null,null,null,null,null,null,null,null,null,null,null,null,null,null,null,null,null,null,null,null,null,null,null,null,null,null,null,null,null,null,null,null,null,null,null,null,null,"00:00",503,0,"0000000","00","00","00"]
["SA02227","Ayr Seaforth AAC","1994-10-05","David Stenlake","SA02227","Under 17",".",504,{"$f":"VLOOKUP('entries and results'!G506,$A$3:$E$30018,4,FALSE)","v":" "},{"$f":"VLOOKUP('entries and results'!G506,$A$3:$F$30018,6,FALSE)","v":" "},{"$f":"VLOOKUP('entries and results'!G506,$A$3:$E$30018,2,FALSE)","v":" "},null,504,".",{"$f":"VLOOKUP('entries and results'!N506,$H$3:$K$30018,2,FALSE)","v":" "},{"$f":"VLOOKUP('entries and results'!N506,$H$3:$K$30018,3,FALSE)","v":" "},{"$f":"VLOOKUP('entries and results'!N506,$H$3:$K$30018,4,FALSE)","v":" "},{"$f":"VLOOKUP('entries and results'!N506,$H$3:$L$30018,5,FALSE)","v":0}," ","00:00",null,null,null,null,null,null,null,null,null,null,null,null,null,null,null,null,null,null,null,null,null,null,null,null,null,null,null,null,null,null,null,null,null,null,null,null,null,null,null,null,null,null,null,"00:00",504,0,"0000000","00","00","00"]
["SA02228","Ayr Seaforth AAC","1994-10-27","Olivia Thornton","SA02228","Under 17",".",505,{"$f":"VLOOKUP('entries and results'!G507,$A$3:$E$30018,4,FALSE)","v":" "},{"$f":"VLOOKUP('entries and results'!G507,$A$3:$F$30018,6,FALSE)","v":" "},{"$f":"VLOOKUP('entries and results'!G507,$A$3:$E$30018,2,FALSE)","v":" "},null,505,".",{"$f":"VLOOKUP('entries and results'!N507,$H$3:$K$30018,2,FALSE)","v":" "},{"$f":"VLOOKUP('entries and results'!N507,$H$3:$K$30018,3,FALSE)","v":" "},{"$f":"VLOOKUP('entries and results'!N507,$H$3:$K$30018,4,FALSE)","v":" "},{"$f":"VLOOKUP('entries and results'!N507,$H$3:$L$30018,5,FALSE)","v":0}," ","00:00",null,null,null,null,null,null,null,null,null,null,null,null,null,null,null,null,null,null,null,null,null,null,null,null,null,null,null,null,null,null,null,null,null,null,null,null,null,null,null,null,null,null,null,"00:00",505,0,"0000000","00","00","00"]
["SA02241","Banchory Stonehaven AC","1992-07-10","Daniel Wright","SA02241","Senior",".",506,{"$f":"VLOOKUP('entries and results'!G508,$A$3:$E$30018,4,FALSE)","v":" "},{"$f":"VLOOKUP('entries and results'!G508,$A$3:$F$30018,6,FALSE)","v":" "},{"$f":"VLOOKUP('entries and results'!G508,$A$3:$E$30018,2,FALSE)","v":" "},null,506,".",{"$f":"VLOOKUP('entries and results'!N508,$H$3:$K$30018,2,FALSE)","v":" "},{"$f":"VLOOKUP('entries and results'!N508,$H$3:$K$30018,3,FALSE)","v":" "},{"$f":"VLOOKUP('entries and results'!N508,$H$3:$K$30018,4,FALSE)","v":" "},{"$f":"VLOOKUP('entries and results'!N508,$H$3:$L$30018,5,FALSE)","v":0}," ","00:00",null,null,null,null,null,null,null,null,null,null,null,null,null,null,null,null,null,null,null,null,null,null,null,null,null,null,null,null,null,null,null,null,null,null,null,null,null,null,null,null,null,null,null,"00:00",506,0,"0000000","00","00","00"]
["SA02243","Caithness AAC","1994-05-16","Leanne Eyers","SA02243","Under 17",".",507,{"$f":"VLOOKUP('entries and results'!G509,$A$3:$E$30018,4,FALSE)","v":" "},{"$f":"VLOOKUP('entries and results'!G509,$A$3:$F$30018,6,FALSE)","v":" "},{"$f":"VLOOKUP('entries and results'!G509,$A$3:$E$30018,2,FALSE)","v":" "},null,507,".",{"$f":"VLOOKUP('entries and results'!N509,$H$3:$K$30018,2,FALSE)","v":" "},{"$f":"VLOOKUP('entries and results'!N509,$H$3:$K$30018,3,FALSE)","v":" "},{"$f":"VLOOKUP('entries and results'!N509,$H$3:$K$30018,4,FALSE)","v":" "},{"$f":"VLOOKUP('entries and results'!N509,$H$3:$L$30018,5,FALSE)","v":0}," ","00:00",null,null,null,null,null,null,null,null,null,null,null,null,null,null,null,null,null,null,null,null,null,null,null,null,null,null,null,null,null,null,null,null,null,null,null,null,null,null,null,null,null,null,null,"00:00",507,0,"0000000","00","00","00"]
["SA02244","Caithness AAC","1995-11-17","Shannon Eyers","SA02244","Under 15",".",508,{"$f":"VLOOKUP('entries and results'!G510,$A$3:$E$30018,4,FALSE)","v":" "},{"$f":"VLOOKUP('entries and results'!G510,$A$3:$F$30018,6,FALSE)","v":" "},{"$f":"VLOOKUP('entries and results'!G510,$A$3:$E$30018,2,FALSE)","v":" "},null,508,".",{"$f":"VLOOKUP('entries and results'!N510,$H$3:$K$30018,2,FALSE)","v":" "},{"$f":"VLOOKUP('entries and results'!N510,$H$3:$K$30018,3,FALSE)","v":" "},{"$f":"VLOOKUP('entries and results'!N510,$H$3:$K$30018,4,FALSE)","v":" "},{"$f":"VLOOKUP('entries and results'!N510,$H$3:$L$30018,5,FALSE)","v":0}," ","00:00",null,null,null,null,null,null,null,null,null,null,null,null,null,null,null,null,null,null,null,null,null,null,null,null,null,null,null,null,null,null,null,null,null,null,null,null,null,null,null,null,null,null,null,"00:00",508,0,"0000000","00","00","00"]
["SA02249","Caithness AAC","1990-10-25","Graeme Taylor","SA02249","Senior",".",509,{"$f":"VLOOKUP('entries and results'!G511,$A$3:$E$30018,4,FALSE)","v":" "},{"$f":"VLOOKUP('entries and results'!G511,$A$3:$F$30018,6,FALSE)","v":" "},{"$f":"VLOOKUP('entries and results'!G511,$A$3:$E$30018,2,FALSE)","v":" "},null,509,".",{"$f":"VLOOKUP('entries and results'!N511,$H$3:$K$30018,2,FALSE)","v":" "},{"$f":"VLOOKUP('entries and results'!N511,$H$3:$K$30018,3,FALSE)","v":" "},{"$f":"VLOOKUP('entries and results'!N511,$H$3:$K$30018,4,FALSE)","v":" "},{"$f":"VLOOKUP('entries and results'!N511,$H$3:$L$30018,5,FALSE)","v":0}," ","00:00",null,null,null,null,null,null,null,null,null,null,null,null,null,null,null,null,null,null,null,null,null,null,null,null,null,null,null,null,null,null,null,null,null,null,null,null,null,null,null,null,null,null,null,"00:00",509,0,"0000000","00","00","00"]
["SA02254","Carnegie Harriers","1964-09-11","Andrew James","SA02254","Vet",".",510,{"$f":"VLOOKUP('entries and results'!G512,$A$3:$E$30018,4,FALSE)","v":" "},{"$f":"VLOOKUP('entries and results'!G512,$A$3:$F$30018,6,FALSE)","v":" "},{"$f":"VLOOKUP('entries and results'!G512,$A$3:$E$30018,2,FALSE)","v":" "},null,510,".",{"$f":"VLOOKUP('entries and results'!N512,$H$3:$K$30018,2,FALSE)","v":" "},{"$f":"VLOOKUP('entries and results'!N512,$H$3:$K$30018,3,FALSE)","v":" "},{"$f":"VLOOKUP('entries and results'!N512,$H$3:$K$30018,4,FALSE)","v":" "},{"$f":"VLOOKUP('entries and results'!N512,$H$3:$L$30018,5,FALSE)","v":0}," ","00:00",null,null,null,null,null,null,null,null,null,null,null,null,null,null,null,null,null,null,null,null,null,null,null,null,null,null,null,null,null,null,null,null,null,null,null,null,null,null,null,null,null,null,null,"00:00",510,0,"0000000","00","00","00"]
["SA02257","Montrose & District AC","1990-01-25","Jade McDonald","SA02257","Senior",".",511,{"$f":"VLOOKUP('entries and results'!G513,$A$3:$E$30018,4,FALSE)","v":" "},{"$f":"VLOOKUP('entries and results'!G513,$A$3:$F$30018,6,FALSE)","v":" "},{"$f":"VLOOKUP('entries and results'!G513,$A$3:$E$30018,2,FALSE)","v":" "},null,511,".",{"$f":"VLOOKUP('entries and results'!N513,$H$3:$K$30018,2,FALSE)","v":" "},{"$f":"VLOOKUP('entries and results'!N513,$H$3:$K$30018,3,FALSE)","v":" "},{"$f":"VLOOKUP('entries and results'!N513,$H$3:$K$30018,4,FALSE)","v":" "},{"$f":"VLOOKUP('entries and results'!N513,$H$3:$L$30018,5,FALSE)","v":0}," ","00:00",null,null,null,null,null,null,null,null,null,null,null,null,null,null,null,null,null,null,null,null,null,null,null,null,null,null,null,null,null,null,null,null,null,null,null,null,null,null,null,null,null,null,null,"00:00",511,0,"0000000","00","00","00"]
["SA02258","Central AC","1995-09-22","Aimee Bilsland","SA02258","Under 15",".",512,{"$f":"VLOOKUP('entries and results'!G514,$A$3:$E$30018,4,FALSE)","v":" "},{"$f":"VLOOKUP('entries and results'!G514,$A$3:$F$30018,6,FALSE)","v":" "},{"$f":"VLOOKUP('entries and results'!G514,$A$3:$E$30018,2,FALSE)","v":" "},null,512,".",{"$f":"VLOOKUP('entries and results'!N514,$H$3:$K$30018,2,FALSE)","v":" "},{"$f":"VLOOKUP('entries and results'!N514,$H$3:$K$30018,3,FALSE)","v":" "},{"$f":"VLOOKUP('entries and results'!N514,$H$3:$K$30018,4,FALSE)","v":" "},{"$f":"VLOOKUP('entries and results'!N514,$H$3:$L$30018,5,FALSE)","v":0}," ","00:00",null,null,null,null,null,null,null,null,null,null,null,null,null,null,null,null,null,null,null,null,null,null,null,null,null,null,null,null,null,null,null,null,null,null,null,null,null,null,null,null,null,null,null,"00:00",512,0,"0000000","00","00","00"]
["SA02259","Central AC","1989-12-13","Daniel Carruthers","SA02259","Senior",".",513,{"$f":"VLOOKUP('entries and results'!G515,$A$3:$E$30018,4,FALSE)","v":" "},{"$f":"VLOOKUP('entries and results'!G515,$A$3:$F$30018,6,FALSE)","v":" "},{"$f":"VLOOKUP('entries and results'!G515,$A$3:$E$30018,2,FALSE)","v":" "},null,513,".",{"$f":"VLOOKUP('entries and results'!N515,$H$3:$K$30018,2,FALSE)","v":" "},{"$f":"VLOOKUP('entries and results'!N515,$H$3:$K$30018,3,FALSE)","v":" "},{"$f":"VLOOKUP('entries and results'!N515,$H$3:$K$30018,4,FALSE)","v":" "},{"$f":"VLOOKUP('entries and results'!N515,$H$3:$L$30018,5,FALSE)","v":0}," ","00:00",null,null,null,null,null,null,null,null,null,null,null,null,null,null,null,null,null,null,null,null,null,null,null,null,null,null,null,null,null,null,null,null,null,null,null,null,null,null,null,null,null,null,null,"00:00",513,{"$f":"SUMIF($H$3:$H$601,$BM515,$S$3:$S$601)","v":0},"0000000","00","00","00"]
["SA02261","Central AC","1994-10-14","Alexander Coubrough","SA02261","Under 17",".",514,{"$f":"VLOOKUP('entries and results'!G516,$A$3:$E$30018,4,FALSE)","v":" "},{"$f":"VLOOKUP('entries and results'!G516,$A$3:$F$30018,6,FALSE)","v":" "},{"$f":"VLOOKUP('entries and results'!G516,$A$3:$E$30018,2,FALSE)","v":" "},null,514,".",{"$f":"VLOOKUP('entries and results'!N516,$H$3:$K$30018,2,FALSE)","v":" "},{"$f":"VLOOKUP('entries and results'!N516,$H$3:$K$30018,3,FALSE)","v":" "},{"$f":"VLOOKUP('entries and results'!N516,$H$3:$K$30018,4,FALSE)","v":" "},{"$f":"VLOOKUP('entries and results'!N516,$H$3:$L$30018,5,FALSE)","v":0}," ",{"$f":"IF($H516=\"\",\" \",(LOOKUP($H516,$BM$3:$BM$1601,$BL$3:$BL$1601)))","v":"00:00"},null,null,null,null,null,null,null,null,null,null,null,null,null,null,null,null,null,null,null,null,null,null,null,null,null,null,null,null,null,null,null,null,null,null,null,null,null,null,null,null,null,null,null,"00:00",514,0,"0000000","00","00","00"]
["SA02270","Central AC","1993-11-24","Adam Innes","SA02270","Under 17",".",515,{"$f":"VLOOKUP('entries and results'!G517,$A$3:$E$30018,4,FALSE)","v":" "},{"$f":"VLOOKUP('entries and results'!G517,$A$3:$F$30018,6,FALSE)","v":" "},{"$f":"VLOOKUP('entries and results'!G517,$A$3:$E$30018,2,FALSE)","v":" "},null,515,".",{"$f":"VLOOKUP('entries and results'!N517,$H$3:$K$30018,2,FALSE)","v":" "},{"$f":"VLOOKUP('entries and results'!N517,$H$3:$K$30018,3,FALSE)","v":" "},{"$f":"VLOOKUP('entries and results'!N517,$H$3:$K$30018,4,FALSE)","v":" "},{"$f":"VLOOKUP('entries and results'!N517,$H$3:$L$30018,5,FALSE)","v":0}," ","00:00",null,null,null,null,null,null,null,null,null,null,null,null,null,null,null,null,null,null,null,null,null,null,null,null,null,null,null,null,null,null,null,null,null,null,null,null,null,null,null,null,null,null,null,"00:00",515,0,"0000000","00","00","00"]
["SA02273","Central AC","1995-12-28","Carrick McLelland","SA02273","Under 15",".",516,{"$f":"VLOOKUP('entries and results'!G518,$A$3:$E$30018,4,FALSE)","v":" "},{"$f":"VLOOKUP('entries and results'!G518,$A$3:$F$30018,6,FALSE)","v":" "},{"$f":"VLOOKUP('entries and results'!G518,$A$3:$E$30018,2,FALSE)","v":" "},null,516,".",{"$f":"VLOOKUP('entries and results'!N518,$H$3:$K$30018,2,FALSE)","v":" "},{"$f":"VLOOKUP('entries and results'!N518,$H$3:$K$30018,3,FALSE)","v":" "},{"$f":"VLOOKUP('entries and results'!N518,$H$3:$K$30018,4,FALSE)","v":" "},{"$f":"VLOOKUP('entries and results'!N518,$H$3:$L$30018,5,FALSE)","v":0}," ","00:00",null,null,null,null,null,null,null,null,null,null,null,null,null,null,null,null,null,null,null,null,null,null,null,null,null,null,null,null,null,null,null,null,null,null,null,null,null,null,null,null,null,null,null,{"$f":"CONCATENATE(BQ518,\":\",BR518)","v":"00:00"},516,0,{"$f":"CONCATENATE($BI$2,$BN518)","v":"0000000"},{"$f":"MID(RIGHT($BO518,6),1,2)","v":"00"},{"$f":"MID(RIGHT($BO518,6),3,2)","v":"00"},{"$f":"MID(RIGHT($BO518,6),5,2)","v":"00"}]
["SA02286","Edinburgh AC","1997-03-25","Heide Biberbach-Laidlaw","SA02286","Under 15",".",517,{"$f":"VLOOKUP('entries and results'!G519,$A$3:$E$30018,4,FALSE)","v":" "},{"$f":"VLOOKUP('entries and results'!G519,$A$3:$F$30018,6,FALSE)","v":" "},{"$f":"VLOOKUP('entries and results'!G519,$A$3:$E$30018,2,FALSE)","v":" "},null,517,".",{"$f":"VLOOKUP('entries and results'!N519,$H$3:$K$30018,2,FALSE)","v":" "},{"$f":"VLOOKUP('entries and results'!N519,$H$3:$K$30018,3,FALSE)","v":" "},{"$f":"VLOOKUP('entries and results'!N519,$H$3:$K$30018,4,FALSE)","v":" "},{"$f":"VLOOKUP('entries and results'!N519,$H$3:$L$30018,5,FALSE)","v":0}," ","00:00",null,null,null,null,null,null,null,null,null,null,null,null,null,null,null,null,null,null,null,null,null,null,null,null,null,null,null,null,null,null,null,null,null,null,null,null,null,null,null,null,null,null,null,"00:00",517,0,"0000000","00","00","00"]
["SA02300","Edinburgh AC","1995-04-29","Neil McBlane","SA02300","Under 17",".",518,{"$f":"VLOOKUP('entries and results'!G520,$A$3:$E$30018,4,FALSE)","v":" "},{"$f":"VLOOKUP('entries and results'!G520,$A$3:$F$30018,6,FALSE)","v":" "},{"$f":"VLOOKUP('entries and results'!G520,$A$3:$E$30018,2,FALSE)","v":" "},null,518,".",{"$f":"VLOOKUP('entries and results'!N520,$H$3:$K$30018,2,FALSE)","v":" "},{"$f":"VLOOKUP('entries and results'!N520,$H$3:$K$30018,3,FALSE)","v":" "},{"$f":"VLOOKUP('entries and results'!N520,$H$3:$K$30018,4,FALSE)","v":" "},{"$f":"VLOOKUP('entries and results'!N520,$H$3:$L$30018,5,FALSE)","v":0}," ","00:00",null,null,null,null,null,null,null,null,null,null,null,null,null,null,null,null,null,null,null,null,null,null,null,null,null,null,null,null,null,null,null,null,null,null,null,null,null,null,null,null,null,null,null,"00:00",518,0,"0000000","00","00","00"]
["SA02302","Edinburgh AC","1996-09-19","Rosie McCaskey","SA02302","Under 15",".",519,{"$f":"VLOOKUP('entries and results'!G521,$A$3:$E$30018,4,FALSE)","v":" "},{"$f":"VLOOKUP('entries and results'!G521,$A$3:$F$30018,6,FALSE)","v":" "},{"$f":"VLOOKUP('entries and results'!G521,$A$3:$E$30018,2,FALSE)","v":" "},null,519,".",{"$f":"VLOOKUP('entries and results'!N521,$H$3:$K$30018,2,FALSE)","v":" "},{"$f":"VLOOKUP('entries and results'!N521,$H$3:$K$30018,3,FALSE)","v":" "},{"$f":"VLOOKUP('entries and results'!N521,$H$3:$K$30018,4,FALSE)","v":" "},{"$f":"VLOOKUP('entries and results'!N521,$H$3:$L$30018,5,FALSE)","v":0}," ","00:00",null,null,null,null,null,null,null,null,null,null,null,null,null,null,null,null,null,null,null,null,null,null,null,null,null,null,null,null,null,null,null,null,null,null,null,null,null,null,null,null,null,null,null,"00:00",519,0,"0000000","00","00","00"]
["SA02309","Edinburgh AC","1994-04-24","Laura Robertson","SA02309","Under 17",".",520,{"$f":"VLOOKUP('entries and results'!G522,$A$3:$E$30018,4,FALSE)","v":" "},{"$f":"VLOOKUP('entries and results'!G522,$A$3:$F$30018,6,FALSE)","v":" "},{"$f":"VLOOKUP('entries and results'!G522,$A$3:$E$30018,2,FALSE)","v":" "},null,520,".",{"$f":"VLOOKUP('entries and results'!N522,$H$3:$K$30018,2,FALSE)","v":" "},{"$f":"VLOOKUP('entries and results'!N522,$H$3:$K$30018,3,FALSE)","v":" "},{"$f":"VLOOKUP('entries and results'!N522,$H$3:$K$30018,4,FALSE)","v":" "},{"$f":"VLOOKUP('entries and results'!N522,$H$3:$L$30018,5,FALSE)","v":0}," ","00:00",null,null,null,null,null,null,null,null,null,null,null,null,null,null,null,null,null,null,null,null,null,null,null,null,null,null,null,null,null,null,null,null,null,null,null,null,null,null,null,null,null,null,null,"00:00",520,0,"0000000","00","00","00"]
["SA02315","Edinburgh AC","1997-03-27","Luca Vita","SA02315","Under 15",".",521,{"$f":"VLOOKUP('entries and results'!G523,$A$3:$E$30018,4,FALSE)","v":" "},{"$f":"VLOOKUP('entries and results'!G523,$A$3:$F$30018,6,FALSE)","v":" "},{"$f":"VLOOKUP('entries and results'!G523,$A$3:$E$30018,2,FALSE)","v":" "},null,521,".",{"$f":"VLOOKUP('entries and results'!N523,$H$3:$K$30018,2,FALSE)","v":" "},{"$f":"VLOOKUP('entries and results'!N523,$H$3:$K$30018,3,FALSE)","v":" "},{"$f":"VLOOKUP('entries and results'!N523,$H$3:$K$30018,4,FALSE)","v":" "},{"$f":"VLOOKUP('entries and results'!N523,$H$3:$L$30018,5,FALSE)","v":0}," ","00:00",null,null,null,null,null,null,null,null,null,null,null,null,null,null,null,null,null,null,null,null,null,null,null,null,null,null,null,null,null,null,null,null,null,null,null,null,null,null,null,null,null,null,null,"00:00",521,0,"0000000","00","00","00"]
["SA02317","Edinburgh AC","1992-11-10","Sarah Watters","SA02317","Senior",".",522,{"$f":"VLOOKUP('entries and results'!G524,$A$3:$E$30018,4,FALSE)","v":" "},{"$f":"VLOOKUP('entries and results'!G524,$A$3:$F$30018,6,FALSE)","v":" "},{"$f":"VLOOKUP('entries and results'!G524,$A$3:$E$30018,2,FALSE)","v":" "},null,522,".",{"$f":"VLOOKUP('entries and results'!N524,$H$3:$K$30018,2,FALSE)","v":" "},{"$f":"VLOOKUP('entries and results'!N524,$H$3:$K$30018,3,FALSE)","v":" "},{"$f":"VLOOKUP('entries and results'!N524,$H$3:$K$30018,4,FALSE)","v":" "},{"$f":"VLOOKUP('entries and results'!N524,$H$3:$L$30018,5,FALSE)","v":0}," ","00:00",null,null,null,null,null,null,null,null,null,null,null,null,null,null,null,null,null,null,null,null,null,null,null,null,null,null,null,null,null,null,null,null,null,null,null,null,null,null,null,null,null,null,null,"00:00",522,0,"0000000","00","00","00"]
["SA02337","Corstorphine AAC","1996-12-10","Shona McNab","SA02337","Under 15",".",523,{"$f":"VLOOKUP('entries and results'!G525,$A$3:$E$30018,4,FALSE)","v":" "},{"$f":"VLOOKUP('entries and results'!G525,$A$3:$F$30018,6,FALSE)","v":" "},{"$f":"VLOOKUP('entries and results'!G525,$A$3:$E$30018,2,FALSE)","v":" "},null,523,".",{"$f":"VLOOKUP('entries and results'!N525,$H$3:$K$30018,2,FALSE)","v":" "},{"$f":"VLOOKUP('entries and results'!N525,$H$3:$K$30018,3,FALSE)","v":" "},{"$f":"VLOOKUP('entries and results'!N525,$H$3:$K$30018,4,FALSE)","v":" "},{"$f":"VLOOKUP('entries and results'!N525,$H$3:$L$30018,5,FALSE)","v":0}," ","00:00",null,null,null,null,null,null,null,null,null,null,null,null,null,null,null,null,null,null,null,null,null,null,null,null,null,null,null,null,null,null,null,null,null,null,null,null,null,null,null,null,null,null,null,"00:00",523,0,"0000000","00","00","00"]
["SA02344","Corstorphine AAC","1996-05-19","Lorna Perks","SA02344","Under 15",".",524,{"$f":"VLOOKUP('entries and results'!G526,$A$3:$E$30018,4,FALSE)","v":" "},{"$f":"VLOOKUP('entries and results'!G526,$A$3:$F$30018,6,FALSE)","v":" "},{"$f":"VLOOKUP('entries and results'!G526,$A$3:$E$30018,2,FALSE)","v":" "},null,524,".",{"$f":"VLOOKUP('entries and results'!N526,$H$3:$K$30018,2,FALSE)","v":" "},{"$f":"VLOOKUP('entries and results'!N526,$H$3:$K$30018,3,FALSE)","v":" "},{"$f":"VLOOKUP('entries and results'!N526,$H$3:$K$30018,4,FALSE)","v":" "},{"$f":"VLOOKUP('entries and results'!N526,$H$3:$L$30018,5,FALSE)","v":0}," ","00:00",null,null,null,null,null,null,null,null,null,null,null,null,null,null,null,null,null,null,null,null,null,null,null,null,null,null,null,null,null,null,null,null,null,null,null,null,null,null,null,null,null,null,null,"00:00",524,0,"0000000","00","00","00"]
["SA02346","Corstorphine AAC","1996-10-11","Gavin Reid","SA02346","Under 15",".",525,{"$f":"VLOOKUP('entries and results'!G527,$A$3:$E$30018,4,FALSE)","v":" "},{"$f":"VLOOKUP('entries and results'!G527,$A$3:$F$30018,6,FALSE)","v":" "},{"$f":"VLOOKUP('entries and results'!G527,$A$3:$E$30018,2,FALSE)","v":" "},null,525,".",{"$f":"VLOOKUP('entries and results'!N527,$H$3:$K$30018,2,FALSE)","v":" "},{"$f":"VLOOKUP('entries and results'!N527,$H$3:$K$30018,3,FALSE)","v":" "},{"$f":"VLOOKUP('entries and results'!N527,$H$3:$K$30018,4,FALSE)","v":" "},{"$f":"VLOOKUP('entries and results'!N527,$H$3:$L$30018,5,FALSE)","v":0}," ","00:00",null,null,null,null,null,null,null,null,null,null,null,null,null,null,null,null,null,null,null,null,null,null,null,null,null,null,null,null,null,null,null,null,null,null,null,null,null,null,null,null,null,null,null,"00:00",525,0,"0000000","00","00","00"]
["SA02347","Corstorphine AAC","1997-01-31","Amber Robertson","SA02347","Under 15",".",526,{"$f":"VLOOKUP('entries and results'!G528,$A$3:$E$30018,4,FALSE)","v":" "},{"$f":"VLOOKUP('entries and results'!G528,$A$3:$F$30018,6,FALSE)","v":" "},{"$f":"VLOOKUP('entries and results'!G528,$A$3:$E$30018,2,FALSE)","v":" "},null,526,".",{"$f":"VLOOKUP('entries and results'!N528,$H$3:$K$30018,2,FALSE)","v":" "},{"$f":"VLOOKUP('entries and results'!N528,$H$3:$K$30018,3,FALSE)","v":" "},{"$f":"VLOOKUP('entries and results'!N528,$H$3:$K$30018,4,FALSE)","v":" "},null," ","00:00",null,null,null,null,null,null,null,null,null,null,null,null,null,null,null,null,null,null,null,null,null,null,null,null,null,null,null,null,null,null,null,null,null,null,null,null,null,null,null,null,null,null,null,"00:00",526,0,"0000000","00","00","00"]
["SA02351","Corstorphine AAC","1997-01-18","Alexander Wilkie","SA02351","Under 15",".",527,{"$f":"VLOOKUP('entries and results'!G529,$A$3:$E$30018,4,FALSE)","v":" "},{"$f":"VLOOKUP('entries and results'!G529,$A$3:$F$30018,6,FALSE)","v":" "},{"$f":"VLOOKUP('entries and results'!G529,$A$3:$E$30018,2,FALSE)","v":" "},null,527,".",{"$f":"VLOOKUP('entries and results'!N529,$H$3:$K$30018,2,FALSE)","v":" "},{"$f":"VLOOKUP('entries and results'!N529,$H$3:$K$30018,3,FALSE)","v":" "},{"$f":"VLOOKUP('entries and results'!N529,$H$3:$K$30018,4,FALSE)","v":" "},null," ","00:00",null,null,null,null,null,null,null,null,null,null,null,null,null,null,null,null,null,null,null,null,null,null,null,null,null,null,null,null,null,null,null,null,null,null,null,null,null,null,null,null,null,null,null,"00:00",527,0,"0000000","00","00","00"]
["SA02352","Dunbar Running Club","1995-02-19","Luke Baker","SA02352","Under 17",".",528,{"$f":"VLOOKUP('entries and results'!G530,$A$3:$E$30018,4,FALSE)","v":" "},{"$f":"VLOOKUP('entries and results'!G530,$A$3:$F$30018,6,FALSE)","v":" "},{"$f":"VLOOKUP('entries and results'!G530,$A$3:$E$30018,2,FALSE)","v":" "},null,528,".",{"$f":"VLOOKUP('entries and results'!N530,$H$3:$K$30018,2,FALSE)","v":" "},{"$f":"VLOOKUP('entries and results'!N530,$H$3:$K$30018,3,FALSE)","v":" "},{"$f":"VLOOKUP('entries and results'!N530,$H$3:$K$30018,4,FALSE)","v":" "},null," ","00:00",null,null,null,null,null,null,null,null,null,null,null,null,null,null,null,null,null,null,null,null,null,null,null,null,null,null,null,null,null,null,null,null,null,null,null,null,null,null,null,null,null,null,null,"00:00",528,0,"0000000","00","00","00"]
["SA02358","Dunbar Running Club","1995-10-22","Jack Learmonth","SA02358","Under 15",".",529,{"$f":"VLOOKUP('entries and results'!G531,$A$3:$E$30018,4,FALSE)","v":" "},{"$f":"VLOOKUP('entries and results'!G531,$A$3:$F$30018,6,FALSE)","v":" "},{"$f":"VLOOKUP('entries and results'!G531,$A$3:$E$30018,2,FALSE)","v":" "},null,529,".",{"$f":"VLOOKUP('entries and results'!N531,$H$3:$K$30018,2,FALSE)","v":" "},{"$f":"VLOOKUP('entries and results'!N531,$H$3:$K$30018,3,FALSE)","v":" "},{"$f":"VLOOKUP('entries and results'!N531,$H$3:$K$30018,4,FALSE)","v":" "},null," ","00:00",null,null,null,null,null,null,null,null,null,null,null,null,null,null,null,null,null,null,null,null,null,null,null,null,null,null,null,null,null,null,null,null,null,null,null,null,null,null,null,null,null,null,null,"00:00",529,0,"0000000","00","00","00"]
["SA02362","Dunbar Running Club","1996-06-24","Katriona Proudfoot","SA02362","Under 15",".",530,{"$f":"VLOOKUP('entries and results'!G532,$A$3:$E$30018,4,FALSE)","v":" "},{"$f":"VLOOKUP('entries and results'!G532,$A$3:$F$30018,6,FALSE)","v":" "},{"$f":"VLOOKUP('entries and results'!G532,$A$3:$E$30018,2,FALSE)","v":" "},null,530,".",{"$f":"VLOOKUP('entries and results'!N532,$H$3:$K$30018,2,FALSE)","v":" "},{"$f":"VLOOKUP('entries and results'!N532,$H$3:$K$30018,3,FALSE)","v":" "},{"$f":"VLOOKUP('entries and results'!N532,$H$3:$K$30018,4,FALSE)","v":" "},null," ","00:00",null,null,null,null,null,null,null,null,null,null,null,null,null,null,null,null,null,null,null,null,null,null,null,null,null,null,null,null,null,null,null,null,null,null,null,null,null,null,null,null,null,null,null,"00:00",530,0,"0000000","00","00","00"]
["SA02364","Dunbar Running Club","1994-12-08","Cory Smith","SA02364","Under 17",".",531,{"$f":"VLOOKUP('entries and results'!G533,$A$3:$E$30018,4,FALSE)","v":" "},{"$f":"VLOOKUP('entries and results'!G533,$A$3:$F$30018,6,FALSE)","v":" "},{"$f":"VLOOKUP('entries and results'!G533,$A$3:$E$30018,2,FALSE)","v":" "},null,531,".",{"$f":"VLOOKUP('entries and results'!N533,$H$3:$K$30018,2,FALSE)","v":" "},{"$f":"VLOOKUP('entries and results'!N533,$H$3:$K$30018,3,FALSE)","v":" "},{"$f":"VLOOKUP('entries and results'!N533,$H$3:$K$30018,4,FALSE)","v":" "},null," ","00:00",null,null,null,null,null,null,null,null,null,null,null,null,null,null,null,null,null,null,null,null,null,null,null,null,null,null,null,null,null,null,null,null,null,null,null,null,null,null,null,null,null,null,null,"00:00",531,0,"0000000","00","00","00"]
["SA02369","Dundee Hawkhill Harriers","1994-07-18","Amy Barton","SA02369","Under 17",".",532,{"$f":"VLOOKUP('entries and results'!G534,$A$3:$E$30018,4,FALSE)","v":" "},{"$f":"VLOOKUP('entries and results'!G534,$A$3:$F$30018,6,FALSE)","v":" "},{"$f":"VLOOKUP('entries and results'!G534,$A$3:$E$30018,2,FALSE)","v":" "},null,532,".",{"$f":"VLOOKUP('entries and results'!N534,$H$3:$K$30018,2,FALSE)","v":" "},{"$f":"VLOOKUP('entries and results'!N534,$H$3:$K$30018,3,FALSE)","v":" "},{"$f":"VLOOKUP('entries and results'!N534,$H$3:$K$30018,4,FALSE)","v":" "},null," ","00:00",null,null,null,null,null,null,null,null,null,null,null,null,null,null,null,null,null,null,null,null,null,null,null,null,null,null,null,null,null,null,null,null,null,null,null,null,null,null,null,null,null,null,null,"00:00",532,0,"0000000","00","00","00"]
["SA02378","Dunfermline & West Fife AC","1997-02-21","Callum Gosse","SA02378","Under 15",".",533,{"$f":"VLOOKUP('entries and results'!G535,$A$3:$E$30018,4,FALSE)","v":" "},{"$f":"VLOOKUP('entries and results'!G535,$A$3:$F$30018,6,FALSE)","v":" "},{"$f":"VLOOKUP('entries and results'!G535,$A$3:$E$30018,2,FALSE)","v":" "},null,533,".",{"$f":"VLOOKUP('entries and results'!N535,$H$3:$K$30018,2,FALSE)","v":" "},{"$f":"VLOOKUP('entries and results'!N535,$H$3:$K$30018,3,FALSE)","v":" "},{"$f":"VLOOKUP('entries and results'!N535,$H$3:$K$30018,4,FALSE)","v":" "},null," ","00:00",null,null,null,null,null,null,null,null,null,null,null,null,null,null,null,null,null,null,null,null,null,null,null,null,null,null,null,null,null,null,null,null,null,null,null,null,null,null,null,null,null,null,null,"00:00",533,0,"0000000","00","00","00"]
["SA02379","Dunfermline & West Fife AC","1997-02-21","Fraser Gosse","SA02379","Under 15",".",534,{"$f":"VLOOKUP('entries and results'!G536,$A$3:$E$30018,4,FALSE)","v":" "},{"$f":"VLOOKUP('entries and results'!G536,$A$3:$F$30018,6,FALSE)","v":" "},{"$f":"VLOOKUP('entries and results'!G536,$A$3:$E$30018,2,FALSE)","v":" "},null,534,".",{"$f":"VLOOKUP('entries and results'!N536,$H$3:$K$30018,2,FALSE)","v":" "},{"$f":"VLOOKUP('entries and results'!N536,$H$3:$K$30018,3,FALSE)","v":" "},{"$f":"VLOOKUP('entries and results'!N536,$H$3:$K$30018,4,FALSE)","v":" "},null," ","00:00",null,null,null,null,null,null,null,null,null,null,null,null,null,null,null,null,null,null,null,null,null,null,null,null,null,null,null,null,null,null,null,null,null,null,null,null,null,null,null,null,null,null,null,"00:00",534,0,"0000000","00","00","00"]
["SA02384","East Cheshire & Tameside A.C.","1993-09-01","Kirsten McAslan","SA02384","Under 17",".",535,{"$f":"VLOOKUP('entries and results'!G537,$A$3:$E$30018,4,FALSE)","v":" "},{"$f":"VLOOKUP('entries and results'!G537,$A$3:$F$30018,6,FALSE)","v":" "},{"$f":"VLOOKUP('entries and results'!G537,$A$3:$E$30018,2,FALSE)","v":" "},null,535,".",{"$f":"VLOOKUP('entries and results'!N537,$H$3:$K$30018,2,FALSE)","v":" "},{"$f":"VLOOKUP('entries and results'!N537,$H$3:$K$30018,3,FALSE)","v":" "},{"$f":"VLOOKUP('entries and results'!N537,$H$3:$K$30018,4,FALSE)","v":" "},null," ","00:00",null,null,null,null,null,null,null,null,null,null,null,null,null,null,null,null,null,null,null,null,null,null,null,null,null,null,null,null,null,null,null,null,null,null,null,null,null,null,null,null,null,null,null,"00:00",535,0,"0000000","00","00","00"]
["SA02386","East Kilbride A.C.","1991-05-28","Catriona Chapman","SA02386","Senior",".",536,{"$f":"VLOOKUP('entries and results'!G538,$A$3:$E$30018,4,FALSE)","v":" "},{"$f":"VLOOKUP('entries and results'!G538,$A$3:$F$30018,6,FALSE)","v":" "},{"$f":"VLOOKUP('entries and results'!G538,$A$3:$E$30018,2,FALSE)","v":" "},null,536,".",{"$f":"VLOOKUP('entries and results'!N538,$H$3:$K$30018,2,FALSE)","v":" "},{"$f":"VLOOKUP('entries and results'!N538,$H$3:$K$30018,3,FALSE)","v":" "},{"$f":"VLOOKUP('entries and results'!N538,$H$3:$K$30018,4,FALSE)","v":" "},null," ","00:00",null,null,null,null,null,null,null,null,null,null,null,null,null,null,null,null,null,null,null,null,null,null,null,null,null,null,null,null,null,null,null,null,null,null,null,null,null,null,null,null,null,null,null,"00:00",536,0,"0000000","00","00","00"]
["SA02389","East Kilbride A.C.","1993-06-28","Zoe Haddow","SA02389","Senior",".",537,{"$f":"VLOOKUP('entries and results'!G539,$A$3:$E$30018,4,FALSE)","v":" "},{"$f":"VLOOKUP('entries and results'!G539,$A$3:$F$30018,6,FALSE)","v":" "},{"$f":"VLOOKUP('entries and results'!G539,$A$3:$E$30018,2,FALSE)","v":" "},null,537,".",{"$f":"VLOOKUP('entries and results'!N539,$H$3:$K$30018,2,FALSE)","v":" "},{"$f":"VLOOKUP('entries and results'!N539,$H$3:$K$30018,3,FALSE)","v":" "},{"$f":"VLOOKUP('entries and results'!N539,$H$3:$K$30018,4,FALSE)","v":" "},null," ","00:00",null,null,null,null,null,null,null,null,null,null,null,null,null,null,null,null,null,null,null,null,null,null,null,null,null,null,null,null,null,null,null,null,null,null,null,null,null,null,null,null,null,null,null,"00:00",537,0,"0000000","00","00","00"]
["SA02395","East Kilbride A.C.","1993-10-27","Laura McLaughlan","SA02395","Under 17",".",538,{"$f":"VLOOKUP('entries and results'!G540,$A$3:$E$30018,4,FALSE)","v":" "},{"$f":"VLOOKUP('entries and results'!G540,$A$3:$F$30018,6,FALSE)","v":" "},{"$f":"VLOOKUP('entries and results'!G540,$A$3:$E$30018,2,FALSE)","v":" "},null,538,".",{"$f":"VLOOKUP('entries and results'!N540,$H$3:$K$30018,2,FALSE)","v":" "},{"$f":"VLOOKUP('entries and results'!N540,$H$3:$K$30018,3,FALSE)","v":" "},{"$f":"VLOOKUP('entries and results'!N540,$H$3:$K$30018,4,FALSE)","v":" "},null," ","00:00",null,null,null,null,null,null,null,null,null,null,null,null,null,null,null,null,null,null,null,null,null,null,null,null,null,null,null,null,null,null,null,null,null,null,null,null,null,null,null,null,null,null,null,"00:00",538,0,"0000000","00","00","00"]
["SA02403","East Kilbride A.C.","1996-10-30","Robyn Wright","SA02403","Under 15",".",539,{"$f":"VLOOKUP('entries and results'!G541,$A$3:$E$30018,4,FALSE)","v":" "},{"$f":"VLOOKUP('entries and results'!G541,$A$3:$F$30018,6,FALSE)","v":" "},{"$f":"VLOOKUP('entries and results'!G541,$A$3:$E$30018,2,FALSE)","v":" "},null,539,".",{"$f":"VLOOKUP('entries and results'!N541,$H$3:$K$30018,2,FALSE)","v":" "},{"$f":"VLOOKUP('entries and results'!N541,$H$3:$K$30018,3,FALSE)","v":" "},{"$f":"VLOOKUP('entries and results'!N541,$H$3:$K$30018,4,FALSE)","v":" "},null," ","00:00",null,null,null,null,null,null,null,null,null,null,null,null,null,null,null,null,null,null,null,null,null,null,null,null,null,null,null,null,null,null,null,null,null,null,null,null,null,null,null,null,null,null,null,"00:00",539,0,"0000000","00","00","00"]
["SA02405","Edinburgh AC","1993-04-12","Jennifer Arnot","SA02405","Senior",".",540,{"$f":"VLOOKUP('entries and results'!G542,$A$3:$E$30018,4,FALSE)","v":" "},{"$f":"VLOOKUP('entries and results'!G542,$A$3:$F$30018,6,FALSE)","v":" "},{"$f":"VLOOKUP('entries and results'!G542,$A$3:$E$30018,2,FALSE)","v":" "},null,540,".",{"$f":"VLOOKUP('entries and results'!N542,$H$3:$K$30018,2,FALSE)","v":" "},{"$f":"VLOOKUP('entries and results'!N542,$H$3:$K$30018,3,FALSE)","v":" "},{"$f":"VLOOKUP('entries and results'!N542,$H$3:$K$30018,4,FALSE)","v":" "},null," ","00:00",null,null,null,null,null,null,null,null,null,null,null,null,null,null,null,null,null,null,null,null,null,null,null,null,null,null,null,null,null,null,null,null,null,null,null,null,null,null,null,null,null,null,null,"00:00",540,0,"0000000","00","00","00"]
["SA02407","Edinburgh AC","1993-07-17","Fiona Cleat","SA02407","Senior",".",541,{"$f":"VLOOKUP('entries and results'!G543,$A$3:$E$30018,4,FALSE)","v":" "},{"$f":"VLOOKUP('entries and results'!G543,$A$3:$F$30018,6,FALSE)","v":" "},{"$f":"VLOOKUP('entries and results'!G543,$A$3:$E$30018,2,FALSE)","v":" "},null,541,".",{"$f":"VLOOKUP('entries and results'!N543,$H$3:$K$30018,2,FALSE)","v":" "},{"$f":"VLOOKUP('entries and results'!N543,$H$3:$K$30018,3,FALSE)","v":" "},{"$f":"VLOOKUP('entries and results'!N543,$H$3:$K$30018,4,FALSE)","v":" "},null," ","00:00",null,null,null,null,null,null,null,null,null,null,null,null,null,null,null,null,null,null,null,null,null,null,null,null,null,null,null,null,null,null,null,null,null,null,null,null,null,null,null,null,null,null,null,"00:00",541,0,"0000000","00","00","00"]
["SA02414","Edinburgh AC","1995-10-15","Anna Hyde","SA02414","Under 15",".",542,{"$f":"VLOOKUP('entries and results'!G544,$A$3:$E$30018,4,FALSE)","v":" "},{"$f":"VLOOKUP('entries and results'!G544,$A$3:$F$30018,6,FALSE)","v":" "},{"$f":"VLOOKUP('entries and results'!G544,$A$3:$E$30018,2,FALSE)","v":" "},null,542,".",{"$f":"VLOOKUP('entries and results'!N544,$H$3:$K$30018,2,FALSE)","v":" "},{"$f":"VLOOKUP('entries and results'!N544,$H$3:$K$30018,3,FALSE)","v":" "},{"$f":"VLOOKUP('entries and results'!N544,$H$3:$K$30018,4,FALSE)","v":" "},null," ","00:00",null,null,null,null,null,null,null,null,null,null,null,null,null,null,null,null,null,null,null,null,null,null,null,null,null,null,null,null,null,null,null,null,null,null,null,null,null,null,null,null,null,null,null,"00:00",542,0,"0000000","00","00","00"]
["SA02428","Edinburgh AC","1996-10-03","Katie Robertson","SA02428","Under 15",".",543,{"$f":"VLOOKUP('entries and results'!G545,$A$3:$E$30018,4,FALSE)","v":" "},{"$f":"VLOOKUP('entries and results'!G545,$A$3:$F$30018,6,FALSE)","v":" "},{"$f":"VLOOKUP('entries and results'!G545,$A$3:$E$30018,2,FALSE)","v":" "},null,543,".",{"$f":"VLOOKUP('entries and results'!N545,$H$3:$K$30018,2,FALSE)","v":" "},{"$f":"VLOOKUP('entries and results'!N545,$H$3:$K$30018,3,FALSE)","v":" "},{"$f":"VLOOKUP('entries and results'!N545,$H$3:$K$30018,4,FALSE)","v":" "},null," ","00:00",null,null,null,null,null,null,null,null,null,null,null,null,null,null,null,null,null,null,null,null,null,null,null,null,null,null,null,null,null,null,null,null,null,null,null,null,null,null,null,null,null,null,null,"00:00",543,0,"0000000","00","00","00"]
["SA02429","Edinburgh AC","1995-04-12","Rachel Robertson","SA02429","Under 17",".",544,{"$f":"VLOOKUP('entries and results'!G546,$A$3:$E$30018,4,FALSE)","v":" "},{"$f":"VLOOKUP('entries and results'!G546,$A$3:$F$30018,6,FALSE)","v":" "},{"$f":"VLOOKUP('entries and results'!G546,$A$3:$E$30018,2,FALSE)","v":" "},null,544,".",{"$f":"VLOOKUP('entries and results'!N546,$H$3:$K$30018,2,FALSE)","v":" "},{"$f":"VLOOKUP('entries and results'!N546,$H$3:$K$30018,3,FALSE)","v":" "},{"$f":"VLOOKUP('entries and results'!N546,$H$3:$K$30018,4,FALSE)","v":" "},null," ","00:00",null,null,null,null,null,null,null,null,null,null,null,null,null,null,null,null,null,null,null,null,null,null,null,null,null,null,null,null,null,null,null,null,null,null,null,null,null,null,null,null,null,null,null,"00:00",544,0,"0000000","00","00","00"]
["SA02434","Ellon AAC","1995-05-25","Hannah Armstrong","SA02434","Under 17",".",545,{"$f":"VLOOKUP('entries and results'!G547,$A$3:$E$30018,4,FALSE)","v":" "},{"$f":"VLOOKUP('entries and results'!G547,$A$3:$F$30018,6,FALSE)","v":" "},{"$f":"VLOOKUP('entries and results'!G547,$A$3:$E$30018,2,FALSE)","v":" "},null,545,".",{"$f":"VLOOKUP('entries and results'!N547,$H$3:$K$30018,2,FALSE)","v":" "},{"$f":"VLOOKUP('entries and results'!N547,$H$3:$K$30018,3,FALSE)","v":" "},{"$f":"VLOOKUP('entries and results'!N547,$H$3:$K$30018,4,FALSE)","v":" "},null," ","00:00",null,null,null,null,null,null,null,null,null,null,null,null,null,null,null,null,null,null,null,null,null,null,null,null,null,null,null,null,null,null,null,null,null,null,null,null,null,null,null,null,null,null,null,"00:00",545,0,"0000000","00","00","00"]
["SA02435","Ellon AAC","1993-09-04","Katie Armstrong","SA02435","Under 17",".",546,{"$f":"VLOOKUP('entries and results'!G548,$A$3:$E$30018,4,FALSE)","v":" "},{"$f":"VLOOKUP('entries and results'!G548,$A$3:$F$30018,6,FALSE)","v":" "},{"$f":"VLOOKUP('entries and results'!G548,$A$3:$E$30018,2,FALSE)","v":" "},null,546,".",{"$f":"VLOOKUP('entries and results'!N548,$H$3:$K$30018,2,FALSE)","v":" "},{"$f":"VLOOKUP('entries and results'!N548,$H$3:$K$30018,3,FALSE)","v":" "},{"$f":"VLOOKUP('entries and results'!N548,$H$3:$K$30018,4,FALSE)","v":" "},null," ","00:00",null,null,null,null,null,null,null,null,null,null,null,null,null,null,null,null,null,null,null,null,null,null,null,null,null,null,null,null,null,null,null,null,null,null,null,null,null,null,null,null,null,null,null,"00:00",546,0,"0000000","00","00","00"]
["SA02436","Ellon AAC","1996-03-15","Robert J Bugden","SA02436","Under 15",".",547,{"$f":"VLOOKUP('entries and results'!G549,$A$3:$E$30018,4,FALSE)","v":" "},{"$f":"VLOOKUP('entries and results'!G549,$A$3:$F$30018,6,FALSE)","v":" "},{"$f":"VLOOKUP('entries and results'!G549,$A$3:$E$30018,2,FALSE)","v":" "},null,547,".",{"$f":"VLOOKUP('entries and results'!N549,$H$3:$K$30018,2,FALSE)","v":" "},{"$f":"VLOOKUP('entries and results'!N549,$H$3:$K$30018,3,FALSE)","v":" "},{"$f":"VLOOKUP('entries and results'!N549,$H$3:$K$30018,4,FALSE)","v":" "},null," ","00:00",null,null,null,null,null,null,null,null,null,null,null,null,null,null,null,null,null,null,null,null,null,null,null,null,null,null,null,null,null,null,null,null,null,null,null,null,null,null,null,null,null,null,null,"00:00",547,0,"0000000","00","00","00"]
["SA02440","Aberdeen AAC","1994-03-10","Lisa Humphreys","SA02440","Under 17",".",548,{"$f":"VLOOKUP('entries and results'!G550,$A$3:$E$30018,4,FALSE)","v":" "},{"$f":"VLOOKUP('entries and results'!G550,$A$3:$F$30018,6,FALSE)","v":" "},{"$f":"VLOOKUP('entries and results'!G550,$A$3:$E$30018,2,FALSE)","v":" "},null,548,".",{"$f":"VLOOKUP('entries and results'!N550,$H$3:$K$30018,2,FALSE)","v":" "},{"$f":"VLOOKUP('entries and results'!N550,$H$3:$K$30018,3,FALSE)","v":" "},{"$f":"VLOOKUP('entries and results'!N550,$H$3:$K$30018,4,FALSE)","v":" "},null," ","00:00",null,null,null,null,null,null,null,null,null,null,null,null,null,null,null,null,null,null,null,null,null,null,null,null,null,null,null,null,null,null,null,null,null,null,null,null,null,null,null,null,null,null,null,"00:00",548,0,"0000000","00","00","00"]
["SA02441","Ellon AAC","1995-04-18","Joshua Kenyon","SA02441","Under 17",".",549,{"$f":"VLOOKUP('entries and results'!G551,$A$3:$E$30018,4,FALSE)","v":" "},{"$f":"VLOOKUP('entries and results'!G551,$A$3:$F$30018,6,FALSE)","v":" "},{"$f":"VLOOKUP('entries and results'!G551,$A$3:$E$30018,2,FALSE)","v":" "},null,549,".",{"$f":"VLOOKUP('entries and results'!N551,$H$3:$K$30018,2,FALSE)","v":" "},{"$f":"VLOOKUP('entries and results'!N551,$H$3:$K$30018,3,FALSE)","v":" "},{"$f":"VLOOKUP('entries and results'!N551,$H$3:$K$30018,4,FALSE)","v":" "},null," ","00:00",null,null,null,null,null,null,null,null,null,null,null,null,null,null,null,null,null,null,null,null,null,null,null,null,null,null,null,null,null,null,null,null,null,null,null,null,null,null,null,null,null,null,null,"00:00",549,0,"0000000","00","00","00"]
["SA02446","Ellon AAC","1995-07-20","Sarah Murphy","SA02446","Under 17",".",550,{"$f":"VLOOKUP('entries and results'!G552,$A$3:$E$30018,4,FALSE)","v":" "},{"$f":"VLOOKUP('entries and results'!G552,$A$3:$F$30018,6,FALSE)","v":" "},{"$f":"VLOOKUP('entries and results'!G552,$A$3:$E$30018,2,FALSE)","v":" "},null,550,".",{"$f":"VLOOKUP('entries and results'!N552,$H$3:$K$30018,2,FALSE)","v":" "},{"$f":"VLOOKUP('entries and results'!N552,$H$3:$K$30018,3,FALSE)","v":" "},{"$f":"VLOOKUP('entries and results'!N552,$H$3:$K$30018,4,FALSE)","v":" "},null," ","00:00",null,null,null,null,null,null,null,null,null,null,null,null,null,null,null,null,null,null,null,null,null,null,null,null,null,null,null,null,null,null,null,null,null,null,null,null,null,null,null,null,null,null,null,"00:00",550,0,"0000000","00","00","00"]
["SA02447","Aberdeen AAC","1996-07-12","Liam Rae","SA02447","Under 15",".",551,{"$f":"VLOOKUP('entries and results'!G553,$A$3:$E$30018,4,FALSE)","v":" "},{"$f":"VLOOKUP('entries and results'!G553,$A$3:$F$30018,6,FALSE)","v":" "},{"$f":"VLOOKUP('entries and results'!G553,$A$3:$E$30018,2,FALSE)","v":" "},null,551,".",{"$f":"VLOOKUP('entries and results'!N553,$H$3:$K$30018,2,FALSE)","v":" "},{"$f":"VLOOKUP('entries and results'!N553,$H$3:$K$30018,3,FALSE)","v":" "},{"$f":"VLOOKUP('entries and results'!N553,$H$3:$K$30018,4,FALSE)","v":" "},null," ","00:00",null,null,null,null,null,null,null,null,null,null,null,null,null,null,null,null,null,null,null,null,null,null,null,null,null,null,null,null,null,null,null,null,null,null,null,null,null,null,null,null,null,null,null,"00:00",551,0,"0000000","00","00","00"]
["SA02453","Falkirk Victoria Harriers","1996-09-17","Ciaran Wright","SA02453","Under 15",".",552,{"$f":"VLOOKUP('entries and results'!G554,$A$3:$E$30018,4,FALSE)","v":" "},{"$f":"VLOOKUP('entries and results'!G554,$A$3:$F$30018,6,FALSE)","v":" "},{"$f":"VLOOKUP('entries and results'!G554,$A$3:$E$30018,2,FALSE)","v":" "},null,552,".",{"$f":"VLOOKUP('entries and results'!N554,$H$3:$K$30018,2,FALSE)","v":" "},{"$f":"VLOOKUP('entries and results'!N554,$H$3:$K$30018,3,FALSE)","v":" "},{"$f":"VLOOKUP('entries and results'!N554,$H$3:$K$30018,4,FALSE)","v":" "},null," ","00:00",null,null,null,null,null,null,null,null,null,null,null,null,null,null,null,null,null,null,null,null,null,null,null,null,null,null,null,null,null,null,null,null,null,null,null,null,null,null,null,null,null,null,null,"00:00",552,0,"0000000","00","00","00"]
["SA02464","Falkirk Victoria Harriers","1993-02-07","Amy Hope","SA02464","Senior",".",553,{"$f":"VLOOKUP('entries and results'!G555,$A$3:$E$30018,4,FALSE)","v":" "},{"$f":"VLOOKUP('entries and results'!G555,$A$3:$F$30018,6,FALSE)","v":" "},{"$f":"VLOOKUP('entries and results'!G555,$A$3:$E$30018,2,FALSE)","v":" "},null,553,".",{"$f":"VLOOKUP('entries and results'!N555,$H$3:$K$30018,2,FALSE)","v":" "},{"$f":"VLOOKUP('entries and results'!N555,$H$3:$K$30018,3,FALSE)","v":" "},{"$f":"VLOOKUP('entries and results'!N555,$H$3:$K$30018,4,FALSE)","v":" "},null," ","00:00",null,null,null,null,null,null,null,null,null,null,null,null,null,null,null,null,null,null,null,null,null,null,null,null,null,null,null,null,null,null,null,null,null,null,null,null,null,null,null,null,null,null,null,"00:00",553,0,"0000000","00","00","00"]
["SA02467","Falkirk Victoria Harriers","1994-05-23","Jemma Learmonth","SA02467","Under 17",".",554,{"$f":"VLOOKUP('entries and results'!G556,$A$3:$E$30018,4,FALSE)","v":" "},{"$f":"VLOOKUP('entries and results'!G556,$A$3:$F$30018,6,FALSE)","v":" "},{"$f":"VLOOKUP('entries and results'!G556,$A$3:$E$30018,2,FALSE)","v":" "},null,554,".",{"$f":"VLOOKUP('entries and results'!N556,$H$3:$K$30018,2,FALSE)","v":" "},{"$f":"VLOOKUP('entries and results'!N556,$H$3:$K$30018,3,FALSE)","v":" "},{"$f":"VLOOKUP('entries and results'!N556,$H$3:$K$30018,4,FALSE)","v":" "},null," ","00:00",null,null,null,null,null,null,null,null,null,null,null,null,null,null,null,null,null,null,null,null,null,null,null,null,null,null,null,null,null,null,null,null,null,null,null,null,null,null,null,null,null,null,null,"00:00",554,0,"0000000","00","00","00"]
["SA02471","Falkirk Victoria Harriers","1994-06-12","Jacqueline Plain","SA02471","Under 17",".",555,{"$f":"VLOOKUP('entries and results'!G557,$A$3:$E$30018,4,FALSE)","v":" "},{"$f":"VLOOKUP('entries and results'!G557,$A$3:$F$30018,6,FALSE)","v":" "},{"$f":"VLOOKUP('entries and results'!G557,$A$3:$E$30018,2,FALSE)","v":" "},null,555,".",{"$f":"VLOOKUP('entries and results'!N557,$H$3:$K$30018,2,FALSE)","v":" "},{"$f":"VLOOKUP('entries and results'!N557,$H$3:$K$30018,3,FALSE)","v":" "},{"$f":"VLOOKUP('entries and results'!N557,$H$3:$K$30018,4,FALSE)","v":" "},null," ","00:00",null,null,null,null,null,null,null,null,null,null,null,null,null,null,null,null,null,null,null,null,null,null,null,null,null,null,null,null,null,null,null,null,null,null,null,null,null,null,null,null,null,null,null,"00:00",555,0,"0000000","00","00","00"]
["SA02473","Falkirk Victoria Harriers","1991-05-02","Ryan Scott","SA02473","Senior",".",556,{"$f":"VLOOKUP('entries and results'!G558,$A$3:$E$30018,4,FALSE)","v":" "},{"$f":"VLOOKUP('entries and results'!G558,$A$3:$F$30018,6,FALSE)","v":" "},{"$f":"VLOOKUP('entries and results'!G558,$A$3:$E$30018,2,FALSE)","v":" "},null,556,".",{"$f":"VLOOKUP('entries and results'!N558,$H$3:$K$30018,2,FALSE)","v":" "},{"$f":"VLOOKUP('entries and results'!N558,$H$3:$K$30018,3,FALSE)","v":" "},{"$f":"VLOOKUP('entries and results'!N558,$H$3:$K$30018,4,FALSE)","v":" "},null," ","00:00",null,null,null,null,null,null,null,null,null,null,null,null,null,null,null,null,null,null,null,null,null,null,null,null,null,null,null,null,null,null,null,null,null,null,null,null,null,null,null,null,null,null,null,"00:00",556,0,"0000000","00","00","00"]
["SA02474","Falkirk Victoria Harriers","1993-05-19","Kieran Skelton","SA02474","Senior",".",557,{"$f":"VLOOKUP('entries and results'!G559,$A$3:$E$30018,4,FALSE)","v":" "},{"$f":"VLOOKUP('entries and results'!G559,$A$3:$F$30018,6,FALSE)","v":" "},{"$f":"VLOOKUP('entries and results'!G559,$A$3:$E$30018,2,FALSE)","v":" "},null,557,".",{"$f":"VLOOKUP('entries and results'!N559,$H$3:$K$30018,2,FALSE)","v":" "},{"$f":"VLOOKUP('entries and results'!N559,$H$3:$K$30018,3,FALSE)","v":" "},{"$f":"VLOOKUP('entries and results'!N559,$H$3:$K$30018,4,FALSE)","v":" "},null," ","00:00",null,null,null,null,null,null,null,null,null,null,null,null,null,null,null,null,null,null,null,null,null,null,null,null,null,null,null,null,null,null,null,null,null,null,null,null,null,null,null,null,null,null,null,"00:00",557,0,"0000000","00","00","00"]
["SA02483","Fife AC","1992-06-01","Adam Delargy","SA02483","Senior",".",558,{"$f":"VLOOKUP('entries and results'!G560,$A$3:$E$30018,4,FALSE)","v":" "},{"$f":"VLOOKUP('entries and results'!G560,$A$3:$F$30018,6,FALSE)","v":" "},{"$f":"VLOOKUP('entries and results'!G560,$A$3:$E$30018,2,FALSE)","v":" "},null,558,".",{"$f":"VLOOKUP('entries and results'!N560,$H$3:$K$30018,2,FALSE)","v":" "},{"$f":"VLOOKUP('entries and results'!N560,$H$3:$K$30018,3,FALSE)","v":" "},{"$f":"VLOOKUP('entries and results'!N560,$H$3:$K$30018,4,FALSE)","v":" "},null," ","00:00",null,null,null,null,null,null,null,null,null,null,null,null,null,null,null,null,null,null,null,null,null,null,null,null,null,null,null,null,null,null,null,null,null,null,null,null,null,null,null,null,null,null,null,"00:00",558,0,"0000000","00","00","00"]
["SA02484","Fife AC","1993-10-12","Judith Delargy","SA02484","Under 17",".",559,{"$f":"VLOOKUP('entries and results'!G561,$A$3:$E$30018,4,FALSE)","v":" "},{"$f":"VLOOKUP('entries and results'!G561,$A$3:$F$30018,6,FALSE)","v":" "},{"$f":"VLOOKUP('entries and results'!G561,$A$3:$E$30018,2,FALSE)","v":" "},null,559,".",{"$f":"VLOOKUP('entries and results'!N561,$H$3:$K$30018,2,FALSE)","v":" "},{"$f":"VLOOKUP('entries and results'!N561,$H$3:$K$30018,3,FALSE)","v":" "},{"$f":"VLOOKUP('entries and results'!N561,$H$3:$K$30018,4,FALSE)","v":" "},null," ","00:00",null,null,null,null,null,null,null,null,null,null,null,null,null,null,null,null,null,null,null,null,null,null,null,null,null,null,null,null,null,null,null,null,null,null,null,null,null,null,null,null,null,null,null,"00:00",559,0,"0000000","00","00","00"]
["SA02488","Fife AC","1993-03-16","Kirsty Hamilton","SA02488","Senior",".",560,{"$f":"VLOOKUP('entries and results'!G562,$A$3:$E$30018,4,FALSE)","v":" "},{"$f":"VLOOKUP('entries and results'!G562,$A$3:$F$30018,6,FALSE)","v":" "},{"$f":"VLOOKUP('entries and results'!G562,$A$3:$E$30018,2,FALSE)","v":" "},null,560,".",{"$f":"VLOOKUP('entries and results'!N562,$H$3:$K$30018,2,FALSE)","v":" "},{"$f":"VLOOKUP('entries and results'!N562,$H$3:$K$30018,3,FALSE)","v":" "},{"$f":"VLOOKUP('entries and results'!N562,$H$3:$K$30018,4,FALSE)","v":" "},null," ","00:00",null,null,null,null,null,null,null,null,null,null,null,null,null,null,null,null,null,null,null,null,null,null,null,null,null,null,null,null,null,null,null,null,null,null,null,null,null,null,null,null,null,null,null,"00:00",560,0,"0000000","00","00","00"]
["SA02490","Fife AC","1992-12-11","Liam Hutson","SA02490","Senior",".",561,{"$f":"VLOOKUP('entries and results'!G563,$A$3:$E$30018,4,FALSE)","v":" "},{"$f":"VLOOKUP('entries and results'!G563,$A$3:$F$30018,6,FALSE)","v":" "},{"$f":"VLOOKUP('entries and results'!G563,$A$3:$E$30018,2,FALSE)","v":" "},null,561,".",{"$f":"VLOOKUP('entries and results'!N563,$H$3:$K$30018,2,FALSE)","v":" "},{"$f":"VLOOKUP('entries and results'!N563,$H$3:$K$30018,3,FALSE)","v":" "},{"$f":"VLOOKUP('entries and results'!N563,$H$3:$K$30018,4,FALSE)","v":" "},null," ","00:00",null,null,null,null,null,null,null,null,null,null,null,null,null,null,null,null,null,null,null,null,null,null,null,null,null,null,null,null,null,null,null,null,null,null,null,null,null,null,null,null,null,null,null,"00:00",561,0,"0000000","00","00","00"]
["SA02497","Fife AC","1995-09-01","Stephanie Pennycook","SA02497","Under 15",".",562,{"$f":"VLOOKUP('entries and results'!G564,$A$3:$E$30018,4,FALSE)","v":" "},{"$f":"VLOOKUP('entries and results'!G564,$A$3:$F$30018,6,FALSE)","v":" "},{"$f":"VLOOKUP('entries and results'!G564,$A$3:$E$30018,2,FALSE)","v":" "},null,562,".",{"$f":"VLOOKUP('entries and results'!N564,$H$3:$K$30018,2,FALSE)","v":" "},{"$f":"VLOOKUP('entries and results'!N564,$H$3:$K$30018,3,FALSE)","v":" "},{"$f":"VLOOKUP('entries and results'!N564,$H$3:$K$30018,4,FALSE)","v":" "},null," ","00:00",null,null,null,null,null,null,null,null,null,null,null,null,null,null,null,null,null,null,null,null,null,null,null,null,null,null,null,null,null,null,null,null,null,null,null,null,null,null,null,null,null,null,null,"00:00",562,0,"0000000","00","00","00"]
["SA02498","Fife AC","1996-08-16","Jamie Ritchie","SA02498","Under 15",".",563,{"$f":"VLOOKUP('entries and results'!G565,$A$3:$E$30018,4,FALSE)","v":" "},{"$f":"VLOOKUP('entries and results'!G565,$A$3:$F$30018,6,FALSE)","v":" "},{"$f":"VLOOKUP('entries and results'!G565,$A$3:$E$30018,2,FALSE)","v":" "},null,563,".",{"$f":"VLOOKUP('entries and results'!N565,$H$3:$K$30018,2,FALSE)","v":" "},{"$f":"VLOOKUP('entries and results'!N565,$H$3:$K$30018,3,FALSE)","v":" "},{"$f":"VLOOKUP('entries and results'!N565,$H$3:$K$30018,4,FALSE)","v":" "},null," ","00:00",null,null,null,null,null,null,null,null,null,null,null,null,null,null,null,null,null,null,null,null,null,null,null,null,null,null,null,null,null,null,null,null,null,null,null,null,null,null,null,null,null,null,null,"00:00",".",0,"0000000","00","00","00"]
["SA02499","Fife AC","1997-09-30","Matthew Robb","SA02499","Under 13",".",564,{"$f":"VLOOKUP('entries and results'!G566,$A$3:$E$30018,4,FALSE)","v":" "},{"$f":"VLOOKUP('entries and results'!G566,$A$3:$F$30018,6,FALSE)","v":" "},{"$f":"VLOOKUP('entries and results'!G566,$A$3:$E$30018,2,FALSE)","v":" "},null,564,".",{"$f":"VLOOKUP('entries and results'!N566,$H$3:$K$30018,2,FALSE)","v":" "},{"$f":"VLOOKUP('entries and results'!N566,$H$3:$K$30018,3,FALSE)","v":" "},{"$f":"VLOOKUP('entries and results'!N566,$H$3:$K$30018,4,FALSE)","v":" "},null," ","00:00",null,null,null,null,null,null,null,null,null,null,null,null,null,null,null,null,null,null,null,null,null,null,null,null,null,null,null,null,null,null,null,null,null,null,null,null,null,null,null,null,null,null,null,"00:00",564,0,"0000000","00","00","00"]
["SA02502","Garioch Road Runners","1989-06-12","Duncan Leel","SA02502","Senior",".",565,{"$f":"VLOOKUP('entries and results'!G567,$A$3:$E$30018,4,FALSE)","v":" "},{"$f":"VLOOKUP('entries and results'!G567,$A$3:$F$30018,6,FALSE)","v":" "},{"$f":"VLOOKUP('entries and results'!G567,$A$3:$E$30018,2,FALSE)","v":" "},null,565,".",{"$f":"VLOOKUP('entries and results'!N567,$H$3:$K$30018,2,FALSE)","v":" "},{"$f":"VLOOKUP('entries and results'!N567,$H$3:$K$30018,3,FALSE)","v":" "},{"$f":"VLOOKUP('entries and results'!N567,$H$3:$K$30018,4,FALSE)","v":" "},null," ","00:00",null,null,null,null,null,null,null,null,null,null,null,null,null,null,null,null,null,null,null,null,null,null,null,null,null,null,null,null,null,null,null,null,null,null,null,null,null,null,null,null,null,null,null,"00:00",565,0,"0000000","00","00","00"]
["SA02506","Garscube Harriers","1994-12-16","James Ross","SA02506","Under 17",".",566,{"$f":"VLOOKUP('entries and results'!G568,$A$3:$E$30018,4,FALSE)","v":" "},{"$f":"VLOOKUP('entries and results'!G568,$A$3:$F$30018,6,FALSE)","v":" "},{"$f":"VLOOKUP('entries and results'!G568,$A$3:$E$30018,2,FALSE)","v":" "},null,566,".",{"$f":"VLOOKUP('entries and results'!N568,$H$3:$K$30018,2,FALSE)","v":" "},{"$f":"VLOOKUP('entries and results'!N568,$H$3:$K$30018,3,FALSE)","v":" "},{"$f":"VLOOKUP('entries and results'!N568,$H$3:$K$30018,4,FALSE)","v":" "},null," ","00:00",null,null,null,null,null,null,null,null,null,null,null,null,null,null,null,null,null,null,null,null,null,null,null,null,null,null,null,null,null,null,null,null,null,null,null,null,null,null,null,null,null,null,null,"00:00",566,0,"0000000","00","00","00"]
["SA02507","George Heriots School","1993-05-06","William Johnstone","SA02507","Senior",".",567,{"$f":"VLOOKUP('entries and results'!G569,$A$3:$E$30018,4,FALSE)","v":" "},{"$f":"VLOOKUP('entries and results'!G569,$A$3:$F$30018,6,FALSE)","v":" "},{"$f":"VLOOKUP('entries and results'!G569,$A$3:$E$30018,2,FALSE)","v":" "},null,567,".",{"$f":"VLOOKUP('entries and results'!N569,$H$3:$K$30018,2,FALSE)","v":" "},{"$f":"VLOOKUP('entries and results'!N569,$H$3:$K$30018,3,FALSE)","v":" "},{"$f":"VLOOKUP('entries and results'!N569,$H$3:$K$30018,4,FALSE)","v":" "},null," ","00:00",null,null,null,null,null,null,null,null,null,null,null,null,null,null,null,null,null,null,null,null,null,null,null,null,null,null,null,null,null,null,null,null,null,null,null,null,null,null,null,null,null,null,null,"00:00",567,0,"0000000","00","00","00"]
["SA02513","Giffnock North AAC","1995-10-25","Douglas Britton","SA02513","Under 15",".",568,{"$f":"VLOOKUP('entries and results'!G570,$A$3:$E$30018,4,FALSE)","v":" "},{"$f":"VLOOKUP('entries and results'!G570,$A$3:$F$30018,6,FALSE)","v":" "},{"$f":"VLOOKUP('entries and results'!G570,$A$3:$E$30018,2,FALSE)","v":" "},null,568,".",{"$f":"VLOOKUP('entries and results'!N570,$H$3:$K$30018,2,FALSE)","v":" "},{"$f":"VLOOKUP('entries and results'!N570,$H$3:$K$30018,3,FALSE)","v":" "},{"$f":"VLOOKUP('entries and results'!N570,$H$3:$K$30018,4,FALSE)","v":" "},null," ","00:00",null,null,null,null,null,null,null,null,null,null,null,null,null,null,null,null,null,null,null,null,null,null,null,null,null,null,null,null,null,null,null,null,null,null,null,null,null,null,null,null,null,null,null,"00:00",568,0,"0000000","00","00","00"]
["SA02518","Giffnock North AAC","1995-10-16","Calum Firth","SA02518","Under 15",".",569,{"$f":"VLOOKUP('entries and results'!G571,$A$3:$E$30018,4,FALSE)","v":" "},{"$f":"VLOOKUP('entries and results'!G571,$A$3:$F$30018,6,FALSE)","v":" "},{"$f":"VLOOKUP('entries and results'!G571,$A$3:$E$30018,2,FALSE)","v":" "},null,569,".",{"$f":"VLOOKUP('entries and results'!N571,$H$3:$K$30018,2,FALSE)","v":" "},{"$f":"VLOOKUP('entries and results'!N571,$H$3:$K$30018,3,FALSE)","v":" "},{"$f":"VLOOKUP('entries and results'!N571,$H$3:$K$30018,4,FALSE)","v":" "},null," ","00:00",null,null,null,null,null,null,null,null,null,null,null,null,null,null,null,null,null,null,null,null,null,null,null,null,null,null,null,null,null,null,null,null,null,null,null,null,null,null,null,null,null,null,null,"00:00",569,0,"0000000","00","00","00"]
["SA02520","Giffnock North AAC","1993-01-26","Martin Fishwick","SA02520","Senior",".",570,{"$f":"VLOOKUP('entries and results'!G572,$A$3:$E$30018,4,FALSE)","v":" "},{"$f":"VLOOKUP('entries and results'!G572,$A$3:$F$30018,6,FALSE)","v":" "},{"$f":"VLOOKUP('entries and results'!G572,$A$3:$E$30018,2,FALSE)","v":" "},null,570,".",{"$f":"VLOOKUP('entries and results'!N572,$H$3:$K$30018,2,FALSE)","v":" "},{"$f":"VLOOKUP('entries and results'!N572,$H$3:$K$30018,3,FALSE)","v":" "},{"$f":"VLOOKUP('entries and results'!N572,$H$3:$K$30018,4,FALSE)","v":" "},null," ","00:00",null,null,null,null,null,null,null,null,null,null,null,null,null,null,null,null,null,null,null,null,null,null,null,null,null,null,null,null,null,null,null,null,null,null,null,null,null,null,null,null,null,null,null,"00:00",570,0,"0000000","00","00","00"]
["SA02531","Giffnock North AAC","1995-12-16","Selena Jackson","SA02531","Under 15",".",571,{"$f":"VLOOKUP('entries and results'!G573,$A$3:$E$30018,4,FALSE)","v":" "},{"$f":"VLOOKUP('entries and results'!G573,$A$3:$F$30018,6,FALSE)","v":" "},{"$f":"VLOOKUP('entries and results'!G573,$A$3:$E$30018,2,FALSE)","v":" "},null,571,".",{"$f":"VLOOKUP('entries and results'!N573,$H$3:$K$30018,2,FALSE)","v":" "},{"$f":"VLOOKUP('entries and results'!N573,$H$3:$K$30018,3,FALSE)","v":" "},{"$f":"VLOOKUP('entries and results'!N573,$H$3:$K$30018,4,FALSE)","v":" "},null," ","00:00",null,null,null,null,null,null,null,null,null,null,null,null,null,null,null,null,null,null,null,null,null,null,null,null,null,null,null,null,null,null,null,null,null,null,null,null,null,null,null,null,null,null,null,"00:00",571,0,"0000000","00","00","00"]
["SA02533","Giffnock North AAC","1995-08-25","Jamie Lewis","SA02533","Under 17",".",572,{"$f":"VLOOKUP('entries and results'!G574,$A$3:$E$30018,4,FALSE)","v":" "},{"$f":"VLOOKUP('entries and results'!G574,$A$3:$F$30018,6,FALSE)","v":" "},{"$f":"VLOOKUP('entries and results'!G574,$A$3:$E$30018,2,FALSE)","v":" "},null,572,".",{"$f":"VLOOKUP('entries and results'!N574,$H$3:$K$30018,2,FALSE)","v":" "},{"$f":"VLOOKUP('entries and results'!N574,$H$3:$K$30018,3,FALSE)","v":" "},{"$f":"VLOOKUP('entries and results'!N574,$H$3:$K$30018,4,FALSE)","v":" "},null," ","00:00",null,null,null,null,null,null,null,null,null,null,null,null,null,null,null,null,null,null,null,null,null,null,null,null,null,null,null,null,null,null,null,null,null,null,null,null,null,null,null,null,null,null,null,"00:00",572,0,"0000000","00","00","00"]
["SA02535","Giffnock North AAC","1995-07-07","Petrena Marshall","SA02535","Under 17",".",573,{"$f":"VLOOKUP('entries and results'!G575,$A$3:$E$30018,4,FALSE)","v":" "},{"$f":"VLOOKUP('entries and results'!G575,$A$3:$F$30018,6,FALSE)","v":" "},{"$f":"VLOOKUP('entries and results'!G575,$A$3:$E$30018,2,FALSE)","v":" "},null,573,".",{"$f":"VLOOKUP('entries and results'!N575,$H$3:$K$30018,2,FALSE)","v":" "},{"$f":"VLOOKUP('entries and results'!N575,$H$3:$K$30018,3,FALSE)","v":" "},{"$f":"VLOOKUP('entries and results'!N575,$H$3:$K$30018,4,FALSE)","v":" "},null," ","00:00",null,null,null,null,null,null,null,null,null,null,null,null,null,null,null,null,null,null,null,null,null,null,null,null,null,null,null,null,null,null,null,null,null,null,null,null,null,null,null,null,null,null,null,"00:00",573,0,"0000000","00","00","00"]
["SA02537","Giffnock North AAC","1993-10-04","Grant Muir","SA02537","Under 17",".",574,{"$f":"VLOOKUP('entries and results'!G576,$A$3:$E$30018,4,FALSE)","v":" "},{"$f":"VLOOKUP('entries and results'!G576,$A$3:$F$30018,6,FALSE)","v":" "},{"$f":"VLOOKUP('entries and results'!G576,$A$3:$E$30018,2,FALSE)","v":" "},null,574,".",{"$f":"VLOOKUP('entries and results'!N576,$H$3:$K$30018,2,FALSE)","v":" "},{"$f":"VLOOKUP('entries and results'!N576,$H$3:$K$30018,3,FALSE)","v":" "},{"$f":"VLOOKUP('entries and results'!N576,$H$3:$K$30018,4,FALSE)","v":" "},null," ","00:00",null,null,null,null,null,null,null,null,null,null,null,null,null,null,null,null,null,null,null,null,null,null,null,null,null,null,null,null,null,null,null,null,null,null,null,null,null,null,null,null,null,null,null,"00:00",574,0,"0000000","00","00","00"]
["SA02538","Giffnock North AAC","1994-05-13","Lucy Patrick","SA02538","Under 17",".",575,{"$f":"VLOOKUP('entries and results'!G577,$A$3:$E$30018,4,FALSE)","v":" "},{"$f":"VLOOKUP('entries and results'!G577,$A$3:$F$30018,6,FALSE)","v":" "},{"$f":"VLOOKUP('entries and results'!G577,$A$3:$E$30018,2,FALSE)","v":" "},null,575,".",{"$f":"VLOOKUP('entries and results'!N577,$H$3:$K$30018,2,FALSE)","v":" "},{"$f":"VLOOKUP('entries and results'!N577,$H$3:$K$30018,3,FALSE)","v":" "},{"$f":"VLOOKUP('entries and results'!N577,$H$3:$K$30018,4,FALSE)","v":" "},null," ","00:00",null,null,null,null,null,null,null,null,null,null,null,null,null,null,null,null,null,null,null,null,null,null,null,null,null,null,null,null,null,null,null,null,null,null,null,null,null,null,null,null,null,null,null,"00:00",575,0,"0000000","00","00","00"]
["SA02539","Giffnock North AAC","1994-05-13","Rebecca Patrick","SA02539","Under 17",".",576,{"$f":"VLOOKUP('entries and results'!G578,$A$3:$E$30018,4,FALSE)","v":" "},{"$f":"VLOOKUP('entries and results'!G578,$A$3:$F$30018,6,FALSE)","v":" "},{"$f":"VLOOKUP('entries and results'!G578,$A$3:$E$30018,2,FALSE)","v":" "},null,576,".",{"$f":"VLOOKUP('entries and results'!N578,$H$3:$K$30018,2,FALSE)","v":" "},{"$f":"VLOOKUP('entries and results'!N578,$H$3:$K$30018,3,FALSE)","v":" "},{"$f":"VLOOKUP('entries and results'!N578,$H$3:$K$30018,4,FALSE)","v":" "},null," ","00:00",null,null,null,null,null,null,null,null,null,null,null,null,null,null,null,null,null,null,null,null,null,null,null,null,null,null,null,null,null,null,null,null,null,null,null,null,null,null,null,null,null,null,null,"00:00",576,0,"0000000","00","00","00"]
["SA02540","Giffnock North AAC","1994-02-12","Andrew Spowart","SA02540","Under 17",".",577,{"$f":"VLOOKUP('entries and results'!G579,$A$3:$E$30018,4,FALSE)","v":" "},{"$f":"VLOOKUP('entries and results'!G579,$A$3:$F$30018,6,FALSE)","v":" "},{"$f":"VLOOKUP('entries and results'!G579,$A$3:$E$30018,2,FALSE)","v":" "},null,577,".",{"$f":"VLOOKUP('entries and results'!N579,$H$3:$K$30018,2,FALSE)","v":" "},{"$f":"VLOOKUP('entries and results'!N579,$H$3:$K$30018,3,FALSE)","v":" "},{"$f":"VLOOKUP('entries and results'!N579,$H$3:$K$30018,4,FALSE)","v":" "},null," ","00:00",null,null,null,null,null,null,null,null,null,null,null,null,null,null,null,null,null,null,null,null,null,null,null,null,null,null,null,null,null,null,null,null,null,null,null,null,null,null,null,null,null,null,null,"00:00",577,{"$f":"SUMIF($H$3:$H$601,$BM579,$S$3:$S$601)","v":0},"0000000","00","00","00"]
["SA02547","Giffnock North AAC","1994-03-24","Fraser Walker","SA02547","Under 17",".",578,{"$f":"VLOOKUP('entries and results'!G580,$A$3:$E$30018,4,FALSE)","v":" "},{"$f":"VLOOKUP('entries and results'!G580,$A$3:$F$30018,6,FALSE)","v":" "},{"$f":"VLOOKUP('entries and results'!G580,$A$3:$E$30018,2,FALSE)","v":" "},null,578,".",{"$f":"VLOOKUP('entries and results'!N580,$H$3:$K$30018,2,FALSE)","v":" "},{"$f":"VLOOKUP('entries and results'!N580,$H$3:$K$30018,3,FALSE)","v":" "},{"$f":"VLOOKUP('entries and results'!N580,$H$3:$K$30018,4,FALSE)","v":" "},null," ",{"$f":"IF($H580=\"\",\" \",(LOOKUP($H580,$BM$3:$BM$1601,$BL$3:$BL$1601)))","v":"00:00"},null,null,null,null,null,null,null,null,null,null,null,null,null,null,null,null,null,null,null,null,null,null,null,null,null,null,null,null,null,null,null,null,null,null,null,null,null,null,null,null,null,null,null,"00:00",578,0,"0000000","00","00","00"]
["SA02554","Greenock Glenpark Harriers","1997-11-16","Gregor Black","SA02554","Under 13",".",579,{"$f":"VLOOKUP('entries and results'!G581,$A$3:$E$30018,4,FALSE)","v":" "},{"$f":"VLOOKUP('entries and results'!G581,$A$3:$F$30018,6,FALSE)","v":" "},{"$f":"VLOOKUP('entries and results'!G581,$A$3:$E$30018,2,FALSE)","v":" "},null,579,".",{"$f":"VLOOKUP('entries and results'!N581,$H$3:$K$30018,2,FALSE)","v":" "},{"$f":"VLOOKUP('entries and results'!N581,$H$3:$K$30018,3,FALSE)","v":" "},{"$f":"VLOOKUP('entries and results'!N581,$H$3:$K$30018,4,FALSE)","v":" "},null," ","00:00",null,null,null,null,null,null,null,null,null,null,null,null,null,null,null,null,null,null,null,null,null,null,null,null,null,null,null,null,null,null,null,null,null,null,null,null,null,null,null,null,null,null,null,"00:00",579,0,"0000000","00","00","00"]
["SA02558","Greenock Glenpark Harriers","1996-09-04","Jack Harrington","SA02558","Under 15",".",580,{"$f":"VLOOKUP('entries and results'!G582,$A$3:$E$30018,4,FALSE)","v":" "},{"$f":"VLOOKUP('entries and results'!G582,$A$3:$F$30018,6,FALSE)","v":" "},{"$f":"VLOOKUP('entries and results'!G582,$A$3:$E$30018,2,FALSE)","v":" "},null,580,".",{"$f":"VLOOKUP('entries and results'!N582,$H$3:$K$30018,2,FALSE)","v":" "},{"$f":"VLOOKUP('entries and results'!N582,$H$3:$K$30018,3,FALSE)","v":" "},{"$f":"VLOOKUP('entries and results'!N582,$H$3:$K$30018,4,FALSE)","v":" "},null," ","00:00",null,null,null,null,null,null,null,null,null,null,null,null,null,null,null,null,null,null,null,null,null,null,null,null,null,null,null,null,null,null,null,null,null,null,null,null,null,null,null,null,null,null,null,{"$f":"CONCATENATE(BQ582,\":\",BR582)","v":"00:00"},580,0,{"$f":"CONCATENATE($BI$2,$BN582)","v":"0000000"},{"$f":"MID(RIGHT($BO582,6),1,2)","v":"00"},{"$f":"MID(RIGHT($BO582,6),3,2)","v":"00"},{"$f":"MID(RIGHT($BO582,6),5,2)","v":"00"}]
["SA02560","Greenock Glenpark Harriers","1994-04-04","Adam McCormick","SA02560","Under 17",".",581,{"$f":"VLOOKUP('entries and results'!G583,$A$3:$E$30018,4,FALSE)","v":" "},{"$f":"VLOOKUP('entries and results'!G583,$A$3:$F$30018,6,FALSE)","v":" "},{"$f":"VLOOKUP('entries and results'!G583,$A$3:$E$30018,2,FALSE)","v":" "},null,581,".",{"$f":"VLOOKUP('entries and results'!N583,$H$3:$K$30018,2,FALSE)","v":" "},{"$f":"VLOOKUP('entries and results'!N583,$H$3:$K$30018,3,FALSE)","v":" "},{"$f":"VLOOKUP('entries and results'!N583,$H$3:$K$30018,4,FALSE)","v":" "},null," ","00:00",null,null,null,null,null,null,null,null,null,null,null,null,null,null,null,null,null,null,null,null,null,null,null,null,null,null,null,null,null,null,null,null,null,null,null,null,null,null,null,null,null,null,null,"00:00",581,0,"0000000","00","00","00"]
["SA02565","Greenock Glenpark Harriers","1995-10-07","Gerard Smith","SA02565","Under 15",".",582,{"$f":"VLOOKUP('entries and results'!G584,$A$3:$E$30018,4,FALSE)","v":" "},{"$f":"VLOOKUP('entries and results'!G584,$A$3:$F$30018,6,FALSE)","v":" "},{"$f":"VLOOKUP('entries and results'!G584,$A$3:$E$30018,2,FALSE)","v":" "},null,582,".",{"$f":"VLOOKUP('entries and results'!N584,$H$3:$K$30018,2,FALSE)","v":" "},{"$f":"VLOOKUP('entries and results'!N584,$H$3:$K$30018,3,FALSE)","v":" "},{"$f":"VLOOKUP('entries and results'!N584,$H$3:$K$30018,4,FALSE)","v":" "},null," ","00:00",null,null,null,null,null,null,null,null,null,null,null,null,null,null,null,null,null,null,null,null,null,null,null,null,null,null,null,null,null,null,null,null,null,null,null,null,null,null,null,null,null,null,null,"00:00",582,0,"0000000","00","00","00"]
["SA02578","Inverclyde AC","1992-01-07","Andrew Campbell","SA02578","Senior",".",583,{"$f":"VLOOKUP('entries and results'!G585,$A$3:$E$30018,4,FALSE)","v":" "},{"$f":"VLOOKUP('entries and results'!G585,$A$3:$F$30018,6,FALSE)","v":" "},{"$f":"VLOOKUP('entries and results'!G585,$A$3:$E$30018,2,FALSE)","v":" "},null,583,".",{"$f":"VLOOKUP('entries and results'!N585,$H$3:$K$30018,2,FALSE)","v":" "},{"$f":"VLOOKUP('entries and results'!N585,$H$3:$K$30018,3,FALSE)","v":" "},{"$f":"VLOOKUP('entries and results'!N585,$H$3:$K$30018,4,FALSE)","v":" "},null," ","00:00",null,null,null,null,null,null,null,null,null,null,null,null,null,null,null,null,null,null,null,null,null,null,null,null,null,null,null,null,null,null,null,null,null,null,null,null,null,null,null,null,null,null,null,"00:00",583,0,"0000000","00","00","00"]
["SA02581","Kilbarchan AAC","1994-09-27","Sarah Glenny","SA02581","Under 17",".",584,{"$f":"VLOOKUP('entries and results'!G586,$A$3:$E$30018,4,FALSE)","v":" "},{"$f":"VLOOKUP('entries and results'!G586,$A$3:$F$30018,6,FALSE)","v":" "},{"$f":"VLOOKUP('entries and results'!G586,$A$3:$E$30018,2,FALSE)","v":" "},null,584,".",{"$f":"VLOOKUP('entries and results'!N586,$H$3:$K$30018,2,FALSE)","v":" "},{"$f":"VLOOKUP('entries and results'!N586,$H$3:$K$30018,3,FALSE)","v":" "},{"$f":"VLOOKUP('entries and results'!N586,$H$3:$K$30018,4,FALSE)","v":" "},null," ","00:00",null,null,null,null,null,null,null,null,null,null,null,null,null,null,null,null,null,null,null,null,null,null,null,null,null,null,null,null,null,null,null,null,null,null,null,null,null,null,null,null,null,null,null,"00:00",584,0,"0000000","00","00","00"]
["SA02587","Inverclyde AC","1994-04-02","Emma Meechan","SA02587","Under 17",".",585,{"$f":"VLOOKUP('entries and results'!G587,$A$3:$E$30018,4,FALSE)","v":" "},{"$f":"VLOOKUP('entries and results'!G587,$A$3:$F$30018,6,FALSE)","v":" "},{"$f":"VLOOKUP('entries and results'!G587,$A$3:$E$30018,2,FALSE)","v":" "},null,585,".",{"$f":"VLOOKUP('entries and results'!N587,$H$3:$K$30018,2,FALSE)","v":" "},{"$f":"VLOOKUP('entries and results'!N587,$H$3:$K$30018,3,FALSE)","v":" "},{"$f":"VLOOKUP('entries and results'!N587,$H$3:$K$30018,4,FALSE)","v":" "},null," ","00:00",null,null,null,null,null,null,null,null,null,null,null,null,null,null,null,null,null,null,null,null,null,null,null,null,null,null,null,null,null,null,null,null,null,null,null,null,null,null,null,null,null,null,null,"00:00",585,0,"0000000","00","00","00"]
["SA02590","Inverclyde AC","1992-08-19","Deborah Moore","SA02590","Senior",".",586,{"$f":"VLOOKUP('entries and results'!G588,$A$3:$E$30018,4,FALSE)","v":" "},{"$f":"VLOOKUP('entries and results'!G588,$A$3:$F$30018,6,FALSE)","v":" "},{"$f":"VLOOKUP('entries and results'!G588,$A$3:$E$30018,2,FALSE)","v":" "},null,586,".",{"$f":"VLOOKUP('entries and results'!N588,$H$3:$K$30018,2,FALSE)","v":" "},{"$f":"VLOOKUP('entries and results'!N588,$H$3:$K$30018,3,FALSE)","v":" "},{"$f":"VLOOKUP('entries and results'!N588,$H$3:$K$30018,4,FALSE)","v":" "},null," ","00:00",null,null,null,null,null,null,null,null,null,null,null,null,null,null,null,null,null,null,null,null,null,null,null,null,null,null,null,null,null,null,null,null,null,null,null,null,null,null,null,null,null,null,null,"00:00",586,0,"0000000","00","00","00"]
["SA02591","Inverclyde AC","1995-03-05","Michael Mulholland","SA02591","Under 17",".",587,{"$f":"VLOOKUP('entries and results'!G589,$A$3:$E$30018,4,FALSE)","v":" "},{"$f":"VLOOKUP('entries and results'!G589,$A$3:$F$30018,6,FALSE)","v":" "},{"$f":"VLOOKUP('entries and results'!G589,$A$3:$E$30018,2,FALSE)","v":" "},null,587,".",{"$f":"VLOOKUP('entries and results'!N589,$H$3:$K$30018,2,FALSE)","v":" "},{"$f":"VLOOKUP('entries and results'!N589,$H$3:$K$30018,3,FALSE)","v":" "},{"$f":"VLOOKUP('entries and results'!N589,$H$3:$K$30018,4,FALSE)","v":" "},null," ","00:00",null,null,null,null,null,null,null,null,null,null,null,null,null,null,null,null,null,null,null,null,null,null,null,null,null,null,null,null,null,null,null,null,null,null,null,null,null,null,null,null,null,null,null,"00:00",587,0,"0000000","00","00","00"]
["SA02592","Inverclyde AC","1994-10-07","Natalie O'Neill","SA02592","Under 17",".",588,{"$f":"VLOOKUP('entries and results'!G590,$A$3:$E$30018,4,FALSE)","v":" "},{"$f":"VLOOKUP('entries and results'!G590,$A$3:$F$30018,6,FALSE)","v":" "},{"$f":"VLOOKUP('entries and results'!G590,$A$3:$E$30018,2,FALSE)","v":" "},null,588,".",{"$f":"VLOOKUP('entries and results'!N590,$H$3:$K$30018,2,FALSE)","v":" "},{"$f":"VLOOKUP('entries and results'!N590,$H$3:$K$30018,3,FALSE)","v":" "},{"$f":"VLOOKUP('entries and results'!N590,$H$3:$K$30018,4,FALSE)","v":" "},null," ","00:00",null,null,null,null,null,null,null,null,null,null,null,null,null,null,null,null,null,null,null,null,null,null,null,null,null,null,null,null,null,null,null,null,null,null,null,null,null,null,null,null,null,null,null,"00:00",588,0,"0000000","00","00","00"]
["SA02593","Inverclyde AC","1992-03-06","Emma Rice","SA02593","Senior",".",589,{"$f":"VLOOKUP('entries and results'!G591,$A$3:$E$30018,4,FALSE)","v":" "},{"$f":"VLOOKUP('entries and results'!G591,$A$3:$F$30018,6,FALSE)","v":" "},{"$f":"VLOOKUP('entries and results'!G591,$A$3:$E$30018,2,FALSE)","v":" "},null,589,".",{"$f":"VLOOKUP('entries and results'!N591,$H$3:$K$30018,2,FALSE)","v":" "},{"$f":"VLOOKUP('entries and results'!N591,$H$3:$K$30018,3,FALSE)","v":" "},{"$f":"VLOOKUP('entries and results'!N591,$H$3:$K$30018,4,FALSE)","v":" "},null," ","00:00",null,null,null,null,null,null,null,null,null,null,null,null,null,null,null,null,null,null,null,null,null,null,null,null,null,null,null,null,null,null,null,null,null,null,null,null,null,null,null,null,null,null,null,"00:00",589,0,"0000000","00","00","00"]
["SA02599","Inverness Harriers AAC","1994-04-30","Craig Cameron","SA02599","Under 17",".",590,{"$f":"VLOOKUP('entries and results'!G592,$A$3:$E$30018,4,FALSE)","v":" "},{"$f":"VLOOKUP('entries and results'!G592,$A$3:$F$30018,6,FALSE)","v":" "},{"$f":"VLOOKUP('entries and results'!G592,$A$3:$E$30018,2,FALSE)","v":" "},null,590,".",{"$f":"VLOOKUP('entries and results'!N592,$H$3:$K$30018,2,FALSE)","v":" "},{"$f":"VLOOKUP('entries and results'!N592,$H$3:$K$30018,3,FALSE)","v":" "},{"$f":"VLOOKUP('entries and results'!N592,$H$3:$K$30018,4,FALSE)","v":" "},null," ","00:00",null,null,null,null,null,null,null,null,null,null,null,null,null,null,null,null,null,null,null,null,null,null,null,null,null,null,null,null,null,null,null,null,null,null,null,null,null,null,null,null,null,null,null,"00:00",590,0,"0000000","00","00","00"]
["SA02600","Inverness Harriers AAC","1994-12-15","Craig Campbell","SA02600","Under 17",".",591,{"$f":"VLOOKUP('entries and results'!G593,$A$3:$E$30018,4,FALSE)","v":" "},{"$f":"VLOOKUP('entries and results'!G593,$A$3:$F$30018,6,FALSE)","v":" "},{"$f":"VLOOKUP('entries and results'!G593,$A$3:$E$30018,2,FALSE)","v":" "},null,591,".",{"$f":"VLOOKUP('entries and results'!N593,$H$3:$K$30018,2,FALSE)","v":" "},{"$f":"VLOOKUP('entries and results'!N593,$H$3:$K$30018,3,FALSE)","v":" "},{"$f":"VLOOKUP('entries and results'!N593,$H$3:$K$30018,4,FALSE)","v":" "},null," ","00:00",null,null,null,null,null,null,null,null,null,null,null,null,null,null,null,null,null,null,null,null,null,null,null,null,null,null,null,null,null,null,null,null,null,null,null,null,null,null,null,null,null,null,null,"00:00",591,0,"0000000","00","00","00"]
["SA02602","Inverness Harriers AAC","1994-08-25","Charis Mair","SA02602","Under 17",".",592,{"$f":"VLOOKUP('entries and results'!G594,$A$3:$E$30018,4,FALSE)","v":" "},{"$f":"VLOOKUP('entries and results'!G594,$A$3:$F$30018,6,FALSE)","v":" "},{"$f":"VLOOKUP('entries and results'!G594,$A$3:$E$30018,2,FALSE)","v":" "},null,592,".",{"$f":"VLOOKUP('entries and results'!N594,$H$3:$K$30018,2,FALSE)","v":" "},{"$f":"VLOOKUP('entries and results'!N594,$H$3:$K$30018,3,FALSE)","v":" "},{"$f":"VLOOKUP('entries and results'!N594,$H$3:$K$30018,4,FALSE)","v":" "},null," ","00:00",null,null,null,null,null,null,null,null,null,null,null,null,null,null,null,null,null,null,null,null,null,null,null,null,null,null,null,null,null,null,null,null,null,null,null,null,null,null,null,null,null,null,null,"00:00",592,0,"0000000","00","00","00"]
["SA02610","Edinburgh AC","1993-04-16","Lilian Gowans","SA02610","Senior",".",593,{"$f":"VLOOKUP('entries and results'!G595,$A$3:$E$30018,4,FALSE)","v":" "},{"$f":"VLOOKUP('entries and results'!G595,$A$3:$F$30018,6,FALSE)","v":" "},{"$f":"VLOOKUP('entries and results'!G595,$A$3:$E$30018,2,FALSE)","v":" "},null,593,".",{"$f":"VLOOKUP('entries and results'!N595,$H$3:$K$30018,2,FALSE)","v":" "},{"$f":"VLOOKUP('entries and results'!N595,$H$3:$K$30018,3,FALSE)","v":" "},{"$f":"VLOOKUP('entries and results'!N595,$H$3:$K$30018,4,FALSE)","v":" "},null," ","00:00",null,null,null,null,null,null,null,null,null,null,null,null,null,null,null,null,null,null,null,null,null,null,null,null,null,null,null,null,null,null,null,null,null,null,null,null,null,null,null,null,null,null,null,"00:00",593,0,"0000000","00","00","00"]
["SA02614","Inverness Harriers AAC","1991-04-21","Alan Hunter","SA02614","Senior",".",594,{"$f":"VLOOKUP('entries and results'!G596,$A$3:$E$30018,4,FALSE)","v":" "},{"$f":"VLOOKUP('entries and results'!G596,$A$3:$F$30018,6,FALSE)","v":" "},{"$f":"VLOOKUP('entries and results'!G596,$A$3:$E$30018,2,FALSE)","v":" "},null,594,".",{"$f":"VLOOKUP('entries and results'!N596,$H$3:$K$30018,2,FALSE)","v":" "},{"$f":"VLOOKUP('entries and results'!N596,$H$3:$K$30018,3,FALSE)","v":" "},{"$f":"VLOOKUP('entries and results'!N596,$H$3:$K$30018,4,FALSE)","v":" "},null," ","00:00",null,null,null,null,null,null,null,null,null,null,null,null,null,null,null,null,null,null,null,null,null,null,null,null,null,null,null,null,null,null,null,null,null,null,null,null,null,null,null,null,null,null,null,"00:00",594,0,"0000000","00","00","00"]
["SA02637","Inverness Harriers AAC","1995-08-02","Patrick Urquhart","SA02637","Under 17",".",595,{"$f":"VLOOKUP('entries and results'!G597,$A$3:$E$30018,4,FALSE)","v":" "},{"$f":"VLOOKUP('entries and results'!G597,$A$3:$F$30018,6,FALSE)","v":" "},{"$f":"VLOOKUP('entries and results'!G597,$A$3:$E$30018,2,FALSE)","v":" "},null,595,".",{"$f":"VLOOKUP('entries and results'!N597,$H$3:$K$30018,2,FALSE)","v":" "},{"$f":"VLOOKUP('entries and results'!N597,$H$3:$K$30018,3,FALSE)","v":" "},{"$f":"VLOOKUP('entries and results'!N597,$H$3:$K$30018,4,FALSE)","v":" "},null," ","00:00",null,null,null,null,null,null,null,null,null,null,null,null,null,null,null,null,null,null,null,null,null,null,null,null,null,null,null,null,null,null,null,null,null,null,null,null,null,null,null,null,null,null,null,"00:00",595,0,"0000000","00","00","00"]
["SA02647","North Ayrshire AC","1996-02-16","Caitlin Lee","SA02647","Under 15",".",596,{"$f":"VLOOKUP('entries and results'!G598,$A$3:$E$30018,4,FALSE)","v":" "},{"$f":"VLOOKUP('entries and results'!G598,$A$3:$F$30018,6,FALSE)","v":" "},{"$f":"VLOOKUP('entries and results'!G598,$A$3:$E$30018,2,FALSE)","v":" "},null,596,".",{"$f":"VLOOKUP('entries and results'!N598,$H$3:$K$30018,2,FALSE)","v":" "},{"$f":"VLOOKUP('entries and results'!N598,$H$3:$K$30018,3,FALSE)","v":" "},{"$f":"VLOOKUP('entries and results'!N598,$H$3:$K$30018,4,FALSE)","v":" "},null," ","00:00",null,null,null,null,null,null,null,null,null,null,null,null,null,null,null,null,null,null,null,null,null,null,null,null,null,null,null,null,null,null,null,null,null,null,null,null,null,null,null,null,null,null,null,"00:00",596,0,"0000000","00","00","00"]
["SA02651","Irvine AC","1995-11-14","Suzanne McManus","SA02651","Under 15",".",597,{"$f":"VLOOKUP('entries and results'!G599,$A$3:$E$30018,4,FALSE)","v":" "},{"$f":"VLOOKUP('entries and results'!G599,$A$3:$F$30018,6,FALSE)","v":" "},{"$f":"VLOOKUP('entries and results'!G599,$A$3:$E$30018,2,FALSE)","v":" "},null,597,".",{"$f":"VLOOKUP('entries and results'!N599,$H$3:$K$30018,2,FALSE)","v":" "},{"$f":"VLOOKUP('entries and results'!N599,$H$3:$K$30018,3,FALSE)","v":" "},{"$f":"VLOOKUP('entries and results'!N599,$H$3:$K$30018,4,FALSE)","v":" "},null," ","00:00",null,null,null,null,null,null,null,null,null,null,null,null,null,null,null,null,null,null,null,null,null,null,null,null,null,null,null,null,null,null,null,null,null,null,null,null,null,null,null,null,null,null,null,"00:00",597,0,"0000000","00","00","00"]
["SA02656","Shettleston Harriers","1992-09-08","Lee Wilson","SA02656","Senior",".",598,{"$f":"VLOOKUP('entries and results'!G600,$A$3:$E$30018,4,FALSE)","v":" "},{"$f":"VLOOKUP('entries and results'!G600,$A$3:$F$30018,6,FALSE)","v":" "},{"$f":"VLOOKUP('entries and results'!G600,$A$3:$E$30018,2,FALSE)","v":" "},null,598,".",{"$f":"VLOOKUP('entries and results'!N600,$H$3:$K$30018,2,FALSE)","v":" "},{"$f":"VLOOKUP('entries and results'!N600,$H$3:$K$30018,3,FALSE)","v":" "},{"$f":"VLOOKUP('entries and results'!N600,$H$3:$K$30018,4,FALSE)","v":" "},null," ","00:00",null,null,null,null,null,null,null,null,null,null,null,null,null,null,null,null,null,null,null,null,null,null,null,null,null,null,null,null,null,null,null,null,null,null,null,null,null,null,null,null,null,null,null,"00:00",598,0,"0000000","00","00","00"]
["SA02658","Kilmarnock H&AC","1996-10-28","Lorne Kerr","SA02658","Under 15",".",599,{"$f":"VLOOKUP('entries and results'!G601,$A$3:$E$30018,4,FALSE)","v":" "},{"$f":"VLOOKUP('entries and results'!G601,$A$3:$F$30018,6,FALSE)","v":" "},{"$f":"VLOOKUP('entries and results'!G601,$A$3:$E$30018,2,FALSE)","v":" "},null,599,".",{"$f":"VLOOKUP('entries and results'!N601,$H$3:$K$30018,2,FALSE)","v":" "},{"$f":"VLOOKUP('entries and results'!N601,$H$3:$K$30018,3,FALSE)","v":" "},{"$f":"VLOOKUP('entries and results'!N601,$H$3:$K$30018,4,FALSE)","v":" "},null," ","00:00",null,null,null,null,null,null,null,null,null,null,null,null,null,null,null,null,null,null,null,null,null,null,null,null,null,null,null,null,null,null,null,null,null,null,null,null,null,null,null,null,null,null,null,"00:00",599,0,"0000000","00","00","00"]
["SA02659","Kilmarnock H&AC","1994-11-23","Laura Reilly","SA02659","Under 17",".",600,{"$f":"VLOOKUP('entries and results'!G602,$A$3:$E$30018,4,FALSE)","v":" "},{"$f":"VLOOKUP('entries and results'!G602,$A$3:$F$30018,6,FALSE)","v":" "},{"$f":"VLOOKUP('entries and results'!G602,$A$3:$E$30018,2,FALSE)","v":" "},null,600,".",{"$f":"VLOOKUP('entries and results'!N602,$H$3:$K$30018,2,FALSE)","v":" "},{"$f":"VLOOKUP('entries and results'!N602,$H$3:$K$30018,3,FALSE)","v":" "},{"$f":"VLOOKUP('entries and results'!N602,$H$3:$K$30018,4,FALSE)","v":" "},null," ","00:00",null,null,null,null,null,null,null,null,null,null,null,null,null,null,null,null,null,null,null,null,null,null,null,null,null,null,null,null,null,null,null,null,null,null,null,null,null,null,null,null,null,null,null,"00:00",600,0,"0000000","00","00","00"]
["SA02660","Kilmarnock H&AC","1997-02-28","Taylor Ross","SA02660","Under 15",".",601,{"$f":"VLOOKUP('entries and results'!G603,$A$3:$E$30018,4,FALSE)","v":" "},{"$f":"VLOOKUP('entries and results'!G603,$A$3:$F$30018,6,FALSE)","v":" "},{"$f":"VLOOKUP('entries and results'!G603,$A$3:$E$30018,2,FALSE)","v":" "},null,601,".",{"$f":"VLOOKUP('entries and results'!N603,$H$3:$K$30018,2,FALSE)","v":" "},{"$f":"VLOOKUP('entries and results'!N603,$H$3:$K$30018,3,FALSE)","v":" "},{"$f":"VLOOKUP('entries and results'!N603,$H$3:$K$30018,4,FALSE)","v":" "},null," ","00:00",null,null,null,null,null,null,null,null,null,null,null,null,null,null,null,null,null,null,null,null,null,null,null,null,null,null,null,null,null,null,null,null,null,null,null,null,null,null,null,null,null,null,null,"00:00",601,0,"0000000","00","00","00"]
["SA02666","Kilbarchan AAC","1996-08-27","Erin Campbell","SA02666","Under 15",".",602,{"$f":"VLOOKUP('entries and results'!G604,$A$3:$E$30018,4,FALSE)","v":" "},{"$f":"VLOOKUP('entries and results'!G604,$A$3:$F$30018,6,FALSE)","v":" "},{"$f":"VLOOKUP('entries and results'!G604,$A$3:$E$30018,2,FALSE)","v":" "},null,602,".",{"$f":"VLOOKUP('entries and results'!N604,$H$3:$K$30018,2,FALSE)","v":" "},{"$f":"VLOOKUP('entries and results'!N604,$H$3:$K$30018,3,FALSE)","v":" "},{"$f":"VLOOKUP('entries and results'!N604,$H$3:$K$30018,4,FALSE)","v":" "},null," ","00:00",null,null,null,null,null,null,null,null,null,null,null,null,null,null,null,null,null,null,null,null,null,null,null,null,null,null,null,null,null,null,null,null,null,null,null,null,null,null,null,null,null,null,null,"00:00",602,0,"0000000","00","00","00"]
["SA02670","Kilbarchan AAC","1995-08-08","Jennifer Eadie","SA02670","Under 17",".",603,{"$f":"VLOOKUP('entries and results'!G605,$A$3:$E$30018,4,FALSE)","v":" "},{"$f":"VLOOKUP('entries and results'!G605,$A$3:$F$30018,6,FALSE)","v":" "},{"$f":"VLOOKUP('entries and results'!G605,$A$3:$E$30018,2,FALSE)","v":" "},null,603,".",{"$f":"VLOOKUP('entries and results'!N605,$H$3:$K$30018,2,FALSE)","v":" "},{"$f":"VLOOKUP('entries and results'!N605,$H$3:$K$30018,3,FALSE)","v":" "},{"$f":"VLOOKUP('entries and results'!N605,$H$3:$K$30018,4,FALSE)","v":" "},null," ","00:00",null,null,null,null,null,null,null,null,null,null,null,null,null,null,null,null,null,null,null,null,null,null,null,null,null,null,null,null,null,null,null,null,null,null,null,null,null,null,null,null,null,null,null,"00:00",603,0,"0000000","00","00","00"]
["SA02672","Kilbarchan AAC","1991-11-11","Stephen Fleming","SA02672","Senior",".",604,{"$f":"VLOOKUP('entries and results'!G606,$A$3:$E$30018,4,FALSE)","v":" "},{"$f":"VLOOKUP('entries and results'!G606,$A$3:$F$30018,6,FALSE)","v":" "},{"$f":"VLOOKUP('entries and results'!G606,$A$3:$E$30018,2,FALSE)","v":" "},null,604,".",{"$f":"VLOOKUP('entries and results'!N606,$H$3:$K$30018,2,FALSE)","v":" "},{"$f":"VLOOKUP('entries and results'!N606,$H$3:$K$30018,3,FALSE)","v":" "},{"$f":"VLOOKUP('entries and results'!N606,$H$3:$K$30018,4,FALSE)","v":" "},null," ","00:00",null,null,null,null,null,null,null,null,null,null,null,null,null,null,null,null,null,null,null,null,null,null,null,null,null,null,null,null,null,null,null,null,null,null,null,null,null,null,null,null,null,null,null,"00:00",604,0,"0000000","00","00","00"]
["SA02673","Kilbarchan AAC","1993-09-06","Jennifer Frew","SA02673","Under 17",".",605,{"$f":"VLOOKUP('entries and results'!G607,$A$3:$E$30018,4,FALSE)","v":" "},{"$f":"VLOOKUP('entries and results'!G607,$A$3:$F$30018,6,FALSE)","v":" "},{"$f":"VLOOKUP('entries and results'!G607,$A$3:$E$30018,2,FALSE)","v":" "},null,605,".",{"$f":"VLOOKUP('entries and results'!N607,$H$3:$K$30018,2,FALSE)","v":" "},{"$f":"VLOOKUP('entries and results'!N607,$H$3:$K$30018,3,FALSE)","v":" "},{"$f":"VLOOKUP('entries and results'!N607,$H$3:$K$30018,4,FALSE)","v":" "},null," ","00:00",null,null,null,null,null,null,null,null,null,null,null,null,null,null,null,null,null,null,null,null,null,null,null,null,null,null,null,null,null,null,null,null,null,null,null,null,null,null,null,null,null,null,null,"00:00",605,0,"0000000","00","00","00"]
["SA02679","Kilbarchan AAC","1994-11-15","Ross Heggie","SA02679","Under 17",".",606,{"$f":"VLOOKUP('entries and results'!G608,$A$3:$E$30018,4,FALSE)","v":" "},{"$f":"VLOOKUP('entries and results'!G608,$A$3:$F$30018,6,FALSE)","v":" "},{"$f":"VLOOKUP('entries and results'!G608,$A$3:$E$30018,2,FALSE)","v":" "},null,606,".",{"$f":"VLOOKUP('entries and results'!N608,$H$3:$K$30018,2,FALSE)","v":" "},{"$f":"VLOOKUP('entries and results'!N608,$H$3:$K$30018,3,FALSE)","v":" "},{"$f":"VLOOKUP('entries and results'!N608,$H$3:$K$30018,4,FALSE)","v":" "},null," ","00:00",null,null,null,null,null,null,null,null,null,null,null,null,null,null,null,null,null,null,null,null,null,null,null,null,null,null,null,null,null,null,null,null,null,null,null,null,null,null,null,null,null,null,null,"00:00",606,0,"0000000","00","00","00"]
["SA02682","Kilbarchan AAC","1996-02-08","Kerry Keegan","SA02682","Under 15",".",607,{"$f":"VLOOKUP('entries and results'!G609,$A$3:$E$30018,4,FALSE)","v":" "},{"$f":"VLOOKUP('entries and results'!G609,$A$3:$F$30018,6,FALSE)","v":" "},{"$f":"VLOOKUP('entries and results'!G609,$A$3:$E$30018,2,FALSE)","v":" "},null,607,".",{"$f":"VLOOKUP('entries and results'!N609,$H$3:$K$30018,2,FALSE)","v":" "},{"$f":"VLOOKUP('entries and results'!N609,$H$3:$K$30018,3,FALSE)","v":" "},{"$f":"VLOOKUP('entries and results'!N609,$H$3:$K$30018,4,FALSE)","v":" "},null," ","00:00",null,null,null,null,null,null,null,null,null,null,null,null,null,null,null,null,null,null,null,null,null,null,null,null,null,null,null,null,null,null,null,null,null,null,null,null,null,null,null,null,null,null,null,"00:00",607,0,"0000000","00","00","00"]
["SA02687","Kilbarchan AAC","1996-02-02","Nicholas Love","SA02687","Under 15",".",608,{"$f":"VLOOKUP('entries and results'!G610,$A$3:$E$30018,4,FALSE)","v":" "},{"$f":"VLOOKUP('entries and results'!G610,$A$3:$F$30018,6,FALSE)","v":" "},{"$f":"VLOOKUP('entries and results'!G610,$A$3:$E$30018,2,FALSE)","v":" "},null,608,".",{"$f":"VLOOKUP('entries and results'!N610,$H$3:$K$30018,2,FALSE)","v":" "},{"$f":"VLOOKUP('entries and results'!N610,$H$3:$K$30018,3,FALSE)","v":" "},{"$f":"VLOOKUP('entries and results'!N610,$H$3:$K$30018,4,FALSE)","v":" "},null," ","00:00",null,null,null,null,null,null,null,null,null,null,null,null,null,null,null,null,null,null,null,null,null,null,null,null,null,null,null,null,null,null,null,null,null,null,null,null,null,null,null,null,null,null,null,"00:00",608,0,"0000000","00","00","00"]
["SA02694","Kilbarchan AAC","1993-12-11","Calum MacLeod","SA02694","Under 17",".",609,{"$f":"VLOOKUP('entries and results'!G611,$A$3:$E$30018,4,FALSE)","v":" "},{"$f":"VLOOKUP('entries and results'!G611,$A$3:$F$30018,6,FALSE)","v":" "},{"$f":"VLOOKUP('entries and results'!G611,$A$3:$E$30018,2,FALSE)","v":" "},null,609,".",{"$f":"VLOOKUP('entries and results'!N611,$H$3:$K$30018,2,FALSE)","v":" "},{"$f":"VLOOKUP('entries and results'!N611,$H$3:$K$30018,3,FALSE)","v":" "},{"$f":"VLOOKUP('entries and results'!N611,$H$3:$K$30018,4,FALSE)","v":" "},null," ","00:00",null,null,null,null,null,null,null,null,null,null,null,null,null,null,null,null,null,null,null,null,null,null,null,null,null,null,null,null,null,null,null,null,null,null,null,null,null,null,null,null,null,null,null,"00:00",609,0,"0000000","00","00","00"]
["SA02696","Kilbarchan AAC","1993-08-01","Emily McQuade","SA02696","Senior",".",610,{"$f":"VLOOKUP('entries and results'!G612,$A$3:$E$30018,4,FALSE)","v":" "},{"$f":"VLOOKUP('entries and results'!G612,$A$3:$F$30018,6,FALSE)","v":" "},{"$f":"VLOOKUP('entries and results'!G612,$A$3:$E$30018,2,FALSE)","v":" "},null,610,".",{"$f":"VLOOKUP('entries and results'!N612,$H$3:$K$30018,2,FALSE)","v":" "},{"$f":"VLOOKUP('entries and results'!N612,$H$3:$K$30018,3,FALSE)","v":" "},{"$f":"VLOOKUP('entries and results'!N612,$H$3:$K$30018,4,FALSE)","v":" "},null," ","00:00",null,null,null,null,null,null,null,null,null,null,null,null,null,null,null,null,null,null,null,null,null,null,null,null,null,null,null,null,null,null,null,null,null,null,null,null,null,null,null,null,null,null,null,"00:00",610,0,"0000000","00","00","00"]
["SA02698","Kilbarchan AAC","1993-10-20","Andrew Quinn","SA02698","Under 17",".",611,{"$f":"VLOOKUP('entries and results'!G613,$A$3:$E$30018,4,FALSE)","v":" "},{"$f":"VLOOKUP('entries and results'!G613,$A$3:$F$30018,6,FALSE)","v":" "},{"$f":"VLOOKUP('entries and results'!G613,$A$3:$E$30018,2,FALSE)","v":" "},null,611,".",{"$f":"VLOOKUP('entries and results'!N613,$H$3:$K$30018,2,FALSE)","v":" "},{"$f":"VLOOKUP('entries and results'!N613,$H$3:$K$30018,3,FALSE)","v":" "},{"$f":"VLOOKUP('entries and results'!N613,$H$3:$K$30018,4,FALSE)","v":" "},null," ","00:00",null,null,null,null,null,null,null,null,null,null,null,null,null,null,null,null,null,null,null,null,null,null,null,null,null,null,null,null,null,null,null,null,null,null,null,null,null,null,null,null,null,null,null,"00:00",611,0,"0000000","00","00","00"]
["SA02699","Kilbarchan AAC","1993-09-18","James Quinn","SA02699","Under 17",".",612,{"$f":"VLOOKUP('entries and results'!G614,$A$3:$E$30018,4,FALSE)","v":" "},{"$f":"VLOOKUP('entries and results'!G614,$A$3:$F$30018,6,FALSE)","v":" "},{"$f":"VLOOKUP('entries and results'!G614,$A$3:$E$30018,2,FALSE)","v":" "},null,612,".",{"$f":"VLOOKUP('entries and results'!N614,$H$3:$K$30018,2,FALSE)","v":" "},{"$f":"VLOOKUP('entries and results'!N614,$H$3:$K$30018,3,FALSE)","v":" "},{"$f":"VLOOKUP('entries and results'!N614,$H$3:$K$30018,4,FALSE)","v":" "},null," ","00:00",null,null,null,null,null,null,null,null,null,null,null,null,null,null,null,null,null,null,null,null,null,null,null,null,null,null,null,null,null,null,null,null,null,null,null,null,null,null,null,null,null,null,null,"00:00",612,0,"0000000","00","00","00"]
["SA02701","Kilbarchan AAC","1993-09-15","Hazel Ross","SA02701","Under 17",".",613,{"$f":"VLOOKUP('entries and results'!G615,$A$3:$E$30018,4,FALSE)","v":" "},{"$f":"VLOOKUP('entries and results'!G615,$A$3:$F$30018,6,FALSE)","v":" "},{"$f":"VLOOKUP('entries and results'!G615,$A$3:$E$30018,2,FALSE)","v":" "},null,613,".",{"$f":"VLOOKUP('entries and results'!N615,$H$3:$K$30018,2,FALSE)","v":" "},{"$f":"VLOOKUP('entries and results'!N615,$H$3:$K$30018,3,FALSE)","v":" "},{"$f":"VLOOKUP('entries and results'!N615,$H$3:$K$30018,4,FALSE)","v":" "},null," ","00:00",null,null,null,null,null,null,null,null,null,null,null,null,null,null,null,null,null,null,null,null,null,null,null,null,null,null,null,null,null,null,null,null,null,null,null,null,null,null,null,null,null,null,null,"00:00",613,0,"0000000","00","00","00"]
["SA02702","Kilbarchan AAC","1991-09-14","Heather Ross","SA02702","Senior",".",614,{"$f":"VLOOKUP('entries and results'!G616,$A$3:$E$30018,4,FALSE)","v":" "},{"$f":"VLOOKUP('entries and results'!G616,$A$3:$F$30018,6,FALSE)","v":" "},{"$f":"VLOOKUP('entries and results'!G616,$A$3:$E$30018,2,FALSE)","v":" "},null,614,".",{"$f":"VLOOKUP('entries and results'!N616,$H$3:$K$30018,2,FALSE)","v":" "},{"$f":"VLOOKUP('entries and results'!N616,$H$3:$K$30018,3,FALSE)","v":" "},{"$f":"VLOOKUP('entries and results'!N616,$H$3:$K$30018,4,FALSE)","v":" "},null," ","00:00",null,null,null,null,null,null,null,null,null,null,null,null,null,null,null,null,null,null,null,null,null,null,null,null,null,null,null,null,null,null,null,null,null,null,null,null,null,null,null,null,null,null,null,"00:00",614,0,"0000000","00","00","00"]
["SA02704","Kilbarchan AAC","1993-06-10","Charlotte Walker","SA02704","Senior",".",615,{"$f":"VLOOKUP('entries and results'!G617,$A$3:$E$30018,4,FALSE)","v":" "},{"$f":"VLOOKUP('entries and results'!G617,$A$3:$F$30018,6,FALSE)","v":" "},{"$f":"VLOOKUP('entries and results'!G617,$A$3:$E$30018,2,FALSE)","v":" "},null,615,".",{"$f":"VLOOKUP('entries and results'!N617,$H$3:$K$30018,2,FALSE)","v":" "},{"$f":"VLOOKUP('entries and results'!N617,$H$3:$K$30018,3,FALSE)","v":" "},{"$f":"VLOOKUP('entries and results'!N617,$H$3:$K$30018,4,FALSE)","v":" "},null," ","00:00",null,null,null,null,null,null,null,null,null,null,null,null,null,null,null,null,null,null,null,null,null,null,null,null,null,null,null,null,null,null,null,null,null,null,null,null,null,null,null,null,null,null,null,"00:00",615,0,"0000000","00","00","00"]
["SA02711","VP-Glasgow AC","1995-10-17","Lewis Boyle","SA02711","Under 15",".",616,{"$f":"VLOOKUP('entries and results'!G618,$A$3:$E$30018,4,FALSE)","v":" "},{"$f":"VLOOKUP('entries and results'!G618,$A$3:$F$30018,6,FALSE)","v":" "},{"$f":"VLOOKUP('entries and results'!G618,$A$3:$E$30018,2,FALSE)","v":" "},null,616,".",{"$f":"VLOOKUP('entries and results'!N618,$H$3:$K$30018,2,FALSE)","v":" "},{"$f":"VLOOKUP('entries and results'!N618,$H$3:$K$30018,3,FALSE)","v":" "},{"$f":"VLOOKUP('entries and results'!N618,$H$3:$K$30018,4,FALSE)","v":" "},null," ","00:00",null,null,null,null,null,null,null,null,null,null,null,null,null,null,null,null,null,null,null,null,null,null,null,null,null,null,null,null,null,null,null,null,null,null,null,null,null,null,null,null,null,null,null,"00:00",616,0,"0000000","00","00","00"]
["SA02712","Kirkintilloch Olympians","1995-05-28","Clare Brown","SA02712","Under 17",".",617,{"$f":"VLOOKUP('entries and results'!G619,$A$3:$E$30018,4,FALSE)","v":" "},{"$f":"VLOOKUP('entries and results'!G619,$A$3:$F$30018,6,FALSE)","v":" "},{"$f":"VLOOKUP('entries and results'!G619,$A$3:$E$30018,2,FALSE)","v":" "},null,617,".",{"$f":"VLOOKUP('entries and results'!N619,$H$3:$K$30018,2,FALSE)","v":" "},{"$f":"VLOOKUP('entries and results'!N619,$H$3:$K$30018,3,FALSE)","v":" "},{"$f":"VLOOKUP('entries and results'!N619,$H$3:$K$30018,4,FALSE)","v":" "},null," ","00:00",null,null,null,null,null,null,null,null,null,null,null,null,null,null,null,null,null,null,null,null,null,null,null,null,null,null,null,null,null,null,null,null,null,null,null,null,null,null,null,null,null,null,null,"00:00",617,0,"0000000","00","00","00"]
["SA02715","Kirkintilloch Olympians","1997-05-22","Fraser Connal","SA02715","Under 15",".",618,{"$f":"VLOOKUP('entries and results'!G620,$A$3:$E$30018,4,FALSE)","v":" "},{"$f":"VLOOKUP('entries and results'!G620,$A$3:$F$30018,6,FALSE)","v":" "},{"$f":"VLOOKUP('entries and results'!G620,$A$3:$E$30018,2,FALSE)","v":" "},null,618,".",{"$f":"VLOOKUP('entries and results'!N620,$H$3:$K$30018,2,FALSE)","v":" "},{"$f":"VLOOKUP('entries and results'!N620,$H$3:$K$30018,3,FALSE)","v":" "},{"$f":"VLOOKUP('entries and results'!N620,$H$3:$K$30018,4,FALSE)","v":" "},null," ","00:00",null,null,null,null,null,null,null,null,null,null,null,null,null,null,null,null,null,null,null,null,null,null,null,null,null,null,null,null,null,null,null,null,null,null,null,null,null,null,null,null,null,null,null,"00:00",618,0,"0000000","00","00","00"]
["SA02720","Kirkintilloch Olympians","1994-12-20","Rachel Hayes","SA02720","Under 17",".",619,{"$f":"VLOOKUP('entries and results'!G621,$A$3:$E$30018,4,FALSE)","v":" "},{"$f":"VLOOKUP('entries and results'!G621,$A$3:$F$30018,6,FALSE)","v":" "},{"$f":"VLOOKUP('entries and results'!G621,$A$3:$E$30018,2,FALSE)","v":" "},null,619,".",{"$f":"VLOOKUP('entries and results'!N621,$H$3:$K$30018,2,FALSE)","v":" "},{"$f":"VLOOKUP('entries and results'!N621,$H$3:$K$30018,3,FALSE)","v":" "},{"$f":"VLOOKUP('entries and results'!N621,$H$3:$K$30018,4,FALSE)","v":" "},null," ","00:00",null,null,null,null,null,null,null,null,null,null,null,null,null,null,null,null,null,null,null,null,null,null,null,null,null,null,null,null,null,null,null,null,null,null,null,null,null,null,null,null,null,null,null,"00:00",619,0,"0000000","00","00","00"]
["SA02726","Kirkintilloch Olympians","1995-07-03","Kayleigh McCallum","SA02726","Under 17",".",620,{"$f":"VLOOKUP('entries and results'!G622,$A$3:$E$30018,4,FALSE)","v":" "},{"$f":"VLOOKUP('entries and results'!G622,$A$3:$F$30018,6,FALSE)","v":" "},{"$f":"VLOOKUP('entries and results'!G622,$A$3:$E$30018,2,FALSE)","v":" "},null,620,".",{"$f":"VLOOKUP('entries and results'!N622,$H$3:$K$30018,2,FALSE)","v":" "},{"$f":"VLOOKUP('entries and results'!N622,$H$3:$K$30018,3,FALSE)","v":" "},{"$f":"VLOOKUP('entries and results'!N622,$H$3:$K$30018,4,FALSE)","v":" "},null," ","00:00",null,null,null,null,null,null,null,null,null,null,null,null,null,null,null,null,null,null,null,null,null,null,null,null,null,null,null,null,null,null,null,null,null,null,null,null,null,null,null,null,null,null,null,"00:00",620,0,"0000000","00","00","00"]
["SA02727","Kirkintilloch Olympians","1995-05-09","Andrew McCormack","SA02727","Under 17",".",621,{"$f":"VLOOKUP('entries and results'!G623,$A$3:$E$30018,4,FALSE)","v":" "},{"$f":"VLOOKUP('entries and results'!G623,$A$3:$F$30018,6,FALSE)","v":" "},{"$f":"VLOOKUP('entries and results'!G623,$A$3:$E$30018,2,FALSE)","v":" "},null,621,".",{"$f":"VLOOKUP('entries and results'!N623,$H$3:$K$30018,2,FALSE)","v":" "},{"$f":"VLOOKUP('entries and results'!N623,$H$3:$K$30018,3,FALSE)","v":" "},{"$f":"VLOOKUP('entries and results'!N623,$H$3:$K$30018,4,FALSE)","v":" "},null," ","00:00",null,null,null,null,null,null,null,null,null,null,null,null,null,null,null,null,null,null,null,null,null,null,null,null,null,null,null,null,null,null,null,null,null,null,null,null,null,null,null,null,null,null,null,"00:00",621,0,"0000000","00","00","00"]
["SA02739","Shettleston Harriers","1995-03-05","Sarah Winters","SA02739","Under 17",".",622,{"$f":"VLOOKUP('entries and results'!G624,$A$3:$E$30018,4,FALSE)","v":" "},{"$f":"VLOOKUP('entries and results'!G624,$A$3:$F$30018,6,FALSE)","v":" "},{"$f":"VLOOKUP('entries and results'!G624,$A$3:$E$30018,2,FALSE)","v":" "},null,622,".",{"$f":"VLOOKUP('entries and results'!N624,$H$3:$K$30018,2,FALSE)","v":" "},{"$f":"VLOOKUP('entries and results'!N624,$H$3:$K$30018,3,FALSE)","v":" "},{"$f":"VLOOKUP('entries and results'!N624,$H$3:$K$30018,4,FALSE)","v":" "},null," ","00:00",null,null,null,null,null,null,null,null,null,null,null,null,null,null,null,null,null,null,null,null,null,null,null,null,null,null,null,null,null,null,null,null,null,null,null,null,null,null,null,null,null,null,null,"00:00",622,0,"0000000","00","00","00"]
["SA02740","Shettleston Harriers","1995-03-05","Stella Winters","SA02740","Under 17",".",623,{"$f":"VLOOKUP('entries and results'!G625,$A$3:$E$30018,4,FALSE)","v":" "},{"$f":"VLOOKUP('entries and results'!G625,$A$3:$F$30018,6,FALSE)","v":" "},{"$f":"VLOOKUP('entries and results'!G625,$A$3:$E$30018,2,FALSE)","v":" "},null,623,".",{"$f":"VLOOKUP('entries and results'!N625,$H$3:$K$30018,2,FALSE)","v":" "},{"$f":"VLOOKUP('entries and results'!N625,$H$3:$K$30018,3,FALSE)","v":" "},{"$f":"VLOOKUP('entries and results'!N625,$H$3:$K$30018,4,FALSE)","v":" "},null," ","00:00",null,null,null,null,null,null,null,null,null,null,null,null,null,null,null,null,null,null,null,null,null,null,null,null,null,null,null,null,null,null,null,null,null,null,null,null,null,null,null,null,null,null,null,"00:00",623,0,"0000000","00","00","00"]
["SA02742","Larkhall YMCA Harriers","1994-10-30","John Lees","SA02742","Under 17",".",624,{"$f":"VLOOKUP('entries and results'!G626,$A$3:$E$30018,4,FALSE)","v":" "},{"$f":"VLOOKUP('entries and results'!G626,$A$3:$F$30018,6,FALSE)","v":" "},{"$f":"VLOOKUP('entries and results'!G626,$A$3:$E$30018,2,FALSE)","v":" "},null,624,".",{"$f":"VLOOKUP('entries and results'!N626,$H$3:$K$30018,2,FALSE)","v":" "},{"$f":"VLOOKUP('entries and results'!N626,$H$3:$K$30018,3,FALSE)","v":" "},{"$f":"VLOOKUP('entries and results'!N626,$H$3:$K$30018,4,FALSE)","v":" "},null," ","00:00",null,null,null,null,null,null,null,null,null,null,null,null,null,null,null,null,null,null,null,null,null,null,null,null,null,null,null,null,null,null,null,null,null,null,null,null,null,null,null,null,null,null,null,"00:00",624,0,"0000000","00","00","00"]
["SA02743","VP-Glasgow AC","1993-10-14","Miller McIntosh","SA02743","Under 17",".",625,{"$f":"VLOOKUP('entries and results'!G627,$A$3:$E$30018,4,FALSE)","v":" "},{"$f":"VLOOKUP('entries and results'!G627,$A$3:$F$30018,6,FALSE)","v":" "},{"$f":"VLOOKUP('entries and results'!G627,$A$3:$E$30018,2,FALSE)","v":" "},null,625,".",{"$f":"VLOOKUP('entries and results'!N627,$H$3:$K$30018,2,FALSE)","v":" "},{"$f":"VLOOKUP('entries and results'!N627,$H$3:$K$30018,3,FALSE)","v":" "},{"$f":"VLOOKUP('entries and results'!N627,$H$3:$K$30018,4,FALSE)","v":" "},null," ","00:00",null,null,null,null,null,null,null,null,null,null,null,null,null,null,null,null,null,null,null,null,null,null,null,null,null,null,null,null,null,null,null,null,null,null,null,null,null,null,null,null,null,null,null,"00:00",625,0,"0000000","00","00","00"]
["SA02744","VP-Glasgow AC","1993-10-14","Thomas McIntosh","SA02744","Under 17",".",626,{"$f":"VLOOKUP('entries and results'!G628,$A$3:$E$30018,4,FALSE)","v":" "},{"$f":"VLOOKUP('entries and results'!G628,$A$3:$F$30018,6,FALSE)","v":" "},{"$f":"VLOOKUP('entries and results'!G628,$A$3:$E$30018,2,FALSE)","v":" "},null,626,".",{"$f":"VLOOKUP('entries and results'!N628,$H$3:$K$30018,2,FALSE)","v":" "},{"$f":"VLOOKUP('entries and results'!N628,$H$3:$K$30018,3,FALSE)","v":" "},{"$f":"VLOOKUP('entries and results'!N628,$H$3:$K$30018,4,FALSE)","v":" "},null," ","00:00",null,null,null,null,null,null,null,null,null,null,null,null,null,null,null,null,null,null,null,null,null,null,null,null,null,null,null,null,null,null,null,null,null,null,null,null,null,null,null,null,null,null,null,"00:00",626,0,"0000000","00","00","00"]
["SA02749","Lasswade AAC","1994-06-05","Ashley Boak","SA02749","Under 17",".",627,{"$f":"VLOOKUP('entries and results'!G629,$A$3:$E$30018,4,FALSE)","v":" "},{"$f":"VLOOKUP('entries and results'!G629,$A$3:$F$30018,6,FALSE)","v":" "},{"$f":"VLOOKUP('entries and results'!G629,$A$3:$E$30018,2,FALSE)","v":" "},null,627,".",{"$f":"VLOOKUP('entries and results'!N629,$H$3:$K$30018,2,FALSE)","v":" "},{"$f":"VLOOKUP('entries and results'!N629,$H$3:$K$30018,3,FALSE)","v":" "},{"$f":"VLOOKUP('entries and results'!N629,$H$3:$K$30018,4,FALSE)","v":" "},null," ","00:00",null,null,null,null,null,null,null,null,null,null,null,null,null,null,null,null,null,null,null,null,null,null,null,null,null,null,null,null,null,null,null,null,null,null,null,null,null,null,null,null,null,null,null,"00:00",627,0,"0000000","00","00","00"]
["SA02751","Lasswade AAC","1995-05-04","Lauren Buchan","SA02751","Under 17",".",628,{"$f":"VLOOKUP('entries and results'!G630,$A$3:$E$30018,4,FALSE)","v":" "},{"$f":"VLOOKUP('entries and results'!G630,$A$3:$F$30018,6,FALSE)","v":" "},{"$f":"VLOOKUP('entries and results'!G630,$A$3:$E$30018,2,FALSE)","v":" "},null,628,".",{"$f":"VLOOKUP('entries and results'!N630,$H$3:$K$30018,2,FALSE)","v":" "},{"$f":"VLOOKUP('entries and results'!N630,$H$3:$K$30018,3,FALSE)","v":" "},{"$f":"VLOOKUP('entries and results'!N630,$H$3:$K$30018,4,FALSE)","v":" "},null," ","00:00",null,null,null,null,null,null,null,null,null,null,null,null,null,null,null,null,null,null,null,null,null,null,null,null,null,null,null,null,null,null,null,null,null,null,null,null,null,null,null,null,null,null,null,"00:00",628,0,"0000000","00","00","00"]
["SA02753","Lasswade AAC","1994-04-01","Charles Carstairs","SA02753","Under 17",".",629,{"$f":"VLOOKUP('entries and results'!G631,$A$3:$E$30018,4,FALSE)","v":" "},{"$f":"VLOOKUP('entries and results'!G631,$A$3:$F$30018,6,FALSE)","v":" "},{"$f":"VLOOKUP('entries and results'!G631,$A$3:$E$30018,2,FALSE)","v":" "},null,629,".",{"$f":"VLOOKUP('entries and results'!N631,$H$3:$K$30018,2,FALSE)","v":" "},{"$f":"VLOOKUP('entries and results'!N631,$H$3:$K$30018,3,FALSE)","v":" "},{"$f":"VLOOKUP('entries and results'!N631,$H$3:$K$30018,4,FALSE)","v":" "},null," ","00:00",null,null,null,null,null,null,null,null,null,null,null,null,null,null,null,null,null,null,null,null,null,null,null,null,null,null,null,null,null,null,null,null,null,null,null,null,null,null,null,null,null,null,null,"00:00",629,0,"0000000","00","00","00"]
["SA02761","Lasswade AAC","1994-01-05","Rachael Fairley","SA02761","Under 17",".",630,{"$f":"VLOOKUP('entries and results'!G632,$A$3:$E$30018,4,FALSE)","v":" "},{"$f":"VLOOKUP('entries and results'!G632,$A$3:$F$30018,6,FALSE)","v":" "},{"$f":"VLOOKUP('entries and results'!G632,$A$3:$E$30018,2,FALSE)","v":" "},null,630,".",{"$f":"VLOOKUP('entries and results'!N632,$H$3:$K$30018,2,FALSE)","v":" "},{"$f":"VLOOKUP('entries and results'!N632,$H$3:$K$30018,3,FALSE)","v":" "},{"$f":"VLOOKUP('entries and results'!N632,$H$3:$K$30018,4,FALSE)","v":" "},null," ","00:00",null,null,null,null,null,null,null,null,null,null,null,null,null,null,null,null,null,null,null,null,null,null,null,null,null,null,null,null,null,null,null,null,null,null,null,null,null,null,null,null,null,null,null,"00:00",630,0,"0000000","00","00","00"]
["SA02771","Lasswade AAC","1995-12-10","Amy Smith","SA02771","Under 15",".",631,{"$f":"VLOOKUP('entries and results'!G633,$A$3:$E$30018,4,FALSE)","v":" "},{"$f":"VLOOKUP('entries and results'!G633,$A$3:$F$30018,6,FALSE)","v":" "},{"$f":"VLOOKUP('entries and results'!G633,$A$3:$E$30018,2,FALSE)","v":" "},null,631,".",{"$f":"VLOOKUP('entries and results'!N633,$H$3:$K$30018,2,FALSE)","v":" "},{"$f":"VLOOKUP('entries and results'!N633,$H$3:$K$30018,3,FALSE)","v":" "},{"$f":"VLOOKUP('entries and results'!N633,$H$3:$K$30018,4,FALSE)","v":" "},null," ","00:00",null,null,null,null,null,null,null,null,null,null,null,null,null,null,null,null,null,null,null,null,null,null,null,null,null,null,null,null,null,null,null,null,null,null,null,null,null,null,null,null,null,null,null,"00:00",631,0,"0000000","00","00","00"]
["SA02775","Shettleston Harriers","1996-04-03","Ashleigh Anderson","SA02775","Under 15",".",632,{"$f":"VLOOKUP('entries and results'!G634,$A$3:$E$30018,4,FALSE)","v":" "},{"$f":"VLOOKUP('entries and results'!G634,$A$3:$F$30018,6,FALSE)","v":" "},{"$f":"VLOOKUP('entries and results'!G634,$A$3:$E$30018,2,FALSE)","v":" "},null,632,".",{"$f":"VLOOKUP('entries and results'!N634,$H$3:$K$30018,2,FALSE)","v":" "},{"$f":"VLOOKUP('entries and results'!N634,$H$3:$K$30018,3,FALSE)","v":" "},{"$f":"VLOOKUP('entries and results'!N634,$H$3:$K$30018,4,FALSE)","v":" "},null," ","00:00",null,null,null,null,null,null,null,null,null,null,null,null,null,null,null,null,null,null,null,null,null,null,null,null,null,null,null,null,null,null,null,null,null,null,null,null,null,null,null,null,null,null,null,"00:00",632,0,"0000000","00","00","00"]
["SA02780","Law & District AAC","1993-12-05","Chelcie Dalziel","SA02780","Under 17",".",633,{"$f":"VLOOKUP('entries and results'!G635,$A$3:$E$30018,4,FALSE)","v":" "},{"$f":"VLOOKUP('entries and results'!G635,$A$3:$F$30018,6,FALSE)","v":" "},{"$f":"VLOOKUP('entries and results'!G635,$A$3:$E$30018,2,FALSE)","v":" "},null,633,".",{"$f":"VLOOKUP('entries and results'!N635,$H$3:$K$30018,2,FALSE)","v":" "},{"$f":"VLOOKUP('entries and results'!N635,$H$3:$K$30018,3,FALSE)","v":" "},{"$f":"VLOOKUP('entries and results'!N635,$H$3:$K$30018,4,FALSE)","v":" "},null," ","00:00",null,null,null,null,null,null,null,null,null,null,null,null,null,null,null,null,null,null,null,null,null,null,null,null,null,null,null,null,null,null,null,null,null,null,null,null,null,null,null,null,null,null,null,"00:00",633,0,"0000000","00","00","00"]
["SA02792","Law & District AAC","1993-04-24","Emily Meek","SA02792","Senior",".",634,{"$f":"VLOOKUP('entries and results'!G636,$A$3:$E$30018,4,FALSE)","v":" "},{"$f":"VLOOKUP('entries and results'!G636,$A$3:$F$30018,6,FALSE)","v":" "},{"$f":"VLOOKUP('entries and results'!G636,$A$3:$E$30018,2,FALSE)","v":" "},null,634,".",{"$f":"VLOOKUP('entries and results'!N636,$H$3:$K$30018,2,FALSE)","v":" "},{"$f":"VLOOKUP('entries and results'!N636,$H$3:$K$30018,3,FALSE)","v":" "},{"$f":"VLOOKUP('entries and results'!N636,$H$3:$K$30018,4,FALSE)","v":" "},null," ","00:00",null,null,null,null,null,null,null,null,null,null,null,null,null,null,null,null,null,null,null,null,null,null,null,null,null,null,null,null,null,null,null,null,null,null,null,null,null,null,null,null,null,null,null,"00:00",634,0,"0000000","00","00","00"]
["SA02801","Law & District AAC","1995-03-16","Samantha Stevenson","SA02801","Under 17",".",635,{"$f":"VLOOKUP('entries and results'!G637,$A$3:$E$30018,4,FALSE)","v":" "},{"$f":"VLOOKUP('entries and results'!G637,$A$3:$F$30018,6,FALSE)","v":" "},{"$f":"VLOOKUP('entries and results'!G637,$A$3:$E$30018,2,FALSE)","v":" "},null,635,".",{"$f":"VLOOKUP('entries and results'!N637,$H$3:$K$30018,2,FALSE)","v":" "},{"$f":"VLOOKUP('entries and results'!N637,$H$3:$K$30018,3,FALSE)","v":" "},{"$f":"VLOOKUP('entries and results'!N637,$H$3:$K$30018,4,FALSE)","v":" "},null," ","00:00",null,null,null,null,null,null,null,null,null,null,null,null,null,null,null,null,null,null,null,null,null,null,null,null,null,null,null,null,null,null,null,null,null,null,null,null,null,null,null,null,null,null,null,"00:00",635,0,"0000000","00","00","00"]
["SA02803","Law & District AAC","1995-10-10","Emma Watson","SA02803","Under 15",".",636,{"$f":"VLOOKUP('entries and results'!G638,$A$3:$E$30018,4,FALSE)","v":" "},{"$f":"VLOOKUP('entries and results'!G638,$A$3:$F$30018,6,FALSE)","v":" "},{"$f":"VLOOKUP('entries and results'!G638,$A$3:$E$30018,2,FALSE)","v":" "},null,636,".",{"$f":"VLOOKUP('entries and results'!N638,$H$3:$K$30018,2,FALSE)","v":" "},{"$f":"VLOOKUP('entries and results'!N638,$H$3:$K$30018,3,FALSE)","v":" "},{"$f":"VLOOKUP('entries and results'!N638,$H$3:$K$30018,4,FALSE)","v":" "},null," ","00:00",null,null,null,null,null,null,null,null,null,null,null,null,null,null,null,null,null,null,null,null,null,null,null,null,null,null,null,null,null,null,null,null,null,null,null,null,null,null,null,null,null,null,null,"00:00",636,0,"0000000","00","00","00"]
["SA02821","Livingston & District AAC","1994-07-11","Nicola Grierson","SA02821","Under 17",".",637,{"$f":"VLOOKUP('entries and results'!G639,$A$3:$E$30018,4,FALSE)","v":" "},{"$f":"VLOOKUP('entries and results'!G639,$A$3:$F$30018,6,FALSE)","v":" "},{"$f":"VLOOKUP('entries and results'!G639,$A$3:$E$30018,2,FALSE)","v":" "},null,637,".",{"$f":"VLOOKUP('entries and results'!N639,$H$3:$K$30018,2,FALSE)","v":" "},{"$f":"VLOOKUP('entries and results'!N639,$H$3:$K$30018,3,FALSE)","v":" "},{"$f":"VLOOKUP('entries and results'!N639,$H$3:$K$30018,4,FALSE)","v":" "},null," ","00:00",null,null,null,null,null,null,null,null,null,null,null,null,null,null,null,null,null,null,null,null,null,null,null,null,null,null,null,null,null,null,null,null,null,null,null,null,null,null,null,null,null,null,null,"00:00",637,0,"0000000","00","00","00"]
["SA02822","Livingston & District AAC","1991-10-08","Sharon Grierson","SA02822","Senior",".",638,{"$f":"VLOOKUP('entries and results'!G640,$A$3:$E$30018,4,FALSE)","v":" "},{"$f":"VLOOKUP('entries and results'!G640,$A$3:$F$30018,6,FALSE)","v":" "},{"$f":"VLOOKUP('entries and results'!G640,$A$3:$E$30018,2,FALSE)","v":" "},null,638,".",{"$f":"VLOOKUP('entries and results'!N640,$H$3:$K$30018,2,FALSE)","v":" "},{"$f":"VLOOKUP('entries and results'!N640,$H$3:$K$30018,3,FALSE)","v":" "},{"$f":"VLOOKUP('entries and results'!N640,$H$3:$K$30018,4,FALSE)","v":" "},null," ","00:00",null,null,null,null,null,null,null,null,null,null,null,null,null,null,null,null,null,null,null,null,null,null,null,null,null,null,null,null,null,null,null,null,null,null,null,null,null,null,null,null,null,null,null,"00:00",638,0,"0000000","00","00","00"]
["SA02830","Livingston & District AAC","1992-07-28","Sam Matheson","SA02830","Senior",".",639,{"$f":"VLOOKUP('entries and results'!G641,$A$3:$E$30018,4,FALSE)","v":" "},{"$f":"VLOOKUP('entries and results'!G641,$A$3:$F$30018,6,FALSE)","v":" "},{"$f":"VLOOKUP('entries and results'!G641,$A$3:$E$30018,2,FALSE)","v":" "},null,639,".",{"$f":"VLOOKUP('entries and results'!N641,$H$3:$K$30018,2,FALSE)","v":" "},{"$f":"VLOOKUP('entries and results'!N641,$H$3:$K$30018,3,FALSE)","v":" "},{"$f":"VLOOKUP('entries and results'!N641,$H$3:$K$30018,4,FALSE)","v":" "},null," ","00:00",null,null,null,null,null,null,null,null,null,null,null,null,null,null,null,null,null,null,null,null,null,null,null,null,null,null,null,null,null,null,null,null,null,null,null,null,null,null,null,null,null,null,null,"00:00",639,0,"0000000","00","00","00"]
["SA02841","Livingston & District AAC","1995-01-23","Blair Wood","SA02841","Under 17",".",640,{"$f":"VLOOKUP('entries and results'!G642,$A$3:$E$30018,4,FALSE)","v":" "},{"$f":"VLOOKUP('entries and results'!G642,$A$3:$F$30018,6,FALSE)","v":" "},{"$f":"VLOOKUP('entries and results'!G642,$A$3:$E$30018,2,FALSE)","v":" "},null,640,".",{"$f":"VLOOKUP('entries and results'!N642,$H$3:$K$30018,2,FALSE)","v":" "},{"$f":"VLOOKUP('entries and results'!N642,$H$3:$K$30018,3,FALSE)","v":" "},{"$f":"VLOOKUP('entries and results'!N642,$H$3:$K$30018,4,FALSE)","v":" "},null," ","00:00",null,null,null,null,null,null,null,null,null,null,null,null,null,null,null,null,null,null,null,null,null,null,null,null,null,null,null,null,null,null,null,null,null,null,null,null,null,null,null,null,null,null,null,"00:00",640,0,"0000000","00","00","00"]
["SA02842","Unattached","1993-06-08","Jonathan Wood","SA02842","Senior",".",641,{"$f":"VLOOKUP('entries and results'!G643,$A$3:$E$30018,4,FALSE)","v":" "},{"$f":"VLOOKUP('entries and results'!G643,$A$3:$F$30018,6,FALSE)","v":" "},{"$f":"VLOOKUP('entries and results'!G643,$A$3:$E$30018,2,FALSE)","v":" "},null,641,".",{"$f":"VLOOKUP('entries and results'!N643,$H$3:$K$30018,2,FALSE)","v":" "},{"$f":"VLOOKUP('entries and results'!N643,$H$3:$K$30018,3,FALSE)","v":" "},{"$f":"VLOOKUP('entries and results'!N643,$H$3:$K$30018,4,FALSE)","v":" "},null," ","00:00",null,null,null,null,null,null,null,null,null,null,null,null,null,null,null,null,null,null,null,null,null,null,null,null,null,null,null,null,null,null,null,null,null,null,null,null,null,null,null,null,null,null,null,"00:00",641,{"$f":"SUMIF($H$3:$H$601,$BM643,$S$3:$S$601)","v":0},"0000000","00","00","00"]
["SA02848","Lothian Running Club","1996-10-20","Lauren Arbuckle","SA02848","Under 15",".",642,{"$f":"VLOOKUP('entries and results'!G644,$A$3:$E$30018,4,FALSE)","v":" "},{"$f":"VLOOKUP('entries and results'!G644,$A$3:$F$30018,6,FALSE)","v":" "},{"$f":"VLOOKUP('entries and results'!G644,$A$3:$E$30018,2,FALSE)","v":" "},null,642,".",{"$f":"VLOOKUP('entries and results'!N644,$H$3:$K$30018,2,FALSE)","v":" "},{"$f":"VLOOKUP('entries and results'!N644,$H$3:$K$30018,3,FALSE)","v":" "},{"$f":"VLOOKUP('entries and results'!N644,$H$3:$K$30018,4,FALSE)","v":" "},null," ",{"$f":"IF($H644=\"\",\" \",(LOOKUP($H644,$BM$3:$BM$1601,$BL$3:$BL$1601)))","v":"00:00"},null,null,null,null,null,null,null,null,null,null,null,null,null,null,null,null,null,null,null,null,null,null,null,null,null,null,null,null,null,null,null,null,null,null,null,null,null,null,null,null,null,null,null,"00:00",642,0,"0000000","00","00","00"]
["SA02852","Unattached","1976-04-15","John Lamont","SA02852","Senior",".",643,{"$f":"VLOOKUP('entries and results'!G645,$A$3:$E$30018,4,FALSE)","v":" "},{"$f":"VLOOKUP('entries and results'!G645,$A$3:$F$30018,6,FALSE)","v":" "},{"$f":"VLOOKUP('entries and results'!G645,$A$3:$E$30018,2,FALSE)","v":" "},null,643,".",{"$f":"VLOOKUP('entries and results'!N645,$H$3:$K$30018,2,FALSE)","v":" "},{"$f":"VLOOKUP('entries and results'!N645,$H$3:$K$30018,3,FALSE)","v":" "},{"$f":"VLOOKUP('entries and results'!N645,$H$3:$K$30018,4,FALSE)","v":" "},null," ","00:00",null,null,null,null,null,null,null,null,null,null,null,null,null,null,null,null,null,null,null,null,null,null,null,null,null,null,null,null,null,null,null,null,null,null,null,null,null,null,null,null,null,null,null,"00:00",643,0,"0000000","00","00","00"]
["SA02854","Montrose & District AC","1995-08-09","Benjamin Collins","SA02854","Under 17",".",644,{"$f":"VLOOKUP('entries and results'!G646,$A$3:$E$30018,4,FALSE)","v":" "},{"$f":"VLOOKUP('entries and results'!G646,$A$3:$F$30018,6,FALSE)","v":" "},{"$f":"VLOOKUP('entries and results'!G646,$A$3:$E$30018,2,FALSE)","v":" "},null,644,".",{"$f":"VLOOKUP('entries and results'!N646,$H$3:$K$30018,2,FALSE)","v":" "},{"$f":"VLOOKUP('entries and results'!N646,$H$3:$K$30018,3,FALSE)","v":" "},{"$f":"VLOOKUP('entries and results'!N646,$H$3:$K$30018,4,FALSE)","v":" "},null," ","00:00",null,null,null,null,null,null,null,null,null,null,null,null,null,null,null,null,null,null,null,null,null,null,null,null,null,null,null,null,null,null,null,null,null,null,null,null,null,null,null,null,null,null,null,{"$f":"CONCATENATE(BQ646,\":\",BR646)","v":"00:00"},644,0,{"$f":"CONCATENATE($BI$2,$BN646)","v":"0000000"},{"$f":"MID(RIGHT($BO646,6),1,2)","v":"00"},{"$f":"MID(RIGHT($BO646,6),3,2)","v":"00"},{"$f":"MID(RIGHT($BO646,6),5,2)","v":"00"}]
["SA02861","Montrose & District AC","1994-07-07","Stuart Turner","SA02861","Under 17",".",645,{"$f":"VLOOKUP('entries and results'!G647,$A$3:$E$30018,4,FALSE)","v":" "},{"$f":"VLOOKUP('entries and results'!G647,$A$3:$F$30018,6,FALSE)","v":" "},{"$f":"VLOOKUP('entries and results'!G647,$A$3:$E$30018,2,FALSE)","v":" "},null,645,".",{"$f":"VLOOKUP('entries and results'!N647,$H$3:$K$30018,2,FALSE)","v":" "},{"$f":"VLOOKUP('entries and results'!N647,$H$3:$K$30018,3,FALSE)","v":" "},{"$f":"VLOOKUP('entries and results'!N647,$H$3:$K$30018,4,FALSE)","v":" "},null," ","00:00",null,null,null,null,null,null,null,null,null,null,null,null,null,null,null,null,null,null,null,null,null,null,null,null,null,null,null,null,null,null,null,null,null,null,null,null,null,null,null,null,null,null,null,"00:00",645,0,"0000000","00","00","00"]
["SA02863","Moorfoot Runners","1996-05-16","Isla Donaldson","SA02863","Under 15",".",646,{"$f":"VLOOKUP('entries and results'!G648,$A$3:$E$30018,4,FALSE)","v":" "},{"$f":"VLOOKUP('entries and results'!G648,$A$3:$F$30018,6,FALSE)","v":" "},{"$f":"VLOOKUP('entries and results'!G648,$A$3:$E$30018,2,FALSE)","v":" "},null,646,".",{"$f":"VLOOKUP('entries and results'!N648,$H$3:$K$30018,2,FALSE)","v":" "},{"$f":"VLOOKUP('entries and results'!N648,$H$3:$K$30018,3,FALSE)","v":" "},{"$f":"VLOOKUP('entries and results'!N648,$H$3:$K$30018,4,FALSE)","v":" "},null," ","00:00",null,null,null,null,null,null,null,null,null,null,null,null,null,null,null,null,null,null,null,null,null,null,null,null,null,null,null,null,null,null,null,null,null,null,null,null,null,null,null,null,null,null,null,"00:00",646,0,"0000000","00","00","00"]
["SA02868","Moray Road Runners","1992-10-28","Donald Shand","SA02868","Senior",".",647,{"$f":"VLOOKUP('entries and results'!G649,$A$3:$E$30018,4,FALSE)","v":" "},{"$f":"VLOOKUP('entries and results'!G649,$A$3:$F$30018,6,FALSE)","v":" "},{"$f":"VLOOKUP('entries and results'!G649,$A$3:$E$30018,2,FALSE)","v":" "},null,647,".",{"$f":"VLOOKUP('entries and results'!N649,$H$3:$K$30018,2,FALSE)","v":" "},{"$f":"VLOOKUP('entries and results'!N649,$H$3:$K$30018,3,FALSE)","v":" "},{"$f":"VLOOKUP('entries and results'!N649,$H$3:$K$30018,4,FALSE)","v":" "},null," ","00:00",null,null,null,null,null,null,null,null,null,null,null,null,null,null,null,null,null,null,null,null,null,null,null,null,null,null,null,null,null,null,null,null,null,null,null,null,null,null,null,null,null,null,null,"00:00",647,0,"0000000","00","00","00"]
["SA02872","Edinburgh AC","1997-04-16","Georgina Loudon","SA02872","Under 15",".",648,{"$f":"VLOOKUP('entries and results'!G650,$A$3:$E$30018,4,FALSE)","v":" "},{"$f":"VLOOKUP('entries and results'!G650,$A$3:$F$30018,6,FALSE)","v":" "},{"$f":"VLOOKUP('entries and results'!G650,$A$3:$E$30018,2,FALSE)","v":" "},null,648,".",{"$f":"VLOOKUP('entries and results'!N650,$H$3:$K$30018,2,FALSE)","v":" "},{"$f":"VLOOKUP('entries and results'!N650,$H$3:$K$30018,3,FALSE)","v":" "},{"$f":"VLOOKUP('entries and results'!N650,$H$3:$K$30018,4,FALSE)","v":" "},null," ","00:00",null,null,null,null,null,null,null,null,null,null,null,null,null,null,null,null,null,null,null,null,null,null,null,null,null,null,null,null,null,null,null,null,null,null,null,null,null,null,null,null,null,null,null,"00:00",648,0,"0000000","00","00","00"]
["SA02893","Nairn Area AAC","1997-01-27","Michael McLean","SA02893","Under 15",".",649,{"$f":"VLOOKUP('entries and results'!G651,$A$3:$E$30018,4,FALSE)","v":" "},{"$f":"VLOOKUP('entries and results'!G651,$A$3:$F$30018,6,FALSE)","v":" "},{"$f":"VLOOKUP('entries and results'!G651,$A$3:$E$30018,2,FALSE)","v":" "},null,649,".",{"$f":"VLOOKUP('entries and results'!N651,$H$3:$K$30018,2,FALSE)","v":" "},{"$f":"VLOOKUP('entries and results'!N651,$H$3:$K$30018,3,FALSE)","v":" "},{"$f":"VLOOKUP('entries and results'!N651,$H$3:$K$30018,4,FALSE)","v":" "},null," ","00:00",null,null,null,null,null,null,null,null,null,null,null,null,null,null,null,null,null,null,null,null,null,null,null,null,null,null,null,null,null,null,null,null,null,null,null,null,null,null,null,null,null,null,null,"00:00",649,0,"0000000","00","00","00"]
["SA02898","Nairn Area AAC","1993-03-18","Lewis Sutherland","SA02898","Senior",".",650,{"$f":"VLOOKUP('entries and results'!G652,$A$3:$E$30018,4,FALSE)","v":" "},{"$f":"VLOOKUP('entries and results'!G652,$A$3:$F$30018,6,FALSE)","v":" "},{"$f":"VLOOKUP('entries and results'!G652,$A$3:$E$30018,2,FALSE)","v":" "},null,650,".",{"$f":"VLOOKUP('entries and results'!N652,$H$3:$K$30018,2,FALSE)","v":" "},{"$f":"VLOOKUP('entries and results'!N652,$H$3:$K$30018,3,FALSE)","v":" "},{"$f":"VLOOKUP('entries and results'!N652,$H$3:$K$30018,4,FALSE)","v":" "},null," ","00:00",null,null,null,null,null,null,null,null,null,null,null,null,null,null,null,null,null,null,null,null,null,null,null,null,null,null,null,null,null,null,null,null,null,null,null,null,null,null,null,null,null,null,null,"00:00",650,0,"0000000","00","00","00"]
["SA02903","Nairn Area AAC","1994-05-24","Heather Winfield","SA02903","Under 17",".",651,{"$f":"VLOOKUP('entries and results'!G653,$A$3:$E$30018,4,FALSE)","v":" "},{"$f":"VLOOKUP('entries and results'!G653,$A$3:$F$30018,6,FALSE)","v":" "},{"$f":"VLOOKUP('entries and results'!G653,$A$3:$E$30018,2,FALSE)","v":" "},null,651,".",{"$f":"VLOOKUP('entries and results'!N653,$H$3:$K$30018,2,FALSE)","v":" "},{"$f":"VLOOKUP('entries and results'!N653,$H$3:$K$30018,3,FALSE)","v":" "},{"$f":"VLOOKUP('entries and results'!N653,$H$3:$K$30018,4,FALSE)","v":" "},null," ","00:00",null,null,null,null,null,null,null,null,null,null,null,null,null,null,null,null,null,null,null,null,null,null,null,null,null,null,null,null,null,null,null,null,null,null,null,null,null,null,null,null,null,null,null,"00:00",651,0,"0000000","00","00","00"]
["SA02910","Nithsdale AC","1996-10-14","Anna Graham","SA02910","Under 15",".",652,{"$f":"VLOOKUP('entries and results'!G654,$A$3:$E$30018,4,FALSE)","v":" "},{"$f":"VLOOKUP('entries and results'!G654,$A$3:$F$30018,6,FALSE)","v":" "},{"$f":"VLOOKUP('entries and results'!G654,$A$3:$E$30018,2,FALSE)","v":" "},null,652,".",{"$f":"VLOOKUP('entries and results'!N654,$H$3:$K$30018,2,FALSE)","v":" "},{"$f":"VLOOKUP('entries and results'!N654,$H$3:$K$30018,3,FALSE)","v":" "},{"$f":"VLOOKUP('entries and results'!N654,$H$3:$K$30018,4,FALSE)","v":" "},null," ","00:00",null,null,null,null,null,null,null,null,null,null,null,null,null,null,null,null,null,null,null,null,null,null,null,null,null,null,null,null,null,null,null,null,null,null,null,null,null,null,null,null,null,null,null,"00:00",652,0,"0000000","00","00","00"]
["SA02919","Nithsdale AC","1994-10-15","Scott McKinney","SA02919","Under 17",".",653,{"$f":"VLOOKUP('entries and results'!G655,$A$3:$E$30018,4,FALSE)","v":" "},{"$f":"VLOOKUP('entries and results'!G655,$A$3:$F$30018,6,FALSE)","v":" "},{"$f":"VLOOKUP('entries and results'!G655,$A$3:$E$30018,2,FALSE)","v":" "},null,653,".",{"$f":"VLOOKUP('entries and results'!N655,$H$3:$K$30018,2,FALSE)","v":" "},{"$f":"VLOOKUP('entries and results'!N655,$H$3:$K$30018,3,FALSE)","v":" "},{"$f":"VLOOKUP('entries and results'!N655,$H$3:$K$30018,4,FALSE)","v":" "},null," ","00:00",null,null,null,null,null,null,null,null,null,null,null,null,null,null,null,null,null,null,null,null,null,null,null,null,null,null,null,null,null,null,null,null,null,null,null,null,null,null,null,null,null,null,null,"00:00",653,0,"0000000","00","00","00"]
["SA02920","Nithsdale AC","1992-07-22","Kyle McLellan","SA02920","Senior",".",654,{"$f":"VLOOKUP('entries and results'!G656,$A$3:$E$30018,4,FALSE)","v":" "},{"$f":"VLOOKUP('entries and results'!G656,$A$3:$F$30018,6,FALSE)","v":" "},{"$f":"VLOOKUP('entries and results'!G656,$A$3:$E$30018,2,FALSE)","v":" "},null,654,".",{"$f":"VLOOKUP('entries and results'!N656,$H$3:$K$30018,2,FALSE)","v":" "},{"$f":"VLOOKUP('entries and results'!N656,$H$3:$K$30018,3,FALSE)","v":" "},{"$f":"VLOOKUP('entries and results'!N656,$H$3:$K$30018,4,FALSE)","v":" "},null," ","00:00",null,null,null,null,null,null,null,null,null,null,null,null,null,null,null,null,null,null,null,null,null,null,null,null,null,null,null,null,null,null,null,null,null,null,null,null,null,null,null,null,null,null,null,"00:00",654,0,"0000000","00","00","00"]
["SA02921","Nithsdale AC","1992-07-22","Ronan McLellan","SA02921","Senior",".",655,{"$f":"VLOOKUP('entries and results'!G657,$A$3:$E$30018,4,FALSE)","v":" "},{"$f":"VLOOKUP('entries and results'!G657,$A$3:$F$30018,6,FALSE)","v":" "},{"$f":"VLOOKUP('entries and results'!G657,$A$3:$E$30018,2,FALSE)","v":" "},null,655,".",{"$f":"VLOOKUP('entries and results'!N657,$H$3:$K$30018,2,FALSE)","v":" "},{"$f":"VLOOKUP('entries and results'!N657,$H$3:$K$30018,3,FALSE)","v":" "},{"$f":"VLOOKUP('entries and results'!N657,$H$3:$K$30018,4,FALSE)","v":" "},null," ","00:00",null,null,null,null,null,null,null,null,null,null,null,null,null,null,null,null,null,null,null,null,null,null,null,null,null,null,null,null,null,null,null,null,null,null,null,null,null,null,null,null,null,null,null,"00:00",655,0,"0000000","00","00","00"]
["SA02926","Nithsdale AC","1992-06-27","Richard Stonehouse","SA02926","Senior",".",656,{"$f":"VLOOKUP('entries and results'!G658,$A$3:$E$30018,4,FALSE)","v":" "},{"$f":"VLOOKUP('entries and results'!G658,$A$3:$F$30018,6,FALSE)","v":" "},{"$f":"VLOOKUP('entries and results'!G658,$A$3:$E$30018,2,FALSE)","v":" "},null,656,".",{"$f":"VLOOKUP('entries and results'!N658,$H$3:$K$30018,2,FALSE)","v":" "},{"$f":"VLOOKUP('entries and results'!N658,$H$3:$K$30018,3,FALSE)","v":" "},{"$f":"VLOOKUP('entries and results'!N658,$H$3:$K$30018,4,FALSE)","v":" "},null," ","00:00",null,null,null,null,null,null,null,null,null,null,null,null,null,null,null,null,null,null,null,null,null,null,null,null,null,null,null,null,null,null,null,null,null,null,null,null,null,null,null,null,null,null,null,"00:00",656,0,"0000000","00","00","00"]
["SA02927","Nithsdale AC","1994-10-13","Glen Watson","SA02927","Under 17",".",657,{"$f":"VLOOKUP('entries and results'!G659,$A$3:$E$30018,4,FALSE)","v":" "},{"$f":"VLOOKUP('entries and results'!G659,$A$3:$F$30018,6,FALSE)","v":" "},{"$f":"VLOOKUP('entries and results'!G659,$A$3:$E$30018,2,FALSE)","v":" "},null,657,".",{"$f":"VLOOKUP('entries and results'!N659,$H$3:$K$30018,2,FALSE)","v":" "},{"$f":"VLOOKUP('entries and results'!N659,$H$3:$K$30018,3,FALSE)","v":" "},{"$f":"VLOOKUP('entries and results'!N659,$H$3:$K$30018,4,FALSE)","v":" "},null," ","00:00",null,null,null,null,null,null,null,null,null,null,null,null,null,null,null,null,null,null,null,null,null,null,null,null,null,null,null,null,null,null,null,null,null,null,null,null,null,null,null,null,null,null,null,"00:00",657,0,"0000000","00","00","00"]
["SA02933","North Uist AAC","1995-02-24","Ewen Campbell","SA02933","Under 17",".",658,{"$f":"VLOOKUP('entries and results'!G660,$A$3:$E$30018,4,FALSE)","v":" "},{"$f":"VLOOKUP('entries and results'!G660,$A$3:$F$30018,6,FALSE)","v":" "},{"$f":"VLOOKUP('entries and results'!G660,$A$3:$E$30018,2,FALSE)","v":" "},null,658,".",{"$f":"VLOOKUP('entries and results'!N660,$H$3:$K$30018,2,FALSE)","v":" "},{"$f":"VLOOKUP('entries and results'!N660,$H$3:$K$30018,3,FALSE)","v":" "},{"$f":"VLOOKUP('entries and results'!N660,$H$3:$K$30018,4,FALSE)","v":" "},null," ","00:00",null,null,null,null,null,null,null,null,null,null,null,null,null,null,null,null,null,null,null,null,null,null,null,null,null,null,null,null,null,null,null,null,null,null,null,null,null,null,null,null,null,null,null,{"$f":"CONCATENATE(BQ660,\":\",BR660)","v":"00:00"},658,0,"0000000","00","00","00"]
["SA02936","North Uist AAC","1994-10-10","Nadine Froughi","SA02936","Under 17",".",659,{"$f":"VLOOKUP('entries and results'!G661,$A$3:$E$30018,4,FALSE)","v":" "},{"$f":"VLOOKUP('entries and results'!G661,$A$3:$F$30018,6,FALSE)","v":" "},{"$f":"VLOOKUP('entries and results'!G661,$A$3:$E$30018,2,FALSE)","v":" "},null,659,".",{"$f":"VLOOKUP('entries and results'!N661,$H$3:$K$30018,2,FALSE)","v":" "},{"$f":"VLOOKUP('entries and results'!N661,$H$3:$K$30018,3,FALSE)","v":" "},{"$f":"VLOOKUP('entries and results'!N661,$H$3:$K$30018,4,FALSE)","v":" "},null," ","00:00",null,null,null,null,null,null,null,null,null,null,null,null,null,null,null,null,null,null,null,null,null,null,null,null,null,null,null,null,null,null,null,null,null,null,null,null,null,null,null,null,null,null,null,"00:00",659,0,"0000000","00","00","00"]
["SA02938","North Uist AAC","1994-01-18","Allan Gordon","SA02938","Under 17",".",660,{"$f":"VLOOKUP('entries and results'!G662,$A$3:$E$30018,4,FALSE)","v":" "},{"$f":"VLOOKUP('entries and results'!G662,$A$3:$F$30018,6,FALSE)","v":" "},{"$f":"VLOOKUP('entries and results'!G662,$A$3:$E$30018,2,FALSE)","v":" "},null,660,".",{"$f":"VLOOKUP('entries and results'!N662,$H$3:$K$30018,2,FALSE)","v":" "},{"$f":"VLOOKUP('entries and results'!N662,$H$3:$K$30018,3,FALSE)","v":" "},{"$f":"VLOOKUP('entries and results'!N662,$H$3:$K$30018,4,FALSE)","v":" "},null," ","00:00",null,null,null,null,null,null,null,null,null,null,null,null,null,null,null,null,null,null,null,null,null,null,null,null,null,null,null,null,null,null,null,null,null,null,null,null,null,null,null,null,null,null,null,"00:00",660,0,"0000000","00","00","00"]
["SA02940","North Uist AAC","1994-11-24","Eilidh Johnson","SA02940","Under 17",".",661,{"$f":"VLOOKUP('entries and results'!G663,$A$3:$E$30018,4,FALSE)","v":" "},{"$f":"VLOOKUP('entries and results'!G663,$A$3:$F$30018,6,FALSE)","v":" "},{"$f":"VLOOKUP('entries and results'!G663,$A$3:$E$30018,2,FALSE)","v":" "},null,661,".",{"$f":"VLOOKUP('entries and results'!N663,$H$3:$K$30018,2,FALSE)","v":" "},{"$f":"VLOOKUP('entries and results'!N663,$H$3:$K$30018,3,FALSE)","v":" "},{"$f":"VLOOKUP('entries and results'!N663,$H$3:$K$30018,4,FALSE)","v":" "},null," ","00:00",null,null,null,null,null,null,null,null,null,null,null,null,null,null,null,null,null,null,null,null,null,null,null,null,null,null,null,null,null,null,null,null,null,null,null,null,null,null,null,null,null,null,null,"00:00",661,0,"0000000","00","00","00"]
["SA02945","North Uist AAC","1995-05-22","Kathleen MacDonald","SA02945","Under 17",".",662,{"$f":"VLOOKUP('entries and results'!G664,$A$3:$E$30018,4,FALSE)","v":" "},{"$f":"VLOOKUP('entries and results'!G664,$A$3:$F$30018,6,FALSE)","v":" "},{"$f":"VLOOKUP('entries and results'!G664,$A$3:$E$30018,2,FALSE)","v":" "},null,662,".",{"$f":"VLOOKUP('entries and results'!N664,$H$3:$K$30018,2,FALSE)","v":" "},{"$f":"VLOOKUP('entries and results'!N664,$H$3:$K$30018,3,FALSE)","v":" "},{"$f":"VLOOKUP('entries and results'!N664,$H$3:$K$30018,4,FALSE)","v":" "},null," ","00:00",null,null,null,null,null,null,null,null,null,null,null,null,null,null,null,null,null,null,null,null,null,null,null,null,null,null,null,null,null,null,null,null,null,null,null,null,null,null,null,null,null,null,null,"00:00",662,0,"0000000","00","00","00"]
["SA02954","North Uist AAC","1994-12-22","Carl Macphee","SA02954","Under 17",".",663,{"$f":"VLOOKUP('entries and results'!G665,$A$3:$E$30018,4,FALSE)","v":" "},{"$f":"VLOOKUP('entries and results'!G665,$A$3:$F$30018,6,FALSE)","v":" "},{"$f":"VLOOKUP('entries and results'!G665,$A$3:$E$30018,2,FALSE)","v":" "},null,663,".",{"$f":"VLOOKUP('entries and results'!N665,$H$3:$K$30018,2,FALSE)","v":" "},{"$f":"VLOOKUP('entries and results'!N665,$H$3:$K$30018,3,FALSE)","v":" "},{"$f":"VLOOKUP('entries and results'!N665,$H$3:$K$30018,4,FALSE)","v":" "},null," ","00:00",null,null,null,null,null,null,null,null,null,null,null,null,null,null,null,null,null,null,null,null,null,null,null,null,null,null,null,null,null,null,null,null,null,null,null,null,null,null,null,null,null,null,null,"00:00",663,0,"0000000","00","00","00"]
["SA02960","North Uist AAC","1994-04-10","James Stewart","SA02960","Under 17",".",664,{"$f":"VLOOKUP('entries and results'!G666,$A$3:$E$30018,4,FALSE)","v":" "},{"$f":"VLOOKUP('entries and results'!G666,$A$3:$F$30018,6,FALSE)","v":" "},{"$f":"VLOOKUP('entries and results'!G666,$A$3:$E$30018,2,FALSE)","v":" "},null,664,".",{"$f":"VLOOKUP('entries and results'!N666,$H$3:$K$30018,2,FALSE)","v":" "},{"$f":"VLOOKUP('entries and results'!N666,$H$3:$K$30018,3,FALSE)","v":" "},{"$f":"VLOOKUP('entries and results'!N666,$H$3:$K$30018,4,FALSE)","v":" "},null," ","00:00",null,null,null,null,null,null,null,null,null,null,null,null,null,null,null,null,null,null,null,null,null,null,null,null,null,null,null,null,null,null,null,null,null,null,null,null,null,null,null,null,null,null,null,"00:00",664,0,"0000000","00","00","00"]
["SA02961","North Uist AAC","1993-04-21","Nikita Thompson","SA02961","Senior",".",665,{"$f":"VLOOKUP('entries and results'!G667,$A$3:$E$30018,4,FALSE)","v":" "},{"$f":"VLOOKUP('entries and results'!G667,$A$3:$F$30018,6,FALSE)","v":" "},{"$f":"VLOOKUP('entries and results'!G667,$A$3:$E$30018,2,FALSE)","v":" "},null,665,".",{"$f":"VLOOKUP('entries and results'!N667,$H$3:$K$30018,2,FALSE)","v":" "},{"$f":"VLOOKUP('entries and results'!N667,$H$3:$K$30018,3,FALSE)","v":" "},{"$f":"VLOOKUP('entries and results'!N667,$H$3:$K$30018,4,FALSE)","v":" "},null," ","00:00",null,null,null,null,null,null,null,null,null,null,null,null,null,null,null,null,null,null,null,null,null,null,null,null,null,null,null,null,null,null,null,null,null,null,null,null,null,null,null,null,null,null,null,"00:00",665,0,"0000000","00","00","00"]
["SA02964","Orkney AC","1993-10-06","Jamie Firth","SA02964","Under 17",".",666,{"$f":"VLOOKUP('entries and results'!G668,$A$3:$E$30018,4,FALSE)","v":" "},{"$f":"VLOOKUP('entries and results'!G668,$A$3:$F$30018,6,FALSE)","v":" "},{"$f":"VLOOKUP('entries and results'!G668,$A$3:$E$30018,2,FALSE)","v":" "},null,666,".",{"$f":"VLOOKUP('entries and results'!N668,$H$3:$K$30018,2,FALSE)","v":" "},{"$f":"VLOOKUP('entries and results'!N668,$H$3:$K$30018,3,FALSE)","v":" "},{"$f":"VLOOKUP('entries and results'!N668,$H$3:$K$30018,4,FALSE)","v":" "},null," ","00:00",null,null,null,null,null,null,null,null,null,null,null,null,null,null,null,null,null,null,null,null,null,null,null,null,null,null,null,null,null,null,null,null,null,null,null,null,null,null,null,null,null,null,null,"00:00",666,0,"0000000","00","00","00"]
["SA02966","Orkney AC","1993-01-26","Carolynn Leslie","SA02966","Senior",".",667,{"$f":"VLOOKUP('entries and results'!G669,$A$3:$E$30018,4,FALSE)","v":" "},{"$f":"VLOOKUP('entries and results'!G669,$A$3:$F$30018,6,FALSE)","v":" "},{"$f":"VLOOKUP('entries and results'!G669,$A$3:$E$30018,2,FALSE)","v":" "},null,667,".",{"$f":"VLOOKUP('entries and results'!N669,$H$3:$K$30018,2,FALSE)","v":" "},{"$f":"VLOOKUP('entries and results'!N669,$H$3:$K$30018,3,FALSE)","v":" "},{"$f":"VLOOKUP('entries and results'!N669,$H$3:$K$30018,4,FALSE)","v":" "},null," ","00:00",null,null,null,null,null,null,null,null,null,null,null,null,null,null,null,null,null,null,null,null,null,null,null,null,null,null,null,null,null,null,null,null,null,null,null,null,null,null,null,null,null,null,null,"00:00",667,0,"0000000","00","00","00"]
["SA02967","Orkney AC","1995-04-11","Rhian MacKay","SA02967","Under 17",".",668,{"$f":"VLOOKUP('entries and results'!G670,$A$3:$E$30018,4,FALSE)","v":" "},{"$f":"VLOOKUP('entries and results'!G670,$A$3:$F$30018,6,FALSE)","v":" "},{"$f":"VLOOKUP('entries and results'!G670,$A$3:$E$30018,2,FALSE)","v":" "},null,668,".",{"$f":"VLOOKUP('entries and results'!N670,$H$3:$K$30018,2,FALSE)","v":" "},{"$f":"VLOOKUP('entries and results'!N670,$H$3:$K$30018,3,FALSE)","v":" "},{"$f":"VLOOKUP('entries and results'!N670,$H$3:$K$30018,4,FALSE)","v":" "},null," ","00:00",null,null,null,null,null,null,null,null,null,null,null,null,null,null,null,null,null,null,null,null,null,null,null,null,null,null,null,null,null,null,null,null,null,null,null,null,null,null,null,null,null,null,null,{"$f":"CONCATENATE(BQ670,\":\",BR670)","v":"00:00"},668,0,"0000000","00","00","00"]
["SA02972","Orkney AC","1991-09-24","Callum Stevenson","SA02972","Senior",".",669,{"$f":"VLOOKUP('entries and results'!G671,$A$3:$E$30018,4,FALSE)","v":" "},{"$f":"VLOOKUP('entries and results'!G671,$A$3:$F$30018,6,FALSE)","v":" "},{"$f":"VLOOKUP('entries and results'!G671,$A$3:$E$30018,2,FALSE)","v":" "},null,669,".",{"$f":"VLOOKUP('entries and results'!N671,$H$3:$K$30018,2,FALSE)","v":" "},{"$f":"VLOOKUP('entries and results'!N671,$H$3:$K$30018,3,FALSE)","v":" "},{"$f":"VLOOKUP('entries and results'!N671,$H$3:$K$30018,4,FALSE)","v":" "},null," ","00:00",null,null,null,null,null,null,null,null,null,null,null,null,null,null,null,null,null,null,null,null,null,null,null,null,null,null,null,null,null,null,null,null,null,null,null,null,null,null,null,null,null,null,null,"00:00",669,0,"0000000","00","00","00"]
["SA02974","Orkney AC","1991-11-04","Claire Wilson","SA02974","Senior",".",670,{"$f":"VLOOKUP('entries and results'!G672,$A$3:$E$30018,4,FALSE)","v":" "},{"$f":"VLOOKUP('entries and results'!G672,$A$3:$F$30018,6,FALSE)","v":" "},{"$f":"VLOOKUP('entries and results'!G672,$A$3:$E$30018,2,FALSE)","v":" "},null,670,".",{"$f":"VLOOKUP('entries and results'!N672,$H$3:$K$30018,2,FALSE)","v":" "},{"$f":"VLOOKUP('entries and results'!N672,$H$3:$K$30018,3,FALSE)","v":" "},{"$f":"VLOOKUP('entries and results'!N672,$H$3:$K$30018,4,FALSE)","v":" "},null," ","00:00",null,null,null,null,null,null,null,null,null,null,null,null,null,null,null,null,null,null,null,null,null,null,null,null,null,null,null,null,null,null,null,null,null,null,null,null,null,null,null,null,null,null,null,"00:00",670,0,"0000000","00","00","00"]
["SA02975","Perth Strathtay Harriers","1992-01-17","Cara Anderson","SA02975","Senior",".",671,{"$f":"VLOOKUP('entries and results'!G673,$A$3:$E$30018,4,FALSE)","v":" "},{"$f":"VLOOKUP('entries and results'!G673,$A$3:$F$30018,6,FALSE)","v":" "},{"$f":"VLOOKUP('entries and results'!G673,$A$3:$E$30018,2,FALSE)","v":" "},null,671,".",{"$f":"VLOOKUP('entries and results'!N673,$H$3:$K$30018,2,FALSE)","v":" "},{"$f":"VLOOKUP('entries and results'!N673,$H$3:$K$30018,3,FALSE)","v":" "},{"$f":"VLOOKUP('entries and results'!N673,$H$3:$K$30018,4,FALSE)","v":" "},null," ","00:00",null,null,null,null,null,null,null,null,null,null,null,null,null,null,null,null,null,null,null,null,null,null,null,null,null,null,null,null,null,null,null,null,null,null,null,null,null,null,null,null,null,null,null,"00:00",671,0,"0000000","00","00","00"]
["SA02978","Perth Strathtay Harriers","1996-04-05","Dean Byrne","SA02978","Under 15",".",672,{"$f":"VLOOKUP('entries and results'!G674,$A$3:$E$30018,4,FALSE)","v":" "},{"$f":"VLOOKUP('entries and results'!G674,$A$3:$F$30018,6,FALSE)","v":" "},{"$f":"VLOOKUP('entries and results'!G674,$A$3:$E$30018,2,FALSE)","v":" "},null,672,".",{"$f":"VLOOKUP('entries and results'!N674,$H$3:$K$30018,2,FALSE)","v":" "},{"$f":"VLOOKUP('entries and results'!N674,$H$3:$K$30018,3,FALSE)","v":" "},{"$f":"VLOOKUP('entries and results'!N674,$H$3:$K$30018,4,FALSE)","v":" "},null," ","00:00",null,null,null,null,null,null,null,null,null,null,null,null,null,null,null,null,null,null,null,null,null,null,null,null,null,null,null,null,null,null,null,null,null,null,null,null,null,null,null,null,null,null,null,"00:00",672,0,"0000000","00","00","00"]
["SA02983","Perth Strathtay Harriers","1994-09-28","Alex Jardine","SA02983","Under 17",".",673,{"$f":"VLOOKUP('entries and results'!G675,$A$3:$E$30018,4,FALSE)","v":" "},{"$f":"VLOOKUP('entries and results'!G675,$A$3:$F$30018,6,FALSE)","v":" "},{"$f":"VLOOKUP('entries and results'!G675,$A$3:$E$30018,2,FALSE)","v":" "},null,673,".",{"$f":"VLOOKUP('entries and results'!N675,$H$3:$K$30018,2,FALSE)","v":" "},{"$f":"VLOOKUP('entries and results'!N675,$H$3:$K$30018,3,FALSE)","v":" "},{"$f":"VLOOKUP('entries and results'!N675,$H$3:$K$30018,4,FALSE)","v":" "},null," ","00:00",null,null,null,null,null,null,null,null,null,null,null,null,null,null,null,null,null,null,null,null,null,null,null,null,null,null,null,null,null,null,null,null,null,null,null,null,null,null,null,null,null,null,null,"00:00",673,{"$f":"SUMIF($H$3:$H$601,$BM675,$S$3:$S$601)","v":0},"0000000","00","00","00"]
["SA02990","Perth Strathtay Harriers","1994-10-04","Sarah McLaren","SA02990","Under 17",".",674,{"$f":"VLOOKUP('entries and results'!G676,$A$3:$E$30018,4,FALSE)","v":" "},{"$f":"VLOOKUP('entries and results'!G676,$A$3:$F$30018,6,FALSE)","v":" "},{"$f":"VLOOKUP('entries and results'!G676,$A$3:$E$30018,2,FALSE)","v":" "},null,674,".",{"$f":"VLOOKUP('entries and results'!N676,$H$3:$K$30018,2,FALSE)","v":" "},{"$f":"VLOOKUP('entries and results'!N676,$H$3:$K$30018,3,FALSE)","v":" "},{"$f":"VLOOKUP('entries and results'!N676,$H$3:$K$30018,4,FALSE)","v":" "},null," ","00:00",null,null,null,null,null,null,null,null,null,null,null,null,null,null,null,null,null,null,null,null,null,null,null,null,null,null,null,null,null,null,null,null,null,null,null,null,null,null,null,null,null,null,null,"00:00",674,0,"0000000","00","00","00"]
["SA02992","Central AC","1992-09-22","Craig Ritchie","SA02992","Senior",".",675,{"$f":"VLOOKUP('entries and results'!G677,$A$3:$E$30018,4,FALSE)","v":" "},{"$f":"VLOOKUP('entries and results'!G677,$A$3:$F$30018,6,FALSE)","v":" "},{"$f":"VLOOKUP('entries and results'!G677,$A$3:$E$30018,2,FALSE)","v":" "},null,675,".",{"$f":"VLOOKUP('entries and results'!N677,$H$3:$K$30018,2,FALSE)","v":" "},{"$f":"VLOOKUP('entries and results'!N677,$H$3:$K$30018,3,FALSE)","v":" "},{"$f":"VLOOKUP('entries and results'!N677,$H$3:$K$30018,4,FALSE)","v":" "},null," ","00:00",null,null,null,null,null,null,null,null,null,null,null,null,null,null,null,null,null,null,null,null,null,null,null,null,null,null,null,null,null,null,null,null,null,null,null,null,null,null,null,null,null,null,null,"00:00",675,0,"0000000","00","00","00"]
["SA03002","Edinburgh AC","1994-06-01","Bethanie Finlayson","SA03002","Under 17",".",676,{"$f":"VLOOKUP('entries and results'!G678,$A$3:$E$30018,4,FALSE)","v":" "},{"$f":"VLOOKUP('entries and results'!G678,$A$3:$F$30018,6,FALSE)","v":" "},{"$f":"VLOOKUP('entries and results'!G678,$A$3:$E$30018,2,FALSE)","v":" "},null,676,".",{"$f":"VLOOKUP('entries and results'!N678,$H$3:$K$30018,2,FALSE)","v":" "},{"$f":"VLOOKUP('entries and results'!N678,$H$3:$K$30018,3,FALSE)","v":" "},{"$f":"VLOOKUP('entries and results'!N678,$H$3:$K$30018,4,FALSE)","v":" "},null," ","00:00",null,null,null,null,null,null,null,null,null,null,null,null,null,null,null,null,null,null,null,null,null,null,null,null,null,null,null,null,null,null,null,null,null,null,null,null,null,null,null,null,null,null,null,"00:00",676,0,{"$f":"CONCATENATE($BI$2,$BN678)","v":"0000000"},{"$f":"MID(RIGHT($BO678,6),1,2)","v":"00"},{"$f":"MID(RIGHT($BO678,6),3,2)","v":"00"},{"$f":"MID(RIGHT($BO678,6),5,2)","v":"00"}]
["SA03007","Pitreavie AAC","1995-02-10","Lewis Hunter","SA03007","Under 17",".",677,{"$f":"VLOOKUP('entries and results'!G679,$A$3:$E$30018,4,FALSE)","v":" "},{"$f":"VLOOKUP('entries and results'!G679,$A$3:$F$30018,6,FALSE)","v":" "},{"$f":"VLOOKUP('entries and results'!G679,$A$3:$E$30018,2,FALSE)","v":" "},null,677,".",{"$f":"VLOOKUP('entries and results'!N679,$H$3:$K$30018,2,FALSE)","v":" "},{"$f":"VLOOKUP('entries and results'!N679,$H$3:$K$30018,3,FALSE)","v":" "},{"$f":"VLOOKUP('entries and results'!N679,$H$3:$K$30018,4,FALSE)","v":" "},null," ","00:00",null,null,null,null,null,null,null,null,null,null,null,null,null,null,null,null,null,null,null,null,null,null,null,null,null,null,null,null,null,null,null,null,null,null,null,null,null,null,null,null,null,null,null,"00:00",677,0,"0000000","00","00","00"]
["SA03010","Pitreavie AAC","1994-06-09","Luke Kelly","SA03010","Under 17",".",678,{"$f":"VLOOKUP('entries and results'!G680,$A$3:$E$30018,4,FALSE)","v":" "},{"$f":"VLOOKUP('entries and results'!G680,$A$3:$F$30018,6,FALSE)","v":" "},{"$f":"VLOOKUP('entries and results'!G680,$A$3:$E$30018,2,FALSE)","v":" "},null,678,".",{"$f":"VLOOKUP('entries and results'!N680,$H$3:$K$30018,2,FALSE)","v":" "},{"$f":"VLOOKUP('entries and results'!N680,$H$3:$K$30018,3,FALSE)","v":" "},{"$f":"VLOOKUP('entries and results'!N680,$H$3:$K$30018,4,FALSE)","v":" "},null," ","00:00",null,null,null,null,null,null,null,null,null,null,null,null,null,null,null,null,null,null,null,null,null,null,null,null,null,null,null,null,null,null,null,null,null,null,null,null,null,null,null,null,null,null,null,"00:00",678,0,"0000000","00","00","00"]
["SA03013","Pitreavie AAC","1993-06-17","Lisa Mcalpine","SA03013","Senior",".",679,{"$f":"VLOOKUP('entries and results'!G681,$A$3:$E$30018,4,FALSE)","v":" "},{"$f":"VLOOKUP('entries and results'!G681,$A$3:$F$30018,6,FALSE)","v":" "},{"$f":"VLOOKUP('entries and results'!G681,$A$3:$E$30018,2,FALSE)","v":" "},null,679,".",{"$f":"VLOOKUP('entries and results'!N681,$H$3:$K$30018,2,FALSE)","v":" "},{"$f":"VLOOKUP('entries and results'!N681,$H$3:$K$30018,3,FALSE)","v":" "},{"$f":"VLOOKUP('entries and results'!N681,$H$3:$K$30018,4,FALSE)","v":" "},null," ","00:00",null,null,null,null,null,null,null,null,null,null,null,null,null,null,null,null,null,null,null,null,null,null,null,null,null,null,null,null,null,null,null,null,null,null,null,null,null,null,null,null,null,null,null,"00:00",679,0,"0000000","00","00","00"]
["SA03016","Pitreavie AAC","1994-04-25","Joseph Millar","SA03016","Under 17",".",680,{"$f":"VLOOKUP('entries and results'!G682,$A$3:$E$30018,4,FALSE)","v":" "},{"$f":"VLOOKUP('entries and results'!G682,$A$3:$F$30018,6,FALSE)","v":" "},{"$f":"VLOOKUP('entries and results'!G682,$A$3:$E$30018,2,FALSE)","v":" "},null,680,".",{"$f":"VLOOKUP('entries and results'!N682,$H$3:$K$30018,2,FALSE)","v":" "},{"$f":"VLOOKUP('entries and results'!N682,$H$3:$K$30018,3,FALSE)","v":" "},{"$f":"VLOOKUP('entries and results'!N682,$H$3:$K$30018,4,FALSE)","v":" "},null," ","00:00",null,null,null,null,null,null,null,null,null,null,null,null,null,null,null,null,null,null,null,null,null,null,null,null,null,null,null,null,null,null,null,null,null,null,null,null,null,null,null,null,null,null,null,"00:00",680,0,"0000000","00","00","00"]
["SA03029","Portobello Running Club","1962-03-24","Sandra Murray","SA03029","Vet",".",681,{"$f":"VLOOKUP('entries and results'!G683,$A$3:$E$30018,4,FALSE)","v":" "},{"$f":"VLOOKUP('entries and results'!G683,$A$3:$F$30018,6,FALSE)","v":" "},{"$f":"VLOOKUP('entries and results'!G683,$A$3:$E$30018,2,FALSE)","v":" "},null,681,".",{"$f":"VLOOKUP('entries and results'!N683,$H$3:$K$30018,2,FALSE)","v":" "},{"$f":"VLOOKUP('entries and results'!N683,$H$3:$K$30018,3,FALSE)","v":" "},{"$f":"VLOOKUP('entries and results'!N683,$H$3:$K$30018,4,FALSE)","v":" "},null," ","00:00",null,null,null,null,null,null,null,null,null,null,null,null,null,null,null,null,null,null,null,null,null,null,null,null,null,null,null,null,null,null,null,null,null,null,null,null,null,null,null,null,null,null,null,"00:00",681,0,"0000000","00","00","00"]
["SA03032","Ron Hill Cambuslang Harriers","1993-09-26","Lucy Deeny","SA03032","Under 17",".",682,{"$f":"VLOOKUP('entries and results'!G684,$A$3:$E$30018,4,FALSE)","v":" "},{"$f":"VLOOKUP('entries and results'!G684,$A$3:$F$30018,6,FALSE)","v":" "},{"$f":"VLOOKUP('entries and results'!G684,$A$3:$E$30018,2,FALSE)","v":" "},null,682,".",{"$f":"VLOOKUP('entries and results'!N684,$H$3:$K$30018,2,FALSE)","v":" "},{"$f":"VLOOKUP('entries and results'!N684,$H$3:$K$30018,3,FALSE)","v":" "},{"$f":"VLOOKUP('entries and results'!N684,$H$3:$K$30018,4,FALSE)","v":" "},null," ","00:00",null,null,null,null,null,null,null,null,null,null,null,null,null,null,null,null,null,null,null,null,null,null,null,null,null,null,null,null,null,null,null,null,null,null,null,null,null,null,null,null,null,null,null,"00:00",682,0,"0000000","00","00","00"]
["SA03045","East Sutherland AC","1992-05-04","Cara Fraser","SA03045","Senior",".",683,{"$f":"VLOOKUP('entries and results'!G685,$A$3:$E$30018,4,FALSE)","v":" "},{"$f":"VLOOKUP('entries and results'!G685,$A$3:$F$30018,6,FALSE)","v":" "},{"$f":"VLOOKUP('entries and results'!G685,$A$3:$E$30018,2,FALSE)","v":" "},null,683,".",{"$f":"VLOOKUP('entries and results'!N685,$H$3:$K$30018,2,FALSE)","v":" "},{"$f":"VLOOKUP('entries and results'!N685,$H$3:$K$30018,3,FALSE)","v":" "},{"$f":"VLOOKUP('entries and results'!N685,$H$3:$K$30018,4,FALSE)","v":" "},null," ","00:00",null,null,null,null,null,null,null,null,null,null,null,null,null,null,null,null,null,null,null,null,null,null,null,null,null,null,null,null,null,null,null,null,null,null,null,null,null,null,null,null,null,null,null,"00:00",683,0,"0000000","00","00","00"]
["SA03058","Shettleston Harriers","1996-09-18","Ryan Flanagan","SA03058","Under 15",".",684,{"$f":"VLOOKUP('entries and results'!G686,$A$3:$E$30018,4,FALSE)","v":" "},{"$f":"VLOOKUP('entries and results'!G686,$A$3:$F$30018,6,FALSE)","v":" "},{"$f":"VLOOKUP('entries and results'!G686,$A$3:$E$30018,2,FALSE)","v":" "},null,684,".",{"$f":"VLOOKUP('entries and results'!N686,$H$3:$K$30018,2,FALSE)","v":" "},{"$f":"VLOOKUP('entries and results'!N686,$H$3:$K$30018,3,FALSE)","v":" "},{"$f":"VLOOKUP('entries and results'!N686,$H$3:$K$30018,4,FALSE)","v":" "},null," ","00:00",null,null,null,null,null,null,null,null,null,null,null,null,null,null,null,null,null,null,null,null,null,null,null,null,null,null,null,null,null,null,null,null,null,null,null,null,null,null,null,null,null,null,null,"00:00",684,0,"0000000","00","00","00"]
["SA03067","Shettleston Harriers","1996-05-19","Nicole McCann","SA03067","Under 15",".",685,{"$f":"VLOOKUP('entries and results'!G687,$A$3:$E$30018,4,FALSE)","v":" "},{"$f":"VLOOKUP('entries and results'!G687,$A$3:$F$30018,6,FALSE)","v":" "},{"$f":"VLOOKUP('entries and results'!G687,$A$3:$E$30018,2,FALSE)","v":" "},null,685,".",{"$f":"VLOOKUP('entries and results'!N687,$H$3:$K$30018,2,FALSE)","v":" "},{"$f":"VLOOKUP('entries and results'!N687,$H$3:$K$30018,3,FALSE)","v":" "},{"$f":"VLOOKUP('entries and results'!N687,$H$3:$K$30018,4,FALSE)","v":" "},null," ","00:00",null,null,null,null,null,null,null,null,null,null,null,null,null,null,null,null,null,null,null,null,null,null,null,null,null,null,null,null,null,null,null,null,null,null,null,null,null,null,null,null,null,null,null,"00:00",685,0,"0000000","00","00","00"]
["SA03071","Shettleston Harriers","1996-11-16","Murray McGiven","SA03071","Under 15",".",686,{"$f":"VLOOKUP('entries and results'!G688,$A$3:$E$30018,4,FALSE)","v":" "},{"$f":"VLOOKUP('entries and results'!G688,$A$3:$F$30018,6,FALSE)","v":" "},{"$f":"VLOOKUP('entries and results'!G688,$A$3:$E$30018,2,FALSE)","v":" "},null,686,".",{"$f":"VLOOKUP('entries and results'!N688,$H$3:$K$30018,2,FALSE)","v":" "},{"$f":"VLOOKUP('entries and results'!N688,$H$3:$K$30018,3,FALSE)","v":" "},{"$f":"VLOOKUP('entries and results'!N688,$H$3:$K$30018,4,FALSE)","v":" "},null," ","00:00",null,null,null,null,null,null,null,null,null,null,null,null,null,null,null,null,null,null,null,null,null,null,null,null,null,null,null,null,null,null,null,null,null,null,null,null,null,null,null,null,null,null,null,"00:00",686,0,"0000000","00","00","00"]
["SA03074","Shettleston Harriers","1994-12-17","Amanda Monaghan","SA03074","Under 17",".",687,{"$f":"VLOOKUP('entries and results'!G689,$A$3:$E$30018,4,FALSE)","v":" "},{"$f":"VLOOKUP('entries and results'!G689,$A$3:$F$30018,6,FALSE)","v":" "},{"$f":"VLOOKUP('entries and results'!G689,$A$3:$E$30018,2,FALSE)","v":" "},null,687,".",{"$f":"VLOOKUP('entries and results'!N689,$H$3:$K$30018,2,FALSE)","v":" "},{"$f":"VLOOKUP('entries and results'!N689,$H$3:$K$30018,3,FALSE)","v":" "},{"$f":"VLOOKUP('entries and results'!N689,$H$3:$K$30018,4,FALSE)","v":" "},null," ","00:00",null,null,null,null,null,null,null,null,null,null,null,null,null,null,null,null,null,null,null,null,null,null,null,null,null,null,null,null,null,null,null,null,null,null,null,null,null,null,null,null,null,null,null,"00:00",687,0,"0000000","00","00","00"]
["SA03081","Shettleston Harriers","1993-12-15","Nicky Stone","SA03081","Under 17",".",688,{"$f":"VLOOKUP('entries and results'!G690,$A$3:$E$30018,4,FALSE)","v":" "},{"$f":"VLOOKUP('entries and results'!G690,$A$3:$F$30018,6,FALSE)","v":" "},{"$f":"VLOOKUP('entries and results'!G690,$A$3:$E$30018,2,FALSE)","v":" "},null,688,".",{"$f":"VLOOKUP('entries and results'!N690,$H$3:$K$30018,2,FALSE)","v":" "},{"$f":"VLOOKUP('entries and results'!N690,$H$3:$K$30018,3,FALSE)","v":" "},{"$f":"VLOOKUP('entries and results'!N690,$H$3:$K$30018,4,FALSE)","v":" "},null," ","00:00",null,null,null,null,null,null,null,null,null,null,null,null,null,null,null,null,null,null,null,null,null,null,null,null,null,null,null,null,null,null,null,null,null,null,null,null,null,null,null,null,null,null,null,"00:00",688,0,"0000000","00","00","00"]
["SA03082","Shettleston Harriers","1996-11-25","Andrew Taylor","SA03082","Under 15",".",689,{"$f":"VLOOKUP('entries and results'!G691,$A$3:$E$30018,4,FALSE)","v":" "},{"$f":"VLOOKUP('entries and results'!G691,$A$3:$F$30018,6,FALSE)","v":" "},{"$f":"VLOOKUP('entries and results'!G691,$A$3:$E$30018,2,FALSE)","v":" "},null,689,".",{"$f":"VLOOKUP('entries and results'!N691,$H$3:$K$30018,2,FALSE)","v":" "},{"$f":"VLOOKUP('entries and results'!N691,$H$3:$K$30018,3,FALSE)","v":" "},{"$f":"VLOOKUP('entries and results'!N691,$H$3:$K$30018,4,FALSE)","v":" "},null," ","00:00",null,null,null,null,null,null,null,null,null,null,null,null,null,null,null,null,null,null,null,null,null,null,null,null,null,null,null,null,null,null,null,null,null,null,null,null,null,null,null,null,null,null,null,"00:00",689,0,"0000000","00","00","00"]
["SA03083","Shettleston Harriers","1993-10-22","David Taylor","SA03083","Under 17",".",690,{"$f":"VLOOKUP('entries and results'!G692,$A$3:$E$30018,4,FALSE)","v":" "},{"$f":"VLOOKUP('entries and results'!G692,$A$3:$F$30018,6,FALSE)","v":" "},{"$f":"VLOOKUP('entries and results'!G692,$A$3:$E$30018,2,FALSE)","v":" "},null,690,".",{"$f":"VLOOKUP('entries and results'!N692,$H$3:$K$30018,2,FALSE)","v":" "},{"$f":"VLOOKUP('entries and results'!N692,$H$3:$K$30018,3,FALSE)","v":" "},{"$f":"VLOOKUP('entries and results'!N692,$H$3:$K$30018,4,FALSE)","v":" "},null," ","00:00",null,null,null,null,null,null,null,null,null,null,null,null,null,null,null,null,null,null,null,null,null,null,null,null,null,null,null,null,null,null,null,null,null,null,null,null,null,null,null,null,null,null,null,"00:00",690,0,"0000000","00","00","00"]
["SA03084","Shettleston Harriers","1995-10-06","Lisa Thomson","SA03084","Under 15",".",691,{"$f":"VLOOKUP('entries and results'!G693,$A$3:$E$30018,4,FALSE)","v":" "},{"$f":"VLOOKUP('entries and results'!G693,$A$3:$F$30018,6,FALSE)","v":" "},{"$f":"VLOOKUP('entries and results'!G693,$A$3:$E$30018,2,FALSE)","v":" "},null,691,".",{"$f":"VLOOKUP('entries and results'!N693,$H$3:$K$30018,2,FALSE)","v":" "},{"$f":"VLOOKUP('entries and results'!N693,$H$3:$K$30018,3,FALSE)","v":" "},{"$f":"VLOOKUP('entries and results'!N693,$H$3:$K$30018,4,FALSE)","v":" "},null," ","00:00",null,null,null,null,null,null,null,null,null,null,null,null,null,null,null,null,null,null,null,null,null,null,null,null,null,null,null,null,null,null,null,null,null,null,null,null,null,null,null,null,null,null,null,"00:00",691,0,"0000000","00","00","00"]
["SA03091","Stewartry AC","1996-06-09","Kirsten Gair","SA03091","Under 15",".",692,{"$f":"VLOOKUP('entries and results'!G694,$A$3:$E$30018,4,FALSE)","v":" "},{"$f":"VLOOKUP('entries and results'!G694,$A$3:$F$30018,6,FALSE)","v":" "},{"$f":"VLOOKUP('entries and results'!G694,$A$3:$E$30018,2,FALSE)","v":" "},null,692,".",{"$f":"VLOOKUP('entries and results'!N694,$H$3:$K$30018,2,FALSE)","v":" "},{"$f":"VLOOKUP('entries and results'!N694,$H$3:$K$30018,3,FALSE)","v":" "},{"$f":"VLOOKUP('entries and results'!N694,$H$3:$K$30018,4,FALSE)","v":" "},null," ","00:00",null,null,null,null,null,null,null,null,null,null,null,null,null,null,null,null,null,null,null,null,null,null,null,null,null,null,null,null,null,null,null,null,null,null,null,null,null,null,null,null,null,null,null,"00:00",692,0,"0000000","00","00","00"]
["SA03103","Stornoway Running & AC","1994-09-23","Rebecca Munro","SA03103","Under 17",".",693,{"$f":"VLOOKUP('entries and results'!G695,$A$3:$E$30018,4,FALSE)","v":" "},{"$f":"VLOOKUP('entries and results'!G695,$A$3:$F$30018,6,FALSE)","v":" "},{"$f":"VLOOKUP('entries and results'!G695,$A$3:$E$30018,2,FALSE)","v":" "},null,693,".",{"$f":"VLOOKUP('entries and results'!N695,$H$3:$K$30018,2,FALSE)","v":" "},{"$f":"VLOOKUP('entries and results'!N695,$H$3:$K$30018,3,FALSE)","v":" "},{"$f":"VLOOKUP('entries and results'!N695,$H$3:$K$30018,4,FALSE)","v":" "},null," ","00:00",null,null,null,null,null,null,null,null,null,null,null,null,null,null,null,null,null,null,null,null,null,null,null,null,null,null,null,null,null,null,null,null,null,null,null,null,null,null,null,null,null,null,null,"00:00",693,0,"0000000","00","00","00"]
["SA03106","Stornoway Running & AC","1992-08-28","Pat Sattaphol","SA03106","Senior",".",694,{"$f":"VLOOKUP('entries and results'!G696,$A$3:$E$30018,4,FALSE)","v":" "},{"$f":"VLOOKUP('entries and results'!G696,$A$3:$F$30018,6,FALSE)","v":" "},{"$f":"VLOOKUP('entries and results'!G696,$A$3:$E$30018,2,FALSE)","v":" "},null,694,".",{"$f":"VLOOKUP('entries and results'!N696,$H$3:$K$30018,2,FALSE)","v":" "},{"$f":"VLOOKUP('entries and results'!N696,$H$3:$K$30018,3,FALSE)","v":" "},{"$f":"VLOOKUP('entries and results'!N696,$H$3:$K$30018,4,FALSE)","v":" "},null," ","00:00",null,null,null,null,null,null,null,null,null,null,null,null,null,null,null,null,null,null,null,null,null,null,null,null,null,null,null,null,null,null,null,null,null,null,null,null,null,null,null,null,null,null,null,"00:00",694,0,"0000000","00","00","00"]
["SA03107","Stornoway Running & AC","1993-10-02","Josh Sinclair","SA03107","Under 17",".",695,{"$f":"VLOOKUP('entries and results'!G697,$A$3:$E$30018,4,FALSE)","v":" "},{"$f":"VLOOKUP('entries and results'!G697,$A$3:$F$30018,6,FALSE)","v":" "},{"$f":"VLOOKUP('entries and results'!G697,$A$3:$E$30018,2,FALSE)","v":" "},null,695,".",{"$f":"VLOOKUP('entries and results'!N697,$H$3:$K$30018,2,FALSE)","v":" "},{"$f":"VLOOKUP('entries and results'!N697,$H$3:$K$30018,3,FALSE)","v":" "},{"$f":"VLOOKUP('entries and results'!N697,$H$3:$K$30018,4,FALSE)","v":" "},null," ","00:00",null,null,null,null,null,null,null,null,null,null,null,null,null,null,null,null,null,null,null,null,null,null,null,null,null,null,null,null,null,null,null,null,null,null,null,null,null,null,null,null,null,null,null,"00:00",695,0,"0000000","00","00","00"]
["SA03109","Tonbridge A.C.","1990-02-18","Samuel Bradley","SA03109","Senior",".",696,{"$f":"VLOOKUP('entries and results'!G698,$A$3:$E$30018,4,FALSE)","v":" "},{"$f":"VLOOKUP('entries and results'!G698,$A$3:$F$30018,6,FALSE)","v":" "},{"$f":"VLOOKUP('entries and results'!G698,$A$3:$E$30018,2,FALSE)","v":" "},null,696,".",{"$f":"VLOOKUP('entries and results'!N698,$H$3:$K$30018,2,FALSE)","v":" "},{"$f":"VLOOKUP('entries and results'!N698,$H$3:$K$30018,3,FALSE)","v":" "},{"$f":"VLOOKUP('entries and results'!N698,$H$3:$K$30018,4,FALSE)","v":" "},null," ","00:00",null,null,null,null,null,null,null,null,null,null,null,null,null,null,null,null,null,null,null,null,null,null,null,null,null,null,null,null,null,null,null,null,null,null,null,null,null,null,null,null,null,null,null,"00:00",696,0,"0000000","00","00","00"]
["SA03152","Whitemoss AAC","1997-11-10","Brendan Owen","SA03152","Under 13",".",697,{"$f":"VLOOKUP('entries and results'!G699,$A$3:$E$30018,4,FALSE)","v":" "},{"$f":"VLOOKUP('entries and results'!G699,$A$3:$F$30018,6,FALSE)","v":" "},{"$f":"VLOOKUP('entries and results'!G699,$A$3:$E$30018,2,FALSE)","v":" "},null,697,".",{"$f":"VLOOKUP('entries and results'!N699,$H$3:$K$30018,2,FALSE)","v":" "},{"$f":"VLOOKUP('entries and results'!N699,$H$3:$K$30018,3,FALSE)","v":" "},{"$f":"VLOOKUP('entries and results'!N699,$H$3:$K$30018,4,FALSE)","v":" "},null," ","00:00",null,null,null,null,null,null,null,null,null,null,null,null,null,null,null,null,null,null,null,null,null,null,null,null,null,null,null,null,null,null,null,null,null,null,null,null,null,null,null,null,null,null,null,"00:00",697,0,"0000000","00","00","00"]
["SA03155","Whitemoss AAC","1996-11-25","Calum Walker","SA03155","Under 15",".",698,{"$f":"VLOOKUP('entries and results'!G700,$A$3:$E$30018,4,FALSE)","v":" "},{"$f":"VLOOKUP('entries and results'!G700,$A$3:$F$30018,6,FALSE)","v":" "},{"$f":"VLOOKUP('entries and results'!G700,$A$3:$E$30018,2,FALSE)","v":" "},null,698,".",{"$f":"VLOOKUP('entries and results'!N700,$H$3:$K$30018,2,FALSE)","v":" "},{"$f":"VLOOKUP('entries and results'!N700,$H$3:$K$30018,3,FALSE)","v":" "},{"$f":"VLOOKUP('entries and results'!N700,$H$3:$K$30018,4,FALSE)","v":" "},null," ","00:00",null,null,null,null,null,null,null,null,null,null,null,null,null,null,null,null,null,null,null,null,null,null,null,null,null,null,null,null,null,null,null,null,null,null,null,null,null,null,null,null,null,null,null,"00:00",698,0,"0000000","00","00","00"]
["SA03219","Fife AC","1995-10-08","Liam Sleigh","SA03219","Under 15",".",699,{"$f":"VLOOKUP('entries and results'!G701,$A$3:$E$30018,4,FALSE)","v":" "},{"$f":"VLOOKUP('entries and results'!G701,$A$3:$F$30018,6,FALSE)","v":" "},{"$f":"VLOOKUP('entries and results'!G701,$A$3:$E$30018,2,FALSE)","v":" "},null,699,".",{"$f":"VLOOKUP('entries and results'!N701,$H$3:$K$30018,2,FALSE)","v":" "},{"$f":"VLOOKUP('entries and results'!N701,$H$3:$K$30018,3,FALSE)","v":" "},{"$f":"VLOOKUP('entries and results'!N701,$H$3:$K$30018,4,FALSE)","v":" "},null," ","00:00",null,null,null,null,null,null,null,null,null,null,null,null,null,null,null,null,null,null,null,null,null,null,null,null,null,null,null,null,null,null,null,null,null,null,null,null,null,null,null,null,null,null,null,"00:00",699,0,"0000000","00","00","00"]
["SA03338","Pitreavie AAC","1992-07-16","Robyn Binnington","SA03338","Senior",".",700,{"$f":"VLOOKUP('entries and results'!G702,$A$3:$E$30018,4,FALSE)","v":" "},{"$f":"VLOOKUP('entries and results'!G702,$A$3:$F$30018,6,FALSE)","v":" "},{"$f":"VLOOKUP('entries and results'!G702,$A$3:$E$30018,2,FALSE)","v":" "},null,700,".",{"$f":"VLOOKUP('entries and results'!N702,$H$3:$K$30018,2,FALSE)","v":" "},{"$f":"VLOOKUP('entries and results'!N702,$H$3:$K$30018,3,FALSE)","v":" "},{"$f":"VLOOKUP('entries and results'!N702,$H$3:$K$30018,4,FALSE)","v":" "},null," ","00:00",null,null,null,null,null,null,null,null,null,null,null,null,null,null,null,null,null,null,null,null,null,null,null,null,null,null,null,null,null,null,null,null,null,null,null,null,null,null,null,null,null,null,null,"00:00",700,0,"0000000","00","00","00"]
["SA03339","George Heriots School","1992-03-03","Gordon Revolta","SA03339","Senior",".",701,{"$f":"VLOOKUP('entries and results'!G703,$A$3:$E$30018,4,FALSE)","v":" "},{"$f":"VLOOKUP('entries and results'!G703,$A$3:$F$30018,6,FALSE)","v":" "},{"$f":"VLOOKUP('entries and results'!G703,$A$3:$E$30018,2,FALSE)","v":" "},null,701,".",{"$f":"VLOOKUP('entries and results'!N703,$H$3:$K$30018,2,FALSE)","v":" "},{"$f":"VLOOKUP('entries and results'!N703,$H$3:$K$30018,3,FALSE)","v":" "},{"$f":"VLOOKUP('entries and results'!N703,$H$3:$K$30018,4,FALSE)","v":" "},null," ","00:00",null,null,null,null,null,null,null,null,null,null,null,null,null,null,null,null,null,null,null,null,null,null,null,null,null,null,null,null,null,null,null,null,null,null,null,null,null,null,null,null,null,null,null,"00:00",701,0,"0000000","00","00","00"]
["SA03474","Giffnock North AAC","1994-09-09","Stephanie Fairfield","SA03474","Under 17",".",702,{"$f":"VLOOKUP('entries and results'!G704,$A$3:$E$30018,4,FALSE)","v":" "},{"$f":"VLOOKUP('entries and results'!G704,$A$3:$F$30018,6,FALSE)","v":" "},{"$f":"VLOOKUP('entries and results'!G704,$A$3:$E$30018,2,FALSE)","v":" "},null,702,".",{"$f":"VLOOKUP('entries and results'!N704,$H$3:$K$30018,2,FALSE)","v":" "},{"$f":"VLOOKUP('entries and results'!N704,$H$3:$K$30018,3,FALSE)","v":" "},{"$f":"VLOOKUP('entries and results'!N704,$H$3:$K$30018,4,FALSE)","v":" "},null," ","00:00",null,null,null,null,null,null,null,null,null,null,null,null,null,null,null,null,null,null,null,null,null,null,null,null,null,null,null,null,null,null,null,null,null,null,null,null,null,null,null,null,null,null,null,"00:00",702,0,"0000000","00","00","00"]
["SA03512","Dundee Hawkhill Harriers","1995-06-09","Jamie Crowe","SA03512","Under 17",".",703,{"$f":"VLOOKUP('entries and results'!G705,$A$3:$E$30018,4,FALSE)","v":" "},{"$f":"VLOOKUP('entries and results'!G705,$A$3:$F$30018,6,FALSE)","v":" "},{"$f":"VLOOKUP('entries and results'!G705,$A$3:$E$30018,2,FALSE)","v":" "},null,703,".",{"$f":"VLOOKUP('entries and results'!N705,$H$3:$K$30018,2,FALSE)","v":" "},{"$f":"VLOOKUP('entries and results'!N705,$H$3:$K$30018,3,FALSE)","v":" "},{"$f":"VLOOKUP('entries and results'!N705,$H$3:$K$30018,4,FALSE)","v":" "},null," ","00:00",null,null,null,null,null,null,null,null,null,null,null,null,null,null,null,null,null,null,null,null,null,null,null,null,null,null,null,null,null,null,null,null,null,null,null,null,null,null,null,null,null,null,null,"00:00",703,0,"0000000","00","00","00"]
["SA03517","Shettleston Harriers","1994-10-16","Danielle McConway","SA03517","Under 17",".",704,{"$f":"VLOOKUP('entries and results'!G706,$A$3:$E$30018,4,FALSE)","v":" "},{"$f":"VLOOKUP('entries and results'!G706,$A$3:$F$30018,6,FALSE)","v":" "},{"$f":"VLOOKUP('entries and results'!G706,$A$3:$E$30018,2,FALSE)","v":" "},null,704,".",{"$f":"VLOOKUP('entries and results'!N706,$H$3:$K$30018,2,FALSE)","v":" "},{"$f":"VLOOKUP('entries and results'!N706,$H$3:$K$30018,3,FALSE)","v":" "},{"$f":"VLOOKUP('entries and results'!N706,$H$3:$K$30018,4,FALSE)","v":" "},null," ","00:00",null,null,null,null,null,null,null,null,null,null,null,null,null,null,null,null,null,null,null,null,null,null,null,null,null,null,null,null,null,null,null,null,null,null,null,null,null,null,null,null,null,null,null,"00:00",704,0,"0000000","00","00","00"]
["SA03667","Fife AC","1994-07-06","Halina Rees","SA03667","Under 17",".",705,{"$f":"VLOOKUP('entries and results'!G707,$A$3:$E$30018,4,FALSE)","v":" "},{"$f":"VLOOKUP('entries and results'!G707,$A$3:$F$30018,6,FALSE)","v":" "},{"$f":"VLOOKUP('entries and results'!G707,$A$3:$E$30018,2,FALSE)","v":" "},null,705,".",{"$f":"VLOOKUP('entries and results'!N707,$H$3:$K$30018,2,FALSE)","v":" "},{"$f":"VLOOKUP('entries and results'!N707,$H$3:$K$30018,3,FALSE)","v":" "},{"$f":"VLOOKUP('entries and results'!N707,$H$3:$K$30018,4,FALSE)","v":" "},null," ","00:00",null,null,null,null,null,null,null,null,null,null,null,null,null,null,null,null,null,null,null,null,null,null,null,null,null,null,null,null,null,null,null,null,null,null,null,null,null,null,null,null,null,null,null,"00:00",705,{"$f":"SUMIF($H$3:$H$601,$BM707,$S$3:$S$601)","v":0},"0000000","00","00","00"]
["SA03743","Shettleston Harriers","1995-08-19","Brian Stuart","SA03743","Under 17",".",706,{"$f":"VLOOKUP('entries and results'!G708,$A$3:$E$30018,4,FALSE)","v":" "},{"$f":"VLOOKUP('entries and results'!G708,$A$3:$F$30018,6,FALSE)","v":" "},{"$f":"VLOOKUP('entries and results'!G708,$A$3:$E$30018,2,FALSE)","v":" "},null,706,".",{"$f":"VLOOKUP('entries and results'!N708,$H$3:$K$30018,2,FALSE)","v":" "},{"$f":"VLOOKUP('entries and results'!N708,$H$3:$K$30018,3,FALSE)","v":" "},{"$f":"VLOOKUP('entries and results'!N708,$H$3:$K$30018,4,FALSE)","v":" "},null," ",{"$f":"IF($H708=\"\",\" \",(LOOKUP($H708,$BM$3:$BM$1601,$BL$3:$BL$1601)))","v":"00:00"},null,null,null,null,null,null,null,null,null,null,null,null,null,null,null,null,null,null,null,null,null,null,null,null,null,null,null,null,null,null,null,null,null,null,null,null,null,null,null,null,null,null,null,"00:00",706,0,"0000000","00","00","00"]
["SA03787","VP-Glasgow AC","1995-03-15","Michael Murray","SA03787","Under 17",".",707,{"$f":"VLOOKUP('entries and results'!G709,$A$3:$E$30018,4,FALSE)","v":" "},{"$f":"VLOOKUP('entries and results'!G709,$A$3:$F$30018,6,FALSE)","v":" "},{"$f":"VLOOKUP('entries and results'!G709,$A$3:$E$30018,2,FALSE)","v":" "},null,707,".",{"$f":"VLOOKUP('entries and results'!N709,$H$3:$K$30018,2,FALSE)","v":" "},{"$f":"VLOOKUP('entries and results'!N709,$H$3:$K$30018,3,FALSE)","v":" "},{"$f":"VLOOKUP('entries and results'!N709,$H$3:$K$30018,4,FALSE)","v":" "},null," ","00:00",null,null,null,null,null,null,null,null,null,null,null,null,null,null,null,null,null,null,null,null,null,null,null,null,null,null,null,null,null,null,null,null,null,null,null,null,null,null,null,null,null,null,null,"00:00",707,0,"0000000","00","00","00"]
["SA03833","Kirkintilloch Olympians","1990-05-25","Adam Peters","SA03833","Senior",".",708,{"$f":"VLOOKUP('entries and results'!G710,$A$3:$E$30018,4,FALSE)","v":" "},{"$f":"VLOOKUP('entries and results'!G710,$A$3:$F$30018,6,FALSE)","v":" "},{"$f":"VLOOKUP('entries and results'!G710,$A$3:$E$30018,2,FALSE)","v":" "},null,708,".",{"$f":"VLOOKUP('entries and results'!N710,$H$3:$K$30018,2,FALSE)","v":" "},{"$f":"VLOOKUP('entries and results'!N710,$H$3:$K$30018,3,FALSE)","v":" "},{"$f":"VLOOKUP('entries and results'!N710,$H$3:$K$30018,4,FALSE)","v":" "},null," ","00:00",null,null,null,null,null,null,null,null,null,null,null,null,null,null,null,null,null,null,null,null,null,null,null,null,null,null,null,null,null,null,null,null,null,null,null,null,null,null,null,null,null,null,null,"00:00",708,0,{"$f":"CONCATENATE($BI$2,$BN710)","v":"0000000"},{"$f":"MID(RIGHT($BO710,6),1,2)","v":"00"},{"$f":"MID(RIGHT($BO710,6),3,2)","v":"00"},{"$f":"MID(RIGHT($BO710,6),5,2)","v":"00"}]
["SA03872","Edinburgh AC","1993-01-14","Corey Hastings","SA03872","Senior",".",709,{"$f":"VLOOKUP('entries and results'!G711,$A$3:$E$30018,4,FALSE)","v":" "},{"$f":"VLOOKUP('entries and results'!G711,$A$3:$F$30018,6,FALSE)","v":" "},{"$f":"VLOOKUP('entries and results'!G711,$A$3:$E$30018,2,FALSE)","v":" "},null,709,".",{"$f":"VLOOKUP('entries and results'!N711,$H$3:$K$30018,2,FALSE)","v":" "},{"$f":"VLOOKUP('entries and results'!N711,$H$3:$K$30018,3,FALSE)","v":" "},{"$f":"VLOOKUP('entries and results'!N711,$H$3:$K$30018,4,FALSE)","v":" "},null," ","00:00",null,null,null,null,null,null,null,null,null,null,null,null,null,null,null,null,null,null,null,null,null,null,null,null,null,null,null,null,null,null,null,null,null,null,null,null,null,null,null,null,null,null,null,"00:00",709,0,"0000000","00","00","00"]
["SA03979","Shettleston Harriers","1988-01-22","Thomas Fay","SA03979","Senior",".",710,{"$f":"VLOOKUP('entries and results'!G712,$A$3:$E$30018,4,FALSE)","v":" "},{"$f":"VLOOKUP('entries and results'!G712,$A$3:$F$30018,6,FALSE)","v":" "},{"$f":"VLOOKUP('entries and results'!G712,$A$3:$E$30018,2,FALSE)","v":" "},null,710,".",{"$f":"VLOOKUP('entries and results'!N712,$H$3:$K$30018,2,FALSE)","v":" "},{"$f":"VLOOKUP('entries and results'!N712,$H$3:$K$30018,3,FALSE)","v":" "},{"$f":"VLOOKUP('entries and results'!N712,$H$3:$K$30018,4,FALSE)","v":" "},null," ","00:00",null,null,null,null,null,null,null,null,null,null,null,null,null,null,null,null,null,null,null,null,null,null,null,null,null,null,null,null,null,null,null,null,null,null,null,null,null,null,null,null,null,null,null,"00:00",710,0,"0000000","00","00","00"]
["SA04018","Dunbar Running Club","1993-06-22","Adam Redpath","SA04018","Senior",".",711,{"$f":"VLOOKUP('entries and results'!G713,$A$3:$E$30018,4,FALSE)","v":" "},{"$f":"VLOOKUP('entries and results'!G713,$A$3:$F$30018,6,FALSE)","v":" "},{"$f":"VLOOKUP('entries and results'!G713,$A$3:$E$30018,2,FALSE)","v":" "},null,711,".",{"$f":"VLOOKUP('entries and results'!N713,$H$3:$K$30018,2,FALSE)","v":" "},{"$f":"VLOOKUP('entries and results'!N713,$H$3:$K$30018,3,FALSE)","v":" "},{"$f":"VLOOKUP('entries and results'!N713,$H$3:$K$30018,4,FALSE)","v":" "},null," ","00:00",null,null,null,null,null,null,null,null,null,null,null,null,null,null,null,null,null,null,null,null,null,null,null,null,null,null,null,null,null,null,null,null,null,null,null,null,null,null,null,null,null,null,null,"00:00",711,0,"0000000","00","00","00"]
["SA04026","Dundee Hawkhill Harriers","1993-12-23","Rebecca Johnstone","SA04026","Under 17",".",712,{"$f":"VLOOKUP('entries and results'!G714,$A$3:$E$30018,4,FALSE)","v":" "},{"$f":"VLOOKUP('entries and results'!G714,$A$3:$F$30018,6,FALSE)","v":" "},{"$f":"VLOOKUP('entries and results'!G714,$A$3:$E$30018,2,FALSE)","v":" "},null,712,".",{"$f":"VLOOKUP('entries and results'!N714,$H$3:$K$30018,2,FALSE)","v":" "},{"$f":"VLOOKUP('entries and results'!N714,$H$3:$K$30018,3,FALSE)","v":" "},{"$f":"VLOOKUP('entries and results'!N714,$H$3:$K$30018,4,FALSE)","v":" "},null," ","00:00",null,null,null,null,null,null,null,null,null,null,null,null,null,null,null,null,null,null,null,null,null,null,null,null,null,null,null,null,null,null,null,null,null,null,null,null,null,null,null,null,null,null,null,"00:00",712,0,"0000000","00","00","00"]
["SA04027","Dundee Hawkhill Harriers","1990-07-29","Ryan Knight","SA04027","Senior",".",713,{"$f":"VLOOKUP('entries and results'!G715,$A$3:$E$30018,4,FALSE)","v":" "},{"$f":"VLOOKUP('entries and results'!G715,$A$3:$F$30018,6,FALSE)","v":" "},{"$f":"VLOOKUP('entries and results'!G715,$A$3:$E$30018,2,FALSE)","v":" "},null,713,".",{"$f":"VLOOKUP('entries and results'!N715,$H$3:$K$30018,2,FALSE)","v":" "},{"$f":"VLOOKUP('entries and results'!N715,$H$3:$K$30018,3,FALSE)","v":" "},{"$f":"VLOOKUP('entries and results'!N715,$H$3:$K$30018,4,FALSE)","v":" "},null," ","00:00",null,null,null,null,null,null,null,null,null,null,null,null,null,null,null,null,null,null,null,null,null,null,null,null,null,null,null,null,null,null,null,null,null,null,null,null,null,null,null,null,null,null,null,"00:00",713,0,"0000000","00","00","00"]
["SA04036","Dunfermline & West Fife AC","1995-01-06","Jackie Chalmers","SA04036","Under 17",".",714,{"$f":"VLOOKUP('entries and results'!G716,$A$3:$E$30018,4,FALSE)","v":" "},{"$f":"VLOOKUP('entries and results'!G716,$A$3:$F$30018,6,FALSE)","v":" "},{"$f":"VLOOKUP('entries and results'!G716,$A$3:$E$30018,2,FALSE)","v":" "},null,714,".",{"$f":"VLOOKUP('entries and results'!N716,$H$3:$K$30018,2,FALSE)","v":" "},{"$f":"VLOOKUP('entries and results'!N716,$H$3:$K$30018,3,FALSE)","v":" "},{"$f":"VLOOKUP('entries and results'!N716,$H$3:$K$30018,4,FALSE)","v":" "},null," ","00:00",null,null,null,null,null,null,null,null,null,null,null,null,null,null,null,null,null,null,null,null,null,null,null,null,null,null,null,null,null,null,null,null,null,null,null,null,null,null,null,null,null,null,null,"00:00",714,0,"0000000","00","00","00"]
["SA04055","Larkhall YMCA Harriers","1993-10-20","Frazer Dunnachie","SA04055","Under 17",".",715,{"$f":"VLOOKUP('entries and results'!G717,$A$3:$E$30018,4,FALSE)","v":" "},{"$f":"VLOOKUP('entries and results'!G717,$A$3:$F$30018,6,FALSE)","v":" "},{"$f":"VLOOKUP('entries and results'!G717,$A$3:$E$30018,2,FALSE)","v":" "},null,715,".",{"$f":"VLOOKUP('entries and results'!N717,$H$3:$K$30018,2,FALSE)","v":" "},{"$f":"VLOOKUP('entries and results'!N717,$H$3:$K$30018,3,FALSE)","v":" "},{"$f":"VLOOKUP('entries and results'!N717,$H$3:$K$30018,4,FALSE)","v":" "},null," ","00:00",null,null,null,null,null,null,null,null,null,null,null,null,null,null,null,null,null,null,null,null,null,null,null,null,null,null,null,null,null,null,null,null,null,null,null,null,null,null,null,null,null,null,null,"00:00",715,0,"0000000","00","00","00"]
["SA04059","Arbroath & District AC","1994-10-04","Damien Murray","SA04059","Under 17",".",716,{"$f":"VLOOKUP('entries and results'!G718,$A$3:$E$30018,4,FALSE)","v":" "},{"$f":"VLOOKUP('entries and results'!G718,$A$3:$F$30018,6,FALSE)","v":" "},{"$f":"VLOOKUP('entries and results'!G718,$A$3:$E$30018,2,FALSE)","v":" "},null,716,".",{"$f":"VLOOKUP('entries and results'!N718,$H$3:$K$30018,2,FALSE)","v":" "},{"$f":"VLOOKUP('entries and results'!N718,$H$3:$K$30018,3,FALSE)","v":" "},{"$f":"VLOOKUP('entries and results'!N718,$H$3:$K$30018,4,FALSE)","v":" "},null," ","00:00",null,null,null,null,null,null,null,null,null,null,null,null,null,null,null,null,null,null,null,null,null,null,null,null,null,null,null,null,null,null,null,null,null,null,null,null,null,null,null,null,null,null,null,"00:00",716,0,"0000000","00","00","00"]
["SA04092","Sale Harriers","1989-11-25","Gail Lippitt","SA04092","Senior",".",717,{"$f":"VLOOKUP('entries and results'!G719,$A$3:$E$30018,4,FALSE)","v":" "},{"$f":"VLOOKUP('entries and results'!G719,$A$3:$F$30018,6,FALSE)","v":" "},{"$f":"VLOOKUP('entries and results'!G719,$A$3:$E$30018,2,FALSE)","v":" "},null,717,".",{"$f":"VLOOKUP('entries and results'!N719,$H$3:$K$30018,2,FALSE)","v":" "},{"$f":"VLOOKUP('entries and results'!N719,$H$3:$K$30018,3,FALSE)","v":" "},{"$f":"VLOOKUP('entries and results'!N719,$H$3:$K$30018,4,FALSE)","v":" "},null," ","00:00",null,null,null,null,null,null,null,null,null,null,null,null,null,null,null,null,null,null,null,null,null,null,null,null,null,null,null,null,null,null,null,null,null,null,null,null,null,null,null,null,null,null,null,"00:00",717,0,"0000000","00","00","00"]
["SA04107","Central AC","1991-02-15","Alexander Hendry","SA04107","Senior",".",718,{"$f":"VLOOKUP('entries and results'!G720,$A$3:$E$30018,4,FALSE)","v":" "},{"$f":"VLOOKUP('entries and results'!G720,$A$3:$F$30018,6,FALSE)","v":" "},{"$f":"VLOOKUP('entries and results'!G720,$A$3:$E$30018,2,FALSE)","v":" "},null,718,".",{"$f":"VLOOKUP('entries and results'!N720,$H$3:$K$30018,2,FALSE)","v":" "},{"$f":"VLOOKUP('entries and results'!N720,$H$3:$K$30018,3,FALSE)","v":" "},{"$f":"VLOOKUP('entries and results'!N720,$H$3:$K$30018,4,FALSE)","v":" "},null," ","00:00",null,null,null,null,null,null,null,null,null,null,null,null,null,null,null,null,null,null,null,null,null,null,null,null,null,null,null,null,null,null,null,null,null,null,null,null,null,null,null,null,null,null,null,"00:00",718,0,"0000000","00","00","00"]
["SA04108","Central AC","1994-12-26","Amy Hendry","SA04108","Under 17",".",719,{"$f":"VLOOKUP('entries and results'!G721,$A$3:$E$30018,4,FALSE)","v":" "},{"$f":"VLOOKUP('entries and results'!G721,$A$3:$F$30018,6,FALSE)","v":" "},{"$f":"VLOOKUP('entries and results'!G721,$A$3:$E$30018,2,FALSE)","v":" "},null,719,".",{"$f":"VLOOKUP('entries and results'!N721,$H$3:$K$30018,2,FALSE)","v":" "},{"$f":"VLOOKUP('entries and results'!N721,$H$3:$K$30018,3,FALSE)","v":" "},{"$f":"VLOOKUP('entries and results'!N721,$H$3:$K$30018,4,FALSE)","v":" "},null," ","00:00",null,null,null,null,null,null,null,null,null,null,null,null,null,null,null,null,null,null,null,null,null,null,null,null,null,null,null,null,null,null,null,null,null,null,null,null,null,null,null,null,null,null,null,"00:00",719,0,"0000000","00","00","00"]
["SA04111","Edinburgh AC","1996-02-26","Kyle Hogg","SA04111","Under 15",".",720,{"$f":"VLOOKUP('entries and results'!G722,$A$3:$E$30018,4,FALSE)","v":" "},{"$f":"VLOOKUP('entries and results'!G722,$A$3:$F$30018,6,FALSE)","v":" "},{"$f":"VLOOKUP('entries and results'!G722,$A$3:$E$30018,2,FALSE)","v":" "},null,720,".",{"$f":"VLOOKUP('entries and results'!N722,$H$3:$K$30018,2,FALSE)","v":" "},{"$f":"VLOOKUP('entries and results'!N722,$H$3:$K$30018,3,FALSE)","v":" "},{"$f":"VLOOKUP('entries and results'!N722,$H$3:$K$30018,4,FALSE)","v":" "},null," ","00:00",null,null,null,null,null,null,null,null,null,null,null,null,null,null,null,null,null,null,null,null,null,null,null,null,null,null,null,null,null,null,null,null,null,null,null,null,null,null,null,null,null,null,null,"00:00",720,0,"0000000","00","00","00"]
["SA04112","Edinburgh AC","1990-11-28","Scott Hughson","SA04112","Senior",".",721,{"$f":"VLOOKUP('entries and results'!G723,$A$3:$E$30018,4,FALSE)","v":" "},{"$f":"VLOOKUP('entries and results'!G723,$A$3:$F$30018,6,FALSE)","v":" "},{"$f":"VLOOKUP('entries and results'!G723,$A$3:$E$30018,2,FALSE)","v":" "},null,721,".",{"$f":"VLOOKUP('entries and results'!N723,$H$3:$K$30018,2,FALSE)","v":" "},{"$f":"VLOOKUP('entries and results'!N723,$H$3:$K$30018,3,FALSE)","v":" "},{"$f":"VLOOKUP('entries and results'!N723,$H$3:$K$30018,4,FALSE)","v":" "},null," ","00:00",null,null,null,null,null,null,null,null,null,null,null,null,null,null,null,null,null,null,null,null,null,null,null,null,null,null,null,null,null,null,null,null,null,null,null,null,null,null,null,null,null,null,null,"00:00",721,0,"0000000","00","00","00"]
["SA04122","Ellon AAC","1996-07-24","Aiden Peck","SA04122","Under 15",".",722,{"$f":"VLOOKUP('entries and results'!G724,$A$3:$E$30018,4,FALSE)","v":" "},{"$f":"VLOOKUP('entries and results'!G724,$A$3:$F$30018,6,FALSE)","v":" "},{"$f":"VLOOKUP('entries and results'!G724,$A$3:$E$30018,2,FALSE)","v":" "},null,722,".",{"$f":"VLOOKUP('entries and results'!N724,$H$3:$K$30018,2,FALSE)","v":" "},{"$f":"VLOOKUP('entries and results'!N724,$H$3:$K$30018,3,FALSE)","v":" "},{"$f":"VLOOKUP('entries and results'!N724,$H$3:$K$30018,4,FALSE)","v":" "},null," ","00:00",null,null,null,null,null,null,null,null,null,null,null,null,null,null,null,null,null,null,null,null,null,null,null,null,null,null,null,null,null,null,null,null,null,null,null,null,null,null,null,null,null,null,null,"00:00",722,0,"0000000","00","00","00"]
["SA04126","Fife AC","1991-04-01","Karen Cairns","SA04126","Senior",".",723,{"$f":"VLOOKUP('entries and results'!G725,$A$3:$E$30018,4,FALSE)","v":" "},{"$f":"VLOOKUP('entries and results'!G725,$A$3:$F$30018,6,FALSE)","v":" "},{"$f":"VLOOKUP('entries and results'!G725,$A$3:$E$30018,2,FALSE)","v":" "},null,723,".",{"$f":"VLOOKUP('entries and results'!N725,$H$3:$K$30018,2,FALSE)","v":" "},{"$f":"VLOOKUP('entries and results'!N725,$H$3:$K$30018,3,FALSE)","v":" "},{"$f":"VLOOKUP('entries and results'!N725,$H$3:$K$30018,4,FALSE)","v":" "},null," ","00:00",null,null,null,null,null,null,null,null,null,null,null,null,null,null,null,null,null,null,null,null,null,null,null,null,null,null,null,null,null,null,null,null,null,null,null,null,null,null,null,null,null,null,null,"00:00",723,0,"0000000","00","00","00"]
["SA04134","Gala Harriers","1993-04-08","Emily Douglas","SA04134","Senior",".",724,{"$f":"VLOOKUP('entries and results'!G726,$A$3:$E$30018,4,FALSE)","v":" "},{"$f":"VLOOKUP('entries and results'!G726,$A$3:$F$30018,6,FALSE)","v":" "},{"$f":"VLOOKUP('entries and results'!G726,$A$3:$E$30018,2,FALSE)","v":" "},null,724,".",{"$f":"VLOOKUP('entries and results'!N726,$H$3:$K$30018,2,FALSE)","v":" "},{"$f":"VLOOKUP('entries and results'!N726,$H$3:$K$30018,3,FALSE)","v":" "},{"$f":"VLOOKUP('entries and results'!N726,$H$3:$K$30018,4,FALSE)","v":" "},null," ","00:00",null,null,null,null,null,null,null,null,null,null,null,null,null,null,null,null,null,null,null,null,null,null,null,null,null,null,null,null,null,null,null,null,null,null,null,null,null,null,null,null,null,null,null,"00:00",724,0,"0000000","00","00","00"]
["SA04137","North Ayrshire AC","1995-10-28","Iona Lennie","SA04137","Under 15",".",725,{"$f":"VLOOKUP('entries and results'!G727,$A$3:$E$30018,4,FALSE)","v":" "},{"$f":"VLOOKUP('entries and results'!G727,$A$3:$F$30018,6,FALSE)","v":" "},{"$f":"VLOOKUP('entries and results'!G727,$A$3:$E$30018,2,FALSE)","v":" "},null,725,".",{"$f":"VLOOKUP('entries and results'!N727,$H$3:$K$30018,2,FALSE)","v":" "},{"$f":"VLOOKUP('entries and results'!N727,$H$3:$K$30018,3,FALSE)","v":" "},{"$f":"VLOOKUP('entries and results'!N727,$H$3:$K$30018,4,FALSE)","v":" "},null," ","00:00",null,null,null,null,null,null,null,null,null,null,null,null,null,null,null,null,null,null,null,null,null,null,null,null,null,null,null,null,null,null,null,null,null,null,null,null,null,null,null,null,null,null,null,"00:00",725,0,"0000000","00","00","00"]
["SA04140","Kilmarnock H&AC","1993-04-19","Nicole Hamilton","SA04140","Senior",".",726,{"$f":"VLOOKUP('entries and results'!G728,$A$3:$E$30018,4,FALSE)","v":" "},{"$f":"VLOOKUP('entries and results'!G728,$A$3:$F$30018,6,FALSE)","v":" "},{"$f":"VLOOKUP('entries and results'!G728,$A$3:$E$30018,2,FALSE)","v":" "},null,726,".",{"$f":"VLOOKUP('entries and results'!N728,$H$3:$K$30018,2,FALSE)","v":" "},{"$f":"VLOOKUP('entries and results'!N728,$H$3:$K$30018,3,FALSE)","v":" "},{"$f":"VLOOKUP('entries and results'!N728,$H$3:$K$30018,4,FALSE)","v":" "},null," ","00:00",null,null,null,null,null,null,null,null,null,null,null,null,null,null,null,null,null,null,null,null,null,null,null,null,null,null,null,null,null,null,null,null,null,null,null,null,null,null,null,null,null,null,null,"00:00",726,0,"0000000","00","00","00"]
["SA04141","Kilmarnock H&AC","1994-07-19","Bethany Ross","SA04141","Under 17",".",727,{"$f":"VLOOKUP('entries and results'!G729,$A$3:$E$30018,4,FALSE)","v":" "},{"$f":"VLOOKUP('entries and results'!G729,$A$3:$F$30018,6,FALSE)","v":" "},{"$f":"VLOOKUP('entries and results'!G729,$A$3:$E$30018,2,FALSE)","v":" "},null,727,".",{"$f":"VLOOKUP('entries and results'!N729,$H$3:$K$30018,2,FALSE)","v":" "},{"$f":"VLOOKUP('entries and results'!N729,$H$3:$K$30018,3,FALSE)","v":" "},{"$f":"VLOOKUP('entries and results'!N729,$H$3:$K$30018,4,FALSE)","v":" "},null," ","00:00",null,null,null,null,null,null,null,null,null,null,null,null,null,null,null,null,null,null,null,null,null,null,null,null,null,null,null,null,null,null,null,null,null,null,null,null,null,null,null,null,null,null,null,"00:00",727,0,"0000000","00","00","00"]
["SA04142","Kilbarchan AAC","1991-08-17","Mark Chisholm","SA04142","Senior",".",728,{"$f":"VLOOKUP('entries and results'!G730,$A$3:$E$30018,4,FALSE)","v":" "},{"$f":"VLOOKUP('entries and results'!G730,$A$3:$F$30018,6,FALSE)","v":" "},{"$f":"VLOOKUP('entries and results'!G730,$A$3:$E$30018,2,FALSE)","v":" "},null,728,".",{"$f":"VLOOKUP('entries and results'!N730,$H$3:$K$30018,2,FALSE)","v":" "},{"$f":"VLOOKUP('entries and results'!N730,$H$3:$K$30018,3,FALSE)","v":" "},{"$f":"VLOOKUP('entries and results'!N730,$H$3:$K$30018,4,FALSE)","v":" "},null," ","00:00",null,null,null,null,null,null,null,null,null,null,null,null,null,null,null,null,null,null,null,null,null,null,null,null,null,null,null,null,null,null,null,null,null,null,null,null,null,null,null,null,null,null,null,"00:00",728,0,"0000000","00","00","00"]
["SA04184","West Dunbartonshire AC","1990-11-09","Mark Donohue","SA04184","Senior",".",729,{"$f":"VLOOKUP('entries and results'!G731,$A$3:$E$30018,4,FALSE)","v":" "},{"$f":"VLOOKUP('entries and results'!G731,$A$3:$F$30018,6,FALSE)","v":" "},{"$f":"VLOOKUP('entries and results'!G731,$A$3:$E$30018,2,FALSE)","v":" "},null,729,".",{"$f":"VLOOKUP('entries and results'!N731,$H$3:$K$30018,2,FALSE)","v":" "},{"$f":"VLOOKUP('entries and results'!N731,$H$3:$K$30018,3,FALSE)","v":" "},{"$f":"VLOOKUP('entries and results'!N731,$H$3:$K$30018,4,FALSE)","v":" "},null," ","00:00",null,null,null,null,null,null,null,null,null,null,null,null,null,null,null,null,null,null,null,null,null,null,null,null,null,null,null,null,null,null,null,null,null,null,null,null,null,null,null,null,null,null,null,"00:00",729,0,"0000000","00","00","00"]
["SA04200","Airdrie Harriers","1995-03-01","Jamie Barclay","SA04200","Under 17",".",730,{"$f":"VLOOKUP('entries and results'!G732,$A$3:$E$30018,4,FALSE)","v":" "},{"$f":"VLOOKUP('entries and results'!G732,$A$3:$F$30018,6,FALSE)","v":" "},{"$f":"VLOOKUP('entries and results'!G732,$A$3:$E$30018,2,FALSE)","v":" "},null,730,".",{"$f":"VLOOKUP('entries and results'!N732,$H$3:$K$30018,2,FALSE)","v":" "},{"$f":"VLOOKUP('entries and results'!N732,$H$3:$K$30018,3,FALSE)","v":" "},{"$f":"VLOOKUP('entries and results'!N732,$H$3:$K$30018,4,FALSE)","v":" "},null," ","00:00",null,null,null,null,null,null,null,null,null,null,null,null,null,null,null,null,null,null,null,null,null,null,null,null,null,null,null,null,null,null,null,null,null,null,null,null,null,null,null,null,null,null,null,"00:00",730,0,"0000000","00","00","00"]
["SA04207","Ayr Seaforth AAC","1995-08-14","Andrew Carter","SA04207","Under 17",".",731,{"$f":"VLOOKUP('entries and results'!G733,$A$3:$E$30018,4,FALSE)","v":" "},{"$f":"VLOOKUP('entries and results'!G733,$A$3:$F$30018,6,FALSE)","v":" "},{"$f":"VLOOKUP('entries and results'!G733,$A$3:$E$30018,2,FALSE)","v":" "},null,731,".",{"$f":"VLOOKUP('entries and results'!N733,$H$3:$K$30018,2,FALSE)","v":" "},{"$f":"VLOOKUP('entries and results'!N733,$H$3:$K$30018,3,FALSE)","v":" "},{"$f":"VLOOKUP('entries and results'!N733,$H$3:$K$30018,4,FALSE)","v":" "},null," ","00:00",null,null,null,null,null,null,null,null,null,null,null,null,null,null,null,null,null,null,null,null,null,null,null,null,null,null,null,null,null,null,null,null,null,null,null,null,null,null,null,null,null,null,null,"00:00",731,0,"0000000","00","00","00"]
["SA04221","VP-Glasgow AC","1995-02-10","Johanna Brady","SA04221","Under 17",".",732,{"$f":"VLOOKUP('entries and results'!G734,$A$3:$E$30018,4,FALSE)","v":" "},{"$f":"VLOOKUP('entries and results'!G734,$A$3:$F$30018,6,FALSE)","v":" "},{"$f":"VLOOKUP('entries and results'!G734,$A$3:$E$30018,2,FALSE)","v":" "},null,732,".",{"$f":"VLOOKUP('entries and results'!N734,$H$3:$K$30018,2,FALSE)","v":" "},{"$f":"VLOOKUP('entries and results'!N734,$H$3:$K$30018,3,FALSE)","v":" "},{"$f":"VLOOKUP('entries and results'!N734,$H$3:$K$30018,4,FALSE)","v":" "},null," ","00:00",null,null,null,null,null,null,null,null,null,null,null,null,null,null,null,null,null,null,null,null,null,null,null,null,null,null,null,null,null,null,null,null,null,null,null,null,null,null,null,null,null,null,null,{"$f":"CONCATENATE(BQ734,\":\",BR734)","v":"00:00"},732,0,"0000000","00","00","00"]
["SA04223","VP-Glasgow AC","1995-01-20","Sarah Jamieson","SA04223","Under 17",".",733,{"$f":"VLOOKUP('entries and results'!G735,$A$3:$E$30018,4,FALSE)","v":" "},{"$f":"VLOOKUP('entries and results'!G735,$A$3:$F$30018,6,FALSE)","v":" "},{"$f":"VLOOKUP('entries and results'!G735,$A$3:$E$30018,2,FALSE)","v":" "},null,733,".",{"$f":"VLOOKUP('entries and results'!N735,$H$3:$K$30018,2,FALSE)","v":" "},{"$f":"VLOOKUP('entries and results'!N735,$H$3:$K$30018,3,FALSE)","v":" "},{"$f":"VLOOKUP('entries and results'!N735,$H$3:$K$30018,4,FALSE)","v":" "},null," ","00:00",null,null,null,null,null,null,null,null,null,null,null,null,null,null,null,null,null,null,null,null,null,null,null,null,null,null,null,null,null,null,null,null,null,null,null,null,null,null,null,null,null,null,null,"00:00",733,0,"0000000","00","00","00"]
["SA04233","Dunbar Running Club","1993-08-19","Alex Noble","SA04233","Senior",".",734,{"$f":"VLOOKUP('entries and results'!G736,$A$3:$E$30018,4,FALSE)","v":" "},{"$f":"VLOOKUP('entries and results'!G736,$A$3:$F$30018,6,FALSE)","v":" "},{"$f":"VLOOKUP('entries and results'!G736,$A$3:$E$30018,2,FALSE)","v":" "},null,734,".",{"$f":"VLOOKUP('entries and results'!N736,$H$3:$K$30018,2,FALSE)","v":" "},{"$f":"VLOOKUP('entries and results'!N736,$H$3:$K$30018,3,FALSE)","v":" "},{"$f":"VLOOKUP('entries and results'!N736,$H$3:$K$30018,4,FALSE)","v":" "},null," ","00:00",null,null,null,null,null,null,null,null,null,null,null,null,null,null,null,null,null,null,null,null,null,null,null,null,null,null,null,null,null,null,null,null,null,null,null,null,null,null,null,null,null,null,null,"00:00",734,0,"0000000","00","00","00"]
["SA04244","Dunfermline & West Fife AC","1991-11-01","Owen Miller","SA04244","Senior",".",735,{"$f":"VLOOKUP('entries and results'!G737,$A$3:$E$30018,4,FALSE)","v":" "},{"$f":"VLOOKUP('entries and results'!G737,$A$3:$F$30018,6,FALSE)","v":" "},{"$f":"VLOOKUP('entries and results'!G737,$A$3:$E$30018,2,FALSE)","v":" "},null,735,".",{"$f":"VLOOKUP('entries and results'!N737,$H$3:$K$30018,2,FALSE)","v":" "},{"$f":"VLOOKUP('entries and results'!N737,$H$3:$K$30018,3,FALSE)","v":" "},{"$f":"VLOOKUP('entries and results'!N737,$H$3:$K$30018,4,FALSE)","v":" "},null," ","00:00",null,null,null,null,null,null,null,null,null,null,null,null,null,null,null,null,null,null,null,null,null,null,null,null,null,null,null,null,null,null,null,null,null,null,null,null,null,null,null,null,null,null,null,"00:00",735,0,"0000000","00","00","00"]
["SA04257","Edinburgh AC","1992-04-23","Emma Nuttall","SA04257","Senior",".",736,{"$f":"VLOOKUP('entries and results'!G738,$A$3:$E$30018,4,FALSE)","v":" "},{"$f":"VLOOKUP('entries and results'!G738,$A$3:$F$30018,6,FALSE)","v":" "},{"$f":"VLOOKUP('entries and results'!G738,$A$3:$E$30018,2,FALSE)","v":" "},null,736,".",{"$f":"VLOOKUP('entries and results'!N738,$H$3:$K$30018,2,FALSE)","v":" "},{"$f":"VLOOKUP('entries and results'!N738,$H$3:$K$30018,3,FALSE)","v":" "},{"$f":"VLOOKUP('entries and results'!N738,$H$3:$K$30018,4,FALSE)","v":" "},null," ","00:00",null,null,null,null,null,null,null,null,null,null,null,null,null,null,null,null,null,null,null,null,null,null,null,null,null,null,null,null,null,null,null,null,null,null,null,null,null,null,null,null,null,null,null,"00:00",736,0,"0000000","00","00","00"]
["SA04260","Fife AC","1991-03-23","Ross Kilvington","SA04260","Senior",".",737,{"$f":"VLOOKUP('entries and results'!G739,$A$3:$E$30018,4,FALSE)","v":" "},{"$f":"VLOOKUP('entries and results'!G739,$A$3:$F$30018,6,FALSE)","v":" "},{"$f":"VLOOKUP('entries and results'!G739,$A$3:$E$30018,2,FALSE)","v":" "},null,737,".",{"$f":"VLOOKUP('entries and results'!N739,$H$3:$K$30018,2,FALSE)","v":" "},{"$f":"VLOOKUP('entries and results'!N739,$H$3:$K$30018,3,FALSE)","v":" "},{"$f":"VLOOKUP('entries and results'!N739,$H$3:$K$30018,4,FALSE)","v":" "},null," ","00:00",null,null,null,null,null,null,null,null,null,null,null,null,null,null,null,null,null,null,null,null,null,null,null,null,null,null,null,null,null,null,null,null,null,null,null,null,null,null,null,null,null,null,null,"00:00",737,0,"0000000","00","00","00"]
["SA04263","Giffnock North AAC","1990-09-10","Daniel Carlin","SA04263","Senior",".",738,{"$f":"VLOOKUP('entries and results'!G740,$A$3:$E$30018,4,FALSE)","v":" "},{"$f":"VLOOKUP('entries and results'!G740,$A$3:$F$30018,6,FALSE)","v":" "},{"$f":"VLOOKUP('entries and results'!G740,$A$3:$E$30018,2,FALSE)","v":" "},null,738,".",{"$f":"VLOOKUP('entries and results'!N740,$H$3:$K$30018,2,FALSE)","v":" "},{"$f":"VLOOKUP('entries and results'!N740,$H$3:$K$30018,3,FALSE)","v":" "},{"$f":"VLOOKUP('entries and results'!N740,$H$3:$K$30018,4,FALSE)","v":" "},null," ","00:00",null,null,null,null,null,null,null,null,null,null,null,null,null,null,null,null,null,null,null,null,null,null,null,null,null,null,null,null,null,null,null,null,null,null,null,null,null,null,null,null,null,null,null,"00:00",738,0,"0000000","00","00","00"]
["SA04274","Glasgow School of Sport","1994-02-27","Caitlin Vaughan","SA04274","Under 17",".",739,{"$f":"VLOOKUP('entries and results'!G741,$A$3:$E$30018,4,FALSE)","v":" "},{"$f":"VLOOKUP('entries and results'!G741,$A$3:$F$30018,6,FALSE)","v":" "},{"$f":"VLOOKUP('entries and results'!G741,$A$3:$E$30018,2,FALSE)","v":" "},null,739,".",{"$f":"VLOOKUP('entries and results'!N741,$H$3:$K$30018,2,FALSE)","v":" "},{"$f":"VLOOKUP('entries and results'!N741,$H$3:$K$30018,3,FALSE)","v":" "},{"$f":"VLOOKUP('entries and results'!N741,$H$3:$K$30018,4,FALSE)","v":" "},null," ","00:00",null,null,null,null,null,null,null,null,null,null,null,null,null,null,null,null,null,null,null,null,null,null,null,null,null,null,null,null,null,null,null,null,null,null,null,null,null,null,null,null,null,null,null,"00:00",739,0,"0000000","00","00","00"]
["SA04276","Helensburgh AAC","1996-07-22","Ross Kennedy","SA04276","Under 15",".",740,{"$f":"VLOOKUP('entries and results'!G742,$A$3:$E$30018,4,FALSE)","v":" "},{"$f":"VLOOKUP('entries and results'!G742,$A$3:$F$30018,6,FALSE)","v":" "},{"$f":"VLOOKUP('entries and results'!G742,$A$3:$E$30018,2,FALSE)","v":" "},null,740,".",{"$f":"VLOOKUP('entries and results'!N742,$H$3:$K$30018,2,FALSE)","v":" "},{"$f":"VLOOKUP('entries and results'!N742,$H$3:$K$30018,3,FALSE)","v":" "},{"$f":"VLOOKUP('entries and results'!N742,$H$3:$K$30018,4,FALSE)","v":" "},null," ","00:00",null,null,null,null,null,null,null,null,null,null,null,null,null,null,null,null,null,null,null,null,null,null,null,null,null,null,null,null,null,null,null,null,null,null,null,null,null,null,null,null,null,null,null,"00:00",740,0,"0000000","00","00","00"]
["SA04278","Inverness Harriers AAC","1993-08-18","Joshua Cartwright","SA04278","Senior",".",741,{"$f":"VLOOKUP('entries and results'!G743,$A$3:$E$30018,4,FALSE)","v":" "},{"$f":"VLOOKUP('entries and results'!G743,$A$3:$F$30018,6,FALSE)","v":" "},{"$f":"VLOOKUP('entries and results'!G743,$A$3:$E$30018,2,FALSE)","v":" "},null,741,".",{"$f":"VLOOKUP('entries and results'!N743,$H$3:$K$30018,2,FALSE)","v":" "},{"$f":"VLOOKUP('entries and results'!N743,$H$3:$K$30018,3,FALSE)","v":" "},{"$f":"VLOOKUP('entries and results'!N743,$H$3:$K$30018,4,FALSE)","v":" "},null," ","00:00",null,null,null,null,null,null,null,null,null,null,null,null,null,null,null,null,null,null,null,null,null,null,null,null,null,null,null,null,null,null,null,null,null,null,null,null,null,null,null,null,null,null,null,"00:00",741,0,"0000000","00","00","00"]
["SA04283","VP-Glasgow AC","1991-04-02","Sarah Smith","SA04283","Senior",".",742,{"$f":"VLOOKUP('entries and results'!G744,$A$3:$E$30018,4,FALSE)","v":" "},{"$f":"VLOOKUP('entries and results'!G744,$A$3:$F$30018,6,FALSE)","v":" "},{"$f":"VLOOKUP('entries and results'!G744,$A$3:$E$30018,2,FALSE)","v":" "},null,742,".",{"$f":"VLOOKUP('entries and results'!N744,$H$3:$K$30018,2,FALSE)","v":" "},{"$f":"VLOOKUP('entries and results'!N744,$H$3:$K$30018,3,FALSE)","v":" "},{"$f":"VLOOKUP('entries and results'!N744,$H$3:$K$30018,4,FALSE)","v":" "},null," ","00:00",null,null,null,null,null,null,null,null,null,null,null,null,null,null,null,null,null,null,null,null,null,null,null,null,null,null,null,null,null,null,null,null,null,null,null,null,null,null,null,null,null,null,null,"00:00",742,0,"0000000","00","00","00"]
["SA04285","Kilmarnock H&AC","1995-12-12","Angus Cochrane","SA04285","Under 15",".",743,{"$f":"VLOOKUP('entries and results'!G745,$A$3:$E$30018,4,FALSE)","v":" "},{"$f":"VLOOKUP('entries and results'!G745,$A$3:$F$30018,6,FALSE)","v":" "},{"$f":"VLOOKUP('entries and results'!G745,$A$3:$E$30018,2,FALSE)","v":" "},null,743,".",{"$f":"VLOOKUP('entries and results'!N745,$H$3:$K$30018,2,FALSE)","v":" "},{"$f":"VLOOKUP('entries and results'!N745,$H$3:$K$30018,3,FALSE)","v":" "},{"$f":"VLOOKUP('entries and results'!N745,$H$3:$K$30018,4,FALSE)","v":" "},null," ","00:00",null,null,null,null,null,null,null,null,null,null,null,null,null,null,null,null,null,null,null,null,null,null,null,null,null,null,null,null,null,null,null,null,null,null,null,null,null,null,null,null,null,null,null,"00:00",743,0,"0000000","00","00","00"]
["SA04286","Kilmarnock H&AC","1993-05-31","Robert Cochrane","SA04286","Senior",".",744,{"$f":"VLOOKUP('entries and results'!G746,$A$3:$E$30018,4,FALSE)","v":" "},{"$f":"VLOOKUP('entries and results'!G746,$A$3:$F$30018,6,FALSE)","v":" "},{"$f":"VLOOKUP('entries and results'!G746,$A$3:$E$30018,2,FALSE)","v":" "},null,744,".",{"$f":"VLOOKUP('entries and results'!N746,$H$3:$K$30018,2,FALSE)","v":" "},{"$f":"VLOOKUP('entries and results'!N746,$H$3:$K$30018,3,FALSE)","v":" "},{"$f":"VLOOKUP('entries and results'!N746,$H$3:$K$30018,4,FALSE)","v":" "},null," ","00:00",null,null,null,null,null,null,null,null,null,null,null,null,null,null,null,null,null,null,null,null,null,null,null,null,null,null,null,null,null,null,null,null,null,null,null,null,null,null,null,null,null,null,null,"00:00",744,0,"0000000","00","00","00"]
["SA04289","Kilmarnock H&AC","1995-10-03","Gemma McCutcheon","SA04289","Under 15",".",745,{"$f":"VLOOKUP('entries and results'!G747,$A$3:$E$30018,4,FALSE)","v":" "},{"$f":"VLOOKUP('entries and results'!G747,$A$3:$F$30018,6,FALSE)","v":" "},{"$f":"VLOOKUP('entries and results'!G747,$A$3:$E$30018,2,FALSE)","v":" "},null,745,".",{"$f":"VLOOKUP('entries and results'!N747,$H$3:$K$30018,2,FALSE)","v":" "},{"$f":"VLOOKUP('entries and results'!N747,$H$3:$K$30018,3,FALSE)","v":" "},{"$f":"VLOOKUP('entries and results'!N747,$H$3:$K$30018,4,FALSE)","v":" "},null," ","00:00",null,null,null,null,null,null,null,null,null,null,null,null,null,null,null,null,null,null,null,null,null,null,null,null,null,null,null,null,null,null,null,null,null,null,null,null,null,null,null,null,null,null,null,"00:00",745,0,"0000000","00","00","00"]
["SA04292","Kilbarchan AAC","1993-03-22","Chloe Brines","SA04292","Senior",".",746,{"$f":"VLOOKUP('entries and results'!G748,$A$3:$E$30018,4,FALSE)","v":" "},{"$f":"VLOOKUP('entries and results'!G748,$A$3:$F$30018,6,FALSE)","v":" "},{"$f":"VLOOKUP('entries and results'!G748,$A$3:$E$30018,2,FALSE)","v":" "},null,746,".",{"$f":"VLOOKUP('entries and results'!N748,$H$3:$K$30018,2,FALSE)","v":" "},{"$f":"VLOOKUP('entries and results'!N748,$H$3:$K$30018,3,FALSE)","v":" "},{"$f":"VLOOKUP('entries and results'!N748,$H$3:$K$30018,4,FALSE)","v":" "},null," ","00:00",null,null,null,null,null,null,null,null,null,null,null,null,null,null,null,null,null,null,null,null,null,null,null,null,null,null,null,null,null,null,null,null,null,null,null,null,null,null,null,null,null,null,null,"00:00",746,0,"0000000","00","00","00"]
["SA04297","Kilbarchan AAC","1994-05-25","Jack Lochans","SA04297","Under 17",".",747,{"$f":"VLOOKUP('entries and results'!G749,$A$3:$E$30018,4,FALSE)","v":" "},{"$f":"VLOOKUP('entries and results'!G749,$A$3:$F$30018,6,FALSE)","v":" "},{"$f":"VLOOKUP('entries and results'!G749,$A$3:$E$30018,2,FALSE)","v":" "},null,747,".",{"$f":"VLOOKUP('entries and results'!N749,$H$3:$K$30018,2,FALSE)","v":" "},{"$f":"VLOOKUP('entries and results'!N749,$H$3:$K$30018,3,FALSE)","v":" "},{"$f":"VLOOKUP('entries and results'!N749,$H$3:$K$30018,4,FALSE)","v":" "},null," ","00:00",null,null,null,null,null,null,null,null,null,null,null,null,null,null,null,null,null,null,null,null,null,null,null,null,null,null,null,null,null,null,null,null,null,null,null,null,null,null,null,null,null,null,null,"00:00",747,0,"0000000","00","00","00"]
["SA04299","Kilbarchan AAC","1992-09-23","Thomas McDonald","SA04299","Senior",".",748,{"$f":"VLOOKUP('entries and results'!G750,$A$3:$E$30018,4,FALSE)","v":" "},{"$f":"VLOOKUP('entries and results'!G750,$A$3:$F$30018,6,FALSE)","v":" "},{"$f":"VLOOKUP('entries and results'!G750,$A$3:$E$30018,2,FALSE)","v":" "},null,748,".",{"$f":"VLOOKUP('entries and results'!N750,$H$3:$K$30018,2,FALSE)","v":" "},{"$f":"VLOOKUP('entries and results'!N750,$H$3:$K$30018,3,FALSE)","v":" "},{"$f":"VLOOKUP('entries and results'!N750,$H$3:$K$30018,4,FALSE)","v":" "},null," ","00:00",null,null,null,null,null,null,null,null,null,null,null,null,null,null,null,null,null,null,null,null,null,null,null,null,null,null,null,null,null,null,null,null,null,null,null,null,null,null,null,null,null,null,null,"00:00",748,0,"0000000","00","00","00"]
["SA04311","Law & District AAC","1994-01-20","Daniel Grieve","SA04311","Under 17",".",749,{"$f":"VLOOKUP('entries and results'!G751,$A$3:$E$30018,4,FALSE)","v":" "},{"$f":"VLOOKUP('entries and results'!G751,$A$3:$F$30018,6,FALSE)","v":" "},{"$f":"VLOOKUP('entries and results'!G751,$A$3:$E$30018,2,FALSE)","v":" "},null,749,".",{"$f":"VLOOKUP('entries and results'!N751,$H$3:$K$30018,2,FALSE)","v":" "},{"$f":"VLOOKUP('entries and results'!N751,$H$3:$K$30018,3,FALSE)","v":" "},{"$f":"VLOOKUP('entries and results'!N751,$H$3:$K$30018,4,FALSE)","v":" "},null," ","00:00",null,null,null,null,null,null,null,null,null,null,null,null,null,null,null,null,null,null,null,null,null,null,null,null,null,null,null,null,null,null,null,null,null,null,null,null,null,null,null,null,null,null,null,"00:00",749,0,"0000000","00","00","00"]
["SA04313","Law & District AAC","1993-01-17","Laura Livesey","SA04313","Senior",".",750,{"$f":"VLOOKUP('entries and results'!G752,$A$3:$E$30018,4,FALSE)","v":" "},{"$f":"VLOOKUP('entries and results'!G752,$A$3:$F$30018,6,FALSE)","v":" "},{"$f":"VLOOKUP('entries and results'!G752,$A$3:$E$30018,2,FALSE)","v":" "},null,750,".",{"$f":"VLOOKUP('entries and results'!N752,$H$3:$K$30018,2,FALSE)","v":" "},{"$f":"VLOOKUP('entries and results'!N752,$H$3:$K$30018,3,FALSE)","v":" "},{"$f":"VLOOKUP('entries and results'!N752,$H$3:$K$30018,4,FALSE)","v":" "},null," ","00:00",null,null,null,null,null,null,null,null,null,null,null,null,null,null,null,null,null,null,null,null,null,null,null,null,null,null,null,null,null,null,null,null,null,null,null,null,null,null,null,null,null,null,null,"00:00",750,0,"0000000","00","00","00"]
["SA04314","Law & District AAC","1993-01-17","Lynn Livesey","SA04314","Senior",".",751,{"$f":"VLOOKUP('entries and results'!G753,$A$3:$E$30018,4,FALSE)","v":" "},{"$f":"VLOOKUP('entries and results'!G753,$A$3:$F$30018,6,FALSE)","v":" "},{"$f":"VLOOKUP('entries and results'!G753,$A$3:$E$30018,2,FALSE)","v":" "},null,751,".",{"$f":"VLOOKUP('entries and results'!N753,$H$3:$K$30018,2,FALSE)","v":" "},{"$f":"VLOOKUP('entries and results'!N753,$H$3:$K$30018,3,FALSE)","v":" "},{"$f":"VLOOKUP('entries and results'!N753,$H$3:$K$30018,4,FALSE)","v":" "},null," ","00:00",null,null,null,null,null,null,null,null,null,null,null,null,null,null,null,null,null,null,null,null,null,null,null,null,null,null,null,null,null,null,null,null,null,null,null,null,null,null,null,null,null,null,null,"00:00",751,0,"0000000","00","00","00"]
["SA04327","Lasswade AAC","1995-10-11","Callum Clark","SA04327","Under 15",".",752,{"$f":"VLOOKUP('entries and results'!G754,$A$3:$E$30018,4,FALSE)","v":" "},{"$f":"VLOOKUP('entries and results'!G754,$A$3:$F$30018,6,FALSE)","v":" "},{"$f":"VLOOKUP('entries and results'!G754,$A$3:$E$30018,2,FALSE)","v":" "},null,752,".",{"$f":"VLOOKUP('entries and results'!N754,$H$3:$K$30018,2,FALSE)","v":" "},{"$f":"VLOOKUP('entries and results'!N754,$H$3:$K$30018,3,FALSE)","v":" "},{"$f":"VLOOKUP('entries and results'!N754,$H$3:$K$30018,4,FALSE)","v":" "},null," ","00:00",null,null,null,null,null,null,null,null,null,null,null,null,null,null,null,null,null,null,null,null,null,null,null,null,null,null,null,null,null,null,null,null,null,null,null,null,null,null,null,null,null,null,null,"00:00",752,0,"0000000","00","00","00"]
["SA04331","Nithsdale AC","1996-05-21","Annabel Barr","SA04331","Under 15",".",753,{"$f":"VLOOKUP('entries and results'!G755,$A$3:$E$30018,4,FALSE)","v":" "},{"$f":"VLOOKUP('entries and results'!G755,$A$3:$F$30018,6,FALSE)","v":" "},{"$f":"VLOOKUP('entries and results'!G755,$A$3:$E$30018,2,FALSE)","v":" "},null,753,".",{"$f":"VLOOKUP('entries and results'!N755,$H$3:$K$30018,2,FALSE)","v":" "},{"$f":"VLOOKUP('entries and results'!N755,$H$3:$K$30018,3,FALSE)","v":" "},{"$f":"VLOOKUP('entries and results'!N755,$H$3:$K$30018,4,FALSE)","v":" "},null," ","00:00",null,null,null,null,null,null,null,null,null,null,null,null,null,null,null,null,null,null,null,null,null,null,null,null,null,null,null,null,null,null,null,null,null,null,null,null,null,null,null,null,null,null,null,"00:00",753,0,"0000000","00","00","00"]
["SA04332","VP-Glasgow AC","1991-04-07","Kirsty Barr","SA04332","Senior",".",754,{"$f":"VLOOKUP('entries and results'!G756,$A$3:$E$30018,4,FALSE)","v":" "},{"$f":"VLOOKUP('entries and results'!G756,$A$3:$F$30018,6,FALSE)","v":" "},{"$f":"VLOOKUP('entries and results'!G756,$A$3:$E$30018,2,FALSE)","v":" "},null,754,".",{"$f":"VLOOKUP('entries and results'!N756,$H$3:$K$30018,2,FALSE)","v":" "},{"$f":"VLOOKUP('entries and results'!N756,$H$3:$K$30018,3,FALSE)","v":" "},{"$f":"VLOOKUP('entries and results'!N756,$H$3:$K$30018,4,FALSE)","v":" "},null," ","00:00",null,null,null,null,null,null,null,null,null,null,null,null,null,null,null,null,null,null,null,null,null,null,null,null,null,null,null,null,null,null,null,null,null,null,null,null,null,null,null,null,null,null,null,"00:00",754,0,"0000000","00","00","00"]
["SA04333","Nithsdale AC","1994-05-25","Thomas Barr","SA04333","Under 17",".",755,{"$f":"VLOOKUP('entries and results'!G757,$A$3:$E$30018,4,FALSE)","v":" "},{"$f":"VLOOKUP('entries and results'!G757,$A$3:$F$30018,6,FALSE)","v":" "},{"$f":"VLOOKUP('entries and results'!G757,$A$3:$E$30018,2,FALSE)","v":" "},null,755,".",{"$f":"VLOOKUP('entries and results'!N757,$H$3:$K$30018,2,FALSE)","v":" "},{"$f":"VLOOKUP('entries and results'!N757,$H$3:$K$30018,3,FALSE)","v":" "},{"$f":"VLOOKUP('entries and results'!N757,$H$3:$K$30018,4,FALSE)","v":" "},null," ","00:00",null,null,null,null,null,null,null,null,null,null,null,null,null,null,null,null,null,null,null,null,null,null,null,null,null,null,null,null,null,null,null,null,null,null,null,null,null,null,null,null,null,null,null,"00:00",755,0,"0000000","00","00","00"]
["SA04339","Perth Strathtay Harriers","1995-07-20","Hilary Scott","SA04339","Under 17",".",756,{"$f":"VLOOKUP('entries and results'!G758,$A$3:$E$30018,4,FALSE)","v":" "},{"$f":"VLOOKUP('entries and results'!G758,$A$3:$F$30018,6,FALSE)","v":" "},{"$f":"VLOOKUP('entries and results'!G758,$A$3:$E$30018,2,FALSE)","v":" "},null,756,".",{"$f":"VLOOKUP('entries and results'!N758,$H$3:$K$30018,2,FALSE)","v":" "},{"$f":"VLOOKUP('entries and results'!N758,$H$3:$K$30018,3,FALSE)","v":" "},{"$f":"VLOOKUP('entries and results'!N758,$H$3:$K$30018,4,FALSE)","v":" "},null," ","00:00",null,null,null,null,null,null,null,null,null,null,null,null,null,null,null,null,null,null,null,null,null,null,null,null,null,null,null,null,null,null,null,null,null,null,null,null,null,null,null,null,null,null,null,"00:00",756,0,"0000000","00","00","00"]
["SA04359","VP-Glasgow AC","1995-12-25","Eilidh McEvilly","SA04359","Under 15",".",757,{"$f":"VLOOKUP('entries and results'!G759,$A$3:$E$30018,4,FALSE)","v":" "},{"$f":"VLOOKUP('entries and results'!G759,$A$3:$F$30018,6,FALSE)","v":" "},{"$f":"VLOOKUP('entries and results'!G759,$A$3:$E$30018,2,FALSE)","v":" "},null,757,".",{"$f":"VLOOKUP('entries and results'!N759,$H$3:$K$30018,2,FALSE)","v":" "},{"$f":"VLOOKUP('entries and results'!N759,$H$3:$K$30018,3,FALSE)","v":" "},{"$f":"VLOOKUP('entries and results'!N759,$H$3:$K$30018,4,FALSE)","v":" "},null," ","00:00",null,null,null,null,null,null,null,null,null,null,null,null,null,null,null,null,null,null,null,null,null,null,null,null,null,null,null,null,null,null,null,null,null,null,null,null,null,null,null,null,null,null,null,"00:00",757,0,"0000000","00","00","00"]
["SA04363","VP-Glasgow AC","1995-10-11","Steven Thistleton","SA04363","Under 15",".",758,{"$f":"VLOOKUP('entries and results'!G760,$A$3:$E$30018,4,FALSE)","v":" "},{"$f":"VLOOKUP('entries and results'!G760,$A$3:$F$30018,6,FALSE)","v":" "},{"$f":"VLOOKUP('entries and results'!G760,$A$3:$E$30018,2,FALSE)","v":" "},null,758,".",{"$f":"VLOOKUP('entries and results'!N760,$H$3:$K$30018,2,FALSE)","v":" "},{"$f":"VLOOKUP('entries and results'!N760,$H$3:$K$30018,3,FALSE)","v":" "},{"$f":"VLOOKUP('entries and results'!N760,$H$3:$K$30018,4,FALSE)","v":" "},null," ","00:00",null,null,null,null,null,null,null,null,null,null,null,null,null,null,null,null,null,null,null,null,null,null,null,null,null,null,null,null,null,null,null,null,null,null,null,null,null,null,null,null,null,null,null,"00:00",758,0,"0000000","00","00","00"]
["SA04366","Whitemoss AAC","1994-09-17","Elena McKinlay","SA04366","Under 17",".",759,{"$f":"VLOOKUP('entries and results'!G761,$A$3:$E$30018,4,FALSE)","v":" "},{"$f":"VLOOKUP('entries and results'!G761,$A$3:$F$30018,6,FALSE)","v":" "},{"$f":"VLOOKUP('entries and results'!G761,$A$3:$E$30018,2,FALSE)","v":" "},null,759,".",{"$f":"VLOOKUP('entries and results'!N761,$H$3:$K$30018,2,FALSE)","v":" "},{"$f":"VLOOKUP('entries and results'!N761,$H$3:$K$30018,3,FALSE)","v":" "},{"$f":"VLOOKUP('entries and results'!N761,$H$3:$K$30018,4,FALSE)","v":" "},null," ","00:00",null,null,null,null,null,null,null,null,null,null,null,null,null,null,null,null,null,null,null,null,null,null,null,null,null,null,null,null,null,null,null,null,null,null,null,null,null,null,null,null,null,null,null,"00:00",759,0,"0000000","00","00","00"]
["SA04370","City of Stoke","1991-01-07","Alice Lennox","SA04370","Senior",".",760,{"$f":"VLOOKUP('entries and results'!G762,$A$3:$E$30018,4,FALSE)","v":" "},{"$f":"VLOOKUP('entries and results'!G762,$A$3:$F$30018,6,FALSE)","v":" "},{"$f":"VLOOKUP('entries and results'!G762,$A$3:$E$30018,2,FALSE)","v":" "},null,760,".",{"$f":"VLOOKUP('entries and results'!N762,$H$3:$K$30018,2,FALSE)","v":" "},{"$f":"VLOOKUP('entries and results'!N762,$H$3:$K$30018,3,FALSE)","v":" "},{"$f":"VLOOKUP('entries and results'!N762,$H$3:$K$30018,4,FALSE)","v":" "},null," ","00:00",null,null,null,null,null,null,null,null,null,null,null,null,null,null,null,null,null,null,null,null,null,null,null,null,null,null,null,null,null,null,null,null,null,null,null,null,null,null,null,null,null,null,null,"00:00",760,0,"0000000","00","00","00"]
["SA04374","Ayr Seaforth AAC","1995-05-15","James Gaffney","SA04374","Under 17",".",761,{"$f":"VLOOKUP('entries and results'!G763,$A$3:$E$30018,4,FALSE)","v":" "},{"$f":"VLOOKUP('entries and results'!G763,$A$3:$F$30018,6,FALSE)","v":" "},{"$f":"VLOOKUP('entries and results'!G763,$A$3:$E$30018,2,FALSE)","v":" "},null,761,".",{"$f":"VLOOKUP('entries and results'!N763,$H$3:$K$30018,2,FALSE)","v":" "},{"$f":"VLOOKUP('entries and results'!N763,$H$3:$K$30018,3,FALSE)","v":" "},{"$f":"VLOOKUP('entries and results'!N763,$H$3:$K$30018,4,FALSE)","v":" "},null," ","00:00",null,null,null,null,null,null,null,null,null,null,null,null,null,null,null,null,null,null,null,null,null,null,null,null,null,null,null,null,null,null,null,null,null,null,null,null,null,null,null,null,null,null,null,"00:00",761,0,"0000000","00","00","00"]
["SA04375","Ayr Seaforth AAC","1995-11-11","Caitlin Gillon","SA04375","Under 15",".",762,{"$f":"VLOOKUP('entries and results'!G764,$A$3:$E$30018,4,FALSE)","v":" "},{"$f":"VLOOKUP('entries and results'!G764,$A$3:$F$30018,6,FALSE)","v":" "},{"$f":"VLOOKUP('entries and results'!G764,$A$3:$E$30018,2,FALSE)","v":" "},null,762,".",{"$f":"VLOOKUP('entries and results'!N764,$H$3:$K$30018,2,FALSE)","v":" "},{"$f":"VLOOKUP('entries and results'!N764,$H$3:$K$30018,3,FALSE)","v":" "},{"$f":"VLOOKUP('entries and results'!N764,$H$3:$K$30018,4,FALSE)","v":" "},null," ","00:00",null,null,null,null,null,null,null,null,null,null,null,null,null,null,null,null,null,null,null,null,null,null,null,null,null,null,null,null,null,null,null,null,null,null,null,null,null,null,null,null,null,null,null,"00:00",762,0,"0000000","00","00","00"]
["SA04378","Ayr Seaforth AAC","1993-08-30","Rachel Hunter","SA04378","Senior",".",763,{"$f":"VLOOKUP('entries and results'!G765,$A$3:$E$30018,4,FALSE)","v":" "},{"$f":"VLOOKUP('entries and results'!G765,$A$3:$F$30018,6,FALSE)","v":" "},{"$f":"VLOOKUP('entries and results'!G765,$A$3:$E$30018,2,FALSE)","v":" "},null,763,".",{"$f":"VLOOKUP('entries and results'!N765,$H$3:$K$30018,2,FALSE)","v":" "},{"$f":"VLOOKUP('entries and results'!N765,$H$3:$K$30018,3,FALSE)","v":" "},{"$f":"VLOOKUP('entries and results'!N765,$H$3:$K$30018,4,FALSE)","v":" "},null," ","00:00",null,null,null,null,null,null,null,null,null,null,null,null,null,null,null,null,null,null,null,null,null,null,null,null,null,null,null,null,null,null,null,null,null,null,null,null,null,null,null,null,null,null,null,"00:00",763,0,"0000000","00","00","00"]
["SA04379","Ayr Seaforth AAC","1994-05-10","Hazel Jamieson","SA04379","Under 17",".",764,{"$f":"VLOOKUP('entries and results'!G766,$A$3:$E$30018,4,FALSE)","v":" "},{"$f":"VLOOKUP('entries and results'!G766,$A$3:$F$30018,6,FALSE)","v":" "},{"$f":"VLOOKUP('entries and results'!G766,$A$3:$E$30018,2,FALSE)","v":" "},null,764,".",{"$f":"VLOOKUP('entries and results'!N766,$H$3:$K$30018,2,FALSE)","v":" "},{"$f":"VLOOKUP('entries and results'!N766,$H$3:$K$30018,3,FALSE)","v":" "},{"$f":"VLOOKUP('entries and results'!N766,$H$3:$K$30018,4,FALSE)","v":" "},null," ","00:00",null,null,null,null,null,null,null,null,null,null,null,null,null,null,null,null,null,null,null,null,null,null,null,null,null,null,null,null,null,null,null,null,null,null,null,null,null,null,null,null,null,null,null,"00:00",764,0,"0000000","00","00","00"]
["SA04381","Ayr Seaforth AAC","1992-02-12","Claire Taylor","SA04381","Senior",".",765,{"$f":"VLOOKUP('entries and results'!G767,$A$3:$E$30018,4,FALSE)","v":" "},{"$f":"VLOOKUP('entries and results'!G767,$A$3:$F$30018,6,FALSE)","v":" "},{"$f":"VLOOKUP('entries and results'!G767,$A$3:$E$30018,2,FALSE)","v":" "},null,765,".",{"$f":"VLOOKUP('entries and results'!N767,$H$3:$K$30018,2,FALSE)","v":" "},{"$f":"VLOOKUP('entries and results'!N767,$H$3:$K$30018,3,FALSE)","v":" "},{"$f":"VLOOKUP('entries and results'!N767,$H$3:$K$30018,4,FALSE)","v":" "},null," ","00:00",null,null,null,null,null,null,null,null,null,null,null,null,null,null,null,null,null,null,null,null,null,null,null,null,null,null,null,null,null,null,null,null,null,null,null,null,null,null,null,null,null,null,null,"00:00",765,0,"0000000","00","00","00"]
["SA04383",null,"1994-03-21","Richard Campbell","SA04383","Under 17",".",766,{"$f":"VLOOKUP('entries and results'!G768,$A$3:$E$30018,4,FALSE)","v":" "},{"$f":"VLOOKUP('entries and results'!G768,$A$3:$F$30018,6,FALSE)","v":" "},{"$f":"VLOOKUP('entries and results'!G768,$A$3:$E$30018,2,FALSE)","v":" "},null,766,".",{"$f":"VLOOKUP('entries and results'!N768,$H$3:$K$30018,2,FALSE)","v":" "},{"$f":"VLOOKUP('entries and results'!N768,$H$3:$K$30018,3,FALSE)","v":" "},{"$f":"VLOOKUP('entries and results'!N768,$H$3:$K$30018,4,FALSE)","v":" "},null," ","00:00",null,null,null,null,null,null,null,null,null,null,null,null,null,null,null,null,null,null,null,null,null,null,null,null,null,null,null,null,null,null,null,null,null,null,null,null,null,null,null,null,null,null,null,"00:00",766,0,"0000000","00","00","00"]
["SA04385","Calderglen Harriers","1994-06-11","Daniel Mullen","SA04385","Under 17",".",767,{"$f":"VLOOKUP('entries and results'!G769,$A$3:$E$30018,4,FALSE)","v":" "},{"$f":"VLOOKUP('entries and results'!G769,$A$3:$F$30018,6,FALSE)","v":" "},{"$f":"VLOOKUP('entries and results'!G769,$A$3:$E$30018,2,FALSE)","v":" "},null,767,".",{"$f":"VLOOKUP('entries and results'!N769,$H$3:$K$30018,2,FALSE)","v":" "},{"$f":"VLOOKUP('entries and results'!N769,$H$3:$K$30018,3,FALSE)","v":" "},{"$f":"VLOOKUP('entries and results'!N769,$H$3:$K$30018,4,FALSE)","v":" "},null," ","00:00",null,null,null,null,null,null,null,null,null,null,null,null,null,null,null,null,null,null,null,null,null,null,null,null,null,null,null,null,null,null,null,null,null,null,null,null,null,null,null,null,null,null,null,"00:00",767,0,"0000000","00","00","00"]
["SA04386","Calderglen Harriers","1997-03-08","Paul Mullen","SA04386","Under 15",".",768,{"$f":"VLOOKUP('entries and results'!G770,$A$3:$E$30018,4,FALSE)","v":" "},{"$f":"VLOOKUP('entries and results'!G770,$A$3:$F$30018,6,FALSE)","v":" "},{"$f":"VLOOKUP('entries and results'!G770,$A$3:$E$30018,2,FALSE)","v":" "},null,768,".",{"$f":"VLOOKUP('entries and results'!N770,$H$3:$K$30018,2,FALSE)","v":" "},{"$f":"VLOOKUP('entries and results'!N770,$H$3:$K$30018,3,FALSE)","v":" "},{"$f":"VLOOKUP('entries and results'!N770,$H$3:$K$30018,4,FALSE)","v":" "},null," ","00:00",null,null,null,null,null,null,null,null,null,null,null,null,null,null,null,null,null,null,null,null,null,null,null,null,null,null,null,null,null,null,null,null,null,null,null,null,null,null,null,null,null,null,null,"00:00",768,0,"0000000","00","00","00"]
["SA04387","Giffnock North AAC","1993-11-19","Ewan Murray","SA04387","Under 17",".",769,{"$f":"VLOOKUP('entries and results'!G771,$A$3:$E$30018,4,FALSE)","v":" "},{"$f":"VLOOKUP('entries and results'!G771,$A$3:$F$30018,6,FALSE)","v":" "},{"$f":"VLOOKUP('entries and results'!G771,$A$3:$E$30018,2,FALSE)","v":" "},null,769,".",{"$f":"VLOOKUP('entries and results'!N771,$H$3:$K$30018,2,FALSE)","v":" "},{"$f":"VLOOKUP('entries and results'!N771,$H$3:$K$30018,3,FALSE)","v":" "},{"$f":"VLOOKUP('entries and results'!N771,$H$3:$K$30018,4,FALSE)","v":" "},null," ","00:00",null,null,null,null,null,null,null,null,null,null,null,null,null,null,null,null,null,null,null,null,null,null,null,null,null,null,null,null,null,null,null,null,null,null,null,null,null,null,null,null,null,null,null,"00:00",769,{"$f":"SUMIF($H$3:$H$601,$BM771,$S$3:$S$601)","v":0},"0000000","00","00","00"]
["SA04396","Central AC","1990-05-28","Scott McDonald","SA04396","Senior",".",770,{"$f":"VLOOKUP('entries and results'!G772,$A$3:$E$30018,4,FALSE)","v":" "},{"$f":"VLOOKUP('entries and results'!G772,$A$3:$F$30018,6,FALSE)","v":" "},{"$f":"VLOOKUP('entries and results'!G772,$A$3:$E$30018,2,FALSE)","v":" "},null,770,".",{"$f":"VLOOKUP('entries and results'!N772,$H$3:$K$30018,2,FALSE)","v":" "},{"$f":"VLOOKUP('entries and results'!N772,$H$3:$K$30018,3,FALSE)","v":" "},{"$f":"VLOOKUP('entries and results'!N772,$H$3:$K$30018,4,FALSE)","v":" "},null," ",{"$f":"IF($H772=\"\",\" \",(LOOKUP($H772,$BM$3:$BM$1601,$BL$3:$BL$1601)))","v":"00:00"},null,null,null,null,null,null,null,null,null,null,null,null,null,null,null,null,null,null,null,null,null,null,null,null,null,null,null,null,null,null,null,null,null,null,null,null,null,null,null,null,null,null,null,"00:00",770,0,"0000000","00","00","00"]
["SA04399","East Kilbride A.C.","1996-03-16","Ross Maxwell","SA04399","Under 15",".",771,{"$f":"VLOOKUP('entries and results'!G773,$A$3:$E$30018,4,FALSE)","v":" "},{"$f":"VLOOKUP('entries and results'!G773,$A$3:$F$30018,6,FALSE)","v":" "},{"$f":"VLOOKUP('entries and results'!G773,$A$3:$E$30018,2,FALSE)","v":" "},null,771,".",{"$f":"VLOOKUP('entries and results'!N773,$H$3:$K$30018,2,FALSE)","v":" "},{"$f":"VLOOKUP('entries and results'!N773,$H$3:$K$30018,3,FALSE)","v":" "},{"$f":"VLOOKUP('entries and results'!N773,$H$3:$K$30018,4,FALSE)","v":" "},null," ","00:00",null,null,null,null,null,null,null,null,null,null,null,null,null,null,null,null,null,null,null,null,null,null,null,null,null,null,null,null,null,null,null,null,null,null,null,null,null,null,null,null,null,null,null,"00:00",771,0,"0000000","00","00","00"]
["SA04402","Edinburgh AC","1989-06-28","Louise McLelland","SA04402","Senior",".",772,{"$f":"VLOOKUP('entries and results'!G774,$A$3:$E$30018,4,FALSE)","v":" "},{"$f":"VLOOKUP('entries and results'!G774,$A$3:$F$30018,6,FALSE)","v":" "},{"$f":"VLOOKUP('entries and results'!G774,$A$3:$E$30018,2,FALSE)","v":" "},null,772,".",{"$f":"VLOOKUP('entries and results'!N774,$H$3:$K$30018,2,FALSE)","v":" "},{"$f":"VLOOKUP('entries and results'!N774,$H$3:$K$30018,3,FALSE)","v":" "},{"$f":"VLOOKUP('entries and results'!N774,$H$3:$K$30018,4,FALSE)","v":" "},null," ","00:00",null,null,null,null,null,null,null,null,null,null,null,null,null,null,null,null,null,null,null,null,null,null,null,null,null,null,null,null,null,null,null,null,null,null,null,null,null,null,null,null,null,null,null,"00:00",772,0,{"$f":"CONCATENATE($BI$2,$BN774)","v":"0000000"},{"$f":"MID(RIGHT($BO774,6),1,2)","v":"00"},{"$f":"MID(RIGHT($BO774,6),3,2)","v":"00"},{"$f":"MID(RIGHT($BO774,6),5,2)","v":"00"}]
["SA04407","Fife AC","1994-05-25","Grace Collison-Owen","SA04407","Under 17",".",773,{"$f":"VLOOKUP('entries and results'!G775,$A$3:$E$30018,4,FALSE)","v":" "},{"$f":"VLOOKUP('entries and results'!G775,$A$3:$F$30018,6,FALSE)","v":" "},{"$f":"VLOOKUP('entries and results'!G775,$A$3:$E$30018,2,FALSE)","v":" "},null,773,".",{"$f":"VLOOKUP('entries and results'!N775,$H$3:$K$30018,2,FALSE)","v":" "},{"$f":"VLOOKUP('entries and results'!N775,$H$3:$K$30018,3,FALSE)","v":" "},{"$f":"VLOOKUP('entries and results'!N775,$H$3:$K$30018,4,FALSE)","v":" "},null," ","00:00",null,null,null,null,null,null,null,null,null,null,null,null,null,null,null,null,null,null,null,null,null,null,null,null,null,null,null,null,null,null,null,null,null,null,null,null,null,null,null,null,null,null,null,"00:00",773,0,"0000000","00","00","00"]
["SA04408","Fife AC","1994-05-25","Olivia Collison-Owen","SA04408","Under 17",".",774,{"$f":"VLOOKUP('entries and results'!G776,$A$3:$E$30018,4,FALSE)","v":" "},{"$f":"VLOOKUP('entries and results'!G776,$A$3:$F$30018,6,FALSE)","v":" "},{"$f":"VLOOKUP('entries and results'!G776,$A$3:$E$30018,2,FALSE)","v":" "},null,774,".",{"$f":"VLOOKUP('entries and results'!N776,$H$3:$K$30018,2,FALSE)","v":" "},{"$f":"VLOOKUP('entries and results'!N776,$H$3:$K$30018,3,FALSE)","v":" "},{"$f":"VLOOKUP('entries and results'!N776,$H$3:$K$30018,4,FALSE)","v":" "},null," ","00:00",null,null,null,null,null,null,null,null,null,null,null,null,null,null,null,null,null,null,null,null,null,null,null,null,null,null,null,null,null,null,null,null,null,null,null,null,null,null,null,null,null,null,null,"00:00",774,0,"0000000","00","00","00"]
["SA04409","Fife AC","1993-12-14","Ryan McIntosh","SA04409","Under 17",".",775,{"$f":"VLOOKUP('entries and results'!G777,$A$3:$E$30018,4,FALSE)","v":" "},{"$f":"VLOOKUP('entries and results'!G777,$A$3:$F$30018,6,FALSE)","v":" "},{"$f":"VLOOKUP('entries and results'!G777,$A$3:$E$30018,2,FALSE)","v":" "},null,775,".",{"$f":"VLOOKUP('entries and results'!N777,$H$3:$K$30018,2,FALSE)","v":" "},{"$f":"VLOOKUP('entries and results'!N777,$H$3:$K$30018,3,FALSE)","v":" "},{"$f":"VLOOKUP('entries and results'!N777,$H$3:$K$30018,4,FALSE)","v":" "},null," ","00:00",null,null,null,null,null,null,null,null,null,null,null,null,null,null,null,null,null,null,null,null,null,null,null,null,null,null,null,null,null,null,null,null,null,null,null,null,null,null,null,null,null,null,null,"00:00",775,0,"0000000","00","00","00"]
["SA04421","Giffnock North AAC","1992-06-10","Claire McAuley","SA04421","Senior",".",776,{"$f":"VLOOKUP('entries and results'!G778,$A$3:$E$30018,4,FALSE)","v":" "},{"$f":"VLOOKUP('entries and results'!G778,$A$3:$F$30018,6,FALSE)","v":" "},{"$f":"VLOOKUP('entries and results'!G778,$A$3:$E$30018,2,FALSE)","v":" "},null,776,".",{"$f":"VLOOKUP('entries and results'!N778,$H$3:$K$30018,2,FALSE)","v":" "},{"$f":"VLOOKUP('entries and results'!N778,$H$3:$K$30018,3,FALSE)","v":" "},{"$f":"VLOOKUP('entries and results'!N778,$H$3:$K$30018,4,FALSE)","v":" "},null," ","00:00",null,null,null,null,null,null,null,null,null,null,null,null,null,null,null,null,null,null,null,null,null,null,null,null,null,null,null,null,null,null,null,null,null,null,null,null,null,null,null,null,null,null,null,"00:00",776,0,"0000000","00","00","00"]
["SA04422","Giffnock North AAC","1995-11-10","Amy McLachlan","SA04422","Under 15",".",777,{"$f":"VLOOKUP('entries and results'!G779,$A$3:$E$30018,4,FALSE)","v":" "},{"$f":"VLOOKUP('entries and results'!G779,$A$3:$F$30018,6,FALSE)","v":" "},{"$f":"VLOOKUP('entries and results'!G779,$A$3:$E$30018,2,FALSE)","v":" "},null,777,".",{"$f":"VLOOKUP('entries and results'!N779,$H$3:$K$30018,2,FALSE)","v":" "},{"$f":"VLOOKUP('entries and results'!N779,$H$3:$K$30018,3,FALSE)","v":" "},{"$f":"VLOOKUP('entries and results'!N779,$H$3:$K$30018,4,FALSE)","v":" "},null," ","00:00",null,null,null,null,null,null,null,null,null,null,null,null,null,null,null,null,null,null,null,null,null,null,null,null,null,null,null,null,null,null,null,null,null,null,null,null,null,null,null,null,null,null,null,"00:00",777,0,"0000000","00","00","00"]
["SA04433","Kilmarnock H&AC","1993-02-27","Lois Shankland","SA04433","Senior",".",778,{"$f":"VLOOKUP('entries and results'!G780,$A$3:$E$30018,4,FALSE)","v":" "},{"$f":"VLOOKUP('entries and results'!G780,$A$3:$F$30018,6,FALSE)","v":" "},{"$f":"VLOOKUP('entries and results'!G780,$A$3:$E$30018,2,FALSE)","v":" "},null,778,".",{"$f":"VLOOKUP('entries and results'!N780,$H$3:$K$30018,2,FALSE)","v":" "},{"$f":"VLOOKUP('entries and results'!N780,$H$3:$K$30018,3,FALSE)","v":" "},{"$f":"VLOOKUP('entries and results'!N780,$H$3:$K$30018,4,FALSE)","v":" "},null," ","00:00",null,null,null,null,null,null,null,null,null,null,null,null,null,null,null,null,null,null,null,null,null,null,null,null,null,null,null,null,null,null,null,null,null,null,null,null,null,null,null,null,null,null,null,"00:00",778,0,"0000000","00","00","00"]
["SA04435","Kilmarnock H&AC","1995-03-01","Roy Shankland","SA04435","Under 17",".",779,{"$f":"VLOOKUP('entries and results'!G781,$A$3:$E$30018,4,FALSE)","v":" "},{"$f":"VLOOKUP('entries and results'!G781,$A$3:$F$30018,6,FALSE)","v":" "},{"$f":"VLOOKUP('entries and results'!G781,$A$3:$E$30018,2,FALSE)","v":" "},null,779,".",{"$f":"VLOOKUP('entries and results'!N781,$H$3:$K$30018,2,FALSE)","v":" "},{"$f":"VLOOKUP('entries and results'!N781,$H$3:$K$30018,3,FALSE)","v":" "},{"$f":"VLOOKUP('entries and results'!N781,$H$3:$K$30018,4,FALSE)","v":" "},null," ","00:00",null,null,null,null,null,null,null,null,null,null,null,null,null,null,null,null,null,null,null,null,null,null,null,null,null,null,null,null,null,null,null,null,null,null,null,null,null,null,null,null,null,null,null,"00:00",779,0,"0000000","00","00","00"]
["SA04436","Kilmarnock H&AC","1996-06-28","Fern Wales","SA04436","Under 15",".",780,{"$f":"VLOOKUP('entries and results'!G782,$A$3:$E$30018,4,FALSE)","v":" "},{"$f":"VLOOKUP('entries and results'!G782,$A$3:$F$30018,6,FALSE)","v":" "},{"$f":"VLOOKUP('entries and results'!G782,$A$3:$E$30018,2,FALSE)","v":" "},null,780,".",{"$f":"VLOOKUP('entries and results'!N782,$H$3:$K$30018,2,FALSE)","v":" "},{"$f":"VLOOKUP('entries and results'!N782,$H$3:$K$30018,3,FALSE)","v":" "},{"$f":"VLOOKUP('entries and results'!N782,$H$3:$K$30018,4,FALSE)","v":" "},null," ","00:00",null,null,null,null,null,null,null,null,null,null,null,null,null,null,null,null,null,null,null,null,null,null,null,null,null,null,null,null,null,null,null,null,null,null,null,null,null,null,null,null,null,null,null,"00:00",780,0,"0000000","00","00","00"]
["SA04437","Kilmarnock H&AC","1990-04-20","Cameron Wilson","SA04437","Senior",".",781,{"$f":"VLOOKUP('entries and results'!G783,$A$3:$E$30018,4,FALSE)","v":" "},{"$f":"VLOOKUP('entries and results'!G783,$A$3:$F$30018,6,FALSE)","v":" "},{"$f":"VLOOKUP('entries and results'!G783,$A$3:$E$30018,2,FALSE)","v":" "},null,781,".",{"$f":"VLOOKUP('entries and results'!N783,$H$3:$K$30018,2,FALSE)","v":" "},{"$f":"VLOOKUP('entries and results'!N783,$H$3:$K$30018,3,FALSE)","v":" "},{"$f":"VLOOKUP('entries and results'!N783,$H$3:$K$30018,4,FALSE)","v":" "},null," ","00:00",null,null,null,null,null,null,null,null,null,null,null,null,null,null,null,null,null,null,null,null,null,null,null,null,null,null,null,null,null,null,null,null,null,null,null,null,null,null,null,null,null,null,null,"00:00",781,0,"0000000","00","00","00"]
["SA04439","Kilbarchan AAC","1993-12-02","Nicole Caulfield","SA04439","Under 17",".",782,{"$f":"VLOOKUP('entries and results'!G784,$A$3:$E$30018,4,FALSE)","v":" "},{"$f":"VLOOKUP('entries and results'!G784,$A$3:$F$30018,6,FALSE)","v":" "},{"$f":"VLOOKUP('entries and results'!G784,$A$3:$E$30018,2,FALSE)","v":" "},null,782,".",{"$f":"VLOOKUP('entries and results'!N784,$H$3:$K$30018,2,FALSE)","v":" "},{"$f":"VLOOKUP('entries and results'!N784,$H$3:$K$30018,3,FALSE)","v":" "},{"$f":"VLOOKUP('entries and results'!N784,$H$3:$K$30018,4,FALSE)","v":" "},null," ","00:00",null,null,null,null,null,null,null,null,null,null,null,null,null,null,null,null,null,null,null,null,null,null,null,null,null,null,null,null,null,null,null,null,null,null,null,null,null,null,null,null,null,null,null,"00:00",782,0,"0000000","00","00","00"]
["SA04445","Kilbarchan AAC","1994-05-23","Katie McAlpine","SA04445","Under 17",".",783,{"$f":"VLOOKUP('entries and results'!G785,$A$3:$E$30018,4,FALSE)","v":" "},{"$f":"VLOOKUP('entries and results'!G785,$A$3:$F$30018,6,FALSE)","v":" "},{"$f":"VLOOKUP('entries and results'!G785,$A$3:$E$30018,2,FALSE)","v":" "},null,783,".",{"$f":"VLOOKUP('entries and results'!N785,$H$3:$K$30018,2,FALSE)","v":" "},{"$f":"VLOOKUP('entries and results'!N785,$H$3:$K$30018,3,FALSE)","v":" "},{"$f":"VLOOKUP('entries and results'!N785,$H$3:$K$30018,4,FALSE)","v":" "},null," ","00:00",null,null,null,null,null,null,null,null,null,null,null,null,null,null,null,null,null,null,null,null,null,null,null,null,null,null,null,null,null,null,null,null,null,null,null,null,null,null,null,null,null,null,null,"00:00",783,0,"0000000","00","00","00"]
["SA04458","Livingston & District AAC","1991-11-06","Amanda Campbell","SA04458","Senior",".",784,{"$f":"VLOOKUP('entries and results'!G786,$A$3:$E$30018,4,FALSE)","v":" "},{"$f":"VLOOKUP('entries and results'!G786,$A$3:$F$30018,6,FALSE)","v":" "},{"$f":"VLOOKUP('entries and results'!G786,$A$3:$E$30018,2,FALSE)","v":" "},null,784,".",{"$f":"VLOOKUP('entries and results'!N786,$H$3:$K$30018,2,FALSE)","v":" "},{"$f":"VLOOKUP('entries and results'!N786,$H$3:$K$30018,3,FALSE)","v":" "},{"$f":"VLOOKUP('entries and results'!N786,$H$3:$K$30018,4,FALSE)","v":" "},null," ","00:00",null,null,null,null,null,null,null,null,null,null,null,null,null,null,null,null,null,null,null,null,null,null,null,null,null,null,null,null,null,null,null,null,null,null,null,null,null,null,null,null,null,null,null,"00:00",784,0,"0000000","00","00","00"]
["SA04464","Perth Strathtay Harriers","1996-05-08","lorna MacLarty","SA04464","Under 15",".",785,{"$f":"VLOOKUP('entries and results'!G787,$A$3:$E$30018,4,FALSE)","v":" "},{"$f":"VLOOKUP('entries and results'!G787,$A$3:$F$30018,6,FALSE)","v":" "},{"$f":"VLOOKUP('entries and results'!G787,$A$3:$E$30018,2,FALSE)","v":" "},null,785,".",{"$f":"VLOOKUP('entries and results'!N787,$H$3:$K$30018,2,FALSE)","v":" "},{"$f":"VLOOKUP('entries and results'!N787,$H$3:$K$30018,3,FALSE)","v":" "},{"$f":"VLOOKUP('entries and results'!N787,$H$3:$K$30018,4,FALSE)","v":" "},null," ","00:00",null,null,null,null,null,null,null,null,null,null,null,null,null,null,null,null,null,null,null,null,null,null,null,null,null,null,null,null,null,null,null,null,null,null,null,null,null,null,null,null,null,null,null,"00:00",785,0,"0000000","00","00","00"]
["SA04465","Ron Hill Cambuslang Harriers","1994-08-17","Mairi Brown","SA04465","Under 17",".",786,{"$f":"VLOOKUP('entries and results'!G788,$A$3:$E$30018,4,FALSE)","v":" "},{"$f":"VLOOKUP('entries and results'!G788,$A$3:$F$30018,6,FALSE)","v":" "},{"$f":"VLOOKUP('entries and results'!G788,$A$3:$E$30018,2,FALSE)","v":" "},null,786,".",{"$f":"VLOOKUP('entries and results'!N788,$H$3:$K$30018,2,FALSE)","v":" "},{"$f":"VLOOKUP('entries and results'!N788,$H$3:$K$30018,3,FALSE)","v":" "},{"$f":"VLOOKUP('entries and results'!N788,$H$3:$K$30018,4,FALSE)","v":" "},null," ","00:00",null,null,null,null,null,null,null,null,null,null,null,null,null,null,null,null,null,null,null,null,null,null,null,null,null,null,null,null,null,null,null,null,null,null,null,null,null,null,null,null,null,null,null,"00:00",786,0,"0000000","00","00","00"]
["SA04467","Ron Hill Cambuslang Harriers","1991-12-03","Andrew Coulter","SA04467","Senior",".",787,{"$f":"VLOOKUP('entries and results'!G789,$A$3:$E$30018,4,FALSE)","v":" "},{"$f":"VLOOKUP('entries and results'!G789,$A$3:$F$30018,6,FALSE)","v":" "},{"$f":"VLOOKUP('entries and results'!G789,$A$3:$E$30018,2,FALSE)","v":" "},null,787,".",{"$f":"VLOOKUP('entries and results'!N789,$H$3:$K$30018,2,FALSE)","v":" "},{"$f":"VLOOKUP('entries and results'!N789,$H$3:$K$30018,3,FALSE)","v":" "},{"$f":"VLOOKUP('entries and results'!N789,$H$3:$K$30018,4,FALSE)","v":" "},null," ","00:00",null,null,null,null,null,null,null,null,null,null,null,null,null,null,null,null,null,null,null,null,null,null,null,null,null,null,null,null,null,null,null,null,null,null,null,null,null,null,null,null,null,null,null,"00:00",787,0,"0000000","00","00","00"]
["SA04472","Ron Hill Cambuslang Harriers","1993-04-11","Jack Hamilton","SA04472","Senior",".",788,{"$f":"VLOOKUP('entries and results'!G790,$A$3:$E$30018,4,FALSE)","v":" "},{"$f":"VLOOKUP('entries and results'!G790,$A$3:$F$30018,6,FALSE)","v":" "},{"$f":"VLOOKUP('entries and results'!G790,$A$3:$E$30018,2,FALSE)","v":" "},null,788,".",{"$f":"VLOOKUP('entries and results'!N790,$H$3:$K$30018,2,FALSE)","v":" "},{"$f":"VLOOKUP('entries and results'!N790,$H$3:$K$30018,3,FALSE)","v":" "},{"$f":"VLOOKUP('entries and results'!N790,$H$3:$K$30018,4,FALSE)","v":" "},null," ","00:00",null,null,null,null,null,null,null,null,null,null,null,null,null,null,null,null,null,null,null,null,null,null,null,null,null,null,null,null,null,null,null,null,null,null,null,null,null,null,null,null,null,null,null,"00:00",788,0,"0000000","00","00","00"]
["SA04482","Shettleston Harriers","1993-07-28","Andrew Dearie","SA04482","Senior",".",789,{"$f":"VLOOKUP('entries and results'!G791,$A$3:$E$30018,4,FALSE)","v":" "},{"$f":"VLOOKUP('entries and results'!G791,$A$3:$F$30018,6,FALSE)","v":" "},{"$f":"VLOOKUP('entries and results'!G791,$A$3:$E$30018,2,FALSE)","v":" "},null,789,".",{"$f":"VLOOKUP('entries and results'!N791,$H$3:$K$30018,2,FALSE)","v":" "},{"$f":"VLOOKUP('entries and results'!N791,$H$3:$K$30018,3,FALSE)","v":" "},{"$f":"VLOOKUP('entries and results'!N791,$H$3:$K$30018,4,FALSE)","v":" "},null," ","00:00",null,null,null,null,null,null,null,null,null,null,null,null,null,null,null,null,null,null,null,null,null,null,null,null,null,null,null,null,null,null,null,null,null,null,null,null,null,null,null,null,null,null,null,"00:00",789,0,"0000000","00","00","00"]
["SA04484","Stornoway Running & AC","1993-10-03","Robert Jones","SA04484","Under 17",".",790,{"$f":"VLOOKUP('entries and results'!G792,$A$3:$E$30018,4,FALSE)","v":" "},{"$f":"VLOOKUP('entries and results'!G792,$A$3:$F$30018,6,FALSE)","v":" "},{"$f":"VLOOKUP('entries and results'!G792,$A$3:$E$30018,2,FALSE)","v":" "},null,790,".",{"$f":"VLOOKUP('entries and results'!N792,$H$3:$K$30018,2,FALSE)","v":" "},{"$f":"VLOOKUP('entries and results'!N792,$H$3:$K$30018,3,FALSE)","v":" "},{"$f":"VLOOKUP('entries and results'!N792,$H$3:$K$30018,4,FALSE)","v":" "},null," ","00:00",null,null,null,null,null,null,null,null,null,null,null,null,null,null,null,null,null,null,null,null,null,null,null,null,null,null,null,null,null,null,null,null,null,null,null,null,null,null,null,null,null,null,null,"00:00",790,0,"0000000","00","00","00"]
["SA04487","VP-Glasgow AC","1995-12-04","Fraser Barbour","SA04487","Under 15",".",791,{"$f":"VLOOKUP('entries and results'!G793,$A$3:$E$30018,4,FALSE)","v":" "},{"$f":"VLOOKUP('entries and results'!G793,$A$3:$F$30018,6,FALSE)","v":" "},{"$f":"VLOOKUP('entries and results'!G793,$A$3:$E$30018,2,FALSE)","v":" "},null,791,".",{"$f":"VLOOKUP('entries and results'!N793,$H$3:$K$30018,2,FALSE)","v":" "},{"$f":"VLOOKUP('entries and results'!N793,$H$3:$K$30018,3,FALSE)","v":" "},{"$f":"VLOOKUP('entries and results'!N793,$H$3:$K$30018,4,FALSE)","v":" "},null," ","00:00",null,null,null,null,null,null,null,null,null,null,null,null,null,null,null,null,null,null,null,null,null,null,null,null,null,null,null,null,null,null,null,null,null,null,null,null,null,null,null,null,null,null,null,"00:00",791,0,"0000000","00","00","00"]
["SA04490","VP-Glasgow AC","1992-10-04","Abby Marshall","SA04490","Senior",".",792,{"$f":"VLOOKUP('entries and results'!G794,$A$3:$E$30018,4,FALSE)","v":" "},{"$f":"VLOOKUP('entries and results'!G794,$A$3:$F$30018,6,FALSE)","v":" "},{"$f":"VLOOKUP('entries and results'!G794,$A$3:$E$30018,2,FALSE)","v":" "},null,792,".",{"$f":"VLOOKUP('entries and results'!N794,$H$3:$K$30018,2,FALSE)","v":" "},{"$f":"VLOOKUP('entries and results'!N794,$H$3:$K$30018,3,FALSE)","v":" "},{"$f":"VLOOKUP('entries and results'!N794,$H$3:$K$30018,4,FALSE)","v":" "},null," ","00:00",null,null,null,null,null,null,null,null,null,null,null,null,null,null,null,null,null,null,null,null,null,null,null,null,null,null,null,null,null,null,null,null,null,null,null,null,null,null,null,null,null,null,null,"00:00",792,0,"0000000","00","00","00"]
["SA04493","VP-Glasgow AC","1996-07-19","Iona Wilson","SA04493","Under 15",".",793,{"$f":"VLOOKUP('entries and results'!G795,$A$3:$E$30018,4,FALSE)","v":" "},{"$f":"VLOOKUP('entries and results'!G795,$A$3:$F$30018,6,FALSE)","v":" "},{"$f":"VLOOKUP('entries and results'!G795,$A$3:$E$30018,2,FALSE)","v":" "},null,793,".",{"$f":"VLOOKUP('entries and results'!N795,$H$3:$K$30018,2,FALSE)","v":" "},{"$f":"VLOOKUP('entries and results'!N795,$H$3:$K$30018,3,FALSE)","v":" "},{"$f":"VLOOKUP('entries and results'!N795,$H$3:$K$30018,4,FALSE)","v":" "},null," ","00:00",null,null,null,null,null,null,null,null,null,null,null,null,null,null,null,null,null,null,null,null,null,null,null,null,null,null,null,null,null,null,null,null,null,null,null,null,null,null,null,null,null,null,null,"00:00",793,0,"0000000","00","00","00"]
["SA04500","Whitemoss AAC","1994-02-07","Euan Walker","SA04500","Under 17",".",794,{"$f":"VLOOKUP('entries and results'!G796,$A$3:$E$30018,4,FALSE)","v":" "},{"$f":"VLOOKUP('entries and results'!G796,$A$3:$F$30018,6,FALSE)","v":" "},{"$f":"VLOOKUP('entries and results'!G796,$A$3:$E$30018,2,FALSE)","v":" "},null,794,".",{"$f":"VLOOKUP('entries and results'!N796,$H$3:$K$30018,2,FALSE)","v":" "},{"$f":"VLOOKUP('entries and results'!N796,$H$3:$K$30018,3,FALSE)","v":" "},{"$f":"VLOOKUP('entries and results'!N796,$H$3:$K$30018,4,FALSE)","v":" "},null," ","00:00",null,null,null,null,null,null,null,null,null,null,null,null,null,null,null,null,null,null,null,null,null,null,null,null,null,null,null,null,null,null,null,null,null,null,null,null,null,null,null,null,null,null,null,"00:00",794,0,"0000000","00","00","00"]
["SA04504","Aberdeen AAC","1991-04-02","Rory Leslie","SA04504","Senior",".",795,{"$f":"VLOOKUP('entries and results'!G797,$A$3:$E$30018,4,FALSE)","v":" "},{"$f":"VLOOKUP('entries and results'!G797,$A$3:$F$30018,6,FALSE)","v":" "},{"$f":"VLOOKUP('entries and results'!G797,$A$3:$E$30018,2,FALSE)","v":" "},null,795,".",{"$f":"VLOOKUP('entries and results'!N797,$H$3:$K$30018,2,FALSE)","v":" "},{"$f":"VLOOKUP('entries and results'!N797,$H$3:$K$30018,3,FALSE)","v":" "},{"$f":"VLOOKUP('entries and results'!N797,$H$3:$K$30018,4,FALSE)","v":" "},null," ","00:00",null,null,null,null,null,null,null,null,null,null,null,null,null,null,null,null,null,null,null,null,null,null,null,null,null,null,null,null,null,null,null,null,null,null,null,null,null,null,null,null,null,null,null,"00:00",795,0,"0000000","00","00","00"]
["SA04506","Ayr Seaforth AAC","1996-09-11","Alice Arnold","SA04506","Under 15",".",796,{"$f":"VLOOKUP('entries and results'!G798,$A$3:$E$30018,4,FALSE)","v":" "},{"$f":"VLOOKUP('entries and results'!G798,$A$3:$F$30018,6,FALSE)","v":" "},{"$f":"VLOOKUP('entries and results'!G798,$A$3:$E$30018,2,FALSE)","v":" "},null,796,".",{"$f":"VLOOKUP('entries and results'!N798,$H$3:$K$30018,2,FALSE)","v":" "},{"$f":"VLOOKUP('entries and results'!N798,$H$3:$K$30018,3,FALSE)","v":" "},{"$f":"VLOOKUP('entries and results'!N798,$H$3:$K$30018,4,FALSE)","v":" "},null," ","00:00",null,null,null,null,null,null,null,null,null,null,null,null,null,null,null,null,null,null,null,null,null,null,null,null,null,null,null,null,null,null,null,null,null,null,null,null,null,null,null,null,null,null,null,{"$f":"CONCATENATE(BQ798,\":\",BR798)","v":"00:00"},796,0,"0000000","00","00","00"]
["SA04507","Ayr Seaforth AAC","1994-02-13","Katie Sprang","SA04507","Under 17",".",797,{"$f":"VLOOKUP('entries and results'!G799,$A$3:$E$30018,4,FALSE)","v":" "},{"$f":"VLOOKUP('entries and results'!G799,$A$3:$F$30018,6,FALSE)","v":" "},{"$f":"VLOOKUP('entries and results'!G799,$A$3:$E$30018,2,FALSE)","v":" "},null,797,".",{"$f":"VLOOKUP('entries and results'!N799,$H$3:$K$30018,2,FALSE)","v":" "},{"$f":"VLOOKUP('entries and results'!N799,$H$3:$K$30018,3,FALSE)","v":" "},{"$f":"VLOOKUP('entries and results'!N799,$H$3:$K$30018,4,FALSE)","v":" "},null," ","00:00",null,null,null,null,null,null,null,null,null,null,null,null,null,null,null,null,null,null,null,null,null,null,null,null,null,null,null,null,null,null,null,null,null,null,null,null,null,null,null,null,null,null,null,"00:00",797,0,"0000000","00","00","00"]
["SA04508","Banchory Stonehaven AC","1994-10-14","Kathryn Christie","SA04508","Under 17",".",798,{"$f":"VLOOKUP('entries and results'!G800,$A$3:$E$30018,4,FALSE)","v":" "},{"$f":"VLOOKUP('entries and results'!G800,$A$3:$F$30018,6,FALSE)","v":" "},{"$f":"VLOOKUP('entries and results'!G800,$A$3:$E$30018,2,FALSE)","v":" "},null,798,".",{"$f":"VLOOKUP('entries and results'!N800,$H$3:$K$30018,2,FALSE)","v":" "},{"$f":"VLOOKUP('entries and results'!N800,$H$3:$K$30018,3,FALSE)","v":" "},{"$f":"VLOOKUP('entries and results'!N800,$H$3:$K$30018,4,FALSE)","v":" "},null," ","00:00",null,null,null,null,null,null,null,null,null,null,null,null,null,null,null,null,null,null,null,null,null,null,null,null,null,null,null,null,null,null,null,null,null,null,null,null,null,null,null,null,null,null,null,"00:00",798,0,"0000000","00","00","00"]
["SA04510","Banchory Stonehaven AC","1992-05-22","Marlies Nicolai","SA04510","Senior",".",799,{"$f":"VLOOKUP('entries and results'!G801,$A$3:$E$30018,4,FALSE)","v":" "},{"$f":"VLOOKUP('entries and results'!G801,$A$3:$F$30018,6,FALSE)","v":" "},{"$f":"VLOOKUP('entries and results'!G801,$A$3:$E$30018,2,FALSE)","v":" "},null,799,".",{"$f":"VLOOKUP('entries and results'!N801,$H$3:$K$30018,2,FALSE)","v":" "},{"$f":"VLOOKUP('entries and results'!N801,$H$3:$K$30018,3,FALSE)","v":" "},{"$f":"VLOOKUP('entries and results'!N801,$H$3:$K$30018,4,FALSE)","v":" "},null," ","00:00",null,null,null,null,null,null,null,null,null,null,null,null,null,null,null,null,null,null,null,null,null,null,null,null,null,null,null,null,null,null,null,null,null,null,null,null,null,null,null,null,null,null,null,"00:00",799,0,"0000000","00","00","00"]
["SA04517","VP-Glasgow AC","1995-09-10","Mhairi Patience","SA04517","Under 15",".",800,{"$f":"VLOOKUP('entries and results'!G802,$A$3:$E$30018,4,FALSE)","v":" "},{"$f":"VLOOKUP('entries and results'!G802,$A$3:$F$30018,6,FALSE)","v":" "},{"$f":"VLOOKUP('entries and results'!G802,$A$3:$E$30018,2,FALSE)","v":" "},null,800,".",{"$f":"VLOOKUP('entries and results'!N802,$H$3:$K$30018,2,FALSE)","v":" "},{"$f":"VLOOKUP('entries and results'!N802,$H$3:$K$30018,3,FALSE)","v":" "},{"$f":"VLOOKUP('entries and results'!N802,$H$3:$K$30018,4,FALSE)","v":" "},null," ","00:00",null,null,null,null,null,null,null,null,null,null,null,null,null,null,null,null,null,null,null,null,null,null,null,null,null,null,null,null,null,null,null,null,null,null,null,null,null,null,null,null,null,null,null,"00:00",800,0,"0000000","00","00","00"]
["SA04522","Clydesdale Harriers","1992-10-16","Cameron McLeod","SA04522","Senior",".",801,{"$f":"VLOOKUP('entries and results'!G803,$A$3:$E$30018,4,FALSE)","v":" "},{"$f":"VLOOKUP('entries and results'!G803,$A$3:$F$30018,6,FALSE)","v":" "},{"$f":"VLOOKUP('entries and results'!G803,$A$3:$E$30018,2,FALSE)","v":" "},null,801,".",{"$f":"VLOOKUP('entries and results'!N803,$H$3:$K$30018,2,FALSE)","v":" "},{"$f":"VLOOKUP('entries and results'!N803,$H$3:$K$30018,3,FALSE)","v":" "},{"$f":"VLOOKUP('entries and results'!N803,$H$3:$K$30018,4,FALSE)","v":" "},null," ","00:00",null,null,null,null,null,null,null,null,null,null,null,null,null,null,null,null,null,null,null,null,null,null,null,null,null,null,null,null,null,null,null,null,null,null,null,null,null,null,null,null,null,null,null,"00:00",801,0,"0000000","00","00","00"]
["SA04527","Edinburgh AC","1995-12-14","Rosanna Stewart","SA04527","Under 15",".",802,{"$f":"VLOOKUP('entries and results'!G804,$A$3:$E$30018,4,FALSE)","v":" "},{"$f":"VLOOKUP('entries and results'!G804,$A$3:$F$30018,6,FALSE)","v":" "},{"$f":"VLOOKUP('entries and results'!G804,$A$3:$E$30018,2,FALSE)","v":" "},null,802,".",{"$f":"VLOOKUP('entries and results'!N804,$H$3:$K$30018,2,FALSE)","v":" "},{"$f":"VLOOKUP('entries and results'!N804,$H$3:$K$30018,3,FALSE)","v":" "},{"$f":"VLOOKUP('entries and results'!N804,$H$3:$K$30018,4,FALSE)","v":" "},null," ","00:00",null,null,null,null,null,null,null,null,null,null,null,null,null,null,null,null,null,null,null,null,null,null,null,null,null,null,null,null,null,null,null,null,null,null,null,null,null,null,null,null,null,null,null,"00:00",802,0,"0000000","00","00","00"]
["SA04528","Edinburgh AC","1992-03-27","Fiona Trew","SA04528","Senior",".",803,{"$f":"VLOOKUP('entries and results'!G805,$A$3:$E$30018,4,FALSE)","v":" "},{"$f":"VLOOKUP('entries and results'!G805,$A$3:$F$30018,6,FALSE)","v":" "},{"$f":"VLOOKUP('entries and results'!G805,$A$3:$E$30018,2,FALSE)","v":" "},null,803,".",{"$f":"VLOOKUP('entries and results'!N805,$H$3:$K$30018,2,FALSE)","v":" "},{"$f":"VLOOKUP('entries and results'!N805,$H$3:$K$30018,3,FALSE)","v":" "},{"$f":"VLOOKUP('entries and results'!N805,$H$3:$K$30018,4,FALSE)","v":" "},null," ","00:00",null,null,null,null,null,null,null,null,null,null,null,null,null,null,null,null,null,null,null,null,null,null,null,null,null,null,null,null,null,null,null,null,null,null,null,null,null,null,null,null,null,null,null,"00:00",803,0,"0000000","00","00","00"]
["SA04534","Falkirk Victoria Harriers","1995-06-09","Euan McCallum","SA04534","Under 17",".",804,{"$f":"VLOOKUP('entries and results'!G806,$A$3:$E$30018,4,FALSE)","v":" "},{"$f":"VLOOKUP('entries and results'!G806,$A$3:$F$30018,6,FALSE)","v":" "},{"$f":"VLOOKUP('entries and results'!G806,$A$3:$E$30018,2,FALSE)","v":" "},null,804,".",{"$f":"VLOOKUP('entries and results'!N806,$H$3:$K$30018,2,FALSE)","v":" "},{"$f":"VLOOKUP('entries and results'!N806,$H$3:$K$30018,3,FALSE)","v":" "},{"$f":"VLOOKUP('entries and results'!N806,$H$3:$K$30018,4,FALSE)","v":" "},null," ","00:00",null,null,null,null,null,null,null,null,null,null,null,null,null,null,null,null,null,null,null,null,null,null,null,null,null,null,null,null,null,null,null,null,null,null,null,null,null,null,null,null,null,null,null,"00:00",804,0,"0000000","00","00","00"]
["SA04555","Giffnock North AAC","1993-01-29","Roisin Howat","SA04555","Senior",".",805,{"$f":"VLOOKUP('entries and results'!G807,$A$3:$E$30018,4,FALSE)","v":" "},{"$f":"VLOOKUP('entries and results'!G807,$A$3:$F$30018,6,FALSE)","v":" "},{"$f":"VLOOKUP('entries and results'!G807,$A$3:$E$30018,2,FALSE)","v":" "},null,805,".",{"$f":"VLOOKUP('entries and results'!N807,$H$3:$K$30018,2,FALSE)","v":" "},{"$f":"VLOOKUP('entries and results'!N807,$H$3:$K$30018,3,FALSE)","v":" "},{"$f":"VLOOKUP('entries and results'!N807,$H$3:$K$30018,4,FALSE)","v":" "},null," ","00:00",null,null,null,null,null,null,null,null,null,null,null,null,null,null,null,null,null,null,null,null,null,null,null,null,null,null,null,null,null,null,null,null,null,null,null,null,null,null,null,null,null,null,null,"00:00",805,0,"0000000","00","00","00"]
["SA04559","Giffnock North AAC","1991-09-25","Claire MacDonald","SA04559","Senior",".",806,{"$f":"VLOOKUP('entries and results'!G808,$A$3:$E$30018,4,FALSE)","v":" "},{"$f":"VLOOKUP('entries and results'!G808,$A$3:$F$30018,6,FALSE)","v":" "},{"$f":"VLOOKUP('entries and results'!G808,$A$3:$E$30018,2,FALSE)","v":" "},null,806,".",{"$f":"VLOOKUP('entries and results'!N808,$H$3:$K$30018,2,FALSE)","v":" "},{"$f":"VLOOKUP('entries and results'!N808,$H$3:$K$30018,3,FALSE)","v":" "},{"$f":"VLOOKUP('entries and results'!N808,$H$3:$K$30018,4,FALSE)","v":" "},null," ","00:00",null,null,null,null,null,null,null,null,null,null,null,null,null,null,null,null,null,null,null,null,null,null,null,null,null,null,null,null,null,null,null,null,null,null,null,null,null,null,null,null,null,null,null,"00:00",806,0,"0000000","00","00","00"]
["SA04563","Giffnock North AAC","1994-10-22","Jennifer McLellan","SA04563","Under 17",".",807,{"$f":"VLOOKUP('entries and results'!G809,$A$3:$E$30018,4,FALSE)","v":" "},{"$f":"VLOOKUP('entries and results'!G809,$A$3:$F$30018,6,FALSE)","v":" "},{"$f":"VLOOKUP('entries and results'!G809,$A$3:$E$30018,2,FALSE)","v":" "},null,807,".",{"$f":"VLOOKUP('entries and results'!N809,$H$3:$K$30018,2,FALSE)","v":" "},{"$f":"VLOOKUP('entries and results'!N809,$H$3:$K$30018,3,FALSE)","v":" "},{"$f":"VLOOKUP('entries and results'!N809,$H$3:$K$30018,4,FALSE)","v":" "},null," ","00:00",null,null,null,null,null,null,null,null,null,null,null,null,null,null,null,null,null,null,null,null,null,null,null,null,null,null,null,null,null,null,null,null,null,null,null,null,null,null,null,null,null,null,null,"00:00",807,0,"0000000","00","00","00"]
["SA04565","Giffnock North AAC","1992-07-10","Andrew Russell","SA04565","Senior",".",808,{"$f":"VLOOKUP('entries and results'!G810,$A$3:$E$30018,4,FALSE)","v":" "},{"$f":"VLOOKUP('entries and results'!G810,$A$3:$F$30018,6,FALSE)","v":" "},{"$f":"VLOOKUP('entries and results'!G810,$A$3:$E$30018,2,FALSE)","v":" "},null,808,".",{"$f":"VLOOKUP('entries and results'!N810,$H$3:$K$30018,2,FALSE)","v":" "},{"$f":"VLOOKUP('entries and results'!N810,$H$3:$K$30018,3,FALSE)","v":" "},{"$f":"VLOOKUP('entries and results'!N810,$H$3:$K$30018,4,FALSE)","v":" "},null," ","00:00",null,null,null,null,null,null,null,null,null,null,null,null,null,null,null,null,null,null,null,null,null,null,null,null,null,null,null,null,null,null,null,null,null,null,null,null,null,null,null,null,null,null,null,"00:00",808,0,"0000000","00","00","00"]
["SA04580","Helensburgh AAC","1996-10-29","Josephine Lynch","SA04580","Under 15",".",809,{"$f":"VLOOKUP('entries and results'!G811,$A$3:$E$30018,4,FALSE)","v":" "},{"$f":"VLOOKUP('entries and results'!G811,$A$3:$F$30018,6,FALSE)","v":" "},{"$f":"VLOOKUP('entries and results'!G811,$A$3:$E$30018,2,FALSE)","v":" "},null,809,".",{"$f":"VLOOKUP('entries and results'!N811,$H$3:$K$30018,2,FALSE)","v":" "},{"$f":"VLOOKUP('entries and results'!N811,$H$3:$K$30018,3,FALSE)","v":" "},{"$f":"VLOOKUP('entries and results'!N811,$H$3:$K$30018,4,FALSE)","v":" "},null," ","00:00",null,null,null,null,null,null,null,null,null,null,null,null,null,null,null,null,null,null,null,null,null,null,null,null,null,null,null,null,null,null,null,null,null,null,null,null,null,null,null,null,null,null,null,"00:00",809,0,"0000000","00","00","00"]
["SA04583","Helensburgh AAC","1995-10-26","Calum Wilson","SA04583","Under 15",".",810,{"$f":"VLOOKUP('entries and results'!G812,$A$3:$E$30018,4,FALSE)","v":" "},{"$f":"VLOOKUP('entries and results'!G812,$A$3:$F$30018,6,FALSE)","v":" "},{"$f":"VLOOKUP('entries and results'!G812,$A$3:$E$30018,2,FALSE)","v":" "},null,810,".",{"$f":"VLOOKUP('entries and results'!N812,$H$3:$K$30018,2,FALSE)","v":" "},{"$f":"VLOOKUP('entries and results'!N812,$H$3:$K$30018,3,FALSE)","v":" "},{"$f":"VLOOKUP('entries and results'!N812,$H$3:$K$30018,4,FALSE)","v":" "},null," ","00:00",null,null,null,null,null,null,null,null,null,null,null,null,null,null,null,null,null,null,null,null,null,null,null,null,null,null,null,null,null,null,null,null,null,null,null,null,null,null,null,null,null,null,null,"00:00",810,0,"0000000","00","00","00"]
["SA04591","Kirkintilloch Olympians","1996-12-30","Aidan Kane","SA04591","Under 15",".",811,{"$f":"VLOOKUP('entries and results'!G813,$A$3:$E$30018,4,FALSE)","v":" "},{"$f":"VLOOKUP('entries and results'!G813,$A$3:$F$30018,6,FALSE)","v":" "},{"$f":"VLOOKUP('entries and results'!G813,$A$3:$E$30018,2,FALSE)","v":" "},null,811,".",{"$f":"VLOOKUP('entries and results'!N813,$H$3:$K$30018,2,FALSE)","v":" "},{"$f":"VLOOKUP('entries and results'!N813,$H$3:$K$30018,3,FALSE)","v":" "},{"$f":"VLOOKUP('entries and results'!N813,$H$3:$K$30018,4,FALSE)","v":" "},null," ","00:00",null,null,null,null,null,null,null,null,null,null,null,null,null,null,null,null,null,null,null,null,null,null,null,null,null,null,null,null,null,null,null,null,null,null,null,null,null,null,null,null,null,null,null,"00:00",811,0,"0000000","00","00","00"]
["SA04597","VP-Glasgow AC","1994-09-01","Eilidh McHugh","SA04597","Under 17",".",812,{"$f":"VLOOKUP('entries and results'!G814,$A$3:$E$30018,4,FALSE)","v":" "},{"$f":"VLOOKUP('entries and results'!G814,$A$3:$F$30018,6,FALSE)","v":" "},{"$f":"VLOOKUP('entries and results'!G814,$A$3:$E$30018,2,FALSE)","v":" "},null,812,".",{"$f":"VLOOKUP('entries and results'!N814,$H$3:$K$30018,2,FALSE)","v":" "},{"$f":"VLOOKUP('entries and results'!N814,$H$3:$K$30018,3,FALSE)","v":" "},{"$f":"VLOOKUP('entries and results'!N814,$H$3:$K$30018,4,FALSE)","v":" "},null," ","00:00",null,null,null,null,null,null,null,null,null,null,null,null,null,null,null,null,null,null,null,null,null,null,null,null,null,null,null,null,null,null,null,null,null,null,null,null,null,null,null,null,null,null,null,"00:00",812,0,"0000000","00","00","00"]
["SA04600","Lasswade AAC","1996-04-28","Ross Henderson","SA04600","Under 15",".",813,{"$f":"VLOOKUP('entries and results'!G815,$A$3:$E$30018,4,FALSE)","v":" "},{"$f":"VLOOKUP('entries and results'!G815,$A$3:$F$30018,6,FALSE)","v":" "},{"$f":"VLOOKUP('entries and results'!G815,$A$3:$E$30018,2,FALSE)","v":" "},null,813,".",{"$f":"VLOOKUP('entries and results'!N815,$H$3:$K$30018,2,FALSE)","v":" "},{"$f":"VLOOKUP('entries and results'!N815,$H$3:$K$30018,3,FALSE)","v":" "},{"$f":"VLOOKUP('entries and results'!N815,$H$3:$K$30018,4,FALSE)","v":" "},null," ","00:00",null,null,null,null,null,null,null,null,null,null,null,null,null,null,null,null,null,null,null,null,null,null,null,null,null,null,null,null,null,null,null,null,null,null,null,null,null,null,null,null,null,null,null,"00:00",813,0,"0000000","00","00","00"]
["SA04614","North Uist AAC","1991-02-09","Eleanor MacDonald","SA04614","Senior",".",814,{"$f":"VLOOKUP('entries and results'!G816,$A$3:$E$30018,4,FALSE)","v":" "},{"$f":"VLOOKUP('entries and results'!G816,$A$3:$F$30018,6,FALSE)","v":" "},{"$f":"VLOOKUP('entries and results'!G816,$A$3:$E$30018,2,FALSE)","v":" "},null,814,".",{"$f":"VLOOKUP('entries and results'!N816,$H$3:$K$30018,2,FALSE)","v":" "},{"$f":"VLOOKUP('entries and results'!N816,$H$3:$K$30018,3,FALSE)","v":" "},{"$f":"VLOOKUP('entries and results'!N816,$H$3:$K$30018,4,FALSE)","v":" "},null," ","00:00",null,null,null,null,null,null,null,null,null,null,null,null,null,null,null,null,null,null,null,null,null,null,null,null,null,null,null,null,null,null,null,null,null,null,null,null,null,null,null,null,null,null,null,"00:00",814,0,"0000000","00","00","00"]
["SA04615","North Uist AAC","1993-04-21","Fraser MacDonald","SA04615","Senior",".",815,{"$f":"VLOOKUP('entries and results'!G817,$A$3:$E$30018,4,FALSE)","v":" "},{"$f":"VLOOKUP('entries and results'!G817,$A$3:$F$30018,6,FALSE)","v":" "},{"$f":"VLOOKUP('entries and results'!G817,$A$3:$E$30018,2,FALSE)","v":" "},null,815,".",{"$f":"VLOOKUP('entries and results'!N817,$H$3:$K$30018,2,FALSE)","v":" "},{"$f":"VLOOKUP('entries and results'!N817,$H$3:$K$30018,3,FALSE)","v":" "},{"$f":"VLOOKUP('entries and results'!N817,$H$3:$K$30018,4,FALSE)","v":" "},null," ","00:00",null,null,null,null,null,null,null,null,null,null,null,null,null,null,null,null,null,null,null,null,null,null,null,null,null,null,null,null,null,null,null,null,null,null,null,null,null,null,null,null,null,null,null,"00:00",815,0,"0000000","00","00","00"]
["SA04617","Pitreavie AAC","1993-12-15","Kathryn Pennel","SA04617","Under 17",".",816,{"$f":"VLOOKUP('entries and results'!G818,$A$3:$E$30018,4,FALSE)","v":" "},{"$f":"VLOOKUP('entries and results'!G818,$A$3:$F$30018,6,FALSE)","v":" "},{"$f":"VLOOKUP('entries and results'!G818,$A$3:$E$30018,2,FALSE)","v":" "},null,816,".",{"$f":"VLOOKUP('entries and results'!N818,$H$3:$K$30018,2,FALSE)","v":" "},{"$f":"VLOOKUP('entries and results'!N818,$H$3:$K$30018,3,FALSE)","v":" "},{"$f":"VLOOKUP('entries and results'!N818,$H$3:$K$30018,4,FALSE)","v":" "},null," ","00:00",null,null,null,null,null,null,null,null,null,null,null,null,null,null,null,null,null,null,null,null,null,null,null,null,null,null,null,null,null,null,null,null,null,null,null,null,null,null,null,null,null,null,null,"00:00",816,0,"0000000","00","00","00"]
["SA04618","Pitreavie AAC","1996-10-09","Katey Turner","SA04618","Under 15",".",817,{"$f":"VLOOKUP('entries and results'!G819,$A$3:$E$30018,4,FALSE)","v":" "},{"$f":"VLOOKUP('entries and results'!G819,$A$3:$F$30018,6,FALSE)","v":" "},{"$f":"VLOOKUP('entries and results'!G819,$A$3:$E$30018,2,FALSE)","v":" "},null,817,".",{"$f":"VLOOKUP('entries and results'!N819,$H$3:$K$30018,2,FALSE)","v":" "},{"$f":"VLOOKUP('entries and results'!N819,$H$3:$K$30018,3,FALSE)","v":" "},{"$f":"VLOOKUP('entries and results'!N819,$H$3:$K$30018,4,FALSE)","v":" "},null," ","00:00",null,null,null,null,null,null,null,null,null,null,null,null,null,null,null,null,null,null,null,null,null,null,null,null,null,null,null,null,null,null,null,null,null,null,null,null,null,null,null,null,null,null,null,"00:00",817,0,"0000000","00","00","00"]
["SA04637","Whitemoss AAC","1996-02-03","Meghan Owen","SA04637","Under 15",".",818,{"$f":"VLOOKUP('entries and results'!G820,$A$3:$E$30018,4,FALSE)","v":" "},{"$f":"VLOOKUP('entries and results'!G820,$A$3:$F$30018,6,FALSE)","v":" "},{"$f":"VLOOKUP('entries and results'!G820,$A$3:$E$30018,2,FALSE)","v":" "},null,818,".",{"$f":"VLOOKUP('entries and results'!N820,$H$3:$K$30018,2,FALSE)","v":" "},{"$f":"VLOOKUP('entries and results'!N820,$H$3:$K$30018,3,FALSE)","v":" "},{"$f":"VLOOKUP('entries and results'!N820,$H$3:$K$30018,4,FALSE)","v":" "},null," ","00:00",null,null,null,null,null,null,null,null,null,null,null,null,null,null,null,null,null,null,null,null,null,null,null,null,null,null,null,null,null,null,null,null,null,null,null,null,null,null,null,null,null,null,null,"00:00",818,0,"0000000","00","00","00"]
["SA04639","Stornoway Running & AC","1995-01-05","Kristina MacKenzie","SA04639","Under 17",".",819,{"$f":"VLOOKUP('entries and results'!G821,$A$3:$E$30018,4,FALSE)","v":" "},{"$f":"VLOOKUP('entries and results'!G821,$A$3:$F$30018,6,FALSE)","v":" "},{"$f":"VLOOKUP('entries and results'!G821,$A$3:$E$30018,2,FALSE)","v":" "},null,819,".",{"$f":"VLOOKUP('entries and results'!N821,$H$3:$K$30018,2,FALSE)","v":" "},{"$f":"VLOOKUP('entries and results'!N821,$H$3:$K$30018,3,FALSE)","v":" "},{"$f":"VLOOKUP('entries and results'!N821,$H$3:$K$30018,4,FALSE)","v":" "},null," ","00:00",null,null,null,null,null,null,null,null,null,null,null,null,null,null,null,null,null,null,null,null,null,null,null,null,null,null,null,null,null,null,null,null,null,null,null,null,null,null,null,null,null,null,null,"00:00",819,0,"0000000","00","00","00"]
["SA04649","Airdrie Harriers","1995-10-11","Siobhan Hanlon","SA04649","Under 15",".",820,{"$f":"VLOOKUP('entries and results'!G822,$A$3:$E$30018,4,FALSE)","v":" "},{"$f":"VLOOKUP('entries and results'!G822,$A$3:$F$30018,6,FALSE)","v":" "},{"$f":"VLOOKUP('entries and results'!G822,$A$3:$E$30018,2,FALSE)","v":" "},null,820,".",{"$f":"VLOOKUP('entries and results'!N822,$H$3:$K$30018,2,FALSE)","v":" "},{"$f":"VLOOKUP('entries and results'!N822,$H$3:$K$30018,3,FALSE)","v":" "},{"$f":"VLOOKUP('entries and results'!N822,$H$3:$K$30018,4,FALSE)","v":" "},null," ","00:00",null,null,null,null,null,null,null,null,null,null,null,null,null,null,null,null,null,null,null,null,null,null,null,null,null,null,null,null,null,null,null,null,null,null,null,null,null,null,null,null,null,null,null,"00:00",820,0,"0000000","00","00","00"]
["SA04650","Airdrie Harriers","1995-12-14","Drew Howie","SA04650","Under 15",".",821,{"$f":"VLOOKUP('entries and results'!G823,$A$3:$E$30018,4,FALSE)","v":" "},{"$f":"VLOOKUP('entries and results'!G823,$A$3:$F$30018,6,FALSE)","v":" "},{"$f":"VLOOKUP('entries and results'!G823,$A$3:$E$30018,2,FALSE)","v":" "},null,821,".",{"$f":"VLOOKUP('entries and results'!N823,$H$3:$K$30018,2,FALSE)","v":" "},{"$f":"VLOOKUP('entries and results'!N823,$H$3:$K$30018,3,FALSE)","v":" "},{"$f":"VLOOKUP('entries and results'!N823,$H$3:$K$30018,4,FALSE)","v":" "},null," ","00:00",null,null,null,null,null,null,null,null,null,null,null,null,null,null,null,null,null,null,null,null,null,null,null,null,null,null,null,null,null,null,null,null,null,null,null,null,null,null,null,null,null,null,null,"00:00",821,0,"0000000","00","00","00"]
["SA04654","North Ayrshire AC","1993-09-10","Michael Jenks","SA04654","Under 17",".",822,{"$f":"VLOOKUP('entries and results'!G824,$A$3:$E$30018,4,FALSE)","v":" "},{"$f":"VLOOKUP('entries and results'!G824,$A$3:$F$30018,6,FALSE)","v":" "},{"$f":"VLOOKUP('entries and results'!G824,$A$3:$E$30018,2,FALSE)","v":" "},null,822,".",{"$f":"VLOOKUP('entries and results'!N824,$H$3:$K$30018,2,FALSE)","v":" "},{"$f":"VLOOKUP('entries and results'!N824,$H$3:$K$30018,3,FALSE)","v":" "},{"$f":"VLOOKUP('entries and results'!N824,$H$3:$K$30018,4,FALSE)","v":" "},null," ","00:00",null,null,null,null,null,null,null,null,null,null,null,null,null,null,null,null,null,null,null,null,null,null,null,null,null,null,null,null,null,null,null,null,null,null,null,null,null,null,null,null,null,null,null,"00:00",822,0,"0000000","00","00","00"]
["SA04655","Arran Runners","1993-02-05","Cameron Paul","SA04655","Senior",".",823,{"$f":"VLOOKUP('entries and results'!G825,$A$3:$E$30018,4,FALSE)","v":" "},{"$f":"VLOOKUP('entries and results'!G825,$A$3:$F$30018,6,FALSE)","v":" "},{"$f":"VLOOKUP('entries and results'!G825,$A$3:$E$30018,2,FALSE)","v":" "},null,823,".",{"$f":"VLOOKUP('entries and results'!N825,$H$3:$K$30018,2,FALSE)","v":" "},{"$f":"VLOOKUP('entries and results'!N825,$H$3:$K$30018,3,FALSE)","v":" "},{"$f":"VLOOKUP('entries and results'!N825,$H$3:$K$30018,4,FALSE)","v":" "},null," ","00:00",null,null,null,null,null,null,null,null,null,null,null,null,null,null,null,null,null,null,null,null,null,null,null,null,null,null,null,null,null,null,null,null,null,null,null,null,null,null,null,null,null,null,null,"00:00",823,0,"0000000","00","00","00"]
["SA04658","Ayr Seaforth AAC","1996-05-31","Carolyn Harvey","SA04658","Under 15",".",824,{"$f":"VLOOKUP('entries and results'!G826,$A$3:$E$30018,4,FALSE)","v":" "},{"$f":"VLOOKUP('entries and results'!G826,$A$3:$F$30018,6,FALSE)","v":" "},{"$f":"VLOOKUP('entries and results'!G826,$A$3:$E$30018,2,FALSE)","v":" "},null,824,".",{"$f":"VLOOKUP('entries and results'!N826,$H$3:$K$30018,2,FALSE)","v":" "},{"$f":"VLOOKUP('entries and results'!N826,$H$3:$K$30018,3,FALSE)","v":" "},{"$f":"VLOOKUP('entries and results'!N826,$H$3:$K$30018,4,FALSE)","v":" "},null," ","00:00",null,null,null,null,null,null,null,null,null,null,null,null,null,null,null,null,null,null,null,null,null,null,null,null,null,null,null,null,null,null,null,null,null,null,null,null,null,null,null,null,null,null,null,"00:00",824,0,"0000000","00","00","00"]
["SA04665","Central AC","1996-09-27","Kathryn Gillespie","SA04665","Under 15",".",825,{"$f":"VLOOKUP('entries and results'!G827,$A$3:$E$30018,4,FALSE)","v":" "},{"$f":"VLOOKUP('entries and results'!G827,$A$3:$F$30018,6,FALSE)","v":" "},{"$f":"VLOOKUP('entries and results'!G827,$A$3:$E$30018,2,FALSE)","v":" "},null,825,".",{"$f":"VLOOKUP('entries and results'!N827,$H$3:$K$30018,2,FALSE)","v":" "},{"$f":"VLOOKUP('entries and results'!N827,$H$3:$K$30018,3,FALSE)","v":" "},{"$f":"VLOOKUP('entries and results'!N827,$H$3:$K$30018,4,FALSE)","v":" "},null," ","00:00",null,null,null,null,null,null,null,null,null,null,null,null,null,null,null,null,null,null,null,null,null,null,null,null,null,null,null,null,null,null,null,null,null,null,null,null,null,null,null,null,null,null,null,"00:00",825,0,"0000000","00","00","00"]
["SA04666","Central AC","1992-12-27","Scott Green","SA04666","Senior",".",826,{"$f":"VLOOKUP('entries and results'!G828,$A$3:$E$30018,4,FALSE)","v":" "},{"$f":"VLOOKUP('entries and results'!G828,$A$3:$F$30018,6,FALSE)","v":" "},{"$f":"VLOOKUP('entries and results'!G828,$A$3:$E$30018,2,FALSE)","v":" "},null,826,".",{"$f":"VLOOKUP('entries and results'!N828,$H$3:$K$30018,2,FALSE)","v":" "},{"$f":"VLOOKUP('entries and results'!N828,$H$3:$K$30018,3,FALSE)","v":" "},{"$f":"VLOOKUP('entries and results'!N828,$H$3:$K$30018,4,FALSE)","v":" "},null," ","00:00",null,null,null,null,null,null,null,null,null,null,null,null,null,null,null,null,null,null,null,null,null,null,null,null,null,null,null,null,null,null,null,null,null,null,null,null,null,null,null,null,null,null,null,"00:00",826,0,"0000000","00","00","00"]
["SA04669","Edinburgh AC","1995-12-01","Ben Black","SA04669","Under 15",".",827,{"$f":"VLOOKUP('entries and results'!G829,$A$3:$E$30018,4,FALSE)","v":" "},{"$f":"VLOOKUP('entries and results'!G829,$A$3:$F$30018,6,FALSE)","v":" "},{"$f":"VLOOKUP('entries and results'!G829,$A$3:$E$30018,2,FALSE)","v":" "},null,827,".",{"$f":"VLOOKUP('entries and results'!N829,$H$3:$K$30018,2,FALSE)","v":" "},{"$f":"VLOOKUP('entries and results'!N829,$H$3:$K$30018,3,FALSE)","v":" "},{"$f":"VLOOKUP('entries and results'!N829,$H$3:$K$30018,4,FALSE)","v":" "},null," ","00:00",null,null,null,null,null,null,null,null,null,null,null,null,null,null,null,null,null,null,null,null,null,null,null,null,null,null,null,null,null,null,null,null,null,null,null,null,null,null,null,null,null,null,null,"00:00",827,0,"0000000","00","00","00"]
["SA04671","Edinburgh AC","1994-03-31","Peter Cameron","SA04671","Under 17",".",828,{"$f":"VLOOKUP('entries and results'!G830,$A$3:$E$30018,4,FALSE)","v":" "},{"$f":"VLOOKUP('entries and results'!G830,$A$3:$F$30018,6,FALSE)","v":" "},{"$f":"VLOOKUP('entries and results'!G830,$A$3:$E$30018,2,FALSE)","v":" "},null,828,".",{"$f":"VLOOKUP('entries and results'!N830,$H$3:$K$30018,2,FALSE)","v":" "},{"$f":"VLOOKUP('entries and results'!N830,$H$3:$K$30018,3,FALSE)","v":" "},{"$f":"VLOOKUP('entries and results'!N830,$H$3:$K$30018,4,FALSE)","v":" "},null," ","00:00",null,null,null,null,null,null,null,null,null,null,null,null,null,null,null,null,null,null,null,null,null,null,null,null,null,null,null,null,null,null,null,null,null,null,null,null,null,null,null,null,null,null,null,"00:00",828,0,"0000000","00","00","00"]
["SA04677","Edinburgh AC","1996-04-10","Kirsty McKean","SA04677","Under 15",".",829,{"$f":"VLOOKUP('entries and results'!G831,$A$3:$E$30018,4,FALSE)","v":" "},{"$f":"VLOOKUP('entries and results'!G831,$A$3:$F$30018,6,FALSE)","v":" "},{"$f":"VLOOKUP('entries and results'!G831,$A$3:$E$30018,2,FALSE)","v":" "},null,829,".",{"$f":"VLOOKUP('entries and results'!N831,$H$3:$K$30018,2,FALSE)","v":" "},{"$f":"VLOOKUP('entries and results'!N831,$H$3:$K$30018,3,FALSE)","v":" "},{"$f":"VLOOKUP('entries and results'!N831,$H$3:$K$30018,4,FALSE)","v":" "},null," ","00:00",null,null,null,null,null,null,null,null,null,null,null,null,null,null,null,null,null,null,null,null,null,null,null,null,null,null,null,null,null,null,null,null,null,null,null,null,null,null,null,null,null,null,null,"00:00",829,0,"0000000","00","00","00"]
["SA04686","Clydesdale Harriers","1995-08-01","Tony Dolan","SA04686","Under 17",".",830,{"$f":"VLOOKUP('entries and results'!G832,$A$3:$E$30018,4,FALSE)","v":" "},{"$f":"VLOOKUP('entries and results'!G832,$A$3:$F$30018,6,FALSE)","v":" "},{"$f":"VLOOKUP('entries and results'!G832,$A$3:$E$30018,2,FALSE)","v":" "},null,830,".",{"$f":"VLOOKUP('entries and results'!N832,$H$3:$K$30018,2,FALSE)","v":" "},{"$f":"VLOOKUP('entries and results'!N832,$H$3:$K$30018,3,FALSE)","v":" "},{"$f":"VLOOKUP('entries and results'!N832,$H$3:$K$30018,4,FALSE)","v":" "},null," ","00:00",null,null,null,null,null,null,null,null,null,null,null,null,null,null,null,null,null,null,null,null,null,null,null,null,null,null,null,null,null,null,null,null,null,null,null,null,null,null,null,null,null,null,null,"00:00",830,0,"0000000","00","00","00"]
["SA04692","Cumbernauld AAC","1995-08-06","Kirsty Bell","SA04692","Under 17",".",831,{"$f":"VLOOKUP('entries and results'!G833,$A$3:$E$30018,4,FALSE)","v":" "},{"$f":"VLOOKUP('entries and results'!G833,$A$3:$F$30018,6,FALSE)","v":" "},{"$f":"VLOOKUP('entries and results'!G833,$A$3:$E$30018,2,FALSE)","v":" "},null,831,".",{"$f":"VLOOKUP('entries and results'!N833,$H$3:$K$30018,2,FALSE)","v":" "},{"$f":"VLOOKUP('entries and results'!N833,$H$3:$K$30018,3,FALSE)","v":" "},{"$f":"VLOOKUP('entries and results'!N833,$H$3:$K$30018,4,FALSE)","v":" "},null," ","00:00",null,null,null,null,null,null,null,null,null,null,null,null,null,null,null,null,null,null,null,null,null,null,null,null,null,null,null,null,null,null,null,null,null,null,null,null,null,null,null,null,null,null,null,"00:00",831,0,"0000000","00","00","00"]
["SA04708","East Kilbride A.C.","1997-01-08","Matthew Ashelby","SA04708","Under 15",".",832,{"$f":"VLOOKUP('entries and results'!G834,$A$3:$E$30018,4,FALSE)","v":" "},{"$f":"VLOOKUP('entries and results'!G834,$A$3:$F$30018,6,FALSE)","v":" "},{"$f":"VLOOKUP('entries and results'!G834,$A$3:$E$30018,2,FALSE)","v":" "},null,832,".",{"$f":"VLOOKUP('entries and results'!N834,$H$3:$K$30018,2,FALSE)","v":" "},{"$f":"VLOOKUP('entries and results'!N834,$H$3:$K$30018,3,FALSE)","v":" "},{"$f":"VLOOKUP('entries and results'!N834,$H$3:$K$30018,4,FALSE)","v":" "},null," ","00:00",null,null,null,null,null,null,null,null,null,null,null,null,null,null,null,null,null,null,null,null,null,null,null,null,null,null,null,null,null,null,null,null,null,null,null,null,null,null,null,null,null,null,null,"00:00",832,0,"0000000","00","00","00"]
["SA04713","East Kilbride A.C.","1996-04-07","James Pearson","SA04713","Under 15",".",833,{"$f":"VLOOKUP('entries and results'!G835,$A$3:$E$30018,4,FALSE)","v":" "},{"$f":"VLOOKUP('entries and results'!G835,$A$3:$F$30018,6,FALSE)","v":" "},{"$f":"VLOOKUP('entries and results'!G835,$A$3:$E$30018,2,FALSE)","v":" "},null,833,".",{"$f":"VLOOKUP('entries and results'!N835,$H$3:$K$30018,2,FALSE)","v":" "},{"$f":"VLOOKUP('entries and results'!N835,$H$3:$K$30018,3,FALSE)","v":" "},{"$f":"VLOOKUP('entries and results'!N835,$H$3:$K$30018,4,FALSE)","v":" "},null," ","00:00",null,null,null,null,null,null,null,null,null,null,null,null,null,null,null,null,null,null,null,null,null,null,null,null,null,null,null,null,null,null,null,null,null,null,null,null,null,null,null,null,null,null,null,"00:00",833,{"$f":"SUMIF($H$3:$H$601,$BM835,$S$3:$S$601)","v":0},"0000000","00","00","00"]
["SA04714","Edinburgh AC","1994-10-29","Caitlin Gray","SA04714","Under 17",".",834,{"$f":"VLOOKUP('entries and results'!G836,$A$3:$E$30018,4,FALSE)","v":" "},{"$f":"VLOOKUP('entries and results'!G836,$A$3:$F$30018,6,FALSE)","v":" "},{"$f":"VLOOKUP('entries and results'!G836,$A$3:$E$30018,2,FALSE)","v":" "},null,834,".",{"$f":"VLOOKUP('entries and results'!N836,$H$3:$K$30018,2,FALSE)","v":" "},{"$f":"VLOOKUP('entries and results'!N836,$H$3:$K$30018,3,FALSE)","v":" "},{"$f":"VLOOKUP('entries and results'!N836,$H$3:$K$30018,4,FALSE)","v":" "},null," ",{"$f":"IF($H836=\"\",\" \",(LOOKUP($H836,$BM$3:$BM$1601,$BL$3:$BL$1601)))","v":"00:00"},null,null,null,null,null,null,null,null,null,null,null,null,null,null,null,null,null,null,null,null,null,null,null,null,null,null,null,null,null,null,null,null,null,null,null,null,null,null,null,null,null,null,null,"00:00",834,0,"0000000","00","00","00"]
["SA04715","Edinburgh AC","1996-07-24","Jaclyn Marshall","SA04715","Under 15",".",835,{"$f":"VLOOKUP('entries and results'!G837,$A$3:$E$30018,4,FALSE)","v":" "},{"$f":"VLOOKUP('entries and results'!G837,$A$3:$F$30018,6,FALSE)","v":" "},{"$f":"VLOOKUP('entries and results'!G837,$A$3:$E$30018,2,FALSE)","v":" "},null,835,".",{"$f":"VLOOKUP('entries and results'!N837,$H$3:$K$30018,2,FALSE)","v":" "},{"$f":"VLOOKUP('entries and results'!N837,$H$3:$K$30018,3,FALSE)","v":" "},{"$f":"VLOOKUP('entries and results'!N837,$H$3:$K$30018,4,FALSE)","v":" "},null," ","00:00",null,null,null,null,null,null,null,null,null,null,null,null,null,null,null,null,null,null,null,null,null,null,null,null,null,null,null,null,null,null,null,null,null,null,null,null,null,null,null,null,null,null,null,"00:00",835,0,"0000000","00","00","00"]
["SA04716","Edinburgh AC","1996-07-24","Melissa Marshall","SA04716","Under 15",".",836,{"$f":"VLOOKUP('entries and results'!G838,$A$3:$E$30018,4,FALSE)","v":" "},{"$f":"VLOOKUP('entries and results'!G838,$A$3:$F$30018,6,FALSE)","v":" "},{"$f":"VLOOKUP('entries and results'!G838,$A$3:$E$30018,2,FALSE)","v":" "},null,836,".",{"$f":"VLOOKUP('entries and results'!N838,$H$3:$K$30018,2,FALSE)","v":" "},{"$f":"VLOOKUP('entries and results'!N838,$H$3:$K$30018,3,FALSE)","v":" "},{"$f":"VLOOKUP('entries and results'!N838,$H$3:$K$30018,4,FALSE)","v":" "},null," ","00:00",null,null,null,null,null,null,null,null,null,null,null,null,null,null,null,null,null,null,null,null,null,null,null,null,null,null,null,null,null,null,null,null,null,null,null,null,null,null,null,null,null,null,null,"00:00",836,0,{"$f":"CONCATENATE($BI$2,$BN838)","v":"0000000"},{"$f":"MID(RIGHT($BO838,6),1,2)","v":"00"},{"$f":"MID(RIGHT($BO838,6),3,2)","v":"00"},{"$f":"MID(RIGHT($BO838,6),5,2)","v":"00"}]
["SA04718","Falkirk Victoria Harriers","1994-12-12","Jane Ainslie","SA04718","Under 17",".",837,{"$f":"VLOOKUP('entries and results'!G839,$A$3:$E$30018,4,FALSE)","v":" "},{"$f":"VLOOKUP('entries and results'!G839,$A$3:$F$30018,6,FALSE)","v":" "},{"$f":"VLOOKUP('entries and results'!G839,$A$3:$E$30018,2,FALSE)","v":" "},null,837,".",{"$f":"VLOOKUP('entries and results'!N839,$H$3:$K$30018,2,FALSE)","v":" "},{"$f":"VLOOKUP('entries and results'!N839,$H$3:$K$30018,3,FALSE)","v":" "},{"$f":"VLOOKUP('entries and results'!N839,$H$3:$K$30018,4,FALSE)","v":" "},null," ","00:00",null,null,null,null,null,null,null,null,null,null,null,null,null,null,null,null,null,null,null,null,null,null,null,null,null,null,null,null,null,null,null,null,null,null,null,null,null,null,null,null,null,null,null,"00:00",837,0,"0000000","00","00","00"]
["SA04723","Falkirk Victoria Harriers","1996-06-17","Bradley McCabe","SA04723","Under 15",".",838,{"$f":"VLOOKUP('entries and results'!G840,$A$3:$E$30018,4,FALSE)","v":" "},{"$f":"VLOOKUP('entries and results'!G840,$A$3:$F$30018,6,FALSE)","v":" "},{"$f":"VLOOKUP('entries and results'!G840,$A$3:$E$30018,2,FALSE)","v":" "},null,838,".",{"$f":"VLOOKUP('entries and results'!N840,$H$3:$K$30018,2,FALSE)","v":" "},{"$f":"VLOOKUP('entries and results'!N840,$H$3:$K$30018,3,FALSE)","v":" "},{"$f":"VLOOKUP('entries and results'!N840,$H$3:$K$30018,4,FALSE)","v":" "},null," ","00:00",null,null,null,null,null,null,null,null,null,null,null,null,null,null,null,null,null,null,null,null,null,null,null,null,null,null,null,null,null,null,null,null,null,null,null,null,null,null,null,null,null,null,null,"00:00",838,0,"0000000","00","00","00"]
["SA04726","Falkirk Victoria Harriers","1994-09-17","Ailsa Scott","SA04726","Under 17",".",839,{"$f":"VLOOKUP('entries and results'!G841,$A$3:$E$30018,4,FALSE)","v":" "},{"$f":"VLOOKUP('entries and results'!G841,$A$3:$F$30018,6,FALSE)","v":" "},{"$f":"VLOOKUP('entries and results'!G841,$A$3:$E$30018,2,FALSE)","v":" "},null,839,".",{"$f":"VLOOKUP('entries and results'!N841,$H$3:$K$30018,2,FALSE)","v":" "},{"$f":"VLOOKUP('entries and results'!N841,$H$3:$K$30018,3,FALSE)","v":" "},{"$f":"VLOOKUP('entries and results'!N841,$H$3:$K$30018,4,FALSE)","v":" "},null," ","00:00",null,null,null,null,null,null,null,null,null,null,null,null,null,null,null,null,null,null,null,null,null,null,null,null,null,null,null,null,null,null,null,null,null,null,null,null,null,null,null,null,null,null,null,"00:00",839,0,"0000000","00","00","00"]
["SA04728","Falkirk Victoria Harriers","1995-01-28","Caitlin Thomson","SA04728","Under 17",".",840,{"$f":"VLOOKUP('entries and results'!G842,$A$3:$E$30018,4,FALSE)","v":" "},{"$f":"VLOOKUP('entries and results'!G842,$A$3:$F$30018,6,FALSE)","v":" "},{"$f":"VLOOKUP('entries and results'!G842,$A$3:$E$30018,2,FALSE)","v":" "},null,840,".",{"$f":"VLOOKUP('entries and results'!N842,$H$3:$K$30018,2,FALSE)","v":" "},{"$f":"VLOOKUP('entries and results'!N842,$H$3:$K$30018,3,FALSE)","v":" "},{"$f":"VLOOKUP('entries and results'!N842,$H$3:$K$30018,4,FALSE)","v":" "},null," ","00:00",null,null,null,null,null,null,null,null,null,null,null,null,null,null,null,null,null,null,null,null,null,null,null,null,null,null,null,null,null,null,null,null,null,null,null,null,null,null,null,null,null,null,null,"00:00",840,0,"0000000","00","00","00"]
["SA04749","Shettleston Harriers","1994-05-20","Patrick O'Donnell","SA04749","Under 17",".",841,{"$f":"VLOOKUP('entries and results'!G843,$A$3:$E$30018,4,FALSE)","v":" "},{"$f":"VLOOKUP('entries and results'!G843,$A$3:$F$30018,6,FALSE)","v":" "},{"$f":"VLOOKUP('entries and results'!G843,$A$3:$E$30018,2,FALSE)","v":" "},null,841,".",{"$f":"VLOOKUP('entries and results'!N843,$H$3:$K$30018,2,FALSE)","v":" "},{"$f":"VLOOKUP('entries and results'!N843,$H$3:$K$30018,3,FALSE)","v":" "},{"$f":"VLOOKUP('entries and results'!N843,$H$3:$K$30018,4,FALSE)","v":" "},null," ","00:00",null,null,null,null,null,null,null,null,null,null,null,null,null,null,null,null,null,null,null,null,null,null,null,null,null,null,null,null,null,null,null,null,null,null,null,null,null,null,null,null,null,null,null,"00:00",841,0,"0000000","00","00","00"]
["SA04767","Girvan AAC","1995-02-25","James McTaggart","SA04767","Under 17",".",842,{"$f":"VLOOKUP('entries and results'!G844,$A$3:$E$30018,4,FALSE)","v":" "},{"$f":"VLOOKUP('entries and results'!G844,$A$3:$F$30018,6,FALSE)","v":" "},{"$f":"VLOOKUP('entries and results'!G844,$A$3:$E$30018,2,FALSE)","v":" "},null,842,".",{"$f":"VLOOKUP('entries and results'!N844,$H$3:$K$30018,2,FALSE)","v":" "},{"$f":"VLOOKUP('entries and results'!N844,$H$3:$K$30018,3,FALSE)","v":" "},{"$f":"VLOOKUP('entries and results'!N844,$H$3:$K$30018,4,FALSE)","v":" "},null," ","00:00",null,null,null,null,null,null,null,null,null,null,null,null,null,null,null,null,null,null,null,null,null,null,null,null,null,null,null,null,null,null,null,null,null,null,null,null,null,null,null,null,null,null,null,"00:00",842,0,"0000000","00","00","00"]
["SA04768","Ayr Seaforth AAC","1994-12-26","Andrew Murphy","SA04768","Under 17",".",843,{"$f":"VLOOKUP('entries and results'!G845,$A$3:$E$30018,4,FALSE)","v":" "},{"$f":"VLOOKUP('entries and results'!G845,$A$3:$F$30018,6,FALSE)","v":" "},{"$f":"VLOOKUP('entries and results'!G845,$A$3:$E$30018,2,FALSE)","v":" "},null,843,".",{"$f":"VLOOKUP('entries and results'!N845,$H$3:$K$30018,2,FALSE)","v":" "},{"$f":"VLOOKUP('entries and results'!N845,$H$3:$K$30018,3,FALSE)","v":" "},{"$f":"VLOOKUP('entries and results'!N845,$H$3:$K$30018,4,FALSE)","v":" "},null," ","00:00",null,null,null,null,null,null,null,null,null,null,null,null,null,null,null,null,null,null,null,null,null,null,null,null,null,null,null,null,null,null,null,null,null,null,null,null,null,null,null,null,null,null,null,"00:00",843,0,"0000000","00","00","00"]
["SA04795","Kirkintilloch Olympians","1995-01-08","Callum Heirs","SA04795","Under 17",".",844,{"$f":"VLOOKUP('entries and results'!G846,$A$3:$E$30018,4,FALSE)","v":" "},{"$f":"VLOOKUP('entries and results'!G846,$A$3:$F$30018,6,FALSE)","v":" "},{"$f":"VLOOKUP('entries and results'!G846,$A$3:$E$30018,2,FALSE)","v":" "},null,844,".",{"$f":"VLOOKUP('entries and results'!N846,$H$3:$K$30018,2,FALSE)","v":" "},{"$f":"VLOOKUP('entries and results'!N846,$H$3:$K$30018,3,FALSE)","v":" "},{"$f":"VLOOKUP('entries and results'!N846,$H$3:$K$30018,4,FALSE)","v":" "},null," ","00:00",null,null,null,null,null,null,null,null,null,null,null,null,null,null,null,null,null,null,null,null,null,null,null,null,null,null,null,null,null,null,null,null,null,null,null,null,null,null,null,null,null,null,null,"00:00",844,0,"0000000","00","00","00"]
["SA04800","VP-Glasgow AC","1995-10-31","Kieron Rafferty","SA04800","Under 15",".",845,{"$f":"VLOOKUP('entries and results'!G847,$A$3:$E$30018,4,FALSE)","v":" "},{"$f":"VLOOKUP('entries and results'!G847,$A$3:$F$30018,6,FALSE)","v":" "},{"$f":"VLOOKUP('entries and results'!G847,$A$3:$E$30018,2,FALSE)","v":" "},null,845,".",{"$f":"VLOOKUP('entries and results'!N847,$H$3:$K$30018,2,FALSE)","v":" "},{"$f":"VLOOKUP('entries and results'!N847,$H$3:$K$30018,3,FALSE)","v":" "},{"$f":"VLOOKUP('entries and results'!N847,$H$3:$K$30018,4,FALSE)","v":" "},null," ","00:00",null,null,null,null,null,null,null,null,null,null,null,null,null,null,null,null,null,null,null,null,null,null,null,null,null,null,null,null,null,null,null,null,null,null,null,null,null,null,null,null,null,null,null,"00:00",845,0,"0000000","00","00","00"]
["SA04821","Edinburgh AC","1994-07-11","Jake Wightman","SA04821","Under 17",".",846,{"$f":"VLOOKUP('entries and results'!G848,$A$3:$E$30018,4,FALSE)","v":" "},{"$f":"VLOOKUP('entries and results'!G848,$A$3:$F$30018,6,FALSE)","v":" "},{"$f":"VLOOKUP('entries and results'!G848,$A$3:$E$30018,2,FALSE)","v":" "},null,846,".",{"$f":"VLOOKUP('entries and results'!N848,$H$3:$K$30018,2,FALSE)","v":" "},{"$f":"VLOOKUP('entries and results'!N848,$H$3:$K$30018,3,FALSE)","v":" "},{"$f":"VLOOKUP('entries and results'!N848,$H$3:$K$30018,4,FALSE)","v":" "},null," ","00:00",null,null,null,null,null,null,null,null,null,null,null,null,null,null,null,null,null,null,null,null,null,null,null,null,null,null,null,null,null,null,null,null,null,null,null,null,null,null,null,null,null,null,null,"00:00",846,0,"0000000","00","00","00"]
["SA04822","Edinburgh AC","1994-07-11","Sam Wightman","SA04822","Under 17",".",847,{"$f":"VLOOKUP('entries and results'!G849,$A$3:$E$30018,4,FALSE)","v":" "},{"$f":"VLOOKUP('entries and results'!G849,$A$3:$F$30018,6,FALSE)","v":" "},{"$f":"VLOOKUP('entries and results'!G849,$A$3:$E$30018,2,FALSE)","v":" "},null,847,".",{"$f":"VLOOKUP('entries and results'!N849,$H$3:$K$30018,2,FALSE)","v":" "},{"$f":"VLOOKUP('entries and results'!N849,$H$3:$K$30018,3,FALSE)","v":" "},{"$f":"VLOOKUP('entries and results'!N849,$H$3:$K$30018,4,FALSE)","v":" "},null," ","00:00",null,null,null,null,null,null,null,null,null,null,null,null,null,null,null,null,null,null,null,null,null,null,null,null,null,null,null,null,null,null,null,null,null,null,null,null,null,null,null,null,null,null,null,"00:00",847,0,"0000000","00","00","00"]
["SA04834","Perth Strathtay Harriers","1993-12-06","Peter Muirhead","SA04834","Under 17",".",848,{"$f":"VLOOKUP('entries and results'!G850,$A$3:$E$30018,4,FALSE)","v":" "},{"$f":"VLOOKUP('entries and results'!G850,$A$3:$F$30018,6,FALSE)","v":" "},{"$f":"VLOOKUP('entries and results'!G850,$A$3:$E$30018,2,FALSE)","v":" "},null,848,".",{"$f":"VLOOKUP('entries and results'!N850,$H$3:$K$30018,2,FALSE)","v":" "},{"$f":"VLOOKUP('entries and results'!N850,$H$3:$K$30018,3,FALSE)","v":" "},{"$f":"VLOOKUP('entries and results'!N850,$H$3:$K$30018,4,FALSE)","v":" "},null," ","00:00",null,null,null,null,null,null,null,null,null,null,null,null,null,null,null,null,null,null,null,null,null,null,null,null,null,null,null,null,null,null,null,null,null,null,null,null,null,null,null,null,null,null,null,"00:00",848,0,"0000000","00","00","00"]
["SA04841","Pitreavie AAC","1992-07-03","Richard Le Good","SA04841","Senior",".",849,{"$f":"VLOOKUP('entries and results'!G851,$A$3:$E$30018,4,FALSE)","v":" "},{"$f":"VLOOKUP('entries and results'!G851,$A$3:$F$30018,6,FALSE)","v":" "},{"$f":"VLOOKUP('entries and results'!G851,$A$3:$E$30018,2,FALSE)","v":" "},null,849,".",{"$f":"VLOOKUP('entries and results'!N851,$H$3:$K$30018,2,FALSE)","v":" "},{"$f":"VLOOKUP('entries and results'!N851,$H$3:$K$30018,3,FALSE)","v":" "},{"$f":"VLOOKUP('entries and results'!N851,$H$3:$K$30018,4,FALSE)","v":" "},null," ","00:00",null,null,null,null,null,null,null,null,null,null,null,null,null,null,null,null,null,null,null,null,null,null,null,null,null,null,null,null,null,null,null,null,null,null,null,null,null,null,null,null,null,null,null,"00:00",849,0,"0000000","00","00","00"]
["SA04844","Ron Hill Cambuslang Harriers","1992-10-19","Bobby Bristow","SA04844","Senior",".",850,{"$f":"VLOOKUP('entries and results'!G852,$A$3:$E$30018,4,FALSE)","v":" "},{"$f":"VLOOKUP('entries and results'!G852,$A$3:$F$30018,6,FALSE)","v":" "},{"$f":"VLOOKUP('entries and results'!G852,$A$3:$E$30018,2,FALSE)","v":" "},null,850,".",{"$f":"VLOOKUP('entries and results'!N852,$H$3:$K$30018,2,FALSE)","v":" "},{"$f":"VLOOKUP('entries and results'!N852,$H$3:$K$30018,3,FALSE)","v":" "},{"$f":"VLOOKUP('entries and results'!N852,$H$3:$K$30018,4,FALSE)","v":" "},null," ","00:00",null,null,null,null,null,null,null,null,null,null,null,null,null,null,null,null,null,null,null,null,null,null,null,null,null,null,null,null,null,null,null,null,null,null,null,null,null,null,null,null,null,null,null,"00:00",850,0,"0000000","00","00","00"]
["SA04845","Shetland AAC","1993-11-08","Katie Bristow","SA04845","Under 17",".",851,{"$f":"VLOOKUP('entries and results'!G853,$A$3:$E$30018,4,FALSE)","v":" "},{"$f":"VLOOKUP('entries and results'!G853,$A$3:$F$30018,6,FALSE)","v":" "},{"$f":"VLOOKUP('entries and results'!G853,$A$3:$E$30018,2,FALSE)","v":" "},null,851,".",{"$f":"VLOOKUP('entries and results'!N853,$H$3:$K$30018,2,FALSE)","v":" "},{"$f":"VLOOKUP('entries and results'!N853,$H$3:$K$30018,3,FALSE)","v":" "},{"$f":"VLOOKUP('entries and results'!N853,$H$3:$K$30018,4,FALSE)","v":" "},null," ","00:00",null,null,null,null,null,null,null,null,null,null,null,null,null,null,null,null,null,null,null,null,null,null,null,null,null,null,null,null,null,null,null,null,null,null,null,null,null,null,null,null,null,null,null,"00:00",851,0,"0000000","00","00","00"]
["SA04846","Shetland AAC","1993-07-14","Emma Leask","SA04846","Senior",".",852,{"$f":"VLOOKUP('entries and results'!G854,$A$3:$E$30018,4,FALSE)","v":" "},{"$f":"VLOOKUP('entries and results'!G854,$A$3:$F$30018,6,FALSE)","v":" "},{"$f":"VLOOKUP('entries and results'!G854,$A$3:$E$30018,2,FALSE)","v":" "},null,852,".",{"$f":"VLOOKUP('entries and results'!N854,$H$3:$K$30018,2,FALSE)","v":" "},{"$f":"VLOOKUP('entries and results'!N854,$H$3:$K$30018,3,FALSE)","v":" "},{"$f":"VLOOKUP('entries and results'!N854,$H$3:$K$30018,4,FALSE)","v":" "},null," ","00:00",null,null,null,null,null,null,null,null,null,null,null,null,null,null,null,null,null,null,null,null,null,null,null,null,null,null,null,null,null,null,null,null,null,null,null,null,null,null,null,null,null,null,null,"00:00",852,0,"0000000","00","00","00"]
["SA04858","Stewartry AC","1994-08-30","Joanna Muir","SA04858","Under 17",".",853,{"$f":"VLOOKUP('entries and results'!G855,$A$3:$E$30018,4,FALSE)","v":" "},{"$f":"VLOOKUP('entries and results'!G855,$A$3:$F$30018,6,FALSE)","v":" "},{"$f":"VLOOKUP('entries and results'!G855,$A$3:$E$30018,2,FALSE)","v":" "},null,853,".",{"$f":"VLOOKUP('entries and results'!N855,$H$3:$K$30018,2,FALSE)","v":" "},{"$f":"VLOOKUP('entries and results'!N855,$H$3:$K$30018,3,FALSE)","v":" "},{"$f":"VLOOKUP('entries and results'!N855,$H$3:$K$30018,4,FALSE)","v":" "},null," ","00:00",null,null,null,null,null,null,null,null,null,null,null,null,null,null,null,null,null,null,null,null,null,null,null,null,null,null,null,null,null,null,null,null,null,null,null,null,null,null,null,null,null,null,null,"00:00",853,0,"0000000","00","00","00"]
["SA04876","VP-Glasgow AC","1995-11-04","Robbie Pollock","SA04876","Under 15",".",854,{"$f":"VLOOKUP('entries and results'!G856,$A$3:$E$30018,4,FALSE)","v":" "},{"$f":"VLOOKUP('entries and results'!G856,$A$3:$F$30018,6,FALSE)","v":" "},{"$f":"VLOOKUP('entries and results'!G856,$A$3:$E$30018,2,FALSE)","v":" "},null,854,".",{"$f":"VLOOKUP('entries and results'!N856,$H$3:$K$30018,2,FALSE)","v":" "},{"$f":"VLOOKUP('entries and results'!N856,$H$3:$K$30018,3,FALSE)","v":" "},{"$f":"VLOOKUP('entries and results'!N856,$H$3:$K$30018,4,FALSE)","v":" "},null," ","00:00",null,null,null,null,null,null,null,null,null,null,null,null,null,null,null,null,null,null,null,null,null,null,null,null,null,null,null,null,null,null,null,null,null,null,null,null,null,null,null,null,null,null,null,"00:00",854,0,"0000000","00","00","00"]
["SA04884","VP-Glasgow AC","1968-02-28","Allan Hamilton","SA04884","Vet",".",855,{"$f":"VLOOKUP('entries and results'!G857,$A$3:$E$30018,4,FALSE)","v":" "},{"$f":"VLOOKUP('entries and results'!G857,$A$3:$F$30018,6,FALSE)","v":" "},{"$f":"VLOOKUP('entries and results'!G857,$A$3:$E$30018,2,FALSE)","v":" "},null,855,".",{"$f":"VLOOKUP('entries and results'!N857,$H$3:$K$30018,2,FALSE)","v":" "},{"$f":"VLOOKUP('entries and results'!N857,$H$3:$K$30018,3,FALSE)","v":" "},{"$f":"VLOOKUP('entries and results'!N857,$H$3:$K$30018,4,FALSE)","v":" "},null," ","00:00",null,null,null,null,null,null,null,null,null,null,null,null,null,null,null,null,null,null,null,null,null,null,null,null,null,null,null,null,null,null,null,null,null,null,null,null,null,null,null,null,null,null,null,"00:00",855,0,"0000000","00","00","00"]
["SA04887","Airdrie Harriers","1996-02-25","Ben McLean","SA04887","Under 15",".",856,{"$f":"VLOOKUP('entries and results'!G858,$A$3:$E$30018,4,FALSE)","v":" "},{"$f":"VLOOKUP('entries and results'!G858,$A$3:$F$30018,6,FALSE)","v":" "},{"$f":"VLOOKUP('entries and results'!G858,$A$3:$E$30018,2,FALSE)","v":" "},null,856,".",{"$f":"VLOOKUP('entries and results'!N858,$H$3:$K$30018,2,FALSE)","v":" "},{"$f":"VLOOKUP('entries and results'!N858,$H$3:$K$30018,3,FALSE)","v":" "},{"$f":"VLOOKUP('entries and results'!N858,$H$3:$K$30018,4,FALSE)","v":" "},null," ","00:00",null,null,null,null,null,null,null,null,null,null,null,null,null,null,null,null,null,null,null,null,null,null,null,null,null,null,null,null,null,null,null,null,null,null,null,null,null,null,null,null,null,null,null,"00:00",856,0,"0000000","00","00","00"]
["SA04888","Ayr Seaforth AAC","1996-05-13","Dana Izat","SA04888","Under 15",".",857,{"$f":"VLOOKUP('entries and results'!G859,$A$3:$E$30018,4,FALSE)","v":" "},{"$f":"VLOOKUP('entries and results'!G859,$A$3:$F$30018,6,FALSE)","v":" "},{"$f":"VLOOKUP('entries and results'!G859,$A$3:$E$30018,2,FALSE)","v":" "},null,857,".",{"$f":"VLOOKUP('entries and results'!N859,$H$3:$K$30018,2,FALSE)","v":" "},{"$f":"VLOOKUP('entries and results'!N859,$H$3:$K$30018,3,FALSE)","v":" "},{"$f":"VLOOKUP('entries and results'!N859,$H$3:$K$30018,4,FALSE)","v":" "},null," ","00:00",null,null,null,null,null,null,null,null,null,null,null,null,null,null,null,null,null,null,null,null,null,null,null,null,null,null,null,null,null,null,null,null,null,null,null,null,null,null,null,null,null,null,null,"00:00",857,0,"0000000","00","00","00"]
["SA04890","Ayr Seaforth AAC","1996-05-06","Eleanor Trainer","SA04890","Under 15",".",858,{"$f":"VLOOKUP('entries and results'!G860,$A$3:$E$30018,4,FALSE)","v":" "},{"$f":"VLOOKUP('entries and results'!G860,$A$3:$F$30018,6,FALSE)","v":" "},{"$f":"VLOOKUP('entries and results'!G860,$A$3:$E$30018,2,FALSE)","v":" "},null,858,".",{"$f":"VLOOKUP('entries and results'!N860,$H$3:$K$30018,2,FALSE)","v":" "},{"$f":"VLOOKUP('entries and results'!N860,$H$3:$K$30018,3,FALSE)","v":" "},{"$f":"VLOOKUP('entries and results'!N860,$H$3:$K$30018,4,FALSE)","v":" "},null," ","00:00",null,null,null,null,null,null,null,null,null,null,null,null,null,null,null,null,null,null,null,null,null,null,null,null,null,null,null,null,null,null,null,null,null,null,null,null,null,null,null,null,null,null,null,"00:00",858,0,"0000000","00","00","00"]
["SA04892","Central AC","1993-04-04","Stewart Ardrey","SA04892","Senior",".",859,{"$f":"VLOOKUP('entries and results'!G861,$A$3:$E$30018,4,FALSE)","v":" "},{"$f":"VLOOKUP('entries and results'!G861,$A$3:$F$30018,6,FALSE)","v":" "},{"$f":"VLOOKUP('entries and results'!G861,$A$3:$E$30018,2,FALSE)","v":" "},null,859,".",{"$f":"VLOOKUP('entries and results'!N861,$H$3:$K$30018,2,FALSE)","v":" "},{"$f":"VLOOKUP('entries and results'!N861,$H$3:$K$30018,3,FALSE)","v":" "},{"$f":"VLOOKUP('entries and results'!N861,$H$3:$K$30018,4,FALSE)","v":" "},null," ","00:00",null,null,null,null,null,null,null,null,null,null,null,null,null,null,null,null,null,null,null,null,null,null,null,null,null,null,null,null,null,null,null,null,null,null,null,null,null,null,null,null,null,null,null,"00:00",859,0,"0000000","00","00","00"]
["SA04895","Edinburgh AC","1996-05-05","Daniel Holligan","SA04895","Under 15",".",860,{"$f":"VLOOKUP('entries and results'!G862,$A$3:$E$30018,4,FALSE)","v":" "},{"$f":"VLOOKUP('entries and results'!G862,$A$3:$F$30018,6,FALSE)","v":" "},{"$f":"VLOOKUP('entries and results'!G862,$A$3:$E$30018,2,FALSE)","v":" "},null,860,".",{"$f":"VLOOKUP('entries and results'!N862,$H$3:$K$30018,2,FALSE)","v":" "},{"$f":"VLOOKUP('entries and results'!N862,$H$3:$K$30018,3,FALSE)","v":" "},{"$f":"VLOOKUP('entries and results'!N862,$H$3:$K$30018,4,FALSE)","v":" "},null," ","00:00",null,null,null,null,null,null,null,null,null,null,null,null,null,null,null,null,null,null,null,null,null,null,null,null,null,null,null,null,null,null,null,null,null,null,null,null,null,null,null,null,null,null,null,{"$f":"CONCATENATE(BQ862,\":\",BR862)","v":"00:00"},860,0,"0000000","00","00","00"]
["SA04896","Edinburgh AC","1996-12-01","Callum Jones","SA04896","Under 15",".",861,{"$f":"VLOOKUP('entries and results'!G863,$A$3:$E$30018,4,FALSE)","v":" "},{"$f":"VLOOKUP('entries and results'!G863,$A$3:$F$30018,6,FALSE)","v":" "},{"$f":"VLOOKUP('entries and results'!G863,$A$3:$E$30018,2,FALSE)","v":" "},null,861,".",{"$f":"VLOOKUP('entries and results'!N863,$H$3:$K$30018,2,FALSE)","v":" "},{"$f":"VLOOKUP('entries and results'!N863,$H$3:$K$30018,3,FALSE)","v":" "},{"$f":"VLOOKUP('entries and results'!N863,$H$3:$K$30018,4,FALSE)","v":" "},null," ","00:00",null,null,null,null,null,null,null,null,null,null,null,null,null,null,null,null,null,null,null,null,null,null,null,null,null,null,null,null,null,null,null,null,null,null,null,null,null,null,null,null,null,null,null,"00:00",861,0,"0000000","00","00","00"]
["SA04918","Falkirk Victoria Harriers","1996-11-18","Rachel Manson","SA04918","Under 15",".",862,{"$f":"VLOOKUP('entries and results'!G864,$A$3:$E$30018,4,FALSE)","v":" "},{"$f":"VLOOKUP('entries and results'!G864,$A$3:$F$30018,6,FALSE)","v":" "},{"$f":"VLOOKUP('entries and results'!G864,$A$3:$E$30018,2,FALSE)","v":" "},null,862,".",{"$f":"VLOOKUP('entries and results'!N864,$H$3:$K$30018,2,FALSE)","v":" "},{"$f":"VLOOKUP('entries and results'!N864,$H$3:$K$30018,3,FALSE)","v":" "},{"$f":"VLOOKUP('entries and results'!N864,$H$3:$K$30018,4,FALSE)","v":" "},null," ","00:00",null,null,null,null,null,null,null,null,null,null,null,null,null,null,null,null,null,null,null,null,null,null,null,null,null,null,null,null,null,null,null,null,null,null,null,null,null,null,null,null,null,null,null,"00:00",862,0,"0000000","00","00","00"]
["SA04930","Giffnock North AAC","1995-07-11","Megan Howat","SA04930","Under 17",".",863,{"$f":"VLOOKUP('entries and results'!G865,$A$3:$E$30018,4,FALSE)","v":" "},{"$f":"VLOOKUP('entries and results'!G865,$A$3:$F$30018,6,FALSE)","v":" "},{"$f":"VLOOKUP('entries and results'!G865,$A$3:$E$30018,2,FALSE)","v":" "},null,863,".",{"$f":"VLOOKUP('entries and results'!N865,$H$3:$K$30018,2,FALSE)","v":" "},{"$f":"VLOOKUP('entries and results'!N865,$H$3:$K$30018,3,FALSE)","v":" "},{"$f":"VLOOKUP('entries and results'!N865,$H$3:$K$30018,4,FALSE)","v":" "},null," ","00:00",null,null,null,null,null,null,null,null,null,null,null,null,null,null,null,null,null,null,null,null,null,null,null,null,null,null,null,null,null,null,null,null,null,null,null,null,null,null,null,null,null,null,null,"00:00",863,0,"0000000","00","00","00"]
["SA04933","Giffnock North AAC","1995-11-20","Callum McWilliam","SA04933","Under 15",".",864,{"$f":"VLOOKUP('entries and results'!G866,$A$3:$E$30018,4,FALSE)","v":" "},{"$f":"VLOOKUP('entries and results'!G866,$A$3:$F$30018,6,FALSE)","v":" "},{"$f":"VLOOKUP('entries and results'!G866,$A$3:$E$30018,2,FALSE)","v":" "},null,864,".",{"$f":"VLOOKUP('entries and results'!N866,$H$3:$K$30018,2,FALSE)","v":" "},{"$f":"VLOOKUP('entries and results'!N866,$H$3:$K$30018,3,FALSE)","v":" "},{"$f":"VLOOKUP('entries and results'!N866,$H$3:$K$30018,4,FALSE)","v":" "},null," ","00:00",null,null,null,null,null,null,null,null,null,null,null,null,null,null,null,null,null,null,null,null,null,null,null,null,null,null,null,null,null,null,null,null,null,null,null,null,null,null,null,null,null,null,null,"00:00",864,0,"0000000","00","00","00"]
["SA04937","North Ayrshire AC","1992-04-16","Sean Thompson","SA04937","Senior",".",865,{"$f":"VLOOKUP('entries and results'!G867,$A$3:$E$30018,4,FALSE)","v":" "},{"$f":"VLOOKUP('entries and results'!G867,$A$3:$F$30018,6,FALSE)","v":" "},{"$f":"VLOOKUP('entries and results'!G867,$A$3:$E$30018,2,FALSE)","v":" "},null,865,".",{"$f":"VLOOKUP('entries and results'!N867,$H$3:$K$30018,2,FALSE)","v":" "},{"$f":"VLOOKUP('entries and results'!N867,$H$3:$K$30018,3,FALSE)","v":" "},{"$f":"VLOOKUP('entries and results'!N867,$H$3:$K$30018,4,FALSE)","v":" "},null," ","00:00",null,null,null,null,null,null,null,null,null,null,null,null,null,null,null,null,null,null,null,null,null,null,null,null,null,null,null,null,null,null,null,null,null,null,null,null,null,null,null,null,null,null,null,"00:00",865,0,"0000000","00","00","00"]
["SA04938","Kilmarnock H&AC","1994-12-12","Cory O'Hara","SA04938","Under 17",".",866,{"$f":"VLOOKUP('entries and results'!G868,$A$3:$E$30018,4,FALSE)","v":" "},{"$f":"VLOOKUP('entries and results'!G868,$A$3:$F$30018,6,FALSE)","v":" "},{"$f":"VLOOKUP('entries and results'!G868,$A$3:$E$30018,2,FALSE)","v":" "},null,866,".",{"$f":"VLOOKUP('entries and results'!N868,$H$3:$K$30018,2,FALSE)","v":" "},{"$f":"VLOOKUP('entries and results'!N868,$H$3:$K$30018,3,FALSE)","v":" "},{"$f":"VLOOKUP('entries and results'!N868,$H$3:$K$30018,4,FALSE)","v":" "},null," ","00:00",null,null,null,null,null,null,null,null,null,null,null,null,null,null,null,null,null,null,null,null,null,null,null,null,null,null,null,null,null,null,null,null,null,null,null,null,null,null,null,null,null,null,null,"00:00",866,0,"0000000","00","00","00"]
["SA04942","VP-Glasgow AC","1996-01-04","Marc Rooney","SA04942","Under 15",".",867,{"$f":"VLOOKUP('entries and results'!G869,$A$3:$E$30018,4,FALSE)","v":" "},{"$f":"VLOOKUP('entries and results'!G869,$A$3:$F$30018,6,FALSE)","v":" "},{"$f":"VLOOKUP('entries and results'!G869,$A$3:$E$30018,2,FALSE)","v":" "},null,867,".",{"$f":"VLOOKUP('entries and results'!N869,$H$3:$K$30018,2,FALSE)","v":" "},{"$f":"VLOOKUP('entries and results'!N869,$H$3:$K$30018,3,FALSE)","v":" "},{"$f":"VLOOKUP('entries and results'!N869,$H$3:$K$30018,4,FALSE)","v":" "},null," ","00:00",null,null,null,null,null,null,null,null,null,null,null,null,null,null,null,null,null,null,null,null,null,null,null,null,null,null,null,null,null,null,null,null,null,null,null,null,null,null,null,null,null,null,null,"00:00",867,0,"0000000","00","00","00"]
["SA04946","Moorfoot Runners","1993-08-16","Scout Adkin","SA04946","Senior",".",868,{"$f":"VLOOKUP('entries and results'!G870,$A$3:$E$30018,4,FALSE)","v":" "},{"$f":"VLOOKUP('entries and results'!G870,$A$3:$F$30018,6,FALSE)","v":" "},{"$f":"VLOOKUP('entries and results'!G870,$A$3:$E$30018,2,FALSE)","v":" "},null,868,".",{"$f":"VLOOKUP('entries and results'!N870,$H$3:$K$30018,2,FALSE)","v":" "},{"$f":"VLOOKUP('entries and results'!N870,$H$3:$K$30018,3,FALSE)","v":" "},{"$f":"VLOOKUP('entries and results'!N870,$H$3:$K$30018,4,FALSE)","v":" "},null," ","00:00",null,null,null,null,null,null,null,null,null,null,null,null,null,null,null,null,null,null,null,null,null,null,null,null,null,null,null,null,null,null,null,null,null,null,null,null,null,null,null,null,null,null,null,"00:00",868,0,"0000000","00","00","00"]
["SA04953","Motherwell AC","1994-01-20","Lewis Gibb","SA04953","Under 17",".",869,{"$f":"VLOOKUP('entries and results'!G871,$A$3:$E$30018,4,FALSE)","v":" "},{"$f":"VLOOKUP('entries and results'!G871,$A$3:$F$30018,6,FALSE)","v":" "},{"$f":"VLOOKUP('entries and results'!G871,$A$3:$E$30018,2,FALSE)","v":" "},null,869,".",{"$f":"VLOOKUP('entries and results'!N871,$H$3:$K$30018,2,FALSE)","v":" "},{"$f":"VLOOKUP('entries and results'!N871,$H$3:$K$30018,3,FALSE)","v":" "},{"$f":"VLOOKUP('entries and results'!N871,$H$3:$K$30018,4,FALSE)","v":" "},null," ","00:00",null,null,null,null,null,null,null,null,null,null,null,null,null,null,null,null,null,null,null,null,null,null,null,null,null,null,null,null,null,null,null,null,null,null,null,null,null,null,null,null,null,null,null,"00:00",869,0,"0000000","00","00","00"]
["SA04967","Whitemoss AAC","1996-11-08","Lauren McSkimming","SA04967","Under 15",".",870,{"$f":"VLOOKUP('entries and results'!G872,$A$3:$E$30018,4,FALSE)","v":" "},{"$f":"VLOOKUP('entries and results'!G872,$A$3:$F$30018,6,FALSE)","v":" "},{"$f":"VLOOKUP('entries and results'!G872,$A$3:$E$30018,2,FALSE)","v":" "},null,870,".",{"$f":"VLOOKUP('entries and results'!N872,$H$3:$K$30018,2,FALSE)","v":" "},{"$f":"VLOOKUP('entries and results'!N872,$H$3:$K$30018,3,FALSE)","v":" "},{"$f":"VLOOKUP('entries and results'!N872,$H$3:$K$30018,4,FALSE)","v":" "},null," ","00:00",null,null,null,null,null,null,null,null,null,null,null,null,null,null,null,null,null,null,null,null,null,null,null,null,null,null,null,null,null,null,null,null,null,null,null,null,null,null,null,null,null,null,null,"00:00",870,0,"0000000","00","00","00"]
["SA04975",null,"1954-11-13","Helen MacNeill","SA04975","Vet",".",871,{"$f":"VLOOKUP('entries and results'!G873,$A$3:$E$30018,4,FALSE)","v":" "},{"$f":"VLOOKUP('entries and results'!G873,$A$3:$F$30018,6,FALSE)","v":" "},{"$f":"VLOOKUP('entries and results'!G873,$A$3:$E$30018,2,FALSE)","v":" "},null,871,".",{"$f":"VLOOKUP('entries and results'!N873,$H$3:$K$30018,2,FALSE)","v":" "},{"$f":"VLOOKUP('entries and results'!N873,$H$3:$K$30018,3,FALSE)","v":" "},{"$f":"VLOOKUP('entries and results'!N873,$H$3:$K$30018,4,FALSE)","v":" "},null," ","00:00",null,null,null,null,null,null,null,null,null,null,null,null,null,null,null,null,null,null,null,null,null,null,null,null,null,null,null,null,null,null,null,null,null,null,null,null,null,null,null,null,null,null,null,"00:00",871,0,"0000000","00","00","00"]
["SA04977","Edinburgh AC","1953-10-08","Jim Oliver","SA04977","Vet",".",872,{"$f":"VLOOKUP('entries and results'!G874,$A$3:$E$30018,4,FALSE)","v":" "},{"$f":"VLOOKUP('entries and results'!G874,$A$3:$F$30018,6,FALSE)","v":" "},{"$f":"VLOOKUP('entries and results'!G874,$A$3:$E$30018,2,FALSE)","v":" "},null,872,".",{"$f":"VLOOKUP('entries and results'!N874,$H$3:$K$30018,2,FALSE)","v":" "},{"$f":"VLOOKUP('entries and results'!N874,$H$3:$K$30018,3,FALSE)","v":" "},{"$f":"VLOOKUP('entries and results'!N874,$H$3:$K$30018,4,FALSE)","v":" "},null," ","00:00",null,null,null,null,null,null,null,null,null,null,null,null,null,null,null,null,null,null,null,null,null,null,null,null,null,null,null,null,null,null,null,null,null,null,null,null,null,null,null,null,null,null,null,"00:00",872,0,"0000000","00","00","00"]
["SA04978","Lochaber AC","1942-09-10","Dugie MacDonald","SA04978","Vet",".",873,{"$f":"VLOOKUP('entries and results'!G875,$A$3:$E$30018,4,FALSE)","v":" "},{"$f":"VLOOKUP('entries and results'!G875,$A$3:$F$30018,6,FALSE)","v":" "},{"$f":"VLOOKUP('entries and results'!G875,$A$3:$E$30018,2,FALSE)","v":" "},null,873,".",{"$f":"VLOOKUP('entries and results'!N875,$H$3:$K$30018,2,FALSE)","v":" "},{"$f":"VLOOKUP('entries and results'!N875,$H$3:$K$30018,3,FALSE)","v":" "},{"$f":"VLOOKUP('entries and results'!N875,$H$3:$K$30018,4,FALSE)","v":" "},null," ","00:00",null,null,null,null,null,null,null,null,null,null,null,null,null,null,null,null,null,null,null,null,null,null,null,null,null,null,null,null,null,null,null,null,null,null,null,null,null,null,null,null,null,null,null,"00:00",873,0,"0000000","00","00","00"]
["SA04979","Ellon AAC","1952-08-06","Brenda Henderson","SA04979","Vet",".",874,{"$f":"VLOOKUP('entries and results'!G876,$A$3:$E$30018,4,FALSE)","v":" "},{"$f":"VLOOKUP('entries and results'!G876,$A$3:$F$30018,6,FALSE)","v":" "},{"$f":"VLOOKUP('entries and results'!G876,$A$3:$E$30018,2,FALSE)","v":" "},null,874,".",{"$f":"VLOOKUP('entries and results'!N876,$H$3:$K$30018,2,FALSE)","v":" "},{"$f":"VLOOKUP('entries and results'!N876,$H$3:$K$30018,3,FALSE)","v":" "},{"$f":"VLOOKUP('entries and results'!N876,$H$3:$K$30018,4,FALSE)","v":" "},null," ","00:00",null,null,null,null,null,null,null,null,null,null,null,null,null,null,null,null,null,null,null,null,null,null,null,null,null,null,null,null,null,null,null,null,null,null,null,null,null,null,null,null,null,null,null,"00:00",874,0,"0000000","00","00","00"]
["SA04981","Inverness Harriers AAC","1934-02-07","Ian Tasker","SA04981","Vet",".",875,{"$f":"VLOOKUP('entries and results'!G877,$A$3:$E$30018,4,FALSE)","v":" "},{"$f":"VLOOKUP('entries and results'!G877,$A$3:$F$30018,6,FALSE)","v":" "},{"$f":"VLOOKUP('entries and results'!G877,$A$3:$E$30018,2,FALSE)","v":" "},null,875,".",{"$f":"VLOOKUP('entries and results'!N877,$H$3:$K$30018,2,FALSE)","v":" "},{"$f":"VLOOKUP('entries and results'!N877,$H$3:$K$30018,3,FALSE)","v":" "},{"$f":"VLOOKUP('entries and results'!N877,$H$3:$K$30018,4,FALSE)","v":" "},null," ","00:00",null,null,null,null,null,null,null,null,null,null,null,null,null,null,null,null,null,null,null,null,null,null,null,null,null,null,null,null,null,null,null,null,null,null,null,null,null,null,null,null,null,null,null,"00:00",875,0,"0000000","00","00","00"]
["SA04985","Banchory Stonehaven AC","1956-12-15","Gordon Christie","SA04985","Vet",".",876,{"$f":"VLOOKUP('entries and results'!G878,$A$3:$E$30018,4,FALSE)","v":" "},{"$f":"VLOOKUP('entries and results'!G878,$A$3:$F$30018,6,FALSE)","v":" "},{"$f":"VLOOKUP('entries and results'!G878,$A$3:$E$30018,2,FALSE)","v":" "},null,876,".",{"$f":"VLOOKUP('entries and results'!N878,$H$3:$K$30018,2,FALSE)","v":" "},{"$f":"VLOOKUP('entries and results'!N878,$H$3:$K$30018,3,FALSE)","v":" "},{"$f":"VLOOKUP('entries and results'!N878,$H$3:$K$30018,4,FALSE)","v":" "},null," ","00:00",null,null,null,null,null,null,null,null,null,null,null,null,null,null,null,null,null,null,null,null,null,null,null,null,null,null,null,null,null,null,null,null,null,null,null,null,null,null,null,null,null,null,null,"00:00",876,0,"0000000","00","00","00"]
["SA04989","Kinross Road Runners","1933-06-17","Sylvia Wilson","SA04989","Vet",".",877,{"$f":"VLOOKUP('entries and results'!G879,$A$3:$E$30018,4,FALSE)","v":" "},{"$f":"VLOOKUP('entries and results'!G879,$A$3:$F$30018,6,FALSE)","v":" "},{"$f":"VLOOKUP('entries and results'!G879,$A$3:$E$30018,2,FALSE)","v":" "},null,877,".",{"$f":"VLOOKUP('entries and results'!N879,$H$3:$K$30018,2,FALSE)","v":" "},{"$f":"VLOOKUP('entries and results'!N879,$H$3:$K$30018,3,FALSE)","v":" "},{"$f":"VLOOKUP('entries and results'!N879,$H$3:$K$30018,4,FALSE)","v":" "},null," ","00:00",null,null,null,null,null,null,null,null,null,null,null,null,null,null,null,null,null,null,null,null,null,null,null,null,null,null,null,null,null,null,null,null,null,null,null,null,null,null,null,null,null,null,null,"00:00",877,0,"0000000","00","00","00"]
["SA04991","AC Eyemouth","1949-09-01","John Purvis","SA04991","Vet",".",878,{"$f":"VLOOKUP('entries and results'!G880,$A$3:$E$30018,4,FALSE)","v":" "},{"$f":"VLOOKUP('entries and results'!G880,$A$3:$F$30018,6,FALSE)","v":" "},{"$f":"VLOOKUP('entries and results'!G880,$A$3:$E$30018,2,FALSE)","v":" "},null,878,".",{"$f":"VLOOKUP('entries and results'!N880,$H$3:$K$30018,2,FALSE)","v":" "},{"$f":"VLOOKUP('entries and results'!N880,$H$3:$K$30018,3,FALSE)","v":" "},{"$f":"VLOOKUP('entries and results'!N880,$H$3:$K$30018,4,FALSE)","v":" "},null," ","00:00",null,null,null,null,null,null,null,null,null,null,null,null,null,null,null,null,null,null,null,null,null,null,null,null,null,null,null,null,null,null,null,null,null,null,null,null,null,null,null,null,null,null,null,"00:00",878,0,"0000000","00","00","00"]
["SA05005","Ayr Seaforth AAC","1950-11-08","Ricky Taylor","SA05005","Vet",".",879,{"$f":"VLOOKUP('entries and results'!G881,$A$3:$E$30018,4,FALSE)","v":" "},{"$f":"VLOOKUP('entries and results'!G881,$A$3:$F$30018,6,FALSE)","v":" "},{"$f":"VLOOKUP('entries and results'!G881,$A$3:$E$30018,2,FALSE)","v":" "},null,879,".",{"$f":"VLOOKUP('entries and results'!N881,$H$3:$K$30018,2,FALSE)","v":" "},{"$f":"VLOOKUP('entries and results'!N881,$H$3:$K$30018,3,FALSE)","v":" "},{"$f":"VLOOKUP('entries and results'!N881,$H$3:$K$30018,4,FALSE)","v":" "},null," ","00:00",null,null,null,null,null,null,null,null,null,null,null,null,null,null,null,null,null,null,null,null,null,null,null,null,null,null,null,null,null,null,null,null,null,null,null,null,null,null,null,null,null,null,null,"00:00",879,0,"0000000","00","00","00"]
["SA05007","Aberdeen AAC","1957-02-14","Ray Davies","SA05007","Vet",".",880,{"$f":"VLOOKUP('entries and results'!G882,$A$3:$E$30018,4,FALSE)","v":" "},{"$f":"VLOOKUP('entries and results'!G882,$A$3:$F$30018,6,FALSE)","v":" "},{"$f":"VLOOKUP('entries and results'!G882,$A$3:$E$30018,2,FALSE)","v":" "},null,880,".",{"$f":"VLOOKUP('entries and results'!N882,$H$3:$K$30018,2,FALSE)","v":" "},{"$f":"VLOOKUP('entries and results'!N882,$H$3:$K$30018,3,FALSE)","v":" "},{"$f":"VLOOKUP('entries and results'!N882,$H$3:$K$30018,4,FALSE)","v":" "},null," ","00:00",null,null,null,null,null,null,null,null,null,null,null,null,null,null,null,null,null,null,null,null,null,null,null,null,null,null,null,null,null,null,null,null,null,null,null,null,null,null,null,null,null,null,null,"00:00",880,0,"0000000","00","00","00"]
["SA05013","Airdrie Harriers","1966-08-13","Pat McShane","SA05013","Vet",".",881,{"$f":"VLOOKUP('entries and results'!G883,$A$3:$E$30018,4,FALSE)","v":" "},{"$f":"VLOOKUP('entries and results'!G883,$A$3:$F$30018,6,FALSE)","v":" "},{"$f":"VLOOKUP('entries and results'!G883,$A$3:$E$30018,2,FALSE)","v":" "},null,881,".",{"$f":"VLOOKUP('entries and results'!N883,$H$3:$K$30018,2,FALSE)","v":" "},{"$f":"VLOOKUP('entries and results'!N883,$H$3:$K$30018,3,FALSE)","v":" "},{"$f":"VLOOKUP('entries and results'!N883,$H$3:$K$30018,4,FALSE)","v":" "},null," ","00:00",null,null,null,null,null,null,null,null,null,null,null,null,null,null,null,null,null,null,null,null,null,null,null,null,null,null,null,null,null,null,null,null,null,null,null,null,null,null,null,null,null,null,null,"00:00",881,0,"0000000","00","00","00"]
["SA05017","Anster Haddies Running Club","1971-10-28","David Burgess","SA05017","Senior",".",882,{"$f":"VLOOKUP('entries and results'!G884,$A$3:$E$30018,4,FALSE)","v":" "},{"$f":"VLOOKUP('entries and results'!G884,$A$3:$F$30018,6,FALSE)","v":" "},{"$f":"VLOOKUP('entries and results'!G884,$A$3:$E$30018,2,FALSE)","v":" "},null,882,".",{"$f":"VLOOKUP('entries and results'!N884,$H$3:$K$30018,2,FALSE)","v":" "},{"$f":"VLOOKUP('entries and results'!N884,$H$3:$K$30018,3,FALSE)","v":" "},{"$f":"VLOOKUP('entries and results'!N884,$H$3:$K$30018,4,FALSE)","v":" "},null," ","00:00",null,null,null,null,null,null,null,null,null,null,null,null,null,null,null,null,null,null,null,null,null,null,null,null,null,null,null,null,null,null,null,null,null,null,null,null,null,null,null,null,null,null,null,"00:00",882,0,"0000000","00","00","00"]
["SA05023","Ayr Seaforth AAC","1939-07-09","Glen Harrower","SA05023","Vet",".",883,{"$f":"VLOOKUP('entries and results'!G885,$A$3:$E$30018,4,FALSE)","v":" "},{"$f":"VLOOKUP('entries and results'!G885,$A$3:$F$30018,6,FALSE)","v":" "},{"$f":"VLOOKUP('entries and results'!G885,$A$3:$E$30018,2,FALSE)","v":" "},null,883,".",{"$f":"VLOOKUP('entries and results'!N885,$H$3:$K$30018,2,FALSE)","v":" "},{"$f":"VLOOKUP('entries and results'!N885,$H$3:$K$30018,3,FALSE)","v":" "},{"$f":"VLOOKUP('entries and results'!N885,$H$3:$K$30018,4,FALSE)","v":" "},null," ","00:00",null,null,null,null,null,null,null,null,null,null,null,null,null,null,null,null,null,null,null,null,null,null,null,null,null,null,null,null,null,null,null,null,null,null,null,null,null,null,null,null,null,null,null,"00:00",883,0,"0000000","00","00","00"]
["SA05025","Ayr Seaforth AAC","1965-02-07","Rhona Rae","SA05025","Vet",".",884,{"$f":"VLOOKUP('entries and results'!G886,$A$3:$E$30018,4,FALSE)","v":" "},{"$f":"VLOOKUP('entries and results'!G886,$A$3:$F$30018,6,FALSE)","v":" "},{"$f":"VLOOKUP('entries and results'!G886,$A$3:$E$30018,2,FALSE)","v":" "},null,884,".",{"$f":"VLOOKUP('entries and results'!N886,$H$3:$K$30018,2,FALSE)","v":" "},{"$f":"VLOOKUP('entries and results'!N886,$H$3:$K$30018,3,FALSE)","v":" "},{"$f":"VLOOKUP('entries and results'!N886,$H$3:$K$30018,4,FALSE)","v":" "},null," ","00:00",null,null,null,null,null,null,null,null,null,null,null,null,null,null,null,null,null,null,null,null,null,null,null,null,null,null,null,null,null,null,null,null,null,null,null,null,null,null,null,null,null,null,null,"00:00",884,0,"0000000","00","00","00"]
["SA05026","Ayr Seaforth AAC","1959-03-10","Alan Sprang","SA05026","Vet",".",885,{"$f":"VLOOKUP('entries and results'!G887,$A$3:$E$30018,4,FALSE)","v":" "},{"$f":"VLOOKUP('entries and results'!G887,$A$3:$F$30018,6,FALSE)","v":" "},{"$f":"VLOOKUP('entries and results'!G887,$A$3:$E$30018,2,FALSE)","v":" "},null,885,".",{"$f":"VLOOKUP('entries and results'!N887,$H$3:$K$30018,2,FALSE)","v":" "},{"$f":"VLOOKUP('entries and results'!N887,$H$3:$K$30018,3,FALSE)","v":" "},{"$f":"VLOOKUP('entries and results'!N887,$H$3:$K$30018,4,FALSE)","v":" "},null," ","00:00",null,null,null,null,null,null,null,null,null,null,null,null,null,null,null,null,null,null,null,null,null,null,null,null,null,null,null,null,null,null,null,null,null,null,null,null,null,null,null,null,null,null,null,"00:00",885,0,"0000000","00","00","00"]
["SA05034","Bellahouston Road Runners","1944-11-02","Edward Murphy","SA05034","Vet",".",886,{"$f":"VLOOKUP('entries and results'!G888,$A$3:$E$30018,4,FALSE)","v":" "},{"$f":"VLOOKUP('entries and results'!G888,$A$3:$F$30018,6,FALSE)","v":" "},{"$f":"VLOOKUP('entries and results'!G888,$A$3:$E$30018,2,FALSE)","v":" "},null,886,".",{"$f":"VLOOKUP('entries and results'!N888,$H$3:$K$30018,2,FALSE)","v":" "},{"$f":"VLOOKUP('entries and results'!N888,$H$3:$K$30018,3,FALSE)","v":" "},{"$f":"VLOOKUP('entries and results'!N888,$H$3:$K$30018,4,FALSE)","v":" "},null," ","00:00",null,null,null,null,null,null,null,null,null,null,null,null,null,null,null,null,null,null,null,null,null,null,null,null,null,null,null,null,null,null,null,null,null,null,null,null,null,null,null,null,null,null,null,"00:00",886,0,"0000000","00","00","00"]
["SA05035","Bellahouston Harriers","1949-06-06","John Softley","SA05035","Vet",".",887,{"$f":"VLOOKUP('entries and results'!G889,$A$3:$E$30018,4,FALSE)","v":" "},{"$f":"VLOOKUP('entries and results'!G889,$A$3:$F$30018,6,FALSE)","v":" "},{"$f":"VLOOKUP('entries and results'!G889,$A$3:$E$30018,2,FALSE)","v":" "},null,887,".",{"$f":"VLOOKUP('entries and results'!N889,$H$3:$K$30018,2,FALSE)","v":" "},{"$f":"VLOOKUP('entries and results'!N889,$H$3:$K$30018,3,FALSE)","v":" "},{"$f":"VLOOKUP('entries and results'!N889,$H$3:$K$30018,4,FALSE)","v":" "},null," ","00:00",null,null,null,null,null,null,null,null,null,null,null,null,null,null,null,null,null,null,null,null,null,null,null,null,null,null,null,null,null,null,null,null,null,null,null,null,null,null,null,null,null,null,null,"00:00",887,0,"0000000","00","00","00"]
["SA05036","Bellahouston Road Runners","1951-11-29","Stephen Bell","SA05036","Vet",".",888,{"$f":"VLOOKUP('entries and results'!G890,$A$3:$E$30018,4,FALSE)","v":" "},{"$f":"VLOOKUP('entries and results'!G890,$A$3:$F$30018,6,FALSE)","v":" "},{"$f":"VLOOKUP('entries and results'!G890,$A$3:$E$30018,2,FALSE)","v":" "},null,888,".",{"$f":"VLOOKUP('entries and results'!N890,$H$3:$K$30018,2,FALSE)","v":" "},{"$f":"VLOOKUP('entries and results'!N890,$H$3:$K$30018,3,FALSE)","v":" "},{"$f":"VLOOKUP('entries and results'!N890,$H$3:$K$30018,4,FALSE)","v":" "},null," ","00:00",null,null,null,null,null,null,null,null,null,null,null,null,null,null,null,null,null,null,null,null,null,null,null,null,null,null,null,null,null,null,null,null,null,null,null,null,null,null,null,null,null,null,null,"00:00",888,0,"0000000","00","00","00"]
["SA05038","Bellahouston Road Runners","1959-11-01","Graeme Boyle","SA05038","Vet",".",889,{"$f":"VLOOKUP('entries and results'!G891,$A$3:$E$30018,4,FALSE)","v":" "},{"$f":"VLOOKUP('entries and results'!G891,$A$3:$F$30018,6,FALSE)","v":" "},{"$f":"VLOOKUP('entries and results'!G891,$A$3:$E$30018,2,FALSE)","v":" "},null,889,".",{"$f":"VLOOKUP('entries and results'!N891,$H$3:$K$30018,2,FALSE)","v":" "},{"$f":"VLOOKUP('entries and results'!N891,$H$3:$K$30018,3,FALSE)","v":" "},{"$f":"VLOOKUP('entries and results'!N891,$H$3:$K$30018,4,FALSE)","v":" "},null," ","00:00",null,null,null,null,null,null,null,null,null,null,null,null,null,null,null,null,null,null,null,null,null,null,null,null,null,null,null,null,null,null,null,null,null,null,null,null,null,null,null,null,null,null,null,"00:00",889,0,"0000000","00","00","00"]
["SA05040","Bellahouston Road Runners","1969-10-02","Peter Gallanagh","SA05040","Vet",".",890,{"$f":"VLOOKUP('entries and results'!G892,$A$3:$E$30018,4,FALSE)","v":" "},{"$f":"VLOOKUP('entries and results'!G892,$A$3:$F$30018,6,FALSE)","v":" "},{"$f":"VLOOKUP('entries and results'!G892,$A$3:$E$30018,2,FALSE)","v":" "},null,890,".",{"$f":"VLOOKUP('entries and results'!N892,$H$3:$K$30018,2,FALSE)","v":" "},{"$f":"VLOOKUP('entries and results'!N892,$H$3:$K$30018,3,FALSE)","v":" "},{"$f":"VLOOKUP('entries and results'!N892,$H$3:$K$30018,4,FALSE)","v":" "},null," ","00:00",null,null,null,null,null,null,null,null,null,null,null,null,null,null,null,null,null,null,null,null,null,null,null,null,null,null,null,null,null,null,null,null,null,null,null,null,null,null,null,null,null,null,null,"00:00",890,0,"0000000","00","00","00"]
["SA05041","Bellahouston Road Runners","1971-05-14","Greig Glendinning","SA05041","Senior",".",891,{"$f":"VLOOKUP('entries and results'!G893,$A$3:$E$30018,4,FALSE)","v":" "},{"$f":"VLOOKUP('entries and results'!G893,$A$3:$F$30018,6,FALSE)","v":" "},{"$f":"VLOOKUP('entries and results'!G893,$A$3:$E$30018,2,FALSE)","v":" "},null,891,".",{"$f":"VLOOKUP('entries and results'!N893,$H$3:$K$30018,2,FALSE)","v":" "},{"$f":"VLOOKUP('entries and results'!N893,$H$3:$K$30018,3,FALSE)","v":" "},{"$f":"VLOOKUP('entries and results'!N893,$H$3:$K$30018,4,FALSE)","v":" "},null," ","00:00",null,null,null,null,null,null,null,null,null,null,null,null,null,null,null,null,null,null,null,null,null,null,null,null,null,null,null,null,null,null,null,null,null,null,null,null,null,null,null,null,null,null,null,"00:00",891,0,"0000000","00","00","00"]
["SA05042","Bellahouston Road Runners","1970-09-17","Nicola Milligan","SA05042","Senior",".",892,{"$f":"VLOOKUP('entries and results'!G894,$A$3:$E$30018,4,FALSE)","v":" "},{"$f":"VLOOKUP('entries and results'!G894,$A$3:$F$30018,6,FALSE)","v":" "},{"$f":"VLOOKUP('entries and results'!G894,$A$3:$E$30018,2,FALSE)","v":" "},null,892,".",{"$f":"VLOOKUP('entries and results'!N894,$H$3:$K$30018,2,FALSE)","v":" "},{"$f":"VLOOKUP('entries and results'!N894,$H$3:$K$30018,3,FALSE)","v":" "},{"$f":"VLOOKUP('entries and results'!N894,$H$3:$K$30018,4,FALSE)","v":" "},null," ","00:00",null,null,null,null,null,null,null,null,null,null,null,null,null,null,null,null,null,null,null,null,null,null,null,null,null,null,null,null,null,null,null,null,null,null,null,null,null,null,null,null,null,null,null,"00:00",892,0,"0000000","00","00","00"]
["SA05045","Bellahouston Road Runners","1977-12-26","Nick Reid","SA05045","Senior",".",893,{"$f":"VLOOKUP('entries and results'!G895,$A$3:$E$30018,4,FALSE)","v":" "},{"$f":"VLOOKUP('entries and results'!G895,$A$3:$F$30018,6,FALSE)","v":" "},{"$f":"VLOOKUP('entries and results'!G895,$A$3:$E$30018,2,FALSE)","v":" "},null,893,".",{"$f":"VLOOKUP('entries and results'!N895,$H$3:$K$30018,2,FALSE)","v":" "},{"$f":"VLOOKUP('entries and results'!N895,$H$3:$K$30018,3,FALSE)","v":" "},{"$f":"VLOOKUP('entries and results'!N895,$H$3:$K$30018,4,FALSE)","v":" "},null," ","00:00",null,null,null,null,null,null,null,null,null,null,null,null,null,null,null,null,null,null,null,null,null,null,null,null,null,null,null,null,null,null,null,null,null,null,null,null,null,null,null,null,null,null,null,"00:00",893,0,"0000000","00","00","00"]
["SA05046","Bellahouston Road Runners","1976-03-22","Claire Thompson","SA05046","Senior",".",894,{"$f":"VLOOKUP('entries and results'!G896,$A$3:$E$30018,4,FALSE)","v":" "},{"$f":"VLOOKUP('entries and results'!G896,$A$3:$F$30018,6,FALSE)","v":" "},{"$f":"VLOOKUP('entries and results'!G896,$A$3:$E$30018,2,FALSE)","v":" "},null,894,".",{"$f":"VLOOKUP('entries and results'!N896,$H$3:$K$30018,2,FALSE)","v":" "},{"$f":"VLOOKUP('entries and results'!N896,$H$3:$K$30018,3,FALSE)","v":" "},{"$f":"VLOOKUP('entries and results'!N896,$H$3:$K$30018,4,FALSE)","v":" "},null," ","00:00",null,null,null,null,null,null,null,null,null,null,null,null,null,null,null,null,null,null,null,null,null,null,null,null,null,null,null,null,null,null,null,null,null,null,null,null,null,null,null,null,null,null,null,"00:00",894,0,"0000000","00","00","00"]
["SA05047","Bellahouston Road Runners","1979-09-12","Sanda Trenchard","SA05047","Senior",".",895,{"$f":"VLOOKUP('entries and results'!G897,$A$3:$E$30018,4,FALSE)","v":" "},{"$f":"VLOOKUP('entries and results'!G897,$A$3:$F$30018,6,FALSE)","v":" "},{"$f":"VLOOKUP('entries and results'!G897,$A$3:$E$30018,2,FALSE)","v":" "},null,895,".",{"$f":"VLOOKUP('entries and results'!N897,$H$3:$K$30018,2,FALSE)","v":" "},{"$f":"VLOOKUP('entries and results'!N897,$H$3:$K$30018,3,FALSE)","v":" "},{"$f":"VLOOKUP('entries and results'!N897,$H$3:$K$30018,4,FALSE)","v":" "},null," ","00:00",null,null,null,null,null,null,null,null,null,null,null,null,null,null,null,null,null,null,null,null,null,null,null,null,null,null,null,null,null,null,null,null,null,null,null,null,null,null,null,null,null,null,null,"00:00",895,0,"0000000","00","00","00"]
["SA05048","Bellahouston Road Runners","1966-06-03","Julie Vinter","SA05048","Vet",".",896,{"$f":"VLOOKUP('entries and results'!G898,$A$3:$E$30018,4,FALSE)","v":" "},{"$f":"VLOOKUP('entries and results'!G898,$A$3:$F$30018,6,FALSE)","v":" "},{"$f":"VLOOKUP('entries and results'!G898,$A$3:$E$30018,2,FALSE)","v":" "},null,896,".",{"$f":"VLOOKUP('entries and results'!N898,$H$3:$K$30018,2,FALSE)","v":" "},{"$f":"VLOOKUP('entries and results'!N898,$H$3:$K$30018,3,FALSE)","v":" "},{"$f":"VLOOKUP('entries and results'!N898,$H$3:$K$30018,4,FALSE)","v":" "},null," ","00:00",null,null,null,null,null,null,null,null,null,null,null,null,null,null,null,null,null,null,null,null,null,null,null,null,null,null,null,null,null,null,null,null,null,null,null,null,null,null,null,null,null,null,null,"00:00",896,0,"0000000","00","00","00"]
["SA05050","Birchfield Harriers","1986-09-04","Thomas Zbaraski","SA05050","Senior",".",897,{"$f":"VLOOKUP('entries and results'!G899,$A$3:$E$30018,4,FALSE)","v":" "},{"$f":"VLOOKUP('entries and results'!G899,$A$3:$F$30018,6,FALSE)","v":" "},{"$f":"VLOOKUP('entries and results'!G899,$A$3:$E$30018,2,FALSE)","v":" "},null,897,".",{"$f":"VLOOKUP('entries and results'!N899,$H$3:$K$30018,2,FALSE)","v":" "},{"$f":"VLOOKUP('entries and results'!N899,$H$3:$K$30018,3,FALSE)","v":" "},{"$f":"VLOOKUP('entries and results'!N899,$H$3:$K$30018,4,FALSE)","v":" "},null," ","00:00",null,null,null,null,null,null,null,null,null,null,null,null,null,null,null,null,null,null,null,null,null,null,null,null,null,null,null,null,null,null,null,null,null,null,null,null,null,null,null,null,null,null,null,"00:00",897,{"$f":"SUMIF($H$3:$H$601,$BM899,$S$3:$S$601)","v":0},"0000000","00","00","00"]
["SA05053","Metro Aberdeen Running Club","1971-04-23","Robert Hamilton","SA05053","Senior",".",898,{"$f":"VLOOKUP('entries and results'!G900,$A$3:$E$30018,4,FALSE)","v":" "},{"$f":"VLOOKUP('entries and results'!G900,$A$3:$F$30018,6,FALSE)","v":" "},{"$f":"VLOOKUP('entries and results'!G900,$A$3:$E$30018,2,FALSE)","v":" "},null,898,".",{"$f":"VLOOKUP('entries and results'!N900,$H$3:$K$30018,2,FALSE)","v":" "},{"$f":"VLOOKUP('entries and results'!N900,$H$3:$K$30018,3,FALSE)","v":" "},{"$f":"VLOOKUP('entries and results'!N900,$H$3:$K$30018,4,FALSE)","v":" "},null," ",{"$f":"IF($H900=\"\",\" \",(LOOKUP($H900,$BM$3:$BM$1601,$BL$3:$BL$1601)))","v":"00:00"},null,null,null,null,null,null,null,null,null,null,null,null,null,null,null,null,null,null,null,null,null,null,null,null,null,null,null,null,null,null,null,null,null,null,null,null,null,null,null,null,null,null,null,"00:00",898,0,"0000000","00","00","00"]
["SA05057","Calderglen Harriers","1965-04-03","Ian Rae","SA05057","Vet",".",899,{"$f":"VLOOKUP('entries and results'!G901,$A$3:$E$30018,4,FALSE)","v":" "},{"$f":"VLOOKUP('entries and results'!G901,$A$3:$F$30018,6,FALSE)","v":" "},{"$f":"VLOOKUP('entries and results'!G901,$A$3:$E$30018,2,FALSE)","v":" "},null,899,".",{"$f":"VLOOKUP('entries and results'!N901,$H$3:$K$30018,2,FALSE)","v":" "},{"$f":"VLOOKUP('entries and results'!N901,$H$3:$K$30018,3,FALSE)","v":" "},{"$f":"VLOOKUP('entries and results'!N901,$H$3:$K$30018,4,FALSE)","v":" "},null," ","00:00",null,null,null,null,null,null,null,null,null,null,null,null,null,null,null,null,null,null,null,null,null,null,null,null,null,null,null,null,null,null,null,null,null,null,null,null,null,null,null,null,null,null,null,"00:00",899,0,"0000000","00","00","00"]
["SA05061","Rugby AC","1986-03-15","Gemma Werrett","SA05061","Senior",".",900,{"$f":"VLOOKUP('entries and results'!G902,$A$3:$E$30018,4,FALSE)","v":" "},{"$f":"VLOOKUP('entries and results'!G902,$A$3:$F$30018,6,FALSE)","v":" "},{"$f":"VLOOKUP('entries and results'!G902,$A$3:$E$30018,2,FALSE)","v":" "},null,900,".",{"$f":"VLOOKUP('entries and results'!N902,$H$3:$K$30018,2,FALSE)","v":" "},{"$f":"VLOOKUP('entries and results'!N902,$H$3:$K$30018,3,FALSE)","v":" "},{"$f":"VLOOKUP('entries and results'!N902,$H$3:$K$30018,4,FALSE)","v":" "},null," ","00:00",null,null,null,null,null,null,null,null,null,null,null,null,null,null,null,null,null,null,null,null,null,null,null,null,null,null,null,null,null,null,null,null,null,null,null,null,null,null,null,null,null,null,null,"00:00",900,0,{"$f":"CONCATENATE($BI$2,$BN902)","v":"0000000"},{"$f":"MID(RIGHT($BO902,6),1,2)","v":"00"},{"$f":"MID(RIGHT($BO902,6),3,2)","v":"00"},{"$f":"MID(RIGHT($BO902,6),5,2)","v":"00"}]
["SA05062","Carnegie Harriers","1949-11-19","Clive Cable","SA05062","Vet",".",901,{"$f":"VLOOKUP('entries and results'!G903,$A$3:$E$30018,4,FALSE)","v":" "},{"$f":"VLOOKUP('entries and results'!G903,$A$3:$F$30018,6,FALSE)","v":" "},{"$f":"VLOOKUP('entries and results'!G903,$A$3:$E$30018,2,FALSE)","v":" "},null,901,".",{"$f":"VLOOKUP('entries and results'!N903,$H$3:$K$30018,2,FALSE)","v":" "},{"$f":"VLOOKUP('entries and results'!N903,$H$3:$K$30018,3,FALSE)","v":" "},{"$f":"VLOOKUP('entries and results'!N903,$H$3:$K$30018,4,FALSE)","v":" "},null," ","00:00",null,null,null,null,null,null,null,null,null,null,null,null,null,null,null,null,null,null,null,null,null,null,null,null,null,null,null,null,null,null,null,null,null,null,null,null,null,null,null,null,null,null,null,"00:00",901,0,"0000000","00","00","00"]
["SA05064","Carnegie Harriers","1971-05-24","Steven King","SA05064","Senior",".",902,{"$f":"VLOOKUP('entries and results'!G904,$A$3:$E$30018,4,FALSE)","v":" "},{"$f":"VLOOKUP('entries and results'!G904,$A$3:$F$30018,6,FALSE)","v":" "},{"$f":"VLOOKUP('entries and results'!G904,$A$3:$E$30018,2,FALSE)","v":" "},null,902,".",{"$f":"VLOOKUP('entries and results'!N904,$H$3:$K$30018,2,FALSE)","v":" "},{"$f":"VLOOKUP('entries and results'!N904,$H$3:$K$30018,3,FALSE)","v":" "},{"$f":"VLOOKUP('entries and results'!N904,$H$3:$K$30018,4,FALSE)","v":" "},null," ","00:00",null,null,null,null,null,null,null,null,null,null,null,null,null,null,null,null,null,null,null,null,null,null,null,null,null,null,null,null,null,null,null,null,null,null,null,null,null,null,null,null,null,null,null,"00:00",902,0,"0000000","00","00","00"]
["SA05066","Ochil Hill Runners","1970-06-04","Brad Connor","SA05066","Senior",".",903,{"$f":"VLOOKUP('entries and results'!G905,$A$3:$E$30018,4,FALSE)","v":" "},{"$f":"VLOOKUP('entries and results'!G905,$A$3:$F$30018,6,FALSE)","v":" "},{"$f":"VLOOKUP('entries and results'!G905,$A$3:$E$30018,2,FALSE)","v":" "},null,903,".",{"$f":"VLOOKUP('entries and results'!N905,$H$3:$K$30018,2,FALSE)","v":" "},{"$f":"VLOOKUP('entries and results'!N905,$H$3:$K$30018,3,FALSE)","v":" "},{"$f":"VLOOKUP('entries and results'!N905,$H$3:$K$30018,4,FALSE)","v":" "},null," ","00:00",null,null,null,null,null,null,null,null,null,null,null,null,null,null,null,null,null,null,null,null,null,null,null,null,null,null,null,null,null,null,null,null,null,null,null,null,null,null,null,null,null,null,null,"00:00",903,0,"0000000","00","00","00"]
["SA05068","Carnethy Hill Racing Club","1971-10-21","Steven Hibbert","SA05068","Senior",".",904,{"$f":"VLOOKUP('entries and results'!G906,$A$3:$E$30018,4,FALSE)","v":" "},{"$f":"VLOOKUP('entries and results'!G906,$A$3:$F$30018,6,FALSE)","v":" "},{"$f":"VLOOKUP('entries and results'!G906,$A$3:$E$30018,2,FALSE)","v":" "},null,904,".",{"$f":"VLOOKUP('entries and results'!N906,$H$3:$K$30018,2,FALSE)","v":" "},{"$f":"VLOOKUP('entries and results'!N906,$H$3:$K$30018,3,FALSE)","v":" "},{"$f":"VLOOKUP('entries and results'!N906,$H$3:$K$30018,4,FALSE)","v":" "},null," ","00:00",null,null,null,null,null,null,null,null,null,null,null,null,null,null,null,null,null,null,null,null,null,null,null,null,null,null,null,null,null,null,null,null,null,null,null,null,null,null,null,null,null,null,null,"00:00",904,0,"0000000","00","00","00"]
["SA05071","Central AC","1960-11-20","Gordon Adam","SA05071","Vet",".",905,{"$f":"VLOOKUP('entries and results'!G907,$A$3:$E$30018,4,FALSE)","v":" "},{"$f":"VLOOKUP('entries and results'!G907,$A$3:$F$30018,6,FALSE)","v":" "},{"$f":"VLOOKUP('entries and results'!G907,$A$3:$E$30018,2,FALSE)","v":" "},null,905,".",{"$f":"VLOOKUP('entries and results'!N907,$H$3:$K$30018,2,FALSE)","v":" "},{"$f":"VLOOKUP('entries and results'!N907,$H$3:$K$30018,3,FALSE)","v":" "},{"$f":"VLOOKUP('entries and results'!N907,$H$3:$K$30018,4,FALSE)","v":" "},null," ","00:00",null,null,null,null,null,null,null,null,null,null,null,null,null,null,null,null,null,null,null,null,null,null,null,null,null,null,null,null,null,null,null,null,null,null,null,null,null,null,null,null,null,null,null,"00:00",905,0,"0000000","00","00","00"]
["SA05073","Central AC","1962-03-06","Stuart Watson","SA05073","Vet",".",906,{"$f":"VLOOKUP('entries and results'!G908,$A$3:$E$30018,4,FALSE)","v":" "},{"$f":"VLOOKUP('entries and results'!G908,$A$3:$F$30018,6,FALSE)","v":" "},{"$f":"VLOOKUP('entries and results'!G908,$A$3:$E$30018,2,FALSE)","v":" "},null,906,".",{"$f":"VLOOKUP('entries and results'!N908,$H$3:$K$30018,2,FALSE)","v":" "},{"$f":"VLOOKUP('entries and results'!N908,$H$3:$K$30018,3,FALSE)","v":" "},{"$f":"VLOOKUP('entries and results'!N908,$H$3:$K$30018,4,FALSE)","v":" "},null," ","00:00",null,null,null,null,null,null,null,null,null,null,null,null,null,null,null,null,null,null,null,null,null,null,null,null,null,null,null,null,null,null,null,null,null,null,null,null,null,null,null,null,null,null,null,"00:00",906,0,"0000000","00","00","00"]
["SA05075","Corstorphine AAC","1978-12-07","Claire Egan","SA05075","Senior",".",907,{"$f":"VLOOKUP('entries and results'!G909,$A$3:$E$30018,4,FALSE)","v":" "},{"$f":"VLOOKUP('entries and results'!G909,$A$3:$F$30018,6,FALSE)","v":" "},{"$f":"VLOOKUP('entries and results'!G909,$A$3:$E$30018,2,FALSE)","v":" "},null,907,".",{"$f":"VLOOKUP('entries and results'!N909,$H$3:$K$30018,2,FALSE)","v":" "},{"$f":"VLOOKUP('entries and results'!N909,$H$3:$K$30018,3,FALSE)","v":" "},{"$f":"VLOOKUP('entries and results'!N909,$H$3:$K$30018,4,FALSE)","v":" "},null," ","00:00",null,null,null,null,null,null,null,null,null,null,null,null,null,null,null,null,null,null,null,null,null,null,null,null,null,null,null,null,null,null,null,null,null,null,null,null,null,null,null,null,null,null,null,"00:00",907,0,"0000000","00","00","00"]
["SA05079","Edinburgh AC","1959-12-16","Richard Hope","SA05079","Vet",".",908,{"$f":"VLOOKUP('entries and results'!G910,$A$3:$E$30018,4,FALSE)","v":" "},{"$f":"VLOOKUP('entries and results'!G910,$A$3:$F$30018,6,FALSE)","v":" "},{"$f":"VLOOKUP('entries and results'!G910,$A$3:$E$30018,2,FALSE)","v":" "},null,908,".",{"$f":"VLOOKUP('entries and results'!N910,$H$3:$K$30018,2,FALSE)","v":" "},{"$f":"VLOOKUP('entries and results'!N910,$H$3:$K$30018,3,FALSE)","v":" "},{"$f":"VLOOKUP('entries and results'!N910,$H$3:$K$30018,4,FALSE)","v":" "},null," ","00:00",null,null,null,null,null,null,null,null,null,null,null,null,null,null,null,null,null,null,null,null,null,null,null,null,null,null,null,null,null,null,null,null,null,null,null,null,null,null,null,null,null,null,null,"00:00",908,0,"0000000","00","00","00"]
["SA05081","Edinburgh AC","1962-03-05","Keith Lyall","SA05081","Vet",".",909,{"$f":"VLOOKUP('entries and results'!G911,$A$3:$E$30018,4,FALSE)","v":" "},{"$f":"VLOOKUP('entries and results'!G911,$A$3:$F$30018,6,FALSE)","v":" "},{"$f":"VLOOKUP('entries and results'!G911,$A$3:$E$30018,2,FALSE)","v":" "},null,909,".",{"$f":"VLOOKUP('entries and results'!N911,$H$3:$K$30018,2,FALSE)","v":" "},{"$f":"VLOOKUP('entries and results'!N911,$H$3:$K$30018,3,FALSE)","v":" "},{"$f":"VLOOKUP('entries and results'!N911,$H$3:$K$30018,4,FALSE)","v":" "},null," ","00:00",null,null,null,null,null,null,null,null,null,null,null,null,null,null,null,null,null,null,null,null,null,null,null,null,null,null,null,null,null,null,null,null,null,null,null,null,null,null,null,null,null,null,null,"00:00",909,0,"0000000","00","00","00"]
["SA05085","City Of Glasgow AC","1965-09-11","Lorraine McQuarrie","SA05085","Vet",".",910,{"$f":"VLOOKUP('entries and results'!G912,$A$3:$E$30018,4,FALSE)","v":" "},{"$f":"VLOOKUP('entries and results'!G912,$A$3:$F$30018,6,FALSE)","v":" "},{"$f":"VLOOKUP('entries and results'!G912,$A$3:$E$30018,2,FALSE)","v":" "},null,910,".",{"$f":"VLOOKUP('entries and results'!N912,$H$3:$K$30018,2,FALSE)","v":" "},{"$f":"VLOOKUP('entries and results'!N912,$H$3:$K$30018,3,FALSE)","v":" "},{"$f":"VLOOKUP('entries and results'!N912,$H$3:$K$30018,4,FALSE)","v":" "},null," ","00:00",null,null,null,null,null,null,null,null,null,null,null,null,null,null,null,null,null,null,null,null,null,null,null,null,null,null,null,null,null,null,null,null,null,null,null,null,null,null,null,null,null,null,null,"00:00",910,0,"0000000","00","00","00"]
["SA05087","Clydesdale Harriers","1962-01-06","Kathryn Scott","SA05087","Vet",".",911,{"$f":"VLOOKUP('entries and results'!G913,$A$3:$E$30018,4,FALSE)","v":" "},{"$f":"VLOOKUP('entries and results'!G913,$A$3:$F$30018,6,FALSE)","v":" "},{"$f":"VLOOKUP('entries and results'!G913,$A$3:$E$30018,2,FALSE)","v":" "},null,911,".",{"$f":"VLOOKUP('entries and results'!N913,$H$3:$K$30018,2,FALSE)","v":" "},{"$f":"VLOOKUP('entries and results'!N913,$H$3:$K$30018,3,FALSE)","v":" "},{"$f":"VLOOKUP('entries and results'!N913,$H$3:$K$30018,4,FALSE)","v":" "},null," ","00:00",null,null,null,null,null,null,null,null,null,null,null,null,null,null,null,null,null,null,null,null,null,null,null,null,null,null,null,null,null,null,null,null,null,null,null,null,null,null,null,null,null,null,null,"00:00",911,0,"0000000","00","00","00"]
["SA05088","Corstorphine AAC","1971-06-18","Eileen MacGregor","SA05088","Senior",".",912,{"$f":"VLOOKUP('entries and results'!G914,$A$3:$E$30018,4,FALSE)","v":" "},{"$f":"VLOOKUP('entries and results'!G914,$A$3:$F$30018,6,FALSE)","v":" "},{"$f":"VLOOKUP('entries and results'!G914,$A$3:$E$30018,2,FALSE)","v":" "},null,912,".",{"$f":"VLOOKUP('entries and results'!N914,$H$3:$K$30018,2,FALSE)","v":" "},{"$f":"VLOOKUP('entries and results'!N914,$H$3:$K$30018,3,FALSE)","v":" "},{"$f":"VLOOKUP('entries and results'!N914,$H$3:$K$30018,4,FALSE)","v":" "},null," ","00:00",null,null,null,null,null,null,null,null,null,null,null,null,null,null,null,null,null,null,null,null,null,null,null,null,null,null,null,null,null,null,null,null,null,null,null,null,null,null,null,null,null,null,null,"00:00",912,0,"0000000","00","00","00"]
["SA05089","Corstorphine AAC","1961-06-06","Lilian McNab","SA05089","Vet",".",913,{"$f":"VLOOKUP('entries and results'!G915,$A$3:$E$30018,4,FALSE)","v":" "},{"$f":"VLOOKUP('entries and results'!G915,$A$3:$F$30018,6,FALSE)","v":" "},{"$f":"VLOOKUP('entries and results'!G915,$A$3:$E$30018,2,FALSE)","v":" "},null,913,".",{"$f":"VLOOKUP('entries and results'!N915,$H$3:$K$30018,2,FALSE)","v":" "},{"$f":"VLOOKUP('entries and results'!N915,$H$3:$K$30018,3,FALSE)","v":" "},{"$f":"VLOOKUP('entries and results'!N915,$H$3:$K$30018,4,FALSE)","v":" "},null," ","00:00",null,null,null,null,null,null,null,null,null,null,null,null,null,null,null,null,null,null,null,null,null,null,null,null,null,null,null,null,null,null,null,null,null,null,null,null,null,null,null,null,null,null,null,"00:00",913,0,"0000000","00","00","00"]
["SA05091","Corstorphine AAC","1982-03-22","Steven O'Brien","SA05091","Senior",".",914,{"$f":"VLOOKUP('entries and results'!G916,$A$3:$E$30018,4,FALSE)","v":" "},{"$f":"VLOOKUP('entries and results'!G916,$A$3:$F$30018,6,FALSE)","v":" "},{"$f":"VLOOKUP('entries and results'!G916,$A$3:$E$30018,2,FALSE)","v":" "},null,914,".",{"$f":"VLOOKUP('entries and results'!N916,$H$3:$K$30018,2,FALSE)","v":" "},{"$f":"VLOOKUP('entries and results'!N916,$H$3:$K$30018,3,FALSE)","v":" "},{"$f":"VLOOKUP('entries and results'!N916,$H$3:$K$30018,4,FALSE)","v":" "},null," ","00:00",null,null,null,null,null,null,null,null,null,null,null,null,null,null,null,null,null,null,null,null,null,null,null,null,null,null,null,null,null,null,null,null,null,null,null,null,null,null,null,null,null,null,null,"00:00",914,0,"0000000","00","00","00"]
["SA05092","Cosmic Hillbashers AAC","1956-08-19","Anita Hamilton","SA05092","Vet",".",915,{"$f":"VLOOKUP('entries and results'!G917,$A$3:$E$30018,4,FALSE)","v":" "},{"$f":"VLOOKUP('entries and results'!G917,$A$3:$F$30018,6,FALSE)","v":" "},{"$f":"VLOOKUP('entries and results'!G917,$A$3:$E$30018,2,FALSE)","v":" "},null,915,".",{"$f":"VLOOKUP('entries and results'!N917,$H$3:$K$30018,2,FALSE)","v":" "},{"$f":"VLOOKUP('entries and results'!N917,$H$3:$K$30018,3,FALSE)","v":" "},{"$f":"VLOOKUP('entries and results'!N917,$H$3:$K$30018,4,FALSE)","v":" "},null," ","00:00",null,null,null,null,null,null,null,null,null,null,null,null,null,null,null,null,null,null,null,null,null,null,null,null,null,null,null,null,null,null,null,null,null,null,null,null,null,null,null,null,null,null,null,"00:00",915,0,"0000000","00","00","00"]
["SA05094","Dumfries Running Club","1963-01-21","Sebastian Pflanz","SA05094","Vet",".",916,{"$f":"VLOOKUP('entries and results'!G918,$A$3:$E$30018,4,FALSE)","v":" "},{"$f":"VLOOKUP('entries and results'!G918,$A$3:$F$30018,6,FALSE)","v":" "},{"$f":"VLOOKUP('entries and results'!G918,$A$3:$E$30018,2,FALSE)","v":" "},null,916,".",{"$f":"VLOOKUP('entries and results'!N918,$H$3:$K$30018,2,FALSE)","v":" "},{"$f":"VLOOKUP('entries and results'!N918,$H$3:$K$30018,3,FALSE)","v":" "},{"$f":"VLOOKUP('entries and results'!N918,$H$3:$K$30018,4,FALSE)","v":" "},null," ","00:00",null,null,null,null,null,null,null,null,null,null,null,null,null,null,null,null,null,null,null,null,null,null,null,null,null,null,null,null,null,null,null,null,null,null,null,null,null,null,null,null,null,null,null,"00:00",916,0,"0000000","00","00","00"]
["SA05095","Dunbar Running Club","1953-04-05","Keith Mills","SA05095","Vet",".",917,{"$f":"VLOOKUP('entries and results'!G919,$A$3:$E$30018,4,FALSE)","v":" "},{"$f":"VLOOKUP('entries and results'!G919,$A$3:$F$30018,6,FALSE)","v":" "},{"$f":"VLOOKUP('entries and results'!G919,$A$3:$E$30018,2,FALSE)","v":" "},null,917,".",{"$f":"VLOOKUP('entries and results'!N919,$H$3:$K$30018,2,FALSE)","v":" "},{"$f":"VLOOKUP('entries and results'!N919,$H$3:$K$30018,3,FALSE)","v":" "},{"$f":"VLOOKUP('entries and results'!N919,$H$3:$K$30018,4,FALSE)","v":" "},null," ","00:00",null,null,null,null,null,null,null,null,null,null,null,null,null,null,null,null,null,null,null,null,null,null,null,null,null,null,null,null,null,null,null,null,null,null,null,null,null,null,null,null,null,null,null,"00:00",917,0,"0000000","00","00","00"]
["SA05099","Dundee Road Runners AC","1957-09-09","Richard G. Davidson","SA05099","Vet",".",918,{"$f":"VLOOKUP('entries and results'!G920,$A$3:$E$30018,4,FALSE)","v":" "},{"$f":"VLOOKUP('entries and results'!G920,$A$3:$F$30018,6,FALSE)","v":" "},{"$f":"VLOOKUP('entries and results'!G920,$A$3:$E$30018,2,FALSE)","v":" "},null,918,".",{"$f":"VLOOKUP('entries and results'!N920,$H$3:$K$30018,2,FALSE)","v":" "},{"$f":"VLOOKUP('entries and results'!N920,$H$3:$K$30018,3,FALSE)","v":" "},{"$f":"VLOOKUP('entries and results'!N920,$H$3:$K$30018,4,FALSE)","v":" "},null," ","00:00",null,null,null,null,null,null,null,null,null,null,null,null,null,null,null,null,null,null,null,null,null,null,null,null,null,null,null,null,null,null,null,null,null,null,null,null,null,null,null,null,null,null,null,"00:00",918,0,"0000000","00","00","00"]
["SA05102","Dundee Road Runners AC","1953-12-22","Andrew Llanwarne","SA05102","Vet",".",919,{"$f":"VLOOKUP('entries and results'!G921,$A$3:$E$30018,4,FALSE)","v":" "},{"$f":"VLOOKUP('entries and results'!G921,$A$3:$F$30018,6,FALSE)","v":" "},{"$f":"VLOOKUP('entries and results'!G921,$A$3:$E$30018,2,FALSE)","v":" "},null,919,".",{"$f":"VLOOKUP('entries and results'!N921,$H$3:$K$30018,2,FALSE)","v":" "},{"$f":"VLOOKUP('entries and results'!N921,$H$3:$K$30018,3,FALSE)","v":" "},{"$f":"VLOOKUP('entries and results'!N921,$H$3:$K$30018,4,FALSE)","v":" "},null," ","00:00",null,null,null,null,null,null,null,null,null,null,null,null,null,null,null,null,null,null,null,null,null,null,null,null,null,null,null,null,null,null,null,null,null,null,null,null,null,null,null,null,null,null,null,"00:00",919,0,"0000000","00","00","00"]
["SA05114","Unattached","1971-06-01","Sally Ann Hunter","SA05114","Senior",".",920,{"$f":"VLOOKUP('entries and results'!G922,$A$3:$E$30018,4,FALSE)","v":" "},{"$f":"VLOOKUP('entries and results'!G922,$A$3:$F$30018,6,FALSE)","v":" "},{"$f":"VLOOKUP('entries and results'!G922,$A$3:$E$30018,2,FALSE)","v":" "},null,920,".",{"$f":"VLOOKUP('entries and results'!N922,$H$3:$K$30018,2,FALSE)","v":" "},{"$f":"VLOOKUP('entries and results'!N922,$H$3:$K$30018,3,FALSE)","v":" "},{"$f":"VLOOKUP('entries and results'!N922,$H$3:$K$30018,4,FALSE)","v":" "},null," ","00:00",null,null,null,null,null,null,null,null,null,null,null,null,null,null,null,null,null,null,null,null,null,null,null,null,null,null,null,null,null,null,null,null,null,null,null,null,null,null,null,null,null,null,null,"00:00",920,0,"0000000","00","00","00"]
["SA05120","Fife AC","1951-02-08","Stewart Davidson","SA05120","Vet",".",921,{"$f":"VLOOKUP('entries and results'!G923,$A$3:$E$30018,4,FALSE)","v":" "},{"$f":"VLOOKUP('entries and results'!G923,$A$3:$F$30018,6,FALSE)","v":" "},{"$f":"VLOOKUP('entries and results'!G923,$A$3:$E$30018,2,FALSE)","v":" "},null,921,".",{"$f":"VLOOKUP('entries and results'!N923,$H$3:$K$30018,2,FALSE)","v":" "},{"$f":"VLOOKUP('entries and results'!N923,$H$3:$K$30018,3,FALSE)","v":" "},{"$f":"VLOOKUP('entries and results'!N923,$H$3:$K$30018,4,FALSE)","v":" "},null," ","00:00",null,null,null,null,null,null,null,null,null,null,null,null,null,null,null,null,null,null,null,null,null,null,null,null,null,null,null,null,null,null,null,null,null,null,null,null,null,null,null,null,null,null,null,"00:00",921,0,"0000000","00","00","00"]
["SA05121","Fife AC","1977-03-31","Sarah McHugh","SA05121","Senior",".",922,{"$f":"VLOOKUP('entries and results'!G924,$A$3:$E$30018,4,FALSE)","v":" "},{"$f":"VLOOKUP('entries and results'!G924,$A$3:$F$30018,6,FALSE)","v":" "},{"$f":"VLOOKUP('entries and results'!G924,$A$3:$E$30018,2,FALSE)","v":" "},null,922,".",{"$f":"VLOOKUP('entries and results'!N924,$H$3:$K$30018,2,FALSE)","v":" "},{"$f":"VLOOKUP('entries and results'!N924,$H$3:$K$30018,3,FALSE)","v":" "},{"$f":"VLOOKUP('entries and results'!N924,$H$3:$K$30018,4,FALSE)","v":" "},null," ","00:00",null,null,null,null,null,null,null,null,null,null,null,null,null,null,null,null,null,null,null,null,null,null,null,null,null,null,null,null,null,null,null,null,null,null,null,null,null,null,null,null,null,null,null,"00:00",922,0,"0000000","00","00","00"]
["SA05126","Fife AC","1958-04-28","Alasdair Hood","SA05126","Vet",".",923,{"$f":"VLOOKUP('entries and results'!G925,$A$3:$E$30018,4,FALSE)","v":" "},{"$f":"VLOOKUP('entries and results'!G925,$A$3:$F$30018,6,FALSE)","v":" "},{"$f":"VLOOKUP('entries and results'!G925,$A$3:$E$30018,2,FALSE)","v":" "},null,923,".",{"$f":"VLOOKUP('entries and results'!N925,$H$3:$K$30018,2,FALSE)","v":" "},{"$f":"VLOOKUP('entries and results'!N925,$H$3:$K$30018,3,FALSE)","v":" "},{"$f":"VLOOKUP('entries and results'!N925,$H$3:$K$30018,4,FALSE)","v":" "},null," ","00:00",null,null,null,null,null,null,null,null,null,null,null,null,null,null,null,null,null,null,null,null,null,null,null,null,null,null,null,null,null,null,null,null,null,null,null,null,null,null,null,null,null,null,null,"00:00",923,0,"0000000","00","00","00"]
["SA05127","Fife AC","1941-08-17","Pamela Howat","SA05127","Vet",".",924,{"$f":"VLOOKUP('entries and results'!G926,$A$3:$E$30018,4,FALSE)","v":" "},{"$f":"VLOOKUP('entries and results'!G926,$A$3:$F$30018,6,FALSE)","v":" "},{"$f":"VLOOKUP('entries and results'!G926,$A$3:$E$30018,2,FALSE)","v":" "},null,924,".",{"$f":"VLOOKUP('entries and results'!N926,$H$3:$K$30018,2,FALSE)","v":" "},{"$f":"VLOOKUP('entries and results'!N926,$H$3:$K$30018,3,FALSE)","v":" "},{"$f":"VLOOKUP('entries and results'!N926,$H$3:$K$30018,4,FALSE)","v":" "},null," ","00:00",null,null,null,null,null,null,null,null,null,null,null,null,null,null,null,null,null,null,null,null,null,null,null,null,null,null,null,null,null,null,null,null,null,null,null,null,null,null,null,null,null,null,null,{"$f":"CONCATENATE(BQ926,\":\",BR926)","v":"00:00"},924,0,"0000000","00","00","00"]
["SA05128","Fife AC","1961-07-30","Martin Hutson","SA05128","Vet",".",925,{"$f":"VLOOKUP('entries and results'!G927,$A$3:$E$30018,4,FALSE)","v":" "},{"$f":"VLOOKUP('entries and results'!G927,$A$3:$F$30018,6,FALSE)","v":" "},{"$f":"VLOOKUP('entries and results'!G927,$A$3:$E$30018,2,FALSE)","v":" "},null,925,".",{"$f":"VLOOKUP('entries and results'!N927,$H$3:$K$30018,2,FALSE)","v":" "},{"$f":"VLOOKUP('entries and results'!N927,$H$3:$K$30018,3,FALSE)","v":" "},{"$f":"VLOOKUP('entries and results'!N927,$H$3:$K$30018,4,FALSE)","v":" "},null," ","00:00",null,null,null,null,null,null,null,null,null,null,null,null,null,null,null,null,null,null,null,null,null,null,null,null,null,null,null,null,null,null,null,null,null,null,null,null,null,null,null,null,null,null,null,"00:00",925,0,"0000000","00","00","00"]
["SA05129","Fife AC","1975-09-16","Anita Laidlaw","SA05129","Senior",".",926,{"$f":"VLOOKUP('entries and results'!G928,$A$3:$E$30018,4,FALSE)","v":" "},{"$f":"VLOOKUP('entries and results'!G928,$A$3:$F$30018,6,FALSE)","v":" "},{"$f":"VLOOKUP('entries and results'!G928,$A$3:$E$30018,2,FALSE)","v":" "},null,926,".",{"$f":"VLOOKUP('entries and results'!N928,$H$3:$K$30018,2,FALSE)","v":" "},{"$f":"VLOOKUP('entries and results'!N928,$H$3:$K$30018,3,FALSE)","v":" "},{"$f":"VLOOKUP('entries and results'!N928,$H$3:$K$30018,4,FALSE)","v":" "},null," ","00:00",null,null,null,null,null,null,null,null,null,null,null,null,null,null,null,null,null,null,null,null,null,null,null,null,null,null,null,null,null,null,null,null,null,null,null,null,null,null,null,null,null,null,null,"00:00",926,0,"0000000","00","00","00"]
["SA05130","Fife AC","1962-05-18","Peter Lambie","SA05130","Vet",".",927,{"$f":"VLOOKUP('entries and results'!G929,$A$3:$E$30018,4,FALSE)","v":" "},{"$f":"VLOOKUP('entries and results'!G929,$A$3:$F$30018,6,FALSE)","v":" "},{"$f":"VLOOKUP('entries and results'!G929,$A$3:$E$30018,2,FALSE)","v":" "},null,927,".",{"$f":"VLOOKUP('entries and results'!N929,$H$3:$K$30018,2,FALSE)","v":" "},{"$f":"VLOOKUP('entries and results'!N929,$H$3:$K$30018,3,FALSE)","v":" "},{"$f":"VLOOKUP('entries and results'!N929,$H$3:$K$30018,4,FALSE)","v":" "},null," ","00:00",null,null,null,null,null,null,null,null,null,null,null,null,null,null,null,null,null,null,null,null,null,null,null,null,null,null,null,null,null,null,null,null,null,null,null,null,null,null,null,null,null,null,null,"00:00",927,0,"0000000","00","00","00"]
["SA05131","Fife AC","1989-08-06","Anne Lloyd-Evans","SA05131","Senior",".",928,{"$f":"VLOOKUP('entries and results'!G930,$A$3:$E$30018,4,FALSE)","v":" "},{"$f":"VLOOKUP('entries and results'!G930,$A$3:$F$30018,6,FALSE)","v":" "},{"$f":"VLOOKUP('entries and results'!G930,$A$3:$E$30018,2,FALSE)","v":" "},null,928,".",{"$f":"VLOOKUP('entries and results'!N930,$H$3:$K$30018,2,FALSE)","v":" "},{"$f":"VLOOKUP('entries and results'!N930,$H$3:$K$30018,3,FALSE)","v":" "},{"$f":"VLOOKUP('entries and results'!N930,$H$3:$K$30018,4,FALSE)","v":" "},null," ","00:00",null,null,null,null,null,null,null,null,null,null,null,null,null,null,null,null,null,null,null,null,null,null,null,null,null,null,null,null,null,null,null,null,null,null,null,null,null,null,null,null,null,null,null,"00:00",928,0,"0000000","00","00","00"]
["SA05135","Fife AC","1966-01-24","Alison McAdam-Smith","SA05135","Vet",".",929,{"$f":"VLOOKUP('entries and results'!G931,$A$3:$E$30018,4,FALSE)","v":" "},{"$f":"VLOOKUP('entries and results'!G931,$A$3:$F$30018,6,FALSE)","v":" "},{"$f":"VLOOKUP('entries and results'!G931,$A$3:$E$30018,2,FALSE)","v":" "},null,929,".",{"$f":"VLOOKUP('entries and results'!N931,$H$3:$K$30018,2,FALSE)","v":" "},{"$f":"VLOOKUP('entries and results'!N931,$H$3:$K$30018,3,FALSE)","v":" "},{"$f":"VLOOKUP('entries and results'!N931,$H$3:$K$30018,4,FALSE)","v":" "},null," ","00:00",null,null,null,null,null,null,null,null,null,null,null,null,null,null,null,null,null,null,null,null,null,null,null,null,null,null,null,null,null,null,null,null,null,null,null,null,null,null,null,null,null,null,null,"00:00",929,0,"0000000","00","00","00"]
["SA05138","Fife AC","1942-12-10","Carole Melville","SA05138","Vet",".",930,{"$f":"VLOOKUP('entries and results'!G932,$A$3:$E$30018,4,FALSE)","v":" "},{"$f":"VLOOKUP('entries and results'!G932,$A$3:$F$30018,6,FALSE)","v":" "},{"$f":"VLOOKUP('entries and results'!G932,$A$3:$E$30018,2,FALSE)","v":" "},null,930,".",{"$f":"VLOOKUP('entries and results'!N932,$H$3:$K$30018,2,FALSE)","v":" "},{"$f":"VLOOKUP('entries and results'!N932,$H$3:$K$30018,3,FALSE)","v":" "},{"$f":"VLOOKUP('entries and results'!N932,$H$3:$K$30018,4,FALSE)","v":" "},null," ","00:00",null,null,null,null,null,null,null,null,null,null,null,null,null,null,null,null,null,null,null,null,null,null,null,null,null,null,null,null,null,null,null,null,null,null,null,null,null,null,null,null,null,null,null,"00:00",930,0,"0000000","00","00","00"]
["SA05139","Fife AC","1962-08-09","Sandra Mitchell","SA05139","Vet",".",931,{"$f":"VLOOKUP('entries and results'!G933,$A$3:$E$30018,4,FALSE)","v":" "},{"$f":"VLOOKUP('entries and results'!G933,$A$3:$F$30018,6,FALSE)","v":" "},{"$f":"VLOOKUP('entries and results'!G933,$A$3:$E$30018,2,FALSE)","v":" "},null,931,".",{"$f":"VLOOKUP('entries and results'!N933,$H$3:$K$30018,2,FALSE)","v":" "},{"$f":"VLOOKUP('entries and results'!N933,$H$3:$K$30018,3,FALSE)","v":" "},{"$f":"VLOOKUP('entries and results'!N933,$H$3:$K$30018,4,FALSE)","v":" "},null," ","00:00",null,null,null,null,null,null,null,null,null,null,null,null,null,null,null,null,null,null,null,null,null,null,null,null,null,null,null,null,null,null,null,null,null,null,null,null,null,null,null,null,null,null,null,"00:00",931,0,"0000000","00","00","00"]
["SA05141","Fife AC","1959-03-22","Steven Pennycook","SA05141","Vet",".",932,{"$f":"VLOOKUP('entries and results'!G934,$A$3:$E$30018,4,FALSE)","v":" "},{"$f":"VLOOKUP('entries and results'!G934,$A$3:$F$30018,6,FALSE)","v":" "},{"$f":"VLOOKUP('entries and results'!G934,$A$3:$E$30018,2,FALSE)","v":" "},null,932,".",{"$f":"VLOOKUP('entries and results'!N934,$H$3:$K$30018,2,FALSE)","v":" "},{"$f":"VLOOKUP('entries and results'!N934,$H$3:$K$30018,3,FALSE)","v":" "},{"$f":"VLOOKUP('entries and results'!N934,$H$3:$K$30018,4,FALSE)","v":" "},null," ","00:00",null,null,null,null,null,null,null,null,null,null,null,null,null,null,null,null,null,null,null,null,null,null,null,null,null,null,null,null,null,null,null,null,null,null,null,null,null,null,null,null,null,null,null,"00:00",932,0,"0000000","00","00","00"]
["SA05142","Fife AC","1973-08-06","Frank Popham","SA05142","Senior",".",933,{"$f":"VLOOKUP('entries and results'!G935,$A$3:$E$30018,4,FALSE)","v":" "},{"$f":"VLOOKUP('entries and results'!G935,$A$3:$F$30018,6,FALSE)","v":" "},{"$f":"VLOOKUP('entries and results'!G935,$A$3:$E$30018,2,FALSE)","v":" "},null,933,".",{"$f":"VLOOKUP('entries and results'!N935,$H$3:$K$30018,2,FALSE)","v":" "},{"$f":"VLOOKUP('entries and results'!N935,$H$3:$K$30018,3,FALSE)","v":" "},{"$f":"VLOOKUP('entries and results'!N935,$H$3:$K$30018,4,FALSE)","v":" "},null," ","00:00",null,null,null,null,null,null,null,null,null,null,null,null,null,null,null,null,null,null,null,null,null,null,null,null,null,null,null,null,null,null,null,null,null,null,null,null,null,null,null,null,null,null,null,"00:00",933,0,"0000000","00","00","00"]
["SA05143","Fife AC","1979-05-08","Steven Reid","SA05143","Senior",".",934,{"$f":"VLOOKUP('entries and results'!G936,$A$3:$E$30018,4,FALSE)","v":" "},{"$f":"VLOOKUP('entries and results'!G936,$A$3:$F$30018,6,FALSE)","v":" "},{"$f":"VLOOKUP('entries and results'!G936,$A$3:$E$30018,2,FALSE)","v":" "},null,934,".",{"$f":"VLOOKUP('entries and results'!N936,$H$3:$K$30018,2,FALSE)","v":" "},{"$f":"VLOOKUP('entries and results'!N936,$H$3:$K$30018,3,FALSE)","v":" "},{"$f":"VLOOKUP('entries and results'!N936,$H$3:$K$30018,4,FALSE)","v":" "},null," ","00:00",null,null,null,null,null,null,null,null,null,null,null,null,null,null,null,null,null,null,null,null,null,null,null,null,null,null,null,null,null,null,null,null,null,null,null,null,null,null,null,null,null,null,null,"00:00",934,0,"0000000","00","00","00"]
["SA05144","Fife AC","1966-04-17","Wendy Ritchie","SA05144","Vet",".",935,{"$f":"VLOOKUP('entries and results'!G937,$A$3:$E$30018,4,FALSE)","v":" "},{"$f":"VLOOKUP('entries and results'!G937,$A$3:$F$30018,6,FALSE)","v":" "},{"$f":"VLOOKUP('entries and results'!G937,$A$3:$E$30018,2,FALSE)","v":" "},null,935,".",{"$f":"VLOOKUP('entries and results'!N937,$H$3:$K$30018,2,FALSE)","v":" "},{"$f":"VLOOKUP('entries and results'!N937,$H$3:$K$30018,3,FALSE)","v":" "},{"$f":"VLOOKUP('entries and results'!N937,$H$3:$K$30018,4,FALSE)","v":" "},null," ","00:00",null,null,null,null,null,null,null,null,null,null,null,null,null,null,null,null,null,null,null,null,null,null,null,null,null,null,null,null,null,null,null,null,null,null,null,null,null,null,null,null,null,null,null,"00:00",935,0,"0000000","00","00","00"]
["SA05148","Fife AC","1968-08-29","Allan Wilson","SA05148","Vet",".",936,{"$f":"VLOOKUP('entries and results'!G938,$A$3:$E$30018,4,FALSE)","v":" "},{"$f":"VLOOKUP('entries and results'!G938,$A$3:$F$30018,6,FALSE)","v":" "},{"$f":"VLOOKUP('entries and results'!G938,$A$3:$E$30018,2,FALSE)","v":" "},null,936,".",{"$f":"VLOOKUP('entries and results'!N938,$H$3:$K$30018,2,FALSE)","v":" "},{"$f":"VLOOKUP('entries and results'!N938,$H$3:$K$30018,3,FALSE)","v":" "},{"$f":"VLOOKUP('entries and results'!N938,$H$3:$K$30018,4,FALSE)","v":" "},null," ","00:00",null,null,null,null,null,null,null,null,null,null,null,null,null,null,null,null,null,null,null,null,null,null,null,null,null,null,null,null,null,null,null,null,null,null,null,null,null,null,null,null,null,null,null,"00:00",936,0,"0000000","00","00","00"]
["SA05149","Forfar Road Runners","1964-12-18","Elizabeth Nicoll","SA05149","Vet",".",937,{"$f":"VLOOKUP('entries and results'!G939,$A$3:$E$30018,4,FALSE)","v":" "},{"$f":"VLOOKUP('entries and results'!G939,$A$3:$F$30018,6,FALSE)","v":" "},{"$f":"VLOOKUP('entries and results'!G939,$A$3:$E$30018,2,FALSE)","v":" "},null,937,".",{"$f":"VLOOKUP('entries and results'!N939,$H$3:$K$30018,2,FALSE)","v":" "},{"$f":"VLOOKUP('entries and results'!N939,$H$3:$K$30018,3,FALSE)","v":" "},{"$f":"VLOOKUP('entries and results'!N939,$H$3:$K$30018,4,FALSE)","v":" "},null," ","00:00",null,null,null,null,null,null,null,null,null,null,null,null,null,null,null,null,null,null,null,null,null,null,null,null,null,null,null,null,null,null,null,null,null,null,null,null,null,null,null,null,null,null,null,"00:00",937,0,"0000000","00","00","00"]
["SA05150","Fife AC","1981-12-01","Stefan Elertowicz","SA05150","Senior",".",938,{"$f":"VLOOKUP('entries and results'!G940,$A$3:$E$30018,4,FALSE)","v":" "},{"$f":"VLOOKUP('entries and results'!G940,$A$3:$F$30018,6,FALSE)","v":" "},{"$f":"VLOOKUP('entries and results'!G940,$A$3:$E$30018,2,FALSE)","v":" "},null,938,".",{"$f":"VLOOKUP('entries and results'!N940,$H$3:$K$30018,2,FALSE)","v":" "},{"$f":"VLOOKUP('entries and results'!N940,$H$3:$K$30018,3,FALSE)","v":" "},{"$f":"VLOOKUP('entries and results'!N940,$H$3:$K$30018,4,FALSE)","v":" "},null," ","00:00",null,null,null,null,null,null,null,null,null,null,null,null,null,null,null,null,null,null,null,null,null,null,null,null,null,null,null,null,null,null,null,null,null,null,null,null,null,null,null,null,null,null,null,"00:00",938,0,"0000000","00","00","00"]
["SA05151","Forres Harriers","1973-02-27","Adrian Hodges","SA05151","Senior",".",939,{"$f":"VLOOKUP('entries and results'!G941,$A$3:$E$30018,4,FALSE)","v":" "},{"$f":"VLOOKUP('entries and results'!G941,$A$3:$F$30018,6,FALSE)","v":" "},{"$f":"VLOOKUP('entries and results'!G941,$A$3:$E$30018,2,FALSE)","v":" "},null,939,".",{"$f":"VLOOKUP('entries and results'!N941,$H$3:$K$30018,2,FALSE)","v":" "},{"$f":"VLOOKUP('entries and results'!N941,$H$3:$K$30018,3,FALSE)","v":" "},{"$f":"VLOOKUP('entries and results'!N941,$H$3:$K$30018,4,FALSE)","v":" "},null," ","00:00",null,null,null,null,null,null,null,null,null,null,null,null,null,null,null,null,null,null,null,null,null,null,null,null,null,null,null,null,null,null,null,null,null,null,null,null,null,null,null,null,null,null,null,"00:00",939,0,"0000000","00","00","00"]
["SA05156","Fraserburgh Running Club","1977-07-11","Lisa Stephen","SA05156","Senior",".",940,{"$f":"VLOOKUP('entries and results'!G942,$A$3:$E$30018,4,FALSE)","v":" "},{"$f":"VLOOKUP('entries and results'!G942,$A$3:$F$30018,6,FALSE)","v":" "},{"$f":"VLOOKUP('entries and results'!G942,$A$3:$E$30018,2,FALSE)","v":" "},null,940,".",{"$f":"VLOOKUP('entries and results'!N942,$H$3:$K$30018,2,FALSE)","v":" "},{"$f":"VLOOKUP('entries and results'!N942,$H$3:$K$30018,3,FALSE)","v":" "},{"$f":"VLOOKUP('entries and results'!N942,$H$3:$K$30018,4,FALSE)","v":" "},null," ","00:00",null,null,null,null,null,null,null,null,null,null,null,null,null,null,null,null,null,null,null,null,null,null,null,null,null,null,null,null,null,null,null,null,null,null,null,null,null,null,null,null,null,null,null,"00:00",940,0,"0000000","00","00","00"]
["SA05158","Gala Harriers","1960-05-15","Alan Goodson","SA05158","Vet",".",941,{"$f":"VLOOKUP('entries and results'!G943,$A$3:$E$30018,4,FALSE)","v":" "},{"$f":"VLOOKUP('entries and results'!G943,$A$3:$F$30018,6,FALSE)","v":" "},{"$f":"VLOOKUP('entries and results'!G943,$A$3:$E$30018,2,FALSE)","v":" "},null,941,".",{"$f":"VLOOKUP('entries and results'!N943,$H$3:$K$30018,2,FALSE)","v":" "},{"$f":"VLOOKUP('entries and results'!N943,$H$3:$K$30018,3,FALSE)","v":" "},{"$f":"VLOOKUP('entries and results'!N943,$H$3:$K$30018,4,FALSE)","v":" "},null," ","00:00",null,null,null,null,null,null,null,null,null,null,null,null,null,null,null,null,null,null,null,null,null,null,null,null,null,null,null,null,null,null,null,null,null,null,null,null,null,null,null,null,null,null,null,"00:00",941,0,"0000000","00","00","00"]
["SA05159","Gala Harriers","1966-08-26","Karen Haldane","SA05159","Vet",".",942,{"$f":"VLOOKUP('entries and results'!G944,$A$3:$E$30018,4,FALSE)","v":" "},{"$f":"VLOOKUP('entries and results'!G944,$A$3:$F$30018,6,FALSE)","v":" "},{"$f":"VLOOKUP('entries and results'!G944,$A$3:$E$30018,2,FALSE)","v":" "},null,942,".",{"$f":"VLOOKUP('entries and results'!N944,$H$3:$K$30018,2,FALSE)","v":" "},{"$f":"VLOOKUP('entries and results'!N944,$H$3:$K$30018,3,FALSE)","v":" "},{"$f":"VLOOKUP('entries and results'!N944,$H$3:$K$30018,4,FALSE)","v":" "},null," ","00:00",null,null,null,null,null,null,null,null,null,null,null,null,null,null,null,null,null,null,null,null,null,null,null,null,null,null,null,null,null,null,null,null,null,null,null,null,null,null,null,null,null,null,null,"00:00",942,0,"0000000","00","00","00"]
["SA05162","Kelvin Runners","1971-11-12","Anne Marie Cullen","SA05162","Senior",".",943,{"$f":"VLOOKUP('entries and results'!G945,$A$3:$E$30018,4,FALSE)","v":" "},{"$f":"VLOOKUP('entries and results'!G945,$A$3:$F$30018,6,FALSE)","v":" "},{"$f":"VLOOKUP('entries and results'!G945,$A$3:$E$30018,2,FALSE)","v":" "},null,943,".",{"$f":"VLOOKUP('entries and results'!N945,$H$3:$K$30018,2,FALSE)","v":" "},{"$f":"VLOOKUP('entries and results'!N945,$H$3:$K$30018,3,FALSE)","v":" "},{"$f":"VLOOKUP('entries and results'!N945,$H$3:$K$30018,4,FALSE)","v":" "},null," ","00:00",null,null,null,null,null,null,null,null,null,null,null,null,null,null,null,null,null,null,null,null,null,null,null,null,null,null,null,null,null,null,null,null,null,null,null,null,null,null,null,null,null,null,null,"00:00",943,0,"0000000","00","00","00"]
["SA05169","Giffnock North AAC","1961-02-15","Marc Roper","SA05169","Vet",".",944,{"$f":"VLOOKUP('entries and results'!G946,$A$3:$E$30018,4,FALSE)","v":" "},{"$f":"VLOOKUP('entries and results'!G946,$A$3:$F$30018,6,FALSE)","v":" "},{"$f":"VLOOKUP('entries and results'!G946,$A$3:$E$30018,2,FALSE)","v":" "},null,944,".",{"$f":"VLOOKUP('entries and results'!N946,$H$3:$K$30018,2,FALSE)","v":" "},{"$f":"VLOOKUP('entries and results'!N946,$H$3:$K$30018,3,FALSE)","v":" "},{"$f":"VLOOKUP('entries and results'!N946,$H$3:$K$30018,4,FALSE)","v":" "},null," ","00:00",null,null,null,null,null,null,null,null,null,null,null,null,null,null,null,null,null,null,null,null,null,null,null,null,null,null,null,null,null,null,null,null,null,null,null,null,null,null,null,null,null,null,null,"00:00",944,0,"0000000","00","00","00"]
["SA05172","Glasgow University AC","1986-07-02","Stephanie Mackie","SA05172","Senior",".",945,{"$f":"VLOOKUP('entries and results'!G947,$A$3:$E$30018,4,FALSE)","v":" "},{"$f":"VLOOKUP('entries and results'!G947,$A$3:$F$30018,6,FALSE)","v":" "},{"$f":"VLOOKUP('entries and results'!G947,$A$3:$E$30018,2,FALSE)","v":" "},null,945,".",{"$f":"VLOOKUP('entries and results'!N947,$H$3:$K$30018,2,FALSE)","v":" "},{"$f":"VLOOKUP('entries and results'!N947,$H$3:$K$30018,3,FALSE)","v":" "},{"$f":"VLOOKUP('entries and results'!N947,$H$3:$K$30018,4,FALSE)","v":" "},null," ","00:00",null,null,null,null,null,null,null,null,null,null,null,null,null,null,null,null,null,null,null,null,null,null,null,null,null,null,null,null,null,null,null,null,null,null,null,null,null,null,null,null,null,null,null,"00:00",945,0,"0000000","00","00","00"]
["SA05173","VP-Glasgow AC","1986-03-10","Erin McIlveen","SA05173","Senior",".",946,{"$f":"VLOOKUP('entries and results'!G948,$A$3:$E$30018,4,FALSE)","v":" "},{"$f":"VLOOKUP('entries and results'!G948,$A$3:$F$30018,6,FALSE)","v":" "},{"$f":"VLOOKUP('entries and results'!G948,$A$3:$E$30018,2,FALSE)","v":" "},null,946,".",{"$f":"VLOOKUP('entries and results'!N948,$H$3:$K$30018,2,FALSE)","v":" "},{"$f":"VLOOKUP('entries and results'!N948,$H$3:$K$30018,3,FALSE)","v":" "},{"$f":"VLOOKUP('entries and results'!N948,$H$3:$K$30018,4,FALSE)","v":" "},null," ","00:00",null,null,null,null,null,null,null,null,null,null,null,null,null,null,null,null,null,null,null,null,null,null,null,null,null,null,null,null,null,null,null,null,null,null,null,null,null,null,null,null,null,null,null,"00:00",946,0,"0000000","00","00","00"]
["SA05175","Hunters Bog Trotters","1983-01-21","Shona McIntosh","SA05175","Senior",".",947,{"$f":"VLOOKUP('entries and results'!G949,$A$3:$E$30018,4,FALSE)","v":" "},{"$f":"VLOOKUP('entries and results'!G949,$A$3:$F$30018,6,FALSE)","v":" "},{"$f":"VLOOKUP('entries and results'!G949,$A$3:$E$30018,2,FALSE)","v":" "},null,947,".",{"$f":"VLOOKUP('entries and results'!N949,$H$3:$K$30018,2,FALSE)","v":" "},{"$f":"VLOOKUP('entries and results'!N949,$H$3:$K$30018,3,FALSE)","v":" "},{"$f":"VLOOKUP('entries and results'!N949,$H$3:$K$30018,4,FALSE)","v":" "},null," ","00:00",null,null,null,null,null,null,null,null,null,null,null,null,null,null,null,null,null,null,null,null,null,null,null,null,null,null,null,null,null,null,null,null,null,null,null,null,null,null,null,null,null,null,null,"00:00",947,0,"0000000","00","00","00"]
["SA05177","Greenock Glenpark Harriers","1964-11-03","Fiona Cushnaghan","SA05177","Vet",".",948,{"$f":"VLOOKUP('entries and results'!G950,$A$3:$E$30018,4,FALSE)","v":" "},{"$f":"VLOOKUP('entries and results'!G950,$A$3:$F$30018,6,FALSE)","v":" "},{"$f":"VLOOKUP('entries and results'!G950,$A$3:$E$30018,2,FALSE)","v":" "},null,948,".",{"$f":"VLOOKUP('entries and results'!N950,$H$3:$K$30018,2,FALSE)","v":" "},{"$f":"VLOOKUP('entries and results'!N950,$H$3:$K$30018,3,FALSE)","v":" "},{"$f":"VLOOKUP('entries and results'!N950,$H$3:$K$30018,4,FALSE)","v":" "},null," ","00:00",null,null,null,null,null,null,null,null,null,null,null,null,null,null,null,null,null,null,null,null,null,null,null,null,null,null,null,null,null,null,null,null,null,null,null,null,null,null,null,null,null,null,null,"00:00",948,0,"0000000","00","00","00"]
["SA05179","Greenock Glenpark Harriers","1976-12-05","Robert Wilson","SA05179","Senior",".",949,{"$f":"VLOOKUP('entries and results'!G951,$A$3:$E$30018,4,FALSE)","v":" "},{"$f":"VLOOKUP('entries and results'!G951,$A$3:$F$30018,6,FALSE)","v":" "},{"$f":"VLOOKUP('entries and results'!G951,$A$3:$E$30018,2,FALSE)","v":" "},null,949,".",{"$f":"VLOOKUP('entries and results'!N951,$H$3:$K$30018,2,FALSE)","v":" "},{"$f":"VLOOKUP('entries and results'!N951,$H$3:$K$30018,3,FALSE)","v":" "},{"$f":"VLOOKUP('entries and results'!N951,$H$3:$K$30018,4,FALSE)","v":" "},null," ","00:00",null,null,null,null,null,null,null,null,null,null,null,null,null,null,null,null,null,null,null,null,null,null,null,null,null,null,null,null,null,null,null,null,null,null,null,null,null,null,null,null,null,null,null,"00:00",949,0,"0000000","00","00","00"]
["SA05182","Hunters Bog Trotters","1962-06-23","Fionn Nairn","SA05182","Vet",".",950,{"$f":"VLOOKUP('entries and results'!G952,$A$3:$E$30018,4,FALSE)","v":" "},{"$f":"VLOOKUP('entries and results'!G952,$A$3:$F$30018,6,FALSE)","v":" "},{"$f":"VLOOKUP('entries and results'!G952,$A$3:$E$30018,2,FALSE)","v":" "},null,950,".",{"$f":"VLOOKUP('entries and results'!N952,$H$3:$K$30018,2,FALSE)","v":" "},{"$f":"VLOOKUP('entries and results'!N952,$H$3:$K$30018,3,FALSE)","v":" "},{"$f":"VLOOKUP('entries and results'!N952,$H$3:$K$30018,4,FALSE)","v":" "},null," ","00:00",null,null,null,null,null,null,null,null,null,null,null,null,null,null,null,null,null,null,null,null,null,null,null,null,null,null,null,null,null,null,null,null,null,null,null,null,null,null,null,null,null,null,null,"00:00",950,0,"0000000","00","00","00"]
["SA05184","Hamilton Harriers","1973-01-22","Mark Bryson","SA05184","Senior",".",951,{"$f":"VLOOKUP('entries and results'!G953,$A$3:$E$30018,4,FALSE)","v":" "},{"$f":"VLOOKUP('entries and results'!G953,$A$3:$F$30018,6,FALSE)","v":" "},{"$f":"VLOOKUP('entries and results'!G953,$A$3:$E$30018,2,FALSE)","v":" "},null,951,".",{"$f":"VLOOKUP('entries and results'!N953,$H$3:$K$30018,2,FALSE)","v":" "},{"$f":"VLOOKUP('entries and results'!N953,$H$3:$K$30018,3,FALSE)","v":" "},{"$f":"VLOOKUP('entries and results'!N953,$H$3:$K$30018,4,FALSE)","v":" "},null," ","00:00",null,null,null,null,null,null,null,null,null,null,null,null,null,null,null,null,null,null,null,null,null,null,null,null,null,null,null,null,null,null,null,null,null,null,null,null,null,null,null,null,null,null,null,"00:00",951,0,"0000000","00","00","00"]
["SA05185","Hamilton Harriers","1979-01-09","Joanne Melarkey","SA05185","Senior",".",952,{"$f":"VLOOKUP('entries and results'!G954,$A$3:$E$30018,4,FALSE)","v":" "},{"$f":"VLOOKUP('entries and results'!G954,$A$3:$F$30018,6,FALSE)","v":" "},{"$f":"VLOOKUP('entries and results'!G954,$A$3:$E$30018,2,FALSE)","v":" "},null,952,".",{"$f":"VLOOKUP('entries and results'!N954,$H$3:$K$30018,2,FALSE)","v":" "},{"$f":"VLOOKUP('entries and results'!N954,$H$3:$K$30018,3,FALSE)","v":" "},{"$f":"VLOOKUP('entries and results'!N954,$H$3:$K$30018,4,FALSE)","v":" "},null," ","00:00",null,null,null,null,null,null,null,null,null,null,null,null,null,null,null,null,null,null,null,null,null,null,null,null,null,null,null,null,null,null,null,null,null,null,null,null,null,null,null,null,null,null,null,"00:00",952,0,"0000000","00","00","00"]
["SA05186","Hamilton Harriers","1973-03-21","Tom Steel","SA05186","Senior",".",953,{"$f":"VLOOKUP('entries and results'!G955,$A$3:$E$30018,4,FALSE)","v":" "},{"$f":"VLOOKUP('entries and results'!G955,$A$3:$F$30018,6,FALSE)","v":" "},{"$f":"VLOOKUP('entries and results'!G955,$A$3:$E$30018,2,FALSE)","v":" "},null,953,".",{"$f":"VLOOKUP('entries and results'!N955,$H$3:$K$30018,2,FALSE)","v":" "},{"$f":"VLOOKUP('entries and results'!N955,$H$3:$K$30018,3,FALSE)","v":" "},{"$f":"VLOOKUP('entries and results'!N955,$H$3:$K$30018,4,FALSE)","v":" "},null," ","00:00",null,null,null,null,null,null,null,null,null,null,null,null,null,null,null,null,null,null,null,null,null,null,null,null,null,null,null,null,null,null,null,null,null,null,null,null,null,null,null,null,null,null,null,"00:00",953,0,"0000000","00","00","00"]
["SA05189","Harmeny AC","1953-01-28","Iain Morrice","SA05189","Vet",".",954,{"$f":"VLOOKUP('entries and results'!G956,$A$3:$E$30018,4,FALSE)","v":" "},{"$f":"VLOOKUP('entries and results'!G956,$A$3:$F$30018,6,FALSE)","v":" "},{"$f":"VLOOKUP('entries and results'!G956,$A$3:$E$30018,2,FALSE)","v":" "},null,954,".",{"$f":"VLOOKUP('entries and results'!N956,$H$3:$K$30018,2,FALSE)","v":" "},{"$f":"VLOOKUP('entries and results'!N956,$H$3:$K$30018,3,FALSE)","v":" "},{"$f":"VLOOKUP('entries and results'!N956,$H$3:$K$30018,4,FALSE)","v":" "},null," ","00:00",null,null,null,null,null,null,null,null,null,null,null,null,null,null,null,null,null,null,null,null,null,null,null,null,null,null,null,null,null,null,null,null,null,null,null,null,null,null,null,null,null,null,null,"00:00",954,0,"0000000","00","00","00"]
["SA05190","Harmeny AC","1977-06-12","Kenneth Tindall","SA05190","Senior",".",955,{"$f":"VLOOKUP('entries and results'!G957,$A$3:$E$30018,4,FALSE)","v":" "},{"$f":"VLOOKUP('entries and results'!G957,$A$3:$F$30018,6,FALSE)","v":" "},{"$f":"VLOOKUP('entries and results'!G957,$A$3:$E$30018,2,FALSE)","v":" "},null,955,".",{"$f":"VLOOKUP('entries and results'!N957,$H$3:$K$30018,2,FALSE)","v":" "},{"$f":"VLOOKUP('entries and results'!N957,$H$3:$K$30018,3,FALSE)","v":" "},{"$f":"VLOOKUP('entries and results'!N957,$H$3:$K$30018,4,FALSE)","v":" "},null," ","00:00",null,null,null,null,null,null,null,null,null,null,null,null,null,null,null,null,null,null,null,null,null,null,null,null,null,null,null,null,null,null,null,null,null,null,null,null,null,null,null,null,null,null,null,"00:00",955,0,"0000000","00","00","00"]
["SA05192","Helensburgh AAC","1951-02-13","Kenneth White","SA05192","Vet",".",956,{"$f":"VLOOKUP('entries and results'!G958,$A$3:$E$30018,4,FALSE)","v":" "},{"$f":"VLOOKUP('entries and results'!G958,$A$3:$F$30018,6,FALSE)","v":" "},{"$f":"VLOOKUP('entries and results'!G958,$A$3:$E$30018,2,FALSE)","v":" "},null,956,".",{"$f":"VLOOKUP('entries and results'!N958,$H$3:$K$30018,2,FALSE)","v":" "},{"$f":"VLOOKUP('entries and results'!N958,$H$3:$K$30018,3,FALSE)","v":" "},{"$f":"VLOOKUP('entries and results'!N958,$H$3:$K$30018,4,FALSE)","v":" "},null," ","00:00",null,null,null,null,null,null,null,null,null,null,null,null,null,null,null,null,null,null,null,null,null,null,null,null,null,null,null,null,null,null,null,null,null,null,null,null,null,null,null,null,null,null,null,"00:00",956,0,"0000000","00","00","00"]
["SA05194","Herne Hill Harriers","1965-01-16","Roger Alsop","SA05194","Vet",".",957,{"$f":"VLOOKUP('entries and results'!G959,$A$3:$E$30018,4,FALSE)","v":" "},{"$f":"VLOOKUP('entries and results'!G959,$A$3:$F$30018,6,FALSE)","v":" "},{"$f":"VLOOKUP('entries and results'!G959,$A$3:$E$30018,2,FALSE)","v":" "},null,957,".",{"$f":"VLOOKUP('entries and results'!N959,$H$3:$K$30018,2,FALSE)","v":" "},{"$f":"VLOOKUP('entries and results'!N959,$H$3:$K$30018,3,FALSE)","v":" "},{"$f":"VLOOKUP('entries and results'!N959,$H$3:$K$30018,4,FALSE)","v":" "},null," ","00:00",null,null,null,null,null,null,null,null,null,null,null,null,null,null,null,null,null,null,null,null,null,null,null,null,null,null,null,null,null,null,null,null,null,null,null,null,null,null,null,null,null,null,null,"00:00",957,0,"0000000","00","00","00"]
["SA05199","Hunters Bog Trotters","1980-02-09","Will Mair","SA05199","Senior",".",958,{"$f":"VLOOKUP('entries and results'!G960,$A$3:$E$30018,4,FALSE)","v":" "},{"$f":"VLOOKUP('entries and results'!G960,$A$3:$F$30018,6,FALSE)","v":" "},{"$f":"VLOOKUP('entries and results'!G960,$A$3:$E$30018,2,FALSE)","v":" "},null,958,".",{"$f":"VLOOKUP('entries and results'!N960,$H$3:$K$30018,2,FALSE)","v":" "},{"$f":"VLOOKUP('entries and results'!N960,$H$3:$K$30018,3,FALSE)","v":" "},{"$f":"VLOOKUP('entries and results'!N960,$H$3:$K$30018,4,FALSE)","v":" "},null," ","00:00",null,null,null,null,null,null,null,null,null,null,null,null,null,null,null,null,null,null,null,null,null,null,null,null,null,null,null,null,null,null,null,null,null,null,null,null,null,null,null,null,null,null,null,"00:00",958,0,"0000000","00","00","00"]
["SA05200","Hunters Bog Trotters","1973-03-19","Philip Mowbray","SA05200","Senior",".",959,{"$f":"VLOOKUP('entries and results'!G961,$A$3:$E$30018,4,FALSE)","v":" "},{"$f":"VLOOKUP('entries and results'!G961,$A$3:$F$30018,6,FALSE)","v":" "},{"$f":"VLOOKUP('entries and results'!G961,$A$3:$E$30018,2,FALSE)","v":" "},null,959,".",{"$f":"VLOOKUP('entries and results'!N961,$H$3:$K$30018,2,FALSE)","v":" "},{"$f":"VLOOKUP('entries and results'!N961,$H$3:$K$30018,3,FALSE)","v":" "},{"$f":"VLOOKUP('entries and results'!N961,$H$3:$K$30018,4,FALSE)","v":" "},null," ","00:00",null,null,null,null,null,null,null,null,null,null,null,null,null,null,null,null,null,null,null,null,null,null,null,null,null,null,null,null,null,null,null,null,null,null,null,null,null,null,null,null,null,null,null,"00:00",959,0,"0000000","00","00","00"]
["SA05202","Hunters Bog Trotters","1940-01-25","Norman Weir","SA05202","Vet",".",960,{"$f":"VLOOKUP('entries and results'!G962,$A$3:$E$30018,4,FALSE)","v":" "},{"$f":"VLOOKUP('entries and results'!G962,$A$3:$F$30018,6,FALSE)","v":" "},{"$f":"VLOOKUP('entries and results'!G962,$A$3:$E$30018,2,FALSE)","v":" "},null,960,".",{"$f":"VLOOKUP('entries and results'!N962,$H$3:$K$30018,2,FALSE)","v":" "},{"$f":"VLOOKUP('entries and results'!N962,$H$3:$K$30018,3,FALSE)","v":" "},{"$f":"VLOOKUP('entries and results'!N962,$H$3:$K$30018,4,FALSE)","v":" "},null," ","00:00",null,null,null,null,null,null,null,null,null,null,null,null,null,null,null,null,null,null,null,null,null,null,null,null,null,null,null,null,null,null,null,null,null,null,null,null,null,null,null,null,null,null,null,"00:00",960,0,"0000000","00","00","00"]
["SA05203","Inverclyde AC","1967-02-05","Gavin Morrison","SA05203","Vet",".",961,{"$f":"VLOOKUP('entries and results'!G963,$A$3:$E$30018,4,FALSE)","v":" "},{"$f":"VLOOKUP('entries and results'!G963,$A$3:$F$30018,6,FALSE)","v":" "},{"$f":"VLOOKUP('entries and results'!G963,$A$3:$E$30018,2,FALSE)","v":" "},null,961,".",{"$f":"VLOOKUP('entries and results'!N963,$H$3:$K$30018,2,FALSE)","v":" "},{"$f":"VLOOKUP('entries and results'!N963,$H$3:$K$30018,3,FALSE)","v":" "},{"$f":"VLOOKUP('entries and results'!N963,$H$3:$K$30018,4,FALSE)","v":" "},null," ","00:00",null,null,null,null,null,null,null,null,null,null,null,null,null,null,null,null,null,null,null,null,null,null,null,null,null,null,null,null,null,null,null,null,null,null,null,null,null,null,null,null,null,null,null,"00:00",961,{"$f":"SUMIF($H$3:$H$601,$BM963,$S$3:$S$601)","v":0},"0000000","00","00","00"]
["SA05205","Inverness Harriers AAC","1967-01-06","Alan Mair","SA05205","Vet",".",962,{"$f":"VLOOKUP('entries and results'!G964,$A$3:$E$30018,4,FALSE)","v":" "},{"$f":"VLOOKUP('entries and results'!G964,$A$3:$F$30018,6,FALSE)","v":" "},{"$f":"VLOOKUP('entries and results'!G964,$A$3:$E$30018,2,FALSE)","v":" "},null,962,".",{"$f":"VLOOKUP('entries and results'!N964,$H$3:$K$30018,2,FALSE)","v":" "},{"$f":"VLOOKUP('entries and results'!N964,$H$3:$K$30018,3,FALSE)","v":" "},{"$f":"VLOOKUP('entries and results'!N964,$H$3:$K$30018,4,FALSE)","v":" "},null," ",{"$f":"IF($H964=\"\",\" \",(LOOKUP($H964,$BM$3:$BM$1601,$BL$3:$BL$1601)))","v":"00:00"},null,null,null,null,null,null,null,null,null,null,null,null,null,null,null,null,null,null,null,null,null,null,null,null,null,null,null,null,null,null,null,null,null,null,null,null,null,null,null,null,null,null,null,"00:00",962,0,"0000000","00","00","00"]
["SA05208","Kilmarnock H&AC","1962-10-09","John Cairns","SA05208","Vet",".",963,{"$f":"VLOOKUP('entries and results'!G965,$A$3:$E$30018,4,FALSE)","v":" "},{"$f":"VLOOKUP('entries and results'!G965,$A$3:$F$30018,6,FALSE)","v":" "},{"$f":"VLOOKUP('entries and results'!G965,$A$3:$E$30018,2,FALSE)","v":" "},null,963,".",{"$f":"VLOOKUP('entries and results'!N965,$H$3:$K$30018,2,FALSE)","v":" "},{"$f":"VLOOKUP('entries and results'!N965,$H$3:$K$30018,3,FALSE)","v":" "},{"$f":"VLOOKUP('entries and results'!N965,$H$3:$K$30018,4,FALSE)","v":" "},null," ","00:00",null,null,null,null,null,null,null,null,null,null,null,null,null,null,null,null,null,null,null,null,null,null,null,null,null,null,null,null,null,null,null,null,null,null,null,null,null,null,null,null,null,null,null,"00:00",963,0,"0000000","00","00","00"]
["SA05209","Kilmarnock H&AC","1969-03-29","Avryl Cornforth","SA05209","Vet",".",964,{"$f":"VLOOKUP('entries and results'!G966,$A$3:$E$30018,4,FALSE)","v":" "},{"$f":"VLOOKUP('entries and results'!G966,$A$3:$F$30018,6,FALSE)","v":" "},{"$f":"VLOOKUP('entries and results'!G966,$A$3:$E$30018,2,FALSE)","v":" "},null,964,".",{"$f":"VLOOKUP('entries and results'!N966,$H$3:$K$30018,2,FALSE)","v":" "},{"$f":"VLOOKUP('entries and results'!N966,$H$3:$K$30018,3,FALSE)","v":" "},{"$f":"VLOOKUP('entries and results'!N966,$H$3:$K$30018,4,FALSE)","v":" "},null," ","00:00",null,null,null,null,null,null,null,null,null,null,null,null,null,null,null,null,null,null,null,null,null,null,null,null,null,null,null,null,null,null,null,null,null,null,null,null,null,null,null,null,null,null,null,"00:00",964,0,{"$f":"CONCATENATE($BI$2,$BN966)","v":"0000000"},{"$f":"MID(RIGHT($BO966,6),1,2)","v":"00"},{"$f":"MID(RIGHT($BO966,6),3,2)","v":"00"},{"$f":"MID(RIGHT($BO966,6),5,2)","v":"00"}]
["SA05212","Keith & District AAC","1950-04-15","Marlene Flett Wilson","SA05212","Vet",".",965,{"$f":"VLOOKUP('entries and results'!G967,$A$3:$E$30018,4,FALSE)","v":" "},{"$f":"VLOOKUP('entries and results'!G967,$A$3:$F$30018,6,FALSE)","v":" "},{"$f":"VLOOKUP('entries and results'!G967,$A$3:$E$30018,2,FALSE)","v":" "},null,965,".",{"$f":"VLOOKUP('entries and results'!N967,$H$3:$K$30018,2,FALSE)","v":" "},{"$f":"VLOOKUP('entries and results'!N967,$H$3:$K$30018,3,FALSE)","v":" "},{"$f":"VLOOKUP('entries and results'!N967,$H$3:$K$30018,4,FALSE)","v":" "},null," ","00:00",null,null,null,null,null,null,null,null,null,null,null,null,null,null,null,null,null,null,null,null,null,null,null,null,null,null,null,null,null,null,null,null,null,null,null,null,null,null,null,null,null,null,null,"00:00",965,0,"0000000","00","00","00"]
["SA05213","Keith & District AAC","1962-03-27","Malcolm Smith","SA05213","Vet",".",966,{"$f":"VLOOKUP('entries and results'!G968,$A$3:$E$30018,4,FALSE)","v":" "},{"$f":"VLOOKUP('entries and results'!G968,$A$3:$F$30018,6,FALSE)","v":" "},{"$f":"VLOOKUP('entries and results'!G968,$A$3:$E$30018,2,FALSE)","v":" "},null,966,".",{"$f":"VLOOKUP('entries and results'!N968,$H$3:$K$30018,2,FALSE)","v":" "},{"$f":"VLOOKUP('entries and results'!N968,$H$3:$K$30018,3,FALSE)","v":" "},{"$f":"VLOOKUP('entries and results'!N968,$H$3:$K$30018,4,FALSE)","v":" "},null," ","00:00",null,null,null,null,null,null,null,null,null,null,null,null,null,null,null,null,null,null,null,null,null,null,null,null,null,null,null,null,null,null,null,null,null,null,null,null,null,null,null,null,null,null,null,"00:00",966,0,"0000000","00","00","00"]
["SA05216","Kilbarchan AAC","1977-06-13","Andrew Clugston","SA05216","Senior",".",967,{"$f":"VLOOKUP('entries and results'!G969,$A$3:$E$30018,4,FALSE)","v":" "},{"$f":"VLOOKUP('entries and results'!G969,$A$3:$F$30018,6,FALSE)","v":" "},{"$f":"VLOOKUP('entries and results'!G969,$A$3:$E$30018,2,FALSE)","v":" "},null,967,".",{"$f":"VLOOKUP('entries and results'!N969,$H$3:$K$30018,2,FALSE)","v":" "},{"$f":"VLOOKUP('entries and results'!N969,$H$3:$K$30018,3,FALSE)","v":" "},{"$f":"VLOOKUP('entries and results'!N969,$H$3:$K$30018,4,FALSE)","v":" "},null," ","00:00",null,null,null,null,null,null,null,null,null,null,null,null,null,null,null,null,null,null,null,null,null,null,null,null,null,null,null,null,null,null,null,null,null,null,null,null,null,null,null,null,null,null,null,"00:00",967,0,"0000000","00","00","00"]
["SA05217","Kilbarchan AAC","1984-11-17","Lynsey Curran","SA05217","Senior",".",968,{"$f":"VLOOKUP('entries and results'!G970,$A$3:$E$30018,4,FALSE)","v":" "},{"$f":"VLOOKUP('entries and results'!G970,$A$3:$F$30018,6,FALSE)","v":" "},{"$f":"VLOOKUP('entries and results'!G970,$A$3:$E$30018,2,FALSE)","v":" "},null,968,".",{"$f":"VLOOKUP('entries and results'!N970,$H$3:$K$30018,2,FALSE)","v":" "},{"$f":"VLOOKUP('entries and results'!N970,$H$3:$K$30018,3,FALSE)","v":" "},{"$f":"VLOOKUP('entries and results'!N970,$H$3:$K$30018,4,FALSE)","v":" "},null," ","00:00",null,null,null,null,null,null,null,null,null,null,null,null,null,null,null,null,null,null,null,null,null,null,null,null,null,null,null,null,null,null,null,null,null,null,null,null,null,null,null,null,null,null,null,"00:00",968,0,"0000000","00","00","00"]
["SA05219","Kilbarchan AAC","1960-09-15","Wanda Phillips","SA05219","Vet",".",969,{"$f":"VLOOKUP('entries and results'!G971,$A$3:$E$30018,4,FALSE)","v":" "},{"$f":"VLOOKUP('entries and results'!G971,$A$3:$F$30018,6,FALSE)","v":" "},{"$f":"VLOOKUP('entries and results'!G971,$A$3:$E$30018,2,FALSE)","v":" "},null,969,".",{"$f":"VLOOKUP('entries and results'!N971,$H$3:$K$30018,2,FALSE)","v":" "},{"$f":"VLOOKUP('entries and results'!N971,$H$3:$K$30018,3,FALSE)","v":" "},{"$f":"VLOOKUP('entries and results'!N971,$H$3:$K$30018,4,FALSE)","v":" "},null," ","00:00",null,null,null,null,null,null,null,null,null,null,null,null,null,null,null,null,null,null,null,null,null,null,null,null,null,null,null,null,null,null,null,null,null,null,null,null,null,null,null,null,null,null,null,"00:00",969,0,"0000000","00","00","00"]
["SA05224","Kirkintilloch Olympians","1967-11-01","Gary Mitchell","SA05224","Vet",".",970,{"$f":"VLOOKUP('entries and results'!G972,$A$3:$E$30018,4,FALSE)","v":" "},{"$f":"VLOOKUP('entries and results'!G972,$A$3:$F$30018,6,FALSE)","v":" "},{"$f":"VLOOKUP('entries and results'!G972,$A$3:$E$30018,2,FALSE)","v":" "},null,970,".",{"$f":"VLOOKUP('entries and results'!N972,$H$3:$K$30018,2,FALSE)","v":" "},{"$f":"VLOOKUP('entries and results'!N972,$H$3:$K$30018,3,FALSE)","v":" "},{"$f":"VLOOKUP('entries and results'!N972,$H$3:$K$30018,4,FALSE)","v":" "},null," ","00:00",null,null,null,null,null,null,null,null,null,null,null,null,null,null,null,null,null,null,null,null,null,null,null,null,null,null,null,null,null,null,null,null,null,null,null,null,null,null,null,null,null,null,null,"00:00",970,0,"0000000","00","00","00"]
["SA05225","Kirkintilloch Olympians","1961-08-28","Michael Peters","SA05225","Vet",".",971,{"$f":"VLOOKUP('entries and results'!G973,$A$3:$E$30018,4,FALSE)","v":" "},{"$f":"VLOOKUP('entries and results'!G973,$A$3:$F$30018,6,FALSE)","v":" "},{"$f":"VLOOKUP('entries and results'!G973,$A$3:$E$30018,2,FALSE)","v":" "},null,971,".",{"$f":"VLOOKUP('entries and results'!N973,$H$3:$K$30018,2,FALSE)","v":" "},{"$f":"VLOOKUP('entries and results'!N973,$H$3:$K$30018,3,FALSE)","v":" "},{"$f":"VLOOKUP('entries and results'!N973,$H$3:$K$30018,4,FALSE)","v":" "},null," ","00:00",null,null,null,null,null,null,null,null,null,null,null,null,null,null,null,null,null,null,null,null,null,null,null,null,null,null,null,null,null,null,null,null,null,null,null,null,null,null,null,null,null,null,null,"00:00",971,0,"0000000","00","00","00"]
["SA05226","Kirkintilloch Olympians","1968-10-24","Fraser Smart","SA05226","Vet",".",972,{"$f":"VLOOKUP('entries and results'!G974,$A$3:$E$30018,4,FALSE)","v":" "},{"$f":"VLOOKUP('entries and results'!G974,$A$3:$F$30018,6,FALSE)","v":" "},{"$f":"VLOOKUP('entries and results'!G974,$A$3:$E$30018,2,FALSE)","v":" "},null,972,".",{"$f":"VLOOKUP('entries and results'!N974,$H$3:$K$30018,2,FALSE)","v":" "},{"$f":"VLOOKUP('entries and results'!N974,$H$3:$K$30018,3,FALSE)","v":" "},{"$f":"VLOOKUP('entries and results'!N974,$H$3:$K$30018,4,FALSE)","v":" "},null," ","00:00",null,null,null,null,null,null,null,null,null,null,null,null,null,null,null,null,null,null,null,null,null,null,null,null,null,null,null,null,null,null,null,null,null,null,null,null,null,null,null,null,null,null,null,"00:00",972,0,"0000000","00","00","00"]
["SA05227","Kirkintilloch Olympians","1972-08-16","Sarah Smart","SA05227","Senior",".",973,{"$f":"VLOOKUP('entries and results'!G975,$A$3:$E$30018,4,FALSE)","v":" "},{"$f":"VLOOKUP('entries and results'!G975,$A$3:$F$30018,6,FALSE)","v":" "},{"$f":"VLOOKUP('entries and results'!G975,$A$3:$E$30018,2,FALSE)","v":" "},null,973,".",{"$f":"VLOOKUP('entries and results'!N975,$H$3:$K$30018,2,FALSE)","v":" "},{"$f":"VLOOKUP('entries and results'!N975,$H$3:$K$30018,3,FALSE)","v":" "},{"$f":"VLOOKUP('entries and results'!N975,$H$3:$K$30018,4,FALSE)","v":" "},null," ","00:00",null,null,null,null,null,null,null,null,null,null,null,null,null,null,null,null,null,null,null,null,null,null,null,null,null,null,null,null,null,null,null,null,null,null,null,null,null,null,null,null,null,null,null,"00:00",973,0,"0000000","00","00","00"]
["SA05228","Lasswade AAC","1954-09-20","William Lumsden","SA05228","Vet",".",974,{"$f":"VLOOKUP('entries and results'!G976,$A$3:$E$30018,4,FALSE)","v":" "},{"$f":"VLOOKUP('entries and results'!G976,$A$3:$F$30018,6,FALSE)","v":" "},{"$f":"VLOOKUP('entries and results'!G976,$A$3:$E$30018,2,FALSE)","v":" "},null,974,".",{"$f":"VLOOKUP('entries and results'!N976,$H$3:$K$30018,2,FALSE)","v":" "},{"$f":"VLOOKUP('entries and results'!N976,$H$3:$K$30018,3,FALSE)","v":" "},{"$f":"VLOOKUP('entries and results'!N976,$H$3:$K$30018,4,FALSE)","v":" "},null," ","00:00",null,null,null,null,null,null,null,null,null,null,null,null,null,null,null,null,null,null,null,null,null,null,null,null,null,null,null,null,null,null,null,null,null,null,null,null,null,null,null,null,null,null,null,"00:00",974,0,"0000000","00","00","00"]
["SA05237","Law & District AAC","1950-09-20","William Scoular","SA05237","Vet",".",975,{"$f":"VLOOKUP('entries and results'!G977,$A$3:$E$30018,4,FALSE)","v":" "},{"$f":"VLOOKUP('entries and results'!G977,$A$3:$F$30018,6,FALSE)","v":" "},{"$f":"VLOOKUP('entries and results'!G977,$A$3:$E$30018,2,FALSE)","v":" "},null,975,".",{"$f":"VLOOKUP('entries and results'!N977,$H$3:$K$30018,2,FALSE)","v":" "},{"$f":"VLOOKUP('entries and results'!N977,$H$3:$K$30018,3,FALSE)","v":" "},{"$f":"VLOOKUP('entries and results'!N977,$H$3:$K$30018,4,FALSE)","v":" "},null," ","00:00",null,null,null,null,null,null,null,null,null,null,null,null,null,null,null,null,null,null,null,null,null,null,null,null,null,null,null,null,null,null,null,null,null,null,null,null,null,null,null,null,null,null,null,"00:00",975,0,"0000000","00","00","00"]
["SA05242","Lothian Running Club","1947-05-24","Keith Banham","SA05242","Vet",".",976,{"$f":"VLOOKUP('entries and results'!G978,$A$3:$E$30018,4,FALSE)","v":" "},{"$f":"VLOOKUP('entries and results'!G978,$A$3:$F$30018,6,FALSE)","v":" "},{"$f":"VLOOKUP('entries and results'!G978,$A$3:$E$30018,2,FALSE)","v":" "},null,976,".",{"$f":"VLOOKUP('entries and results'!N978,$H$3:$K$30018,2,FALSE)","v":" "},{"$f":"VLOOKUP('entries and results'!N978,$H$3:$K$30018,3,FALSE)","v":" "},{"$f":"VLOOKUP('entries and results'!N978,$H$3:$K$30018,4,FALSE)","v":" "},null," ","00:00",null,null,null,null,null,null,null,null,null,null,null,null,null,null,null,null,null,null,null,null,null,null,null,null,null,null,null,null,null,null,null,null,null,null,null,null,null,null,null,null,null,null,null,"00:00",976,0,"0000000","00","00","00"]
["SA05243","Lothian Running Club","1957-04-18","Mark Kassyk","SA05243","Vet",".",977,{"$f":"VLOOKUP('entries and results'!G979,$A$3:$E$30018,4,FALSE)","v":" "},{"$f":"VLOOKUP('entries and results'!G979,$A$3:$F$30018,6,FALSE)","v":" "},{"$f":"VLOOKUP('entries and results'!G979,$A$3:$E$30018,2,FALSE)","v":" "},null,977,".",{"$f":"VLOOKUP('entries and results'!N979,$H$3:$K$30018,2,FALSE)","v":" "},{"$f":"VLOOKUP('entries and results'!N979,$H$3:$K$30018,3,FALSE)","v":" "},{"$f":"VLOOKUP('entries and results'!N979,$H$3:$K$30018,4,FALSE)","v":" "},null," ","00:00",null,null,null,null,null,null,null,null,null,null,null,null,null,null,null,null,null,null,null,null,null,null,null,null,null,null,null,null,null,null,null,null,null,null,null,null,null,null,null,null,null,null,null,"00:00",977,0,"0000000","00","00","00"]
["SA05247","Maryhill Harriers","1960-06-11","Kenneth Stevenson","SA05247","Vet",".",978,{"$f":"VLOOKUP('entries and results'!G980,$A$3:$E$30018,4,FALSE)","v":" "},{"$f":"VLOOKUP('entries and results'!G980,$A$3:$F$30018,6,FALSE)","v":" "},{"$f":"VLOOKUP('entries and results'!G980,$A$3:$E$30018,2,FALSE)","v":" "},null,978,".",{"$f":"VLOOKUP('entries and results'!N980,$H$3:$K$30018,2,FALSE)","v":" "},{"$f":"VLOOKUP('entries and results'!N980,$H$3:$K$30018,3,FALSE)","v":" "},{"$f":"VLOOKUP('entries and results'!N980,$H$3:$K$30018,4,FALSE)","v":" "},null," ","00:00",null,null,null,null,null,null,null,null,null,null,null,null,null,null,null,null,null,null,null,null,null,null,null,null,null,null,null,null,null,null,null,null,null,null,null,null,null,null,null,null,null,null,null,"00:00",978,0,"0000000","00","00","00"]
["SA05249","Metro Aberdeen Running Club","1968-03-21","Clifford Leith","SA05249","Vet",".",979,{"$f":"VLOOKUP('entries and results'!G981,$A$3:$E$30018,4,FALSE)","v":" "},{"$f":"VLOOKUP('entries and results'!G981,$A$3:$F$30018,6,FALSE)","v":" "},{"$f":"VLOOKUP('entries and results'!G981,$A$3:$E$30018,2,FALSE)","v":" "},null,979,".",{"$f":"VLOOKUP('entries and results'!N981,$H$3:$K$30018,2,FALSE)","v":" "},{"$f":"VLOOKUP('entries and results'!N981,$H$3:$K$30018,3,FALSE)","v":" "},{"$f":"VLOOKUP('entries and results'!N981,$H$3:$K$30018,4,FALSE)","v":" "},null," ","00:00",null,null,null,null,null,null,null,null,null,null,null,null,null,null,null,null,null,null,null,null,null,null,null,null,null,null,null,null,null,null,null,null,null,null,null,null,null,null,null,null,null,null,null,"00:00",979,0,"0000000","00","00","00"]
["SA05253","Metro Aberdeen Running Club","1955-04-26","Bill Ogg","SA05253","Vet",".",980,{"$f":"VLOOKUP('entries and results'!G982,$A$3:$E$30018,4,FALSE)","v":" "},{"$f":"VLOOKUP('entries and results'!G982,$A$3:$F$30018,6,FALSE)","v":" "},{"$f":"VLOOKUP('entries and results'!G982,$A$3:$E$30018,2,FALSE)","v":" "},null,980,".",{"$f":"VLOOKUP('entries and results'!N982,$H$3:$K$30018,2,FALSE)","v":" "},{"$f":"VLOOKUP('entries and results'!N982,$H$3:$K$30018,3,FALSE)","v":" "},{"$f":"VLOOKUP('entries and results'!N982,$H$3:$K$30018,4,FALSE)","v":" "},null," ","00:00",null,null,null,null,null,null,null,null,null,null,null,null,null,null,null,null,null,null,null,null,null,null,null,null,null,null,null,null,null,null,null,null,null,null,null,null,null,null,null,null,null,null,null,"00:00",980,0,"0000000","00","00","00"]
["SA05254","Metro Aberdeen Running Club","1963-10-18","Ron Peddie","SA05254","Vet",".",981,{"$f":"VLOOKUP('entries and results'!G983,$A$3:$E$30018,4,FALSE)","v":" "},{"$f":"VLOOKUP('entries and results'!G983,$A$3:$F$30018,6,FALSE)","v":" "},{"$f":"VLOOKUP('entries and results'!G983,$A$3:$E$30018,2,FALSE)","v":" "},null,981,".",{"$f":"VLOOKUP('entries and results'!N983,$H$3:$K$30018,2,FALSE)","v":" "},{"$f":"VLOOKUP('entries and results'!N983,$H$3:$K$30018,3,FALSE)","v":" "},{"$f":"VLOOKUP('entries and results'!N983,$H$3:$K$30018,4,FALSE)","v":" "},null," ","00:00",null,null,null,null,null,null,null,null,null,null,null,null,null,null,null,null,null,null,null,null,null,null,null,null,null,null,null,null,null,null,null,null,null,null,null,null,null,null,null,null,null,null,null,"00:00",981,0,"0000000","00","00","00"]
["SA05255","Metro Aberdeen Running Club","1972-04-15","Michele Ross","SA05255","Senior",".",982,{"$f":"VLOOKUP('entries and results'!G984,$A$3:$E$30018,4,FALSE)","v":" "},{"$f":"VLOOKUP('entries and results'!G984,$A$3:$F$30018,6,FALSE)","v":" "},{"$f":"VLOOKUP('entries and results'!G984,$A$3:$E$30018,2,FALSE)","v":" "},null,982,".",{"$f":"VLOOKUP('entries and results'!N984,$H$3:$K$30018,2,FALSE)","v":" "},{"$f":"VLOOKUP('entries and results'!N984,$H$3:$K$30018,3,FALSE)","v":" "},{"$f":"VLOOKUP('entries and results'!N984,$H$3:$K$30018,4,FALSE)","v":" "},null," ","00:00",null,null,null,null,null,null,null,null,null,null,null,null,null,null,null,null,null,null,null,null,null,null,null,null,null,null,null,null,null,null,null,null,null,null,null,null,null,null,null,null,null,null,null,"00:00",982,0,"0000000","00","00","00"]
["SA05257","Metro Aberdeen Running Club","1971-03-21","Graham Strachan","SA05257","Senior",".",983,{"$f":"VLOOKUP('entries and results'!G985,$A$3:$E$30018,4,FALSE)","v":" "},{"$f":"VLOOKUP('entries and results'!G985,$A$3:$F$30018,6,FALSE)","v":" "},{"$f":"VLOOKUP('entries and results'!G985,$A$3:$E$30018,2,FALSE)","v":" "},null,983,".",{"$f":"VLOOKUP('entries and results'!N985,$H$3:$K$30018,2,FALSE)","v":" "},{"$f":"VLOOKUP('entries and results'!N985,$H$3:$K$30018,3,FALSE)","v":" "},{"$f":"VLOOKUP('entries and results'!N985,$H$3:$K$30018,4,FALSE)","v":" "},null," ","00:00",null,null,null,null,null,null,null,null,null,null,null,null,null,null,null,null,null,null,null,null,null,null,null,null,null,null,null,null,null,null,null,null,null,null,null,null,null,null,null,null,null,null,null,"00:00",983,0,"0000000","00","00","00"]
["SA05258","Metro Aberdeen Running Club","1965-02-25","Stephen Wood","SA05258","Vet",".",984,{"$f":"VLOOKUP('entries and results'!G986,$A$3:$E$30018,4,FALSE)","v":" "},{"$f":"VLOOKUP('entries and results'!G986,$A$3:$F$30018,6,FALSE)","v":" "},{"$f":"VLOOKUP('entries and results'!G986,$A$3:$E$30018,2,FALSE)","v":" "},null,984,".",{"$f":"VLOOKUP('entries and results'!N986,$H$3:$K$30018,2,FALSE)","v":" "},{"$f":"VLOOKUP('entries and results'!N986,$H$3:$K$30018,3,FALSE)","v":" "},{"$f":"VLOOKUP('entries and results'!N986,$H$3:$K$30018,4,FALSE)","v":" "},null," ","00:00",null,null,null,null,null,null,null,null,null,null,null,null,null,null,null,null,null,null,null,null,null,null,null,null,null,null,null,null,null,null,null,null,null,null,null,null,null,null,null,null,null,null,null,"00:00",984,0,"0000000","00","00","00"]
["SA05261","Motherwell AC","1968-02-27","Clare Barr","SA05261","Vet",".",985,{"$f":"VLOOKUP('entries and results'!G987,$A$3:$E$30018,4,FALSE)","v":" "},{"$f":"VLOOKUP('entries and results'!G987,$A$3:$F$30018,6,FALSE)","v":" "},{"$f":"VLOOKUP('entries and results'!G987,$A$3:$E$30018,2,FALSE)","v":" "},null,985,".",{"$f":"VLOOKUP('entries and results'!N987,$H$3:$K$30018,2,FALSE)","v":" "},{"$f":"VLOOKUP('entries and results'!N987,$H$3:$K$30018,3,FALSE)","v":" "},{"$f":"VLOOKUP('entries and results'!N987,$H$3:$K$30018,4,FALSE)","v":" "},null," ","00:00",null,null,null,null,null,null,null,null,null,null,null,null,null,null,null,null,null,null,null,null,null,null,null,null,null,null,null,null,null,null,null,null,null,null,null,null,null,null,null,null,null,null,null,"00:00",985,0,"0000000","00","00","00"]
["SA05262","Motherwell AC","1965-03-21","Mark Coyle","SA05262","Vet",".",986,{"$f":"VLOOKUP('entries and results'!G988,$A$3:$E$30018,4,FALSE)","v":" "},{"$f":"VLOOKUP('entries and results'!G988,$A$3:$F$30018,6,FALSE)","v":" "},{"$f":"VLOOKUP('entries and results'!G988,$A$3:$E$30018,2,FALSE)","v":" "},null,986,".",{"$f":"VLOOKUP('entries and results'!N988,$H$3:$K$30018,2,FALSE)","v":" "},{"$f":"VLOOKUP('entries and results'!N988,$H$3:$K$30018,3,FALSE)","v":" "},{"$f":"VLOOKUP('entries and results'!N988,$H$3:$K$30018,4,FALSE)","v":" "},null," ","00:00",null,null,null,null,null,null,null,null,null,null,null,null,null,null,null,null,null,null,null,null,null,null,null,null,null,null,null,null,null,null,null,null,null,null,null,null,null,null,null,null,null,null,null,"00:00",986,0,"0000000","00","00","00"]
["SA05263","Motherwell AC","1967-12-22","Elaine Jamieson","SA05263","Vet",".",987,{"$f":"VLOOKUP('entries and results'!G989,$A$3:$E$30018,4,FALSE)","v":" "},{"$f":"VLOOKUP('entries and results'!G989,$A$3:$F$30018,6,FALSE)","v":" "},{"$f":"VLOOKUP('entries and results'!G989,$A$3:$E$30018,2,FALSE)","v":" "},null,987,".",{"$f":"VLOOKUP('entries and results'!N989,$H$3:$K$30018,2,FALSE)","v":" "},{"$f":"VLOOKUP('entries and results'!N989,$H$3:$K$30018,3,FALSE)","v":" "},{"$f":"VLOOKUP('entries and results'!N989,$H$3:$K$30018,4,FALSE)","v":" "},null," ","00:00",null,null,null,null,null,null,null,null,null,null,null,null,null,null,null,null,null,null,null,null,null,null,null,null,null,null,null,null,null,null,null,null,null,null,null,null,null,null,null,null,null,null,null,"00:00",987,0,"0000000","00","00","00"]
["SA05268","Notts AC","1981-12-02","Bruce Raeside","SA05268","Senior",".",988,{"$f":"VLOOKUP('entries and results'!G990,$A$3:$E$30018,4,FALSE)","v":" "},{"$f":"VLOOKUP('entries and results'!G990,$A$3:$F$30018,6,FALSE)","v":" "},{"$f":"VLOOKUP('entries and results'!G990,$A$3:$E$30018,2,FALSE)","v":" "},null,988,".",{"$f":"VLOOKUP('entries and results'!N990,$H$3:$K$30018,2,FALSE)","v":" "},{"$f":"VLOOKUP('entries and results'!N990,$H$3:$K$30018,3,FALSE)","v":" "},{"$f":"VLOOKUP('entries and results'!N990,$H$3:$K$30018,4,FALSE)","v":" "},null," ","00:00",null,null,null,null,null,null,null,null,null,null,null,null,null,null,null,null,null,null,null,null,null,null,null,null,null,null,null,null,null,null,null,null,null,null,null,null,null,null,null,null,null,null,null,{"$f":"CONCATENATE(BQ990,\":\",BR990)","v":"00:00"},988,0,"0000000","00","00","00"]
["SA05269","Ochil Hill Runners","1956-05-14","David Scott","SA05269","Vet",".",989,{"$f":"VLOOKUP('entries and results'!G991,$A$3:$E$30018,4,FALSE)","v":" "},{"$f":"VLOOKUP('entries and results'!G991,$A$3:$F$30018,6,FALSE)","v":" "},{"$f":"VLOOKUP('entries and results'!G991,$A$3:$E$30018,2,FALSE)","v":" "},null,989,".",{"$f":"VLOOKUP('entries and results'!N991,$H$3:$K$30018,2,FALSE)","v":" "},{"$f":"VLOOKUP('entries and results'!N991,$H$3:$K$30018,3,FALSE)","v":" "},{"$f":"VLOOKUP('entries and results'!N991,$H$3:$K$30018,4,FALSE)","v":" "},null," ","00:00",null,null,null,null,null,null,null,null,null,null,null,null,null,null,null,null,null,null,null,null,null,null,null,null,null,null,null,null,null,null,null,null,null,null,null,null,null,null,null,null,null,null,null,"00:00",989,0,"0000000","00","00","00"]
["SA05270","Penicuik Harriers","1982-01-13","Susan Harper","SA05270","Senior",".",990,{"$f":"VLOOKUP('entries and results'!G992,$A$3:$E$30018,4,FALSE)","v":" "},{"$f":"VLOOKUP('entries and results'!G992,$A$3:$F$30018,6,FALSE)","v":" "},{"$f":"VLOOKUP('entries and results'!G992,$A$3:$E$30018,2,FALSE)","v":" "},null,990,".",{"$f":"VLOOKUP('entries and results'!N992,$H$3:$K$30018,2,FALSE)","v":" "},{"$f":"VLOOKUP('entries and results'!N992,$H$3:$K$30018,3,FALSE)","v":" "},{"$f":"VLOOKUP('entries and results'!N992,$H$3:$K$30018,4,FALSE)","v":" "},null," ","00:00",null,null,null,null,null,null,null,null,null,null,null,null,null,null,null,null,null,null,null,null,null,null,null,null,null,null,null,null,null,null,null,null,null,null,null,null,null,null,null,null,null,null,null,"00:00",990,0,"0000000","00","00","00"]
["SA05273","Carnegie Harriers","1965-01-03","Jan Bernt-Cederstrom","SA05273","Vet",".",991,{"$f":"VLOOKUP('entries and results'!G993,$A$3:$E$30018,4,FALSE)","v":" "},{"$f":"VLOOKUP('entries and results'!G993,$A$3:$F$30018,6,FALSE)","v":" "},{"$f":"VLOOKUP('entries and results'!G993,$A$3:$E$30018,2,FALSE)","v":" "},null,991,".",{"$f":"VLOOKUP('entries and results'!N993,$H$3:$K$30018,2,FALSE)","v":" "},{"$f":"VLOOKUP('entries and results'!N993,$H$3:$K$30018,3,FALSE)","v":" "},{"$f":"VLOOKUP('entries and results'!N993,$H$3:$K$30018,4,FALSE)","v":" "},null," ","00:00",null,null,null,null,null,null,null,null,null,null,null,null,null,null,null,null,null,null,null,null,null,null,null,null,null,null,null,null,null,null,null,null,null,null,null,null,null,null,null,null,null,null,null,"00:00",991,0,"0000000","00","00","00"]
["SA05274","Perth Road Runners","1970-10-21","Michael Carroll","SA05274","Senior",".",992,{"$f":"VLOOKUP('entries and results'!G994,$A$3:$E$30018,4,FALSE)","v":" "},{"$f":"VLOOKUP('entries and results'!G994,$A$3:$F$30018,6,FALSE)","v":" "},{"$f":"VLOOKUP('entries and results'!G994,$A$3:$E$30018,2,FALSE)","v":" "},null,992,".",{"$f":"VLOOKUP('entries and results'!N994,$H$3:$K$30018,2,FALSE)","v":" "},{"$f":"VLOOKUP('entries and results'!N994,$H$3:$K$30018,3,FALSE)","v":" "},{"$f":"VLOOKUP('entries and results'!N994,$H$3:$K$30018,4,FALSE)","v":" "},null," ","00:00",null,null,null,null,null,null,null,null,null,null,null,null,null,null,null,null,null,null,null,null,null,null,null,null,null,null,null,null,null,null,null,null,null,null,null,null,null,null,null,null,null,null,null,"00:00",992,0,"0000000","00","00","00"]
["SA05275","Perth Road Runners","1973-02-14","Debbie Jackson","SA05275","Senior",".",993,{"$f":"VLOOKUP('entries and results'!G995,$A$3:$E$30018,4,FALSE)","v":" "},{"$f":"VLOOKUP('entries and results'!G995,$A$3:$F$30018,6,FALSE)","v":" "},{"$f":"VLOOKUP('entries and results'!G995,$A$3:$E$30018,2,FALSE)","v":" "},null,993,".",{"$f":"VLOOKUP('entries and results'!N995,$H$3:$K$30018,2,FALSE)","v":" "},{"$f":"VLOOKUP('entries and results'!N995,$H$3:$K$30018,3,FALSE)","v":" "},{"$f":"VLOOKUP('entries and results'!N995,$H$3:$K$30018,4,FALSE)","v":" "},null," ","00:00",null,null,null,null,null,null,null,null,null,null,null,null,null,null,null,null,null,null,null,null,null,null,null,null,null,null,null,null,null,null,null,null,null,null,null,null,null,null,null,null,null,null,null,"00:00",993,0,"0000000","00","00","00"]
["SA05277","Pitreavie AAC","1978-04-27","Donna Clark","SA05277","Senior",".",994,{"$f":"VLOOKUP('entries and results'!G996,$A$3:$E$30018,4,FALSE)","v":" "},{"$f":"VLOOKUP('entries and results'!G996,$A$3:$F$30018,6,FALSE)","v":" "},{"$f":"VLOOKUP('entries and results'!G996,$A$3:$E$30018,2,FALSE)","v":" "},null,994,".",{"$f":"VLOOKUP('entries and results'!N996,$H$3:$K$30018,2,FALSE)","v":" "},{"$f":"VLOOKUP('entries and results'!N996,$H$3:$K$30018,3,FALSE)","v":" "},{"$f":"VLOOKUP('entries and results'!N996,$H$3:$K$30018,4,FALSE)","v":" "},null," ","00:00",null,null,null,null,null,null,null,null,null,null,null,null,null,null,null,null,null,null,null,null,null,null,null,null,null,null,null,null,null,null,null,null,null,null,null,null,null,null,null,null,null,null,null,"00:00",994,0,"0000000","00","00","00"]
["SA05278","Pitreavie AAC","1979-10-25","Kevin Davie","SA05278","Senior",".",995,{"$f":"VLOOKUP('entries and results'!G997,$A$3:$E$30018,4,FALSE)","v":" "},{"$f":"VLOOKUP('entries and results'!G997,$A$3:$F$30018,6,FALSE)","v":" "},{"$f":"VLOOKUP('entries and results'!G997,$A$3:$E$30018,2,FALSE)","v":" "},null,995,".",{"$f":"VLOOKUP('entries and results'!N997,$H$3:$K$30018,2,FALSE)","v":" "},{"$f":"VLOOKUP('entries and results'!N997,$H$3:$K$30018,3,FALSE)","v":" "},{"$f":"VLOOKUP('entries and results'!N997,$H$3:$K$30018,4,FALSE)","v":" "},null," ","00:00",null,null,null,null,null,null,null,null,null,null,null,null,null,null,null,null,null,null,null,null,null,null,null,null,null,null,null,null,null,null,null,null,null,null,null,null,null,null,null,null,null,null,null,"00:00",995,0,"0000000","00","00","00"]
["SA05279","Portobello Running Club","1973-03-10","Scott Hutchison","SA05279","Senior",".",996,{"$f":"VLOOKUP('entries and results'!G998,$A$3:$E$30018,4,FALSE)","v":" "},{"$f":"VLOOKUP('entries and results'!G998,$A$3:$F$30018,6,FALSE)","v":" "},{"$f":"VLOOKUP('entries and results'!G998,$A$3:$E$30018,2,FALSE)","v":" "},null,996,".",{"$f":"VLOOKUP('entries and results'!N998,$H$3:$K$30018,2,FALSE)","v":" "},{"$f":"VLOOKUP('entries and results'!N998,$H$3:$K$30018,3,FALSE)","v":" "},{"$f":"VLOOKUP('entries and results'!N998,$H$3:$K$30018,4,FALSE)","v":" "},null," ","00:00",null,null,null,null,null,null,null,null,null,null,null,null,null,null,null,null,null,null,null,null,null,null,null,null,null,null,null,null,null,null,null,null,null,null,null,null,null,null,null,null,null,null,null,"00:00",996,0,"0000000","00","00","00"]
["SA05282","Ron Hill Cambuslang Harriers","1975-09-14","John MacNamara","SA05282","Senior",".",997,{"$f":"VLOOKUP('entries and results'!G999,$A$3:$E$30018,4,FALSE)","v":" "},{"$f":"VLOOKUP('entries and results'!G999,$A$3:$F$30018,6,FALSE)","v":" "},{"$f":"VLOOKUP('entries and results'!G999,$A$3:$E$30018,2,FALSE)","v":" "},null,997,".",{"$f":"VLOOKUP('entries and results'!N999,$H$3:$K$30018,2,FALSE)","v":" "},{"$f":"VLOOKUP('entries and results'!N999,$H$3:$K$30018,3,FALSE)","v":" "},{"$f":"VLOOKUP('entries and results'!N999,$H$3:$K$30018,4,FALSE)","v":" "},null," ","00:00",null,null,null,null,null,null,null,null,null,null,null,null,null,null,null,null,null,null,null,null,null,null,null,null,null,null,null,null,null,null,null,null,null,null,null,null,null,null,null,null,null,null,null,"00:00",997,0,"0000000","00","00","00"]
["SA05283","Ron Hill Cambuslang Harriers","1960-04-23","David Thom","SA05283","Vet",".",998,{"$f":"VLOOKUP('entries and results'!G1000,$A$3:$E$30018,4,FALSE)","v":" "},{"$f":"VLOOKUP('entries and results'!G1000,$A$3:$F$30018,6,FALSE)","v":" "},{"$f":"VLOOKUP('entries and results'!G1000,$A$3:$E$30018,2,FALSE)","v":" "},null,998,".",{"$f":"VLOOKUP('entries and results'!N1000,$H$3:$K$30018,2,FALSE)","v":" "},{"$f":"VLOOKUP('entries and results'!N1000,$H$3:$K$30018,3,FALSE)","v":" "},{"$f":"VLOOKUP('entries and results'!N1000,$H$3:$K$30018,4,FALSE)","v":" "},null," ","00:00",null,null,null,null,null,null,null,null,null,null,null,null,null,null,null,null,null,null,null,null,null,null,null,null,null,null,null,null,null,null,null,null,null,null,null,null,null,null,null,null,null,null,null,"00:00",998,0,"0000000","00","00","00"]
["SA05297","Portobello Running Club","1974-05-20","Alexander MacDonald","SA05297","Senior",".",1003,{"$f":"VLOOKUP('entries and results'!G1005,$A$3:$E$30018,4,FALSE)","v":" "},{"$f":"VLOOKUP('entries and results'!G1005,$A$3:$F$30018,6,FALSE)","v":" "},{"$f":"VLOOKUP('entries and results'!G1005,$A$3:$E$30018,2,FALSE)","v":" "},null,1003,".",{"$f":"VLOOKUP('entries and results'!N1005,$H$3:$K$30018,2,FALSE)","v":" "},{"$f":"VLOOKUP('entries and results'!N1005,$H$3:$K$30018,3,FALSE)","v":" "},{"$f":"VLOOKUP('entries and results'!N1005,$H$3:$K$30018,4,FALSE)","v":" "},null," ","00:00",null,null,null,null,null,null,null,null,null,null,null,null,null,null,null,null,null,null,null,null,null,null,null,null,null,null,null,null,null,null,null,null,null,null,null,null,null,null,null,null,null,null,null,"00:00",1003,0,"0000000","00","00","00"]
["SA05307","Strathearn Harriers","1965-07-13","Will Manners","SA05307","Vet",".",1008,{"$f":"VLOOKUP('entries and results'!G1010,$A$3:$E$30018,4,FALSE)","v":" "},{"$f":"VLOOKUP('entries and results'!G1010,$A$3:$F$30018,6,FALSE)","v":" "},{"$f":"VLOOKUP('entries and results'!G1010,$A$3:$E$30018,2,FALSE)","v":" "},null,1008,".",{"$f":"VLOOKUP('entries and results'!N1010,$H$3:$K$30018,2,FALSE)","v":" "},{"$f":"VLOOKUP('entries and results'!N1010,$H$3:$K$30018,3,FALSE)","v":" "},{"$f":"VLOOKUP('entries and results'!N1010,$H$3:$K$30018,4,FALSE)","v":" "},null," ","00:00",null,null,null,null,null,null,null,null,null,null,null,null,null,null,null,null,null,null,null,null,null,null,null,null,null,null,null,null,null,null,null,null,null,null,null,null,null,null,null,null,null,null,null,"00:00",1008,0,"0000000","00","00","00"]
["SA05335","Unattached","1957-11-14","Lesley Marshall","SA05335","Vet",".",1016,{"$f":"VLOOKUP('entries and results'!G1018,$A$3:$E$30018,4,FALSE)","v":" "},{"$f":"VLOOKUP('entries and results'!G1018,$A$3:$F$30018,6,FALSE)","v":" "},{"$f":"VLOOKUP('entries and results'!G1018,$A$3:$E$30018,2,FALSE)","v":" "},null,1016,".",{"$f":"VLOOKUP('entries and results'!N1018,$H$3:$K$30018,2,FALSE)","v":" "},{"$f":"VLOOKUP('entries and results'!N1018,$H$3:$K$30018,3,FALSE)","v":" "},{"$f":"VLOOKUP('entries and results'!N1018,$H$3:$K$30018,4,FALSE)","v":" "},null," ","00:00",null,null,null,null,null,null,null,null,null,null,null,null,null,null,null,null,null,null,null,null,null,null,null,null,null,null,null,null,null,null,null,null,null,null,null,null,null,null,null,null,null,null,null,"00:00",1016,0,"0000000","00","00","00"]
["SA05348","Unattached","1981-12-25","Chris O'Hara","SA05348","Senior",".",1021,{"$f":"VLOOKUP('entries and results'!G1023,$A$3:$E$30018,4,FALSE)","v":" "},{"$f":"VLOOKUP('entries and results'!G1023,$A$3:$F$30018,6,FALSE)","v":" "},{"$f":"VLOOKUP('entries and results'!G1023,$A$3:$E$30018,2,FALSE)","v":" "},null,1021,".",{"$f":"VLOOKUP('entries and results'!N1023,$H$3:$K$30018,2,FALSE)","v":" "},{"$f":"VLOOKUP('entries and results'!N1023,$H$3:$K$30018,3,FALSE)","v":" "},{"$f":"VLOOKUP('entries and results'!N1023,$H$3:$K$30018,4,FALSE)","v":" "},null," ","00:00",null,null,null,null,null,null,null,null,null,null,null,null,null,null,null,null,null,null,null,null,null,null,null,null,null,null,null,null,null,null,null,null,null,null,null,null,null,null,null,null,null,null,null,"00:00",1021,0,"0000000","00","00","00"]
["SA05389","Unattached","1949-12-25","Patrick Grant","SA05389","Vet",".",1032,{"$f":"VLOOKUP('entries and results'!G1034,$A$3:$E$30018,4,FALSE)","v":" "},{"$f":"VLOOKUP('entries and results'!G1034,$A$3:$F$30018,6,FALSE)","v":" "},{"$f":"VLOOKUP('entries and results'!G1034,$A$3:$E$30018,2,FALSE)","v":" "},null,1032,".",{"$f":"VLOOKUP('entries and results'!N1034,$H$3:$K$30018,2,FALSE)","v":" "},{"$f":"VLOOKUP('entries and results'!N1034,$H$3:$K$30018,3,FALSE)","v":" "},{"$f":"VLOOKUP('entries and results'!N1034,$H$3:$K$30018,4,FALSE)","v":" "},null," ","00:00",null,null,null,null,null,null,null,null,null,null,null,null,null,null,null,null,null,null,null,null,null,null,null,null,null,null,null,null,null,null,null,null,null,null,null,null,null,null,null,null,null,null,null,"00:00",1032,0,"0000000","00","00","00"]
["SA05406","Motherwell AC","1955-10-01","Phyllis Hands","SA05406","Vet",".",1038,{"$f":"VLOOKUP('entries and results'!G1040,$A$3:$E$30018,4,FALSE)","v":" "},{"$f":"VLOOKUP('entries and results'!G1040,$A$3:$F$30018,6,FALSE)","v":" "},{"$f":"VLOOKUP('entries and results'!G1040,$A$3:$E$30018,2,FALSE)","v":" "},null,1038,".",{"$f":"VLOOKUP('entries and results'!N1040,$H$3:$K$30018,2,FALSE)","v":" "},{"$f":"VLOOKUP('entries and results'!N1040,$H$3:$K$30018,3,FALSE)","v":" "},{"$f":"VLOOKUP('entries and results'!N1040,$H$3:$K$30018,4,FALSE)","v":" "},null," ","00:00",null,null,null,null,null,null,null,null,null,null,null,null,null,null,null,null,null,null,null,null,null,null,null,null,null,null,null,null,null,null,null,null,null,null,null,null,null,null,null,null,null,null,null,"00:00",1038,0,"0000000","00","00","00"]
["SA05412","Perth Road Runners","1956-01-11","Stephen Ferguson","SA05412","Vet",".",1043,{"$f":"VLOOKUP('entries and results'!G1045,$A$3:$E$30018,4,FALSE)","v":" "},{"$f":"VLOOKUP('entries and results'!G1045,$A$3:$F$30018,6,FALSE)","v":" "},{"$f":"VLOOKUP('entries and results'!G1045,$A$3:$E$30018,2,FALSE)","v":" "},null,1043,".",{"$f":"VLOOKUP('entries and results'!N1045,$H$3:$K$30018,2,FALSE)","v":" "},{"$f":"VLOOKUP('entries and results'!N1045,$H$3:$K$30018,3,FALSE)","v":" "},{"$f":"VLOOKUP('entries and results'!N1045,$H$3:$K$30018,4,FALSE)","v":" "},null," ","00:00",null,null,null,null,null,null,null,null,null,null,null,null,null,null,null,null,null,null,null,null,null,null,null,null,null,null,null,null,null,null,null,null,null,null,null,null,null,null,null,null,null,null,null,"00:00",1043,0,"0000000","00","00","00"]
["SA05502","Unattached","1979-03-21","Scott Boyle","SA05502","Senior",".",1051,{"$f":"VLOOKUP('entries and results'!G1053,$A$3:$E$30018,4,FALSE)","v":" "},{"$f":"VLOOKUP('entries and results'!G1053,$A$3:$F$30018,6,FALSE)","v":" "},{"$f":"VLOOKUP('entries and results'!G1053,$A$3:$E$30018,2,FALSE)","v":" "},null,1051,".",{"$f":"VLOOKUP('entries and results'!N1053,$H$3:$K$30018,2,FALSE)","v":" "},{"$f":"VLOOKUP('entries and results'!N1053,$H$3:$K$30018,3,FALSE)","v":" "},{"$f":"VLOOKUP('entries and results'!N1053,$H$3:$K$30018,4,FALSE)","v":" "},null," ","00:00",null,null,null,null,null,null,null,null,null,null,null,null,null,null,null,null,null,null,null,null,null,null,null,null,null,null,null,null,null,null,null,null,null,null,null,null,null,null,null,null,null,null,null,"00:00",1051,0,"0000000","00","00","00"]
["SA05587","Kilbarchan AAC","1970-06-11","Donald Kennedy","SA05587","Senior",".",1057,{"$f":"VLOOKUP('entries and results'!G1059,$A$3:$E$30018,4,FALSE)","v":" "},{"$f":"VLOOKUP('entries and results'!G1059,$A$3:$F$30018,6,FALSE)","v":" "},{"$f":"VLOOKUP('entries and results'!G1059,$A$3:$E$30018,2,FALSE)","v":" "},null,1057,".",{"$f":"VLOOKUP('entries and results'!N1059,$H$3:$K$30018,2,FALSE)","v":" "},{"$f":"VLOOKUP('entries and results'!N1059,$H$3:$K$30018,3,FALSE)","v":" "},{"$f":"VLOOKUP('entries and results'!N1059,$H$3:$K$30018,4,FALSE)","v":" "},null," ","00:00",null,null,null,null,null,null,null,null,null,null,null,null,null,null,null,null,null,null,null,null,null,null,null,null,null,null,null,null,null,null,null,null,null,null,null,null,null,null,null,null,null,null,null,"00:00",1057,0,"0000000","00","00","00"]
["SA05719","Greenock Glenpark Harriers","1969-10-20","Alan O'Rourke","SA05719","Vet",".",1065,{"$f":"VLOOKUP('entries and results'!G1067,$A$3:$E$30018,4,FALSE)","v":" "},{"$f":"VLOOKUP('entries and results'!G1067,$A$3:$F$30018,6,FALSE)","v":" "},{"$f":"VLOOKUP('entries and results'!G1067,$A$3:$E$30018,2,FALSE)","v":" "},null,1065,".",{"$f":"VLOOKUP('entries and results'!N1067,$H$3:$K$30018,2,FALSE)","v":" "},{"$f":"VLOOKUP('entries and results'!N1067,$H$3:$K$30018,3,FALSE)","v":" "},{"$f":"VLOOKUP('entries and results'!N1067,$H$3:$K$30018,4,FALSE)","v":" "},null," ","00:00",null,null,null,null,null,null,null,null,null,null,null,null,null,null,null,null,null,null,null,null,null,null,null,null,null,null,null,null,null,null,null,null,null,null,null,null,null,null,null,null,null,null,null,"00:00",1065,0,"0000000","00","00","00"]
["SA05756","Bellahouston Road Runners","1959-10-21","Douglas MacGregor","SA05756","Vet",".",1073,{"$f":"VLOOKUP('entries and results'!G1075,$A$3:$E$30018,4,FALSE)","v":" "},{"$f":"VLOOKUP('entries and results'!G1075,$A$3:$F$30018,6,FALSE)","v":" "},{"$f":"VLOOKUP('entries and results'!G1075,$A$3:$E$30018,2,FALSE)","v":" "},null,1073,".",{"$f":"VLOOKUP('entries and results'!N1075,$H$3:$K$30018,2,FALSE)","v":" "},{"$f":"VLOOKUP('entries and results'!N1075,$H$3:$K$30018,3,FALSE)","v":" "},{"$f":"VLOOKUP('entries and results'!N1075,$H$3:$K$30018,4,FALSE)","v":" "},null," ","00:00",null,null,null,null,null,null,null,null,null,null,null,null,null,null,null,null,null,null,null,null,null,null,null,null,null,null,null,null,null,null,null,null,null,null,null,null,null,null,null,null,null,null,null,"00:00",1073,0,"0000000","00","00","00"]
["SA05770","Fife AC","1964-12-11","Robert Annand","SA05770","Vet",".",1078,{"$f":"VLOOKUP('entries and results'!G1080,$A$3:$E$30018,4,FALSE)","v":" "},{"$f":"VLOOKUP('entries and results'!G1080,$A$3:$F$30018,6,FALSE)","v":" "},{"$f":"VLOOKUP('entries and results'!G1080,$A$3:$E$30018,2,FALSE)","v":" "},null,1078,".",{"$f":"VLOOKUP('entries and results'!N1080,$H$3:$K$30018,2,FALSE)","v":" "},{"$f":"VLOOKUP('entries and results'!N1080,$H$3:$K$30018,3,FALSE)","v":" "},{"$f":"VLOOKUP('entries and results'!N1080,$H$3:$K$30018,4,FALSE)","v":" "},null," ","00:00",null,null,null,null,null,null,null,null,null,null,null,null,null,null,null,null,null,null,null,null,null,null,null,null,null,null,null,null,null,null,null,null,null,null,null,null,null,null,null,null,null,null,null,"00:00",1078,0,"0000000","00","00","00"]
["SA05791","Milburn Harriers","1960-11-28","James McKenzie","SA05791","Vet",".",1090,{"$f":"VLOOKUP('entries and results'!G1092,$A$3:$E$30018,4,FALSE)","v":" "},{"$f":"VLOOKUP('entries and results'!G1092,$A$3:$F$30018,6,FALSE)","v":" "},{"$f":"VLOOKUP('entries and results'!G1092,$A$3:$E$30018,2,FALSE)","v":" "},null,1090,".",{"$f":"VLOOKUP('entries and results'!N1092,$H$3:$K$30018,2,FALSE)","v":" "},{"$f":"VLOOKUP('entries and results'!N1092,$H$3:$K$30018,3,FALSE)","v":" "},{"$f":"VLOOKUP('entries and results'!N1092,$H$3:$K$30018,4,FALSE)","v":" "},null," ",{"$f":"IF($H1092=\"\",\" \",(LOOKUP($H1092,$BM$3:$BM$1601,$BL$3:$BL$1601)))","v":"00:00"},null,null,null,null,null,null,null,null,null,null,null,null,null,null,null,null,null,null,null,null,null,null,null,null,null,null,null,null,null,null,null,null,null,null,null,null,null,null,null,null,null,null,null,"00:00",1090,0,"0000000","00","00","00"]
["SA05801","Strathearn Harriers","1965-02-18","Digby Sym","SA05801","Vet",".",1095,{"$f":"VLOOKUP('entries and results'!G1097,$A$3:$E$30018,4,FALSE)","v":" "},{"$f":"VLOOKUP('entries and results'!G1097,$A$3:$F$30018,6,FALSE)","v":" "},{"$f":"VLOOKUP('entries and results'!G1097,$A$3:$E$30018,2,FALSE)","v":" "},null,1095,".",{"$f":"VLOOKUP('entries and results'!N1097,$H$3:$K$30018,2,FALSE)","v":" "},{"$f":"VLOOKUP('entries and results'!N1097,$H$3:$K$30018,3,FALSE)","v":" "},{"$f":"VLOOKUP('entries and results'!N1097,$H$3:$K$30018,4,FALSE)","v":" "},null," ","00:00",null,null,null,null,null,null,null,null,null,null,null,null,null,null,null,null,null,null,null,null,null,null,null,null,null,null,null,null,null,null,null,null,null,null,null,null,null,null,null,null,null,null,null,"00:00",1095,0,"0000000","00","00","00"]
["SA05818","Aberdeen AAC","1957-09-24","Kathryn Mearns","SA05818","Vet",".",1100,{"$f":"VLOOKUP('entries and results'!G1102,$A$3:$E$30018,4,FALSE)","v":" "},{"$f":"VLOOKUP('entries and results'!G1102,$A$3:$F$30018,6,FALSE)","v":" "},{"$f":"VLOOKUP('entries and results'!G1102,$A$3:$E$30018,2,FALSE)","v":" "},null,1100,".",{"$f":"VLOOKUP('entries and results'!N1102,$H$3:$K$30018,2,FALSE)","v":" "},{"$f":"VLOOKUP('entries and results'!N1102,$H$3:$K$30018,3,FALSE)","v":" "},{"$f":"VLOOKUP('entries and results'!N1102,$H$3:$K$30018,4,FALSE)","v":" "},null," ","00:00",null,null,null,null,null,null,null,null,null,null,null,null,null,null,null,null,null,null,null,null,null,null,null,null,null,null,null,null,null,null,null,null,null,null,null,null,null,null,null,null,null,null,null,"00:00",1100,0,"0000000","00","00","00"]
["SA05834","North Highland Harriers","1962-08-03","Sandy Christie","SA05834","Vet",".",1108,{"$f":"VLOOKUP('entries and results'!G1110,$A$3:$E$30018,4,FALSE)","v":" "},{"$f":"VLOOKUP('entries and results'!G1110,$A$3:$F$30018,6,FALSE)","v":" "},{"$f":"VLOOKUP('entries and results'!G1110,$A$3:$E$30018,2,FALSE)","v":" "},null,1108,".",{"$f":"VLOOKUP('entries and results'!N1110,$H$3:$K$30018,2,FALSE)","v":" "},{"$f":"VLOOKUP('entries and results'!N1110,$H$3:$K$30018,3,FALSE)","v":" "},{"$f":"VLOOKUP('entries and results'!N1110,$H$3:$K$30018,4,FALSE)","v":" "},null," ","00:00",null,null,null,null,null,null,null,null,null,null,null,null,null,null,null,null,null,null,null,null,null,null,null,null,null,null,null,null,null,null,null,null,null,null,null,null,null,null,null,null,null,null,null,"00:00",1108,0,"0000000","00","00","00"]
["SA05843","Carnegie Harriers","1971-01-23","Colin Reynolds","SA05843","Senior",".",1115,{"$f":"VLOOKUP('entries and results'!G1117,$A$3:$E$30018,4,FALSE)","v":" "},{"$f":"VLOOKUP('entries and results'!G1117,$A$3:$F$30018,6,FALSE)","v":" "},{"$f":"VLOOKUP('entries and results'!G1117,$A$3:$E$30018,2,FALSE)","v":" "},null,1115,".",{"$f":"VLOOKUP('entries and results'!N1117,$H$3:$K$30018,2,FALSE)","v":" "},{"$f":"VLOOKUP('entries and results'!N1117,$H$3:$K$30018,3,FALSE)","v":" "},{"$f":"VLOOKUP('entries and results'!N1117,$H$3:$K$30018,4,FALSE)","v":" "},null," ","00:00",null,null,null,null,null,null,null,null,null,null,null,null,null,null,null,null,null,null,null,null,null,null,null,null,null,null,null,null,null,null,null,null,null,null,null,null,null,null,null,null,null,null,null,"00:00",1115,0,"0000000","00","00","00"]
["SA05851","Central AC","1986-07-15","Fiona Thompson","SA05851","Senior",".",1122,{"$f":"VLOOKUP('entries and results'!G1124,$A$3:$E$30018,4,FALSE)","v":" "},{"$f":"VLOOKUP('entries and results'!G1124,$A$3:$F$30018,6,FALSE)","v":" "},{"$f":"VLOOKUP('entries and results'!G1124,$A$3:$E$30018,2,FALSE)","v":" "},null,1122,".",{"$f":"VLOOKUP('entries and results'!N1124,$H$3:$K$30018,2,FALSE)","v":" "},{"$f":"VLOOKUP('entries and results'!N1124,$H$3:$K$30018,3,FALSE)","v":" "},{"$f":"VLOOKUP('entries and results'!N1124,$H$3:$K$30018,4,FALSE)","v":" "},null," ","00:00",null,null,null,null,null,null,null,null,null,null,null,null,null,null,null,null,null,null,null,null,null,null,null,null,null,null,null,null,null,null,null,null,null,null,null,null,null,null,null,null,null,null,null,"00:00",1122,0,"0000000","00","00","00"]
["SA05875","Cosmic Hillbashers AAC","1977-12-17","Elizabeth Chellingsworth","SA05875","Senior",".",1130,{"$f":"VLOOKUP('entries and results'!G1132,$A$3:$E$30018,4,FALSE)","v":" "},{"$f":"VLOOKUP('entries and results'!G1132,$A$3:$F$30018,6,FALSE)","v":" "},{"$f":"VLOOKUP('entries and results'!G1132,$A$3:$E$30018,2,FALSE)","v":" "},null,1130,".",{"$f":"VLOOKUP('entries and results'!N1132,$H$3:$K$30018,2,FALSE)","v":" "},{"$f":"VLOOKUP('entries and results'!N1132,$H$3:$K$30018,3,FALSE)","v":" "},{"$f":"VLOOKUP('entries and results'!N1132,$H$3:$K$30018,4,FALSE)","v":" "},null," ","00:00",null,null,null,null,null,null,null,null,null,null,null,null,null,null,null,null,null,null,null,null,null,null,null,null,null,null,null,null,null,null,null,null,null,null,null,null,null,null,null,null,null,null,null,"00:00",1130,0,"0000000","00","00","00"]
["SA05897","Hunters Bog Trotters","1984-02-16","James McMullan","SA05897","Senior",".",1142,{"$f":"VLOOKUP('entries and results'!G1144,$A$3:$E$30018,4,FALSE)","v":" "},{"$f":"VLOOKUP('entries and results'!G1144,$A$3:$F$30018,6,FALSE)","v":" "},{"$f":"VLOOKUP('entries and results'!G1144,$A$3:$E$30018,2,FALSE)","v":" "},null,1142,".",{"$f":"VLOOKUP('entries and results'!N1144,$H$3:$K$30018,2,FALSE)","v":" "},{"$f":"VLOOKUP('entries and results'!N1144,$H$3:$K$30018,3,FALSE)","v":" "},{"$f":"VLOOKUP('entries and results'!N1144,$H$3:$K$30018,4,FALSE)","v":" "},null," ","00:00",null,null,null,null,null,null,null,null,null,null,null,null,null,null,null,null,null,null,null,null,null,null,null,null,null,null,null,null,null,null,null,null,null,null,null,null,null,null,null,null,null,null,null,"00:00",1142,0,"0000000","00","00","00"]
["SA05909","Fife AC","1965-05-11","Brian Cruickshank","SA05909","Vet",".",1148,{"$f":"VLOOKUP('entries and results'!G1150,$A$3:$E$30018,4,FALSE)","v":" "},{"$f":"VLOOKUP('entries and results'!G1150,$A$3:$F$30018,6,FALSE)","v":" "},{"$f":"VLOOKUP('entries and results'!G1150,$A$3:$E$30018,2,FALSE)","v":" "},null,1148,".",{"$f":"VLOOKUP('entries and results'!N1150,$H$3:$K$30018,2,FALSE)","v":" "},{"$f":"VLOOKUP('entries and results'!N1150,$H$3:$K$30018,3,FALSE)","v":" "},{"$f":"VLOOKUP('entries and results'!N1150,$H$3:$K$30018,4,FALSE)","v":" "},null," ","00:00",null,null,null,null,null,null,null,null,null,null,null,null,null,null,null,null,null,null,null,null,null,null,null,null,null,null,null,null,null,null,null,null,null,null,null,null,null,null,null,null,null,null,null,"00:00",1148,0,"0000000","00","00","00"]
["SA05924","Fraserburgh Running Club","1968-07-26","Elaine Whyte","SA05924","Vet",".",1156,{"$f":"VLOOKUP('entries and results'!G1158,$A$3:$E$30018,4,FALSE)","v":" "},{"$f":"VLOOKUP('entries and results'!G1158,$A$3:$F$30018,6,FALSE)","v":" "},{"$f":"VLOOKUP('entries and results'!G1158,$A$3:$E$30018,2,FALSE)","v":" "},null,1156,".",{"$f":"VLOOKUP('entries and results'!N1158,$H$3:$K$30018,2,FALSE)","v":" "},{"$f":"VLOOKUP('entries and results'!N1158,$H$3:$K$30018,3,FALSE)","v":" "},{"$f":"VLOOKUP('entries and results'!N1158,$H$3:$K$30018,4,FALSE)","v":" "},null," ","00:00",null,null,null,null,null,null,null,null,null,null,null,null,null,null,null,null,null,null,null,null,null,null,null,null,null,null,null,null,null,null,null,null,null,null,null,null,null,null,null,null,null,null,null,"00:00",1156,0,{"$f":"CONCATENATE($BI$2,$BN1158)","v":"0000000"},{"$f":"MID(RIGHT($BO1158,6),1,2)","v":"00"},{"$f":"MID(RIGHT($BO1158,6),3,2)","v":"00"},{"$f":"MID(RIGHT($BO1158,6),5,2)","v":"00"}]
["SA05938","Giffnock North AAC","1986-12-26","Norman Galbraith","SA05938","Senior",".",1164,{"$f":"VLOOKUP('entries and results'!G1166,$A$3:$E$30018,4,FALSE)","v":" "},{"$f":"VLOOKUP('entries and results'!G1166,$A$3:$F$30018,6,FALSE)","v":" "},{"$f":"VLOOKUP('entries and results'!G1166,$A$3:$E$30018,2,FALSE)","v":" "},null,1164,".",{"$f":"VLOOKUP('entries and results'!N1166,$H$3:$K$30018,2,FALSE)","v":" "},{"$f":"VLOOKUP('entries and results'!N1166,$H$3:$K$30018,3,FALSE)","v":" "},{"$f":"VLOOKUP('entries and results'!N1166,$H$3:$K$30018,4,FALSE)","v":" "},null," ","00:00",null,null,null,null,null,null,null,null,null,null,null,null,null,null,null,null,null,null,null,null,null,null,null,null,null,null,null,null,null,null,null,null,null,null,null,null,null,null,null,null,null,null,null,"00:00",1164,0,"0000000","00","00","00"]
["SA05940","Giffnock North AAC","1953-02-13","Eric Martindale","SA05940","Vet",".",1165,{"$f":"VLOOKUP('entries and results'!G1167,$A$3:$E$30018,4,FALSE)","v":" "},{"$f":"VLOOKUP('entries and results'!G1167,$A$3:$F$30018,6,FALSE)","v":" "},{"$f":"VLOOKUP('entries and results'!G1167,$A$3:$E$30018,2,FALSE)","v":" "},null,1165,".",{"$f":"VLOOKUP('entries and results'!N1167,$H$3:$K$30018,2,FALSE)","v":" "},{"$f":"VLOOKUP('entries and results'!N1167,$H$3:$K$30018,3,FALSE)","v":" "},{"$f":"VLOOKUP('entries and results'!N1167,$H$3:$K$30018,4,FALSE)","v":" "},null," ","00:00",null,null,null,null,null,null,null,null,null,null,null,null,null,null,null,null,null,null,null,null,null,null,null,null,null,null,null,null,null,null,null,null,null,null,null,null,null,null,null,null,null,null,null,"00:00",1165,0,"0000000","00","00","00"]
["SA05954","Beith Harriers","1943-07-18","Iain Hamilton","SA05954","Vet",".",1173,{"$f":"VLOOKUP('entries and results'!G1175,$A$3:$E$30018,4,FALSE)","v":" "},{"$f":"VLOOKUP('entries and results'!G1175,$A$3:$F$30018,6,FALSE)","v":" "},{"$f":"VLOOKUP('entries and results'!G1175,$A$3:$E$30018,2,FALSE)","v":" "},null,1173,".",{"$f":"VLOOKUP('entries and results'!N1175,$H$3:$K$30018,2,FALSE)","v":" "},{"$f":"VLOOKUP('entries and results'!N1175,$H$3:$K$30018,3,FALSE)","v":" "},{"$f":"VLOOKUP('entries and results'!N1175,$H$3:$K$30018,4,FALSE)","v":" "},null," ","00:00",null,null,null,null,null,null,null,null,null,null,null,null,null,null,null,null,null,null,null,null,null,null,null,null,null,null,null,null,null,null,null,null,null,null,null,null,null,null,null,null,null,null,null,"00:00",1173,0,"0000000","00","00","00"]
["SA05979","Maryhill Harriers","1960-04-12","Dougie MacDonald","SA05979","Vet",".",1186,{"$f":"VLOOKUP('entries and results'!G1188,$A$3:$E$30018,4,FALSE)","v":" "},{"$f":"VLOOKUP('entries and results'!G1188,$A$3:$F$30018,6,FALSE)","v":" "},{"$f":"VLOOKUP('entries and results'!G1188,$A$3:$E$30018,2,FALSE)","v":" "},null,1186,".",{"$f":"VLOOKUP('entries and results'!N1188,$H$3:$K$30018,2,FALSE)","v":" "},{"$f":"VLOOKUP('entries and results'!N1188,$H$3:$K$30018,3,FALSE)","v":" "},{"$f":"VLOOKUP('entries and results'!N1188,$H$3:$K$30018,4,FALSE)","v":" "},null," ","00:00",null,null,null,null,null,null,null,null,null,null,null,null,null,null,null,null,null,null,null,null,null,null,null,null,null,null,null,null,null,null,null,null,null,null,null,null,null,null,null,null,null,null,null,"00:00",1186,0,"0000000","00","00","00"]
["SA05980","Metro Aberdeen Running Club","1965-02-09","Lucy Robinson","SA05980","Vet",".",1187,{"$f":"VLOOKUP('entries and results'!G1189,$A$3:$E$30018,4,FALSE)","v":" "},{"$f":"VLOOKUP('entries and results'!G1189,$A$3:$F$30018,6,FALSE)","v":" "},{"$f":"VLOOKUP('entries and results'!G1189,$A$3:$E$30018,2,FALSE)","v":" "},null,1187,".",{"$f":"VLOOKUP('entries and results'!N1189,$H$3:$K$30018,2,FALSE)","v":" "},{"$f":"VLOOKUP('entries and results'!N1189,$H$3:$K$30018,3,FALSE)","v":" "},{"$f":"VLOOKUP('entries and results'!N1189,$H$3:$K$30018,4,FALSE)","v":" "},null," ","00:00",null,null,null,null,null,null,null,null,null,null,null,null,null,null,null,null,null,null,null,null,null,null,null,null,null,null,null,null,null,null,null,null,null,null,null,null,null,null,null,null,null,null,null,"00:00",1187,0,"0000000","00","00","00"]
["SA06002","Portobello Running Club","1972-06-24","Chris Melville","SA06002","Senior",".",1199,{"$f":"VLOOKUP('entries and results'!G1201,$A$3:$E$30018,4,FALSE)","v":" "},{"$f":"VLOOKUP('entries and results'!G1201,$A$3:$F$30018,6,FALSE)","v":" "},{"$f":"VLOOKUP('entries and results'!G1201,$A$3:$E$30018,2,FALSE)","v":" "},null,1199,".",{"$f":"VLOOKUP('entries and results'!N1201,$H$3:$K$30018,2,FALSE)","v":" "},{"$f":"VLOOKUP('entries and results'!N1201,$H$3:$K$30018,3,FALSE)","v":" "},{"$f":"VLOOKUP('entries and results'!N1201,$H$3:$K$30018,4,FALSE)","v":" "},null," ","00:00",null,null,null,null,null,null,null,null,null,null,null,null,null,null,null,null,null,null,null,null,null,null,null,null,null,null,null,null,null,null,null,null,null,null,null,null,null,null,null,null,null,null,null,"00:00",1199,0,"0000000","00","00","00"]
["SA06009","Sale Harriers","1984-10-29","Alison Rodger","SA06009","Senior",".",1206,{"$f":"VLOOKUP('entries and results'!G1208,$A$3:$E$30018,4,FALSE)","v":" "},{"$f":"VLOOKUP('entries and results'!G1208,$A$3:$F$30018,6,FALSE)","v":" "},{"$f":"VLOOKUP('entries and results'!G1208,$A$3:$E$30018,2,FALSE)","v":" "},null,1206,".",{"$f":"VLOOKUP('entries and results'!N1208,$H$3:$K$30018,2,FALSE)","v":" "},{"$f":"VLOOKUP('entries and results'!N1208,$H$3:$K$30018,3,FALSE)","v":" "},{"$f":"VLOOKUP('entries and results'!N1208,$H$3:$K$30018,4,FALSE)","v":" "},null," ","00:00",null,null,null,null,null,null,null,null,null,null,null,null,null,null,null,null,null,null,null,null,null,null,null,null,null,null,null,null,null,null,null,null,null,null,null,null,null,null,null,null,null,null,null,"00:00",1206,0,"0000000","00","00","00"]
["SA06022","Teviotdale Harriers","1965-10-02","Robert Cranston","SA06022","Vet",".",1213,{"$f":"VLOOKUP('entries and results'!G1215,$A$3:$E$30018,4,FALSE)","v":" "},{"$f":"VLOOKUP('entries and results'!G1215,$A$3:$F$30018,6,FALSE)","v":" "},{"$f":"VLOOKUP('entries and results'!G1215,$A$3:$E$30018,2,FALSE)","v":" "},null,1213,".",{"$f":"VLOOKUP('entries and results'!N1215,$H$3:$K$30018,2,FALSE)","v":" "},{"$f":"VLOOKUP('entries and results'!N1215,$H$3:$K$30018,3,FALSE)","v":" "},{"$f":"VLOOKUP('entries and results'!N1215,$H$3:$K$30018,4,FALSE)","v":" "},null," ","00:00",null,null,null,null,null,null,null,null,null,null,null,null,null,null,null,null,null,null,null,null,null,null,null,null,null,null,null,null,null,null,null,null,null,null,null,null,null,null,null,null,null,null,null,"00:00",1213,0,"0000000","00","00","00"]
["SA06048","Unattached","1963-08-23","Sara Trickett","SA06048","Vet",".",1221,{"$f":"VLOOKUP('entries and results'!G1223,$A$3:$E$30018,4,FALSE)","v":" "},{"$f":"VLOOKUP('entries and results'!G1223,$A$3:$F$30018,6,FALSE)","v":" "},{"$f":"VLOOKUP('entries and results'!G1223,$A$3:$E$30018,2,FALSE)","v":" "},null,1221,".",{"$f":"VLOOKUP('entries and results'!N1223,$H$3:$K$30018,2,FALSE)","v":" "},{"$f":"VLOOKUP('entries and results'!N1223,$H$3:$K$30018,3,FALSE)","v":" "},{"$f":"VLOOKUP('entries and results'!N1223,$H$3:$K$30018,4,FALSE)","v":" "},null," ","00:00",null,null,null,null,null,null,null,null,null,null,null,null,null,null,null,null,null,null,null,null,null,null,null,null,null,null,null,null,null,null,null,null,null,null,null,null,null,null,null,null,null,null,null,"00:00",1221,0,"0000000","00","00","00"]
["SA06074","Corstorphine AAC","1960-09-06","Jan-Bert Van Den Berg","SA06074","Vet",".",1229,{"$f":"VLOOKUP('entries and results'!G1231,$A$3:$E$30018,4,FALSE)","v":" "},{"$f":"VLOOKUP('entries and results'!G1231,$A$3:$F$30018,6,FALSE)","v":" "},{"$f":"VLOOKUP('entries and results'!G1231,$A$3:$E$30018,2,FALSE)","v":" "},null,1229,".",{"$f":"VLOOKUP('entries and results'!N1231,$H$3:$K$30018,2,FALSE)","v":" "},{"$f":"VLOOKUP('entries and results'!N1231,$H$3:$K$30018,3,FALSE)","v":" "},{"$f":"VLOOKUP('entries and results'!N1231,$H$3:$K$30018,4,FALSE)","v":" "},null," ","00:00",null,null,null,null,null,null,null,null,null,null,null,null,null,null,null,null,null,null,null,null,null,null,null,null,null,null,null,null,null,null,null,null,null,null,null,null,null,null,null,null,null,null,null,"00:00",1229,0,"0000000","00","00","00"]
["SA06087","Falkirk Victoria Harriers","1964-11-21","David Robertson","SA06087","Vet",".",1234,{"$f":"VLOOKUP('entries and results'!G1236,$A$3:$E$30018,4,FALSE)","v":" "},{"$f":"VLOOKUP('entries and results'!G1236,$A$3:$F$30018,6,FALSE)","v":" "},{"$f":"VLOOKUP('entries and results'!G1236,$A$3:$E$30018,2,FALSE)","v":" "},null,1234,".",{"$f":"VLOOKUP('entries and results'!N1236,$H$3:$K$30018,2,FALSE)","v":" "},{"$f":"VLOOKUP('entries and results'!N1236,$H$3:$K$30018,3,FALSE)","v":" "},{"$f":"VLOOKUP('entries and results'!N1236,$H$3:$K$30018,4,FALSE)","v":" "},null," ","00:00",null,null,null,null,null,null,null,null,null,null,null,null,null,null,null,null,null,null,null,null,null,null,null,null,null,null,null,null,null,null,null,null,null,null,null,null,null,null,null,null,null,null,null,"00:00",1234,0,"0000000","00","00","00"]
["SA06095","Fife AC","1959-10-01","Jez Tomlinson","SA06095","Vet",".",1239,{"$f":"VLOOKUP('entries and results'!G1241,$A$3:$E$30018,4,FALSE)","v":" "},{"$f":"VLOOKUP('entries and results'!G1241,$A$3:$F$30018,6,FALSE)","v":" "},{"$f":"VLOOKUP('entries and results'!G1241,$A$3:$E$30018,2,FALSE)","v":" "},null,1239,".",{"$f":"VLOOKUP('entries and results'!N1241,$H$3:$K$30018,2,FALSE)","v":" "},{"$f":"VLOOKUP('entries and results'!N1241,$H$3:$K$30018,3,FALSE)","v":" "},{"$f":"VLOOKUP('entries and results'!N1241,$H$3:$K$30018,4,FALSE)","v":" "},null," ","00:00",null,null,null,null,null,null,null,null,null,null,null,null,null,null,null,null,null,null,null,null,null,null,null,null,null,null,null,null,null,null,null,null,null,null,null,null,null,null,null,null,null,null,null,"00:00",1239,0,"0000000","00","00","00"]
["SA06133","VP-Glasgow AC","1960-06-16","Christine Catterson","SA06133","Vet",".",1251,{"$f":"VLOOKUP('entries and results'!G1253,$A$3:$E$30018,4,FALSE)","v":" "},{"$f":"VLOOKUP('entries and results'!G1253,$A$3:$F$30018,6,FALSE)","v":" "},{"$f":"VLOOKUP('entries and results'!G1253,$A$3:$E$30018,2,FALSE)","v":" "},null,1251,".",{"$f":"VLOOKUP('entries and results'!N1253,$H$3:$K$30018,2,FALSE)","v":" "},{"$f":"VLOOKUP('entries and results'!N1253,$H$3:$K$30018,3,FALSE)","v":" "},{"$f":"VLOOKUP('entries and results'!N1253,$H$3:$K$30018,4,FALSE)","v":" "},null," ","00:00",null,null,null,null,null,null,null,null,null,null,null,null,null,null,null,null,null,null,null,null,null,null,null,null,null,null,null,null,null,null,null,null,null,null,null,null,null,null,null,null,null,null,null,"00:00",1251,0,"0000000","00","00","00"]
["SA06147","Metro Aberdeen Running Club","1975-04-02","Donald Simpson","SA06147","Senior",".",1256,{"$f":"VLOOKUP('entries and results'!G1258,$A$3:$E$30018,4,FALSE)","v":" "},{"$f":"VLOOKUP('entries and results'!G1258,$A$3:$F$30018,6,FALSE)","v":" "},{"$f":"VLOOKUP('entries and results'!G1258,$A$3:$E$30018,2,FALSE)","v":" "},null,1256,".",{"$f":"VLOOKUP('entries and results'!N1258,$H$3:$K$30018,2,FALSE)","v":" "},{"$f":"VLOOKUP('entries and results'!N1258,$H$3:$K$30018,3,FALSE)","v":" "},{"$f":"VLOOKUP('entries and results'!N1258,$H$3:$K$30018,4,FALSE)","v":" "},null," ","00:00",null,null,null,null,null,null,null,null,null,null,null,null,null,null,null,null,null,null,null,null,null,null,null,null,null,null,null,null,null,null,null,null,null,null,null,null,null,null,null,null,null,null,null,"00:00",1256,0,"0000000","00","00","00"]
["SA06168","Arbroath & District AC","1983-12-13","Claire Webber","SA06168","Senior",".",1264,{"$f":"VLOOKUP('entries and results'!G1266,$A$3:$E$30018,4,FALSE)","v":" "},{"$f":"VLOOKUP('entries and results'!G1266,$A$3:$F$30018,6,FALSE)","v":" "},{"$f":"VLOOKUP('entries and results'!G1266,$A$3:$E$30018,2,FALSE)","v":" "},null,1264,".",{"$f":"VLOOKUP('entries and results'!N1266,$H$3:$K$30018,2,FALSE)","v":" "},{"$f":"VLOOKUP('entries and results'!N1266,$H$3:$K$30018,3,FALSE)","v":" "},{"$f":"VLOOKUP('entries and results'!N1266,$H$3:$K$30018,4,FALSE)","v":" "},null," ","00:00",null,null,null,null,null,null,null,null,null,null,null,null,null,null,null,null,null,null,null,null,null,null,null,null,null,null,null,null,null,null,null,null,null,null,null,null,null,null,null,null,null,null,null,"00:00",1264,0,"0000000","00","00","00"]
["SA06185","Calderglen Harriers","1954-04-04","David Searil","SA06185","Vet",".",1272,{"$f":"VLOOKUP('entries and results'!G1274,$A$3:$E$30018,4,FALSE)","v":" "},{"$f":"VLOOKUP('entries and results'!G1274,$A$3:$F$30018,6,FALSE)","v":" "},{"$f":"VLOOKUP('entries and results'!G1274,$A$3:$E$30018,2,FALSE)","v":" "},null,1272,".",{"$f":"VLOOKUP('entries and results'!N1274,$H$3:$K$30018,2,FALSE)","v":" "},{"$f":"VLOOKUP('entries and results'!N1274,$H$3:$K$30018,3,FALSE)","v":" "},{"$f":"VLOOKUP('entries and results'!N1274,$H$3:$K$30018,4,FALSE)","v":" "},null," ","00:00",null,null,null,null,null,null,null,null,null,null,null,null,null,null,null,null,null,null,null,null,null,null,null,null,null,null,null,null,null,null,null,null,null,null,null,null,null,null,null,null,null,null,null,"00:00",1272,0,"0000000","00","00","00"]
["SA06192","Carnegie Harriers","1956-02-14","Allan MacAulay","SA06192","Vet",".",1278,{"$f":"VLOOKUP('entries and results'!G1280,$A$3:$E$30018,4,FALSE)","v":" "},{"$f":"VLOOKUP('entries and results'!G1280,$A$3:$F$30018,6,FALSE)","v":" "},{"$f":"VLOOKUP('entries and results'!G1280,$A$3:$E$30018,2,FALSE)","v":" "},null,1278,".",{"$f":"VLOOKUP('entries and results'!N1280,$H$3:$K$30018,2,FALSE)","v":" "},{"$f":"VLOOKUP('entries and results'!N1280,$H$3:$K$30018,3,FALSE)","v":" "},{"$f":"VLOOKUP('entries and results'!N1280,$H$3:$K$30018,4,FALSE)","v":" "},null," ","00:00",null,null,null,null,null,null,null,null,null,null,null,null,null,null,null,null,null,null,null,null,null,null,null,null,null,null,null,null,null,null,null,null,null,null,null,null,null,null,null,null,null,null,null,"00:00",1278,0,"0000000","00","00","00"]
["SA06202","Central AC","1955-11-03","Alan Gall","SA06202","Vet",".",1286,{"$f":"VLOOKUP('entries and results'!G1288,$A$3:$E$30018,4,FALSE)","v":" "},{"$f":"VLOOKUP('entries and results'!G1288,$A$3:$F$30018,6,FALSE)","v":" "},{"$f":"VLOOKUP('entries and results'!G1288,$A$3:$E$30018,2,FALSE)","v":" "},null,1286,".",{"$f":"VLOOKUP('entries and results'!N1288,$H$3:$K$30018,2,FALSE)","v":" "},{"$f":"VLOOKUP('entries and results'!N1288,$H$3:$K$30018,3,FALSE)","v":" "},{"$f":"VLOOKUP('entries and results'!N1288,$H$3:$K$30018,4,FALSE)","v":" "},null," ","00:00",null,null,null,null,null,null,null,null,null,null,null,null,null,null,null,null,null,null,null,null,null,null,null,null,null,null,null,null,null,null,null,null,null,null,null,null,null,null,null,null,null,null,null,"00:00",1286,0,"0000000","00","00","00"]
["SA06213","Edinburgh AC","1940-12-15","Martin Craven","SA06213","Vet",".",1291,{"$f":"VLOOKUP('entries and results'!G1293,$A$3:$E$30018,4,FALSE)","v":" "},{"$f":"VLOOKUP('entries and results'!G1293,$A$3:$F$30018,6,FALSE)","v":" "},{"$f":"VLOOKUP('entries and results'!G1293,$A$3:$E$30018,2,FALSE)","v":" "},null,1291,".",{"$f":"VLOOKUP('entries and results'!N1293,$H$3:$K$30018,2,FALSE)","v":" "},{"$f":"VLOOKUP('entries and results'!N1293,$H$3:$K$30018,3,FALSE)","v":" "},{"$f":"VLOOKUP('entries and results'!N1293,$H$3:$K$30018,4,FALSE)","v":" "},null," ","00:00",null,null,null,null,null,null,null,null,null,null,null,null,null,null,null,null,null,null,null,null,null,null,null,null,null,null,null,null,null,null,null,null,null,null,null,null,null,null,null,null,null,null,null,"00:00",1291,0,"0000000","00","00","00"]
["SA06223","Edinburgh AC","1970-03-05","Marietta Beal","SA06223","Vet",".",1297,{"$f":"VLOOKUP('entries and results'!G1299,$A$3:$E$30018,4,FALSE)","v":" "},{"$f":"VLOOKUP('entries and results'!G1299,$A$3:$F$30018,6,FALSE)","v":" "},{"$f":"VLOOKUP('entries and results'!G1299,$A$3:$E$30018,2,FALSE)","v":" "},null,1297,".",{"$f":"VLOOKUP('entries and results'!N1299,$H$3:$K$30018,2,FALSE)","v":" "},{"$f":"VLOOKUP('entries and results'!N1299,$H$3:$K$30018,3,FALSE)","v":" "},{"$f":"VLOOKUP('entries and results'!N1299,$H$3:$K$30018,4,FALSE)","v":" "},null," ","00:00",null,null,null,null,null,null,null,null,null,null,null,null,null,null,null,null,null,null,null,null,null,null,null,null,null,null,null,null,null,null,null,null,null,null,null,null,null,null,null,null,null,null,null,"00:00",1297,0,"0000000","00","00","00"]
["SA06240","Cosmic Hillbashers AAC","1976-06-30","Clare Whitehead","SA06240","Senior",".",1305,{"$f":"VLOOKUP('entries and results'!G1307,$A$3:$E$30018,4,FALSE)","v":" "},{"$f":"VLOOKUP('entries and results'!G1307,$A$3:$F$30018,6,FALSE)","v":" "},{"$f":"VLOOKUP('entries and results'!G1307,$A$3:$E$30018,2,FALSE)","v":" "},null,1305,".",{"$f":"VLOOKUP('entries and results'!N1307,$H$3:$K$30018,2,FALSE)","v":" "},{"$f":"VLOOKUP('entries and results'!N1307,$H$3:$K$30018,3,FALSE)","v":" "},{"$f":"VLOOKUP('entries and results'!N1307,$H$3:$K$30018,4,FALSE)","v":" "},null," ","00:00",null,null,null,null,null,null,null,null,null,null,null,null,null,null,null,null,null,null,null,null,null,null,null,null,null,null,null,null,null,null,null,null,null,null,null,null,null,null,null,null,null,null,null,"00:00",1305,0,"0000000","00","00","00"]
["SA06254","Edinburgh AC","1982-10-03","Gillian Cooke","SA06254","Senior",".",1313,{"$f":"VLOOKUP('entries and results'!G1315,$A$3:$E$30018,4,FALSE)","v":" "},{"$f":"VLOOKUP('entries and results'!G1315,$A$3:$F$30018,6,FALSE)","v":" "},{"$f":"VLOOKUP('entries and results'!G1315,$A$3:$E$30018,2,FALSE)","v":" "},null,1313,".",{"$f":"VLOOKUP('entries and results'!N1315,$H$3:$K$30018,2,FALSE)","v":" "},{"$f":"VLOOKUP('entries and results'!N1315,$H$3:$K$30018,3,FALSE)","v":" "},{"$f":"VLOOKUP('entries and results'!N1315,$H$3:$K$30018,4,FALSE)","v":" "},null," ","00:00",null,null,null,null,null,null,null,null,null,null,null,null,null,null,null,null,null,null,null,null,null,null,null,null,null,null,null,null,null,null,null,null,null,null,null,null,null,null,null,null,null,null,null,"00:00",1313,0,"0000000","00","00","00"]
["SA06270","Falkirk Victoria Harriers","1968-09-04","Stephen Moore","SA06270","Vet",".",1321,{"$f":"VLOOKUP('entries and results'!G1323,$A$3:$E$30018,4,FALSE)","v":" "},{"$f":"VLOOKUP('entries and results'!G1323,$A$3:$F$30018,6,FALSE)","v":" "},{"$f":"VLOOKUP('entries and results'!G1323,$A$3:$E$30018,2,FALSE)","v":" "},null,1321,".",{"$f":"VLOOKUP('entries and results'!N1323,$H$3:$K$30018,2,FALSE)","v":" "},{"$f":"VLOOKUP('entries and results'!N1323,$H$3:$K$30018,3,FALSE)","v":" "},{"$f":"VLOOKUP('entries and results'!N1323,$H$3:$K$30018,4,FALSE)","v":" "},null," ","00:00",null,null,null,null,null,null,null,null,null,null,null,null,null,null,null,null,null,null,null,null,null,null,null,null,null,null,null,null,null,null,null,null,null,null,null,null,null,null,null,null,null,null,null,"00:00",1321,0,"0000000","00","00","00"]
["SA06282","Fife AC","1948-05-27","Sam I Graves","SA06282","Vet",".",1330,{"$f":"VLOOKUP('entries and results'!G1332,$A$3:$E$30018,4,FALSE)","v":" "},{"$f":"VLOOKUP('entries and results'!G1332,$A$3:$F$30018,6,FALSE)","v":" "},{"$f":"VLOOKUP('entries and results'!G1332,$A$3:$E$30018,2,FALSE)","v":" "},null,1330,".",{"$f":"VLOOKUP('entries and results'!N1332,$H$3:$K$30018,2,FALSE)","v":" "},{"$f":"VLOOKUP('entries and results'!N1332,$H$3:$K$30018,3,FALSE)","v":" "},{"$f":"VLOOKUP('entries and results'!N1332,$H$3:$K$30018,4,FALSE)","v":" "},null," ","00:00",null,null,null,null,null,null,null,null,null,null,null,null,null,null,null,null,null,null,null,null,null,null,null,null,null,null,null,null,null,null,null,null,null,null,null,null,null,null,null,null,null,null,null,"00:00",1330,0,"0000000","00","00","00"]
["SA06288","Fife AC","1965-12-02","Fiona Lothian","SA06288","Vet",".",1335,{"$f":"VLOOKUP('entries and results'!G1337,$A$3:$E$30018,4,FALSE)","v":" "},{"$f":"VLOOKUP('entries and results'!G1337,$A$3:$F$30018,6,FALSE)","v":" "},{"$f":"VLOOKUP('entries and results'!G1337,$A$3:$E$30018,2,FALSE)","v":" "},null,1335,".",{"$f":"VLOOKUP('entries and results'!N1337,$H$3:$K$30018,2,FALSE)","v":" "},{"$f":"VLOOKUP('entries and results'!N1337,$H$3:$K$30018,3,FALSE)","v":" "},{"$f":"VLOOKUP('entries and results'!N1337,$H$3:$K$30018,4,FALSE)","v":" "},null," ","00:00"]
["SA06296","Fife AC","1951-09-02","Robert Mustard","SA06296","Vet",".",1343,{"$f":"VLOOKUP('entries and results'!G1345,$A$3:$E$30018,4,FALSE)","v":" "},{"$f":"VLOOKUP('entries and results'!G1345,$A$3:$F$30018,6,FALSE)","v":" "},{"$f":"VLOOKUP('entries and results'!G1345,$A$3:$E$30018,2,FALSE)","v":" "},null,1343,".",{"$f":"VLOOKUP('entries and results'!N1345,$H$3:$K$30018,2,FALSE)","v":" "},{"$f":"VLOOKUP('entries and results'!N1345,$H$3:$K$30018,3,FALSE)","v":" "},{"$f":"VLOOKUP('entries and results'!N1345,$H$3:$K$30018,4,FALSE)","v":" "},null," ","00:00"]
["SA06303","Fife AC","1964-11-07","Catharine Sinclair","SA06303","Vet",".",1348,{"$f":"VLOOKUP('entries and results'!G1350,$A$3:$E$30018,4,FALSE)","v":" "},{"$f":"VLOOKUP('entries and results'!G1350,$A$3:$F$30018,6,FALSE)","v":" "},{"$f":"VLOOKUP('entries and results'!G1350,$A$3:$E$30018,2,FALSE)","v":" "},null,1348,".",{"$f":"VLOOKUP('entries and results'!N1350,$H$3:$K$30018,2,FALSE)","v":" "},{"$f":"VLOOKUP('entries and results'!N1350,$H$3:$K$30018,3,FALSE)","v":" "},{"$f":"VLOOKUP('entries and results'!N1350,$H$3:$K$30018,4,FALSE)","v":" "},null," ","00:00"]
["SA06312","Forres Harriers","1985-12-19","Kyle Greig","SA06312","Senior"]
["SA06320","Gala Harriers","1958-11-25","Andrea Pogson","SA06320","Vet"]
["SA06343","Hunters Bog Trotters","1976-07-20","Jessica Batterham","SA06343","Senior"]
["SA06356","Kilmarnock H&AC","1955-03-24","Graham Cairns","SA06356","Vet"]
["SA06379","Kirkintilloch Olympians","1955-07-17","Brenda Douglas","SA06379","Vet"]
["SA06388","Lasswade AAC","1953-05-16","Derek Robertson","SA06388","Vet"]
["SA06396","Metro Aberdeen Running Club","1962-01-28","Isabel M McDonald","SA06396","Vet"]
["SA06406","Nithsdale AC","1962-01-23","Alan Crawford","SA06406","Vet"]
["SA06423","Pitreavie AAC","1954-03-24","Roy Buchanan","SA06423","Vet"]
["SA06439","Ron Hill Cambuslang Harriers","1953-05-28","Alexander Eaglesham","SA06439","Vet"]
["SA06454","Shettleston Harriers",null,"Anthony McCall","SA06454"]
["SA06478","VP-Glasgow AC","1968-10-28","Gerard Craig","SA06478","Vet"]
["SA06504","Unattached","1976-08-21","Craig Stewart","SA06504","Senior"]
["SA06515","Dunfermline & West Fife AC","1968-12-18","Angela Sharp","SA06515","Vet"]
["SA06553","Aberdeen AAC","1955-03-04","Frank Gauld","SA06553","Vet"]
["SA06554","Aberdeen AAC","1957-03-25","Janice Gordon","SA06554","Vet"]
["SA06565","Anster Haddies Running Club","1952-01-24","Allan Gibson","SA06565","Vet"]
["SA06587","Calderglen Harriers","1964-12-31","Russell Couper","SA06587","Vet"]
["SA06594","Carnegie Harriers","1939-01-22","Kenneth Daniels","SA06594","Vet"]
["SA06606","Carnethy Hill Racing Club","1960-09-28","Margaret Forrest","SA06606","Vet"]
["SA06630","Edinburgh AC","1963-02-27","John Steel","SA06630","Vet"]
["SA06648","Clydesdale Harriers","1956-05-02","Chris Ryan","SA06648","Vet"]
["SA06661","Inverclyde AC","1982-01-25","Kevin Kane","SA06661","Senior"]
["SA06671","Dundee Hawkhill Harriers","1957-04-28","David Hanlon","SA06671","Vet"]
["SA06672","Dundee Hawkhill Harriers","1967-10-21","Stephen Mason","SA06672","Vet"]
["SA06693","Ferranti AAC","1958-02-14","Alex Bell","SA06693","Vet"]
["SA06708","Fife AC","1960-02-13","Douglas Robertson","SA06708","Vet"]
["SA06717","Forres Harriers","1962-09-08","Graeme Jervis","SA06717","Vet"]
["SA06731","Garscube Harriers","1959-10-19","Euan Mackay","SA06731","Vet"]
["SA06751","Girvan AAC","1948-07-27","Jack Maxwell","SA06751","Vet"]
["SA06759","Greenock Glenpark Harriers","1960-08-09","Kenneth Scott","SA06759","Vet"]
["SA06776","Hunters Bog Trotters","1966-03-29","Myles Marshall","SA06776","Vet"]
["SA06793","Kilmarnock H&AC","1960-12-26","Susan Beattie","SA06793","Vet"]
["SA06803","Kilbarchan AAC","1961-02-05","Steven Hards","SA06803","Vet"]
["SA06820","Lasswade AAC","1985-09-27","Dean Philip","SA06820","Senior"]
["SA06831","Lothian Running Club","1967-05-03","David Eades","SA06831","Vet"]
["SA06850","Nithsdale AC","1947-04-05","Joyce Rammell","SA06850","Vet"]
["SA06881","Portobello Running Club","1966-02-25","Stephen Maley","SA06881","Vet"]
["SA06892","Shettleston Harriers","1968-02-12","Ian Johnston","SA06892","Vet"]
["SA06910","Stornoway Running & AC","1969-07-02","Douglas Flett","SA06910","Vet"]
["SA06929","Unattached","1946-06-28","Roy McCallum","SA06929","Vet"]
["SA06943","VP-Glasgow AC","1951-04-19","Kenneth Brown","SA06943","Vet"]
["SA06973","Edinburgh AC","1968-10-18","Andrew Stoane","SA06973","Vet"]
["SA06995","Helensburgh AAC","1966-11-15","Linda Wilson","SA06995","Vet"]
["SA07020","Troon Tortoises AC","1954-05-11","Catherine McKean","SA07020","Vet"]
["SA07042","Inverness Harriers AAC","1952-04-05","Averil Lamont","SA07042","Vet"]
["SA07049","Inverclyde AC","1986-12-19","Andrew Douglas","SA07049","Senior"]
["SA07069","VP-Glasgow AC","1977-05-25","Jill Knowles","SA07069","Senior"]
["SA07085","Forres Harriers","1972-09-01","Siobhan Evans","SA07085","Senior"]
["SA07100","Giffnock North AAC","1963-08-17","Catherine Scott","SA07100","Vet"]
["SA07115","Inverness Harriers AAC","1967-08-26","Julie Wilson","SA07115","Vet"]
["SA07122","Lochaber AC","1967-06-16","David Rodgers","SA07122","Vet"]
["SA07135","Perth Road Runners","1961-04-17","Peter Ritchie","SA07135","Vet"]
["SA07156","Unattached","1968-12-10","Stephen Boyce","SA07156","Vet"]
["SA07164","Unattached","1973-04-05","Andrew McCormick","SA07164","Senior"]
["SA07190","Bellahouston Road Runners","1971-08-20","Pauline Wright","SA07190","Senior"]
["SA07207","Fife AC","1965-10-30","Charlotte Kirby","SA07207","Vet"]
["SA07234","Portobello Running Club","1966-11-07","Mary Hunter","SA07234","Vet"]
["SA07248","Bellahouston Harriers","1972-08-13","Brian Douglas","SA07248","Senior"]
["SA07260","Edinburgh Univ Hare & Hounds","1986-09-03","Oleg Chepelin","SA07260","Senior"]
["SA07282","Bellahouston Road Runners","1979-04-15","Matthew Williamson","SA07282","Senior"]
["SA07311","VP-Glasgow AC","1963-07-29","Jacqueline Thomson","SA07311","Vet"]
["SA07312","Clydesdale Harriers","1969-12-21","Brian Gallagher","SA07312","Vet"]
["SA07328","VP-Glasgow AC","1987-04-13","Stacey Wilson","SA07328","Senior"]
["SA07350","Hunters Bog Trotters","1963-09-22","Billy Minto","SA07350","Vet"]
["SA07352","Kilmarnock H&AC","1954-11-19","Graham Whitham","SA07352","Vet"]
["SA07369","Portobello Running Club","1958-06-06","Scott Jarvie","SA07369","Vet"]
["SA07393","VP-Glasgow AC","1964-08-03","Gerrard Farrell","SA07393","Vet"]
["SA07399","Annan & District AC","1960-11-18","Caroline Legg","SA07399","Vet"]
["SA07426","Inverness Harriers AAC","1987-02-10","Jamie Miller","SA07426","Senior"]
["SA07432","Metro Aberdeen Running Club","1965-08-24","William Reid","SA07432","Vet"]
["SA07469","Giffnock North AAC","1962-07-23","Elspeth Hogg","SA07469","Vet"]
["SA07491","Greenock Glenpark Harriers","1968-10-01","Michael Follan","SA07491","Vet"]
["SA07504","Law & District AAC","1989-03-11","Gary Grieve","SA07504","Senior"]
["SA07514","Penicuik Harriers","1981-02-10","Rachael Campbell","SA07514","Senior"]
["SA07534","Unattached","1947-06-22","John Ferrie","SA07534","Vet"]
["SA07568","Lochaber AC","1939-07-10","Angus Whyte","SA07568","Vet"]
["SA07591","Carnethy Hill Racing Club","1964-06-08","Bruce Smith","SA07591","Vet"]
["SA07613","Hunters Bog Trotters","1942-09-13","Norman Gould","SA07613","Vet"]
["SA07626","Dunbar Running Club","1962-03-22","Grant Noble","SA07626","Vet"]
["SA07646","Hunters Bog Trotters","1969-05-08","Christine Buckley","SA07646","Vet"]
["SA07671","Pitreavie AAC","1987-04-15","Stacey Downie","SA07671","Senior"]
["SA07685","Wee County Harriers","1967-09-28","Caroline Strain","SA07685","Vet"]
["SA07706","Fife AC","1965-11-17","Steven Doig","SA07706","Vet"]
["SA07730","Pitreavie AAC","1958-11-01","Jeff Farquhar","SA07730","Vet"]
["SA07744","Fife AC","1946-08-20","John Simpson","SA07744","Vet"]
["SA07764","Metro Aberdeen Running Club","1961-07-08","Iain Lindsay","SA07764","Vet"]
["SA07776","Bellahouston Road Runners","1974-02-03","Carla Telfer","SA07776","Senior"]
["SA07792","Fife AC","1961-02-28","Elaine Carstairs","SA07792","Vet"]
["SA07810","Metro Aberdeen Running Club","1959-12-09","Gary Walker","SA07810","Vet"]
["SA07825","Kilmarnock H&AC","1972-10-09","Connell Drummond","SA07825","Senior"]
["SA07855","Giffnock North AAC","1972-10-19","Martin O'Donnell","SA07855","Senior"]
["SA07870","Springburn Harriers","1970-06-23","Andrew Callan","SA07870","Senior"]
["SA07894","Westerlands XC Club","1962-07-28","David Rogers","SA07894","Vet"]
["SA07909","Bellahouston Road Runners","1966-10-07","Evelyn McKee","SA07909","Vet"]
["SA07921","Dunbar Running Club","1963-06-19","Stuart Hay","SA07921","Vet"]
["SA07938","Forres Harriers","1944-06-04","Dennis Gregson","SA07938","Vet"]
["SA07958","Keith & District AAC","1978-08-24","Marie Third","SA07958","Senior"]
["SA07967","Metro Aberdeen Running Club","1979-06-16","Ali Hughes","SA07967","Senior"]
["SA08002","Westerlands XC Club","1971-02-20","Brian Bonnyman","SA08002","Senior"]
["SA08011","Central AC","1979-04-03","Will Hensman","SA08011","Senior"]
["SA08018","Unattached","1972-01-05","Helen Bellarby","SA08018","Senior"]
["SA08045","Keith & District AAC","1962-04-17","Gerald Angus","SA08045","Vet"]
["SA08055","Metro Aberdeen Running Club","1961-03-02","Douglas Proudfoot","SA08055","Vet"]
["SA08079","Edinburgh AC","1971-09-24","Graeme Brown","SA08079","Senior"]
["SA08092","Aberdeen AAC","1934-03-06","George Cruickshank","SA08092","Vet"]
["SA08101","Aberdeen AAC","1985-06-16","Natalie Riley","SA08101","Senior"]
["SA08114","Dundee Hawkhill Harriers","1985-04-11","Graeme Oudney","SA08114","Senior"]
["SA08136","Carnegie Harriers","1963-10-02","Douglas McGarry","SA08136","Vet"]
["SA08140","Carnegie Harriers","1959-03-16","Peter Simpson","SA08140","Vet"]
["SA08153","Edinburgh AC","1943-06-06","Richard Finlayson","SA08153","Vet"]
["SA08177","Clydesdale Harriers","1942-10-11","Pete Cartwright","SA08177","Vet"]
["SA08181","Corstorphine AAC","1964-06-25","Steven Blair","SA08181","Vet"]
["SA08195","Dundee Hawkhill Harriers","1961-09-07","Brian Cook","SA08195","Vet"]
["SA08217","Falkirk Victoria Harriers","1987-09-21","Kimberly Skinner","SA08217","Senior"]
["SA08218","Falkirk Victoria Harriers","1961-03-30","John Stevenson","SA08218","Vet"]
["SA08239","Gala Harriers","1964-01-20","Thomas Knox","SA08239","Vet"]
["SA08257","Giffnock North AAC","1963-07-15","George Taylor","SA08257","Vet"]
["SA08261","Greenock Glenpark Harriers","1972-05-08","Alison King","SA08261","Senior"]
["SA08278","Inverness Harriers AAC","1956-11-01","Graham Laing","SA08278","Vet"]
["SA08283","Irvine AC","1946-01-14","David King","SA08283","Vet"]
["SA08290","Keith & District AAC","1976-08-27","Steven Taylor","SA08290","Senior"]
["SA08316","Montrose & District AC","1986-12-25","Sean Tough","SA08316","Senior"]
["SA08327","Orkney AC","1966-05-03","Nigel Thomson","SA08327","Vet"]
["SA08336","Peterhead RC","1974-02-27","Terry Christie","SA08336","Senior"]
["SA08350","Unattached","1927-12-12","William Marshall","SA08350","Vet"]
["SA08367","Teviotdale Harriers","1967-01-09","Alan Coltman","SA08367","Vet"]
["SA08375","Unattached","1977-12-04","Catherine Ramsay","SA08375","Senior"]
["SA08384","Unattached","1959-11-30","Alan Miller","SA08384","Vet"]
["SA08423","Fife AC","1942-01-06","Jane Askey","SA08423","Vet"]
["SA08446","Helensburgh AAC","1958-04-20","Robin Flannagan MBE","SA08446","Vet"]
["SA08480","Aberdeen AAC","1968-11-15","Mark James Davidson","SA08480","Vet"]
["SA08496","Arbroath & District AC","1989-05-14","Nicholas Hobday","SA08496","Senior"]
["SA08507","Aberdeen AAC","1981-08-10","Scot Thompson","SA08507","Senior"]
["SA08522","Calderglen Harriers","1949-12-12","Malcolm Buchanan","SA08522","Vet"]
["SA08529","Carnegie Harriers","1970-07-17","Thomas Lawrence","SA08529","Senior"]
["SA08537","Carnethy Hill Racing Club","1940-11-22","Ian Nimmo","SA08537","Vet"]
["SA08552","Edinburgh AC","1934-05-18","Alastair Jack","SA08552","Vet"]
["SA08566","City Of Hull A.C.","1942-03-08","Alan Fowlie","SA08566","Vet"]
["SA08576","Cosmic Hillbashers AAC","1951-10-31","Murray Bryce","SA08576","Vet"]
["SA08582","Dundee Hawkhill Harriers","1979-01-17","Mark Lamb","SA08582","Senior"]
["SA08607","Fife AC","1984-06-11","Graham Bee","SA08607","Senior"]
["SA08613","Fife AC","1937-01-21","Ian Docherty","SA08613","Vet"]
["SA08618","Fife AC","1958-11-12","Val Herkes","SA08618","Vet"]
["SA08627","Fife AC","1943-05-29","Alastair Robertson","SA08627","Vet"]
["SA08639","Forres Harriers","1952-01-06","Sam Morrison","SA08639","Vet"]
["SA08657","Giffnock North AAC","1962-12-16","Maureen McVey","SA08657","Vet"]
["SA08674","Hunters Bog Trotters","1963-12-11","Alec Keith","SA08674","Vet"]
["SA08679","Inverclyde AC","1934-05-05","Hugh Docherty","SA08679","Vet"]
["SA08705","Kirkintilloch Olympians","1963-07-10","Ada Stewart","SA08705","Vet"]
["SA08707","Law & District AAC","1968-01-18","Stephen Allen","SA08707","Vet"]
["SA08725","Metro Aberdeen Running Club","1967-05-22","Roddy McLeod","SA08725","Vet"]
["SA08737","Moray Road Runners","1971-08-01","Colin Green","SA08737","Senior"]
["SA08750","Perth Road Runners","1960-05-11","Neil Muir","SA08750","Vet"]
["SA08765","Thames Valley Harriers","1983-09-17","Jemma Walker","SA08765","Senior"]
["SA08776","Shaftesbury Barnet Harriers","1984-08-07","Neil Burnside","SA08776","Senior"]
["SA08783","Shettleston Harriers","1979-01-03","Paul Sorrie","SA08783","Senior"]
["SA08812","Unattached","1954-03-02","Irene McDonald","SA08812","Vet"]
["SA08825","VP-Glasgow AC","1959-03-10","Raymond McEwan","SA08825","Vet"]
["SA08826","VP-Glasgow AC","1965-12-29","Kenneth Mitchell","SA08826","Vet"]
["SA08848","Metro Aberdeen Running Club","1969-01-26","Janet McRoberts","SA08848","Vet"]
["SA08869","Aberdeen AAC","1988-09-14","Mark Haskett","SA08869","Senior"]
["SA08877","Annan & District AC","1937-07-12","James Buchanan","SA08877","Vet"]
["SA08891","Edinburgh AC","1939-10-10","Alexander Cameron","SA08891","Vet"]
["SA08913","Fife AC","1955-06-26","Craig Ross","SA08913","Vet"]
["SA08933","Fife AC","1959-06-23","Laurence Anderson","SA08933","Vet"]
["SA08942","Fife AC","1950-09-24","John Keenlyside","SA08942","Vet"]
["SA08953","Fife AC","1962-08-08","David Shepherd","SA08953","Vet"]
["SA08955","Fife AC","1958-01-22","James Taylor","SA08955","Vet"]
["SA08977","Hunters Bog Trotters","1948-12-10","Eric Scott","SA08977","Vet"]
["SA08986","Irvine AC","1951-10-08","James White","SA08986","Vet"]
["SA09001","Kilbarchan AAC","1986-10-08","Ross Toole","SA09001","Senior"]
["SA09018","Metro Aberdeen Running Club","1968-09-05","Richard Thomson","SA09018","Vet"]
["SA09031","Peterhead RC","1966-04-19","Alan Reid","SA09031","Vet"]
["SA09033","Pitreavie AAC","1967-12-11","Norma Bruce","SA09033","Vet"]
["SA09054","Strathaven Striders","1947-03-28","Thomas Wilson","SA09054","Vet"]
["SA09069","Whitemoss AAC","1989-06-27","Jamie McEwan","SA09069","Senior"]
["SA09084","Lochaber AC","1969-01-30","George Cairns","SA09084","Vet"]
["SA09103","George Heriots School","1958-01-04","David Armstrong","SA09103","Vet"]
["SA09156","Corstorphine AAC","1972-09-12","Jillian Hogg","SA09156","Senior"]
["SA09184",null,"1997-06-16","Arran Goodfellow","SA09184","Under 15"]
["SA09216","Pitreavie AAC","1995-02-26","Katie Reid","SA09216","Under 17"]
["SA09219","Giffnock North AAC","1993-10-01","Paula Houston","SA09219","Under 17"]
["SA09274","Shetland AAC","1993-12-27","Megan Smith","SA09274","Under 17"]
["SA09312","Banchory Stonehaven AC","1994-04-09","James Duguid","SA09312","Under 17"]
["SA09330",null,"1955-10-29","Helen Forrest","SA09330","Vet"]
["SA09360","Edinburgh AC","1993-10-26","Jennifer Cropley","SA09360","Under 17"]
["SA09401","Aberdeen AAC","1960-11-22","Kenneth Lyon","SA09401","Vet"]
["SA09434","Lothian Running Club","1962-10-15","Jim Salvage","SA09434","Vet"]
["SA09470","Carnegie Harriers","1977-02-08","Darran Neilson","SA09470","Senior"]
["SA09474","Unattached","1976-05-30","Stewart McConnell","SA09474","Senior"]
["SA09507","Hunters Bog Trotters","1973-02-25","Ross Bannerman","SA09507","Senior"]
["SA09529","Garscube Harriers","1961-07-08","Malcolm Booth","SA09529","Vet"]
["SA09551","Central AC","1986-02-10","Morag MacLarty","SA09551","Senior"]
["SA09608","Kirkintilloch Olympians","1993-09-17","Scott Lawrie","SA09608","Under 17"]
["SA09620","Shettleston Harriers","1960-08-22","John MacKay","SA09620","Vet"]
["SA09647","Elgin AAC","1994-03-01","Sam Morison","SA09647","Under 17"]
["SA09667","Hunters Bog Trotters","1982-10-25","Rupert Nash","SA09667","Senior"]
["SA09679","Kilbarchan AAC","1991-03-20","Nicholas Emsley","SA09679","Senior"]
["SA09706","Maryhill Harriers","1965-06-11","Margaret Peebles","SA09706","Vet"]
["SA09712","Pitreavie AAC","1990-06-19","Rebecca Burns","SA09712","Senior"]
["SA09739","Inverclyde AC","1995-08-17","Michael Houston","SA09739","Under 17"]
["SA09772","Kilbarchan AAC","1995-02-22","Matt Wild","SA09772","Under 17"]
["SA09817","Gala Harriers","1992-09-25","Gillian Sandie","SA09817","Senior"]
["SA09824","Kilmarnock H&AC","1992-03-17","Ross Connelly","SA09824","Senior"]
["SA09869","Pitreavie AAC","1995-10-27","Rachel Easton","SA09869","Under 15"]
["SA09880","Unattached","1949-06-14","Mary Hirshall","SA09880","Vet"]
["SA09909","Unattached","1963-06-08","Alistair Macdonald","SA09909","Vet"]
["SA09947","Whitemoss AAC","1997-04-24","Alasdair Stewart","SA09947","Under 15"]
["SA09949","Corstorphine AAC","1979-05-14","Corrie Roberts","SA09949","Senior"]
["SA09965","Pitreavie AAC","1996-12-13","Chloe Nethery","SA09965","Under 15"]
["SA10000","Clydesdale Harriers","1997-09-18","Rachel Busby","SA10000","Under 13"]
["SA10012","Teviotdale Harriers","1970-03-11","Craig Grieve","SA10012","Vet"]
["SA10039","Stewartry AC","1981-12-05","Colin Black","SA10039","Senior"]
["SA10055","VP-Glasgow AC","1962-09-11","Susan Finch","SA10055","Vet"]
["SA10059","Shetland AAC","1968-07-19","Arlene Bristow","SA10059","Vet"]
["SA10084","Falkirk Victoria Harriers","1958-07-03","David Murray","SA10084","Vet"]
["SA10110","Corstorphine AAC","1993-05-13","Andrew Christy","SA10110","Senior"]
["SA10111","Corstorphine AAC","1990-09-24","Rosanne Christy","SA10111","Senior"]
["SA10151","Unattached","1995-07-03","Vanessa Hogan","SA10151","Under 17"]
["SA10178","Inverness Harriers AAC","1975-11-04","Andrew MacRae","SA10178","Senior"]
["SA10195","Inverness Harriers AAC","1995-11-21","Lucy Forsyth","SA10195","Under 15"]
["SA10213","East Kilbride A.C.","1993-06-01","Fraser Jamieson","SA10213","Senior"]
["SA10217","Giffnock North AAC","1997-10-27","Robbie Barr","SA10217","Under 13"]
["SA10240","Perth Strathtay Harriers","1993-03-12","Ben MacKinnon","SA10240","Senior"]
["SA10258","Central AC","1996-03-14","Emily Greenan","SA10258","Under 15"]
["SA10305","Edinburgh AC","1997-10-08","Josh Kerr","SA10305","Under 13"]
["SA10324","Portobello Running Club","1956-12-30","Graham Porteous","SA10324","Vet"]
["SA10337","VP-Glasgow AC","1994-04-30","Christopher Barnes","SA10337","Under 17"]
["SA10353","Helensburgh AAC","1997-06-09","Fin Ritchie","SA10353","Under 15"]
["SA10434","Fife AC","1997-02-03","Fergus Ingledew","SA10434","Under 15"]
["SA10448","Central AC","1962-09-29","Robert Hutchison","SA10448","Vet"]
["SA10498","Central AC","1996-09-04","Lily Cairns-Haylor","SA10498","Under 15"]
["SA10544","Edinburgh AC","1993-03-27","Gabriella Votta","SA10544","Senior"]
["SA10563","Metro Aberdeen Running Club","1955-05-07","Jane MacAskill","SA10563","Vet"]
["SA10587","Perth Road Runners","1940-08-22","Colin Campbell","SA10587","Vet"]
["SA10617","Aberdeen AAC","1989-05-31","Hilary Armitage","SA10617","Senior"]
["SA10623","Kirkintilloch Olympians","1959-05-04","Alison Graham","SA10623","Vet"]
["SA10639","Metro Aberdeen Running Club","1961-06-22","Jean Cowie","SA10639","Vet"]
["SA10652","Airdrie Harriers","1996-12-02","Calum Muirhead","SA10652","Under 15"]
["SA10675","Stornoway Running & AC","1959-07-05","Rachel MacNeill","SA10675","Vet"]
["SA10693","Perth Road Runners","1964-04-26","Anne Wombill","SA10693","Vet"]
["SA10707","Unattached","1937-05-08","David Stewart Bauchop","SA10707","Vet"]
["SA10719","Aberdeen AAC","1990-12-15","James Joy","SA10719","Senior"]
["SA10753","Kirkintilloch Olympians","1966-07-22","Jacqui Woods","SA10753","Vet"]
["SA10762","Aberdeen AAC","1969-02-21","Neil Manson","SA10762","Vet"]
["SA10790","Carnegie Harriers","1981-04-28","Andrew Symonds","SA10790","Senior"]
["SA10813","Nithsdale AC","1996-05-10","Melissa McCrindle","SA10813","Under 15"]
["SA10842","Cumbernauld AAC","1995-04-13","Cliona Ferguson","SA10842","Under 17"]
["SA10890","Westerlands XC Club","1958-02-12","Daniel Reid","SA10890","Vet"]
["SA10915","Whitemoss AAC","1997-10-04","Taylor Jamieson","SA10915","Under 13"]
["SA10936","Falkirk Victoria Harriers","1993-03-08","Euan Martin","SA10936","Senior"]
["SA10984","Forres Harriers","1996-04-24","Heather Douglas","SA10984","Under 15"]
["SA10992","Law & District AAC","1996-12-23","Luke Foss","SA10992","Under 15"]
["SA11011","Fife AC","1953-02-24","Jocelyn Scott","SA11011","Vet"]
["SA11034","Aberdeen AAC","1977-07-29","Alasdhair Love","SA11034","Senior"]
["SA11049","Springburn Harriers","1959-08-30","Colin Watson","SA11049","Vet"]
["SA11065","Kirkintilloch Olympians","1994-11-19","Karen Wallace","SA11065","Under 17"]
["SA11107","Unattached","1990-12-15","Corin Gallagher","SA11107","Senior"]
["SA11109","Garscube Harriers","1975-03-16","John Murray","SA11109","Senior"]
["SA11159","Clydesdale Harriers","1982-05-21","Mark Rudzinski","SA11159","Senior"]
["SA11179","Unattached","1963-03-01","Russell Steedman","SA11179","Vet"]
["SA11184","Unattached","1954-11-24","Iain Plunkett","SA11184","Vet"]
["SA11213","Central AC","1960-01-15","Allister Hargreaves","SA11213","Vet"]
["SA11221","Forres Harriers","1974-05-18","Susan McRitchie","SA11221","Senior"]
["SA11237","Shettleston Harriers","1998-03-01","Jill Cherry","SA11237","Under 13"]
["SA11253","Motherwell AC","1996-08-18","Greg Cherry","SA11253","Under 15"]
["SA11284","Portobello Running Club","1968-01-16","Richard Dennis","SA11284","Vet"]
["SA11296","VP-Glasgow AC","1991-04-30","Courtney MacGuire","SA11296","Senior"]
["SA11334","Fife AC","1965-12-16","Caroline Rochford","SA11334","Vet"]
["SA11350","Dunfermline & West Fife AC","1995-04-07","Craig Stephen","SA11350","Under 17"]
["SA11374","Moray Road Runners","1996-10-22","Benjamin Mitchell","SA11374","Under 15"]
["SA11399","Larkhall YMCA Harriers","1995-02-23","Graham Ord","SA11399","Under 17"]
["SA11417","Orkney AC","1980-11-27","Margaret MacRae","SA11417","Senior"]
["SA11441","VP-Glasgow AC","1990-07-06","Nicola Hood","SA11441","Senior"]
["SA11463","Musselburgh & District AC","1997-12-06","Rhona L Segall","SA11463","Under 13"]
["SA11472","Livingston & District AAC","1997-07-31","Hayley Donaldson","SA11472","Under 15"]
["SA11506","Central AC","1994-12-21","Conor Kerr","SA11506","Under 17"]
["SA11517","Giffnock North AAC","1995-01-24","Constance Hope Mackay","SA11517","Under 17"]
["SA11526","Shettleston Harriers","1997-04-02","Colin McParland","SA11526","Under 15"]
["SA11562","Giffnock North AAC","1985-07-17","Kevin Fox","SA11562","Senior"]
["SA11582","Springburn Harriers","1990-06-09","Jonathan Graham","SA11582","Senior"]
["SA11608","Unattached","1957-01-28","Stuart McCombie","SA11608","Vet"]
["SA11640","Kilbarchan AAC","1992-10-20","Matthew Wallace","SA11640","Senior"]
["SA11650","Giffnock North AAC","1992-02-02","Daniel Chapman","SA11650","Senior"]
["SA11685","Caithness AAC","1995-03-04","Andrew Martin","SA11685","Under 17"]
["SA11697","Lothian Running Club","1991-08-28","Mhairi Inglis","SA11697","Senior"]
["SA11706","Girvan AAC","1960-09-14","Alan Gracie","SA11706","Vet"]
["SA11723","Ellon AAC","1997-07-06","Frances Bugden","SA11723","Under 15"]
["SA11773","Inverclyde AC","1996-01-02","Amy Meechan","SA11773","Under 15"]
["SA11784","Kilbarchan AAC","1992-08-27","Elizabeth McDougall","SA11784","Senior"]
["SA11807","Blackpool & Fylde Ac","1990-02-21","Laura Davies","SA11807","Senior"]
["SA11816","Kinross Road Runners","1936-05-23","Norman Smith","SA11816","Vet"]
["SA11847","Ron Hill Cambuslang Harriers","1996-08-31","Ross Stephen","SA11847","Under 15"]
["SA11850","Ron Hill Cambuslang Harriers","1995-04-27","Dean McMurran","SA11850","Under 17"]
["SA11875","Helensburgh AAC","1994-08-11","Lauren Carruthers","SA11875","Under 17"]
["SA11901","George Heriots School","1969-09-25","Frances Findlay","SA11901","Vet"]
["SA11919","Caithness AAC","1997-10-15","Kerrie Martin","SA11919","Under 13"]
["SA11964","Fife AC","1994-08-13","Callum McCracken","SA11964","Under 17"]
["SA11991","Shettleston Harriers","1994-08-14","Caitlin Greenhill","SA11991","Under 17"]
["SA12002",null,"1997-06-28","Zoe Robertson","SA12002","Under 15"]
["SA12027","Forres Harriers","1969-05-05","Sarah Grigor","SA12027","Vet"]
["SA12038","Musselburgh & District AC","1994-05-01","Laura L Robertson","SA12038","Under 17"]
["SA12080",null,"1972-06-26","Paul Raistrick","SA12080","Senior"]
["SA12092","VP-Glasgow AC","1992-03-11","Gillian MacFarlane","SA12092","Senior"]
["SA12125","Springburn Harriers","1965-12-30","Greg Dimmer","SA12125","Vet"]
["SA12132","Dundee Hawkhill Harriers","1994-04-23","Aeron Mellish","SA12132","Under 17"]
["SA12148","Unattached","1982-03-18","George Ashley","SA12148","Senior"]
["SA12168",null,"1974-06-03","Adele Page","SA12168","Senior"]
["SA12169","Dundee Hawkhill Harriers","1976-03-25","Kirsty Scott","SA12169","Senior"]
["SA12196","Inverclyde AC","1931-05-02","William Stoddart","SA12196","Vet"]
["SA12221","Dumfries Running Club","1957-11-29","Elisabeth Smart","SA12221","Vet"]
["SA12222","Aberdeen AAC","1996-01-02","Adam Crighton","SA12222","Under 15"]
["SA12243","VP-Glasgow AC","1997-06-03","Caroline MacKinnon","SA12243","Under 15"]
["SA12255","Kilbarchan AAC","1962-06-26","John McLaughlin","SA12255","Vet"]
["SA12276","East Kilbride A.C.","1994-02-09","Jennifer Waddell","SA12276","Under 17"]
["SA12299","Clydesdale Harriers","1969-06-28","Paul Carroll","SA12299","Vet"]
["SA12342","Perth Road Runners","1966-12-10","Simon Grieshaber","SA12342","Vet"]
["SA12345","Nithsdale AC","1995-01-17","Chris Ponton","SA12345","Under 17"]
["SA12396","Whitemoss AAC","1998-01-29","Megan Gemmell","SA12396","Under 13"]
["SA12407","Caithness AAC","1956-04-05","Martine A Hughes","SA12407","Vet"]
["SA12417","Irvine AC","1968-06-16","Alastair MacFarlane","SA12417","Vet"]
["SA12441","Fife AC","1996-10-20","Glen Gardiner","SA12441","Under 15"]
["SA12470","Musselburgh & District AC","1995-11-03","Kerry Morris","SA12470","Under 15"]
["SA12495","Edinburgh AC","1996-10-09","Ben Robbins","SA12495","Under 15"]
["SA12536","Unattached","1955-12-30","Maureen O'Hara","SA12536","Vet"]
["SA12547","North Uist AAC","1998-07-22","Ross Nicolson","SA12547","Under 13"]
["SA12571","Motherwell AC","1954-05-11","Brian McLinden","SA12571","Vet"]
["SA12604","Perth Strathtay Harriers","1994-05-25","Rachel Southgate","SA12604","Under 17"]
["SA12625","Shettleston Harriers","1994-01-25","Jamie Hendry","SA12625","Under 17"]
["SA12635","Carnegie Harriers","1949-04-15","Iain Thomson","SA12635","Vet"]
["SA12665","Unattached","1968-11-13","Mairi Paterson","SA12665","Vet"]
["SA12678","Moorfoot Runners","1996-05-18","Jacob Adkin","SA12678","Under 15"]
["SA12714","Dundee Hawkhill Harriers","1967-06-16","Catriona M Reynolds","SA12714","Vet"]
["SA12724","Calderglen Harriers","1972-03-01","Colin Freeman","SA12724","Senior"]
["SA12741","Law & District AAC","1997-12-03","Euan Robb","SA12741","Under 13"]
["SA12766","North Ayrshire AC","1995-12-18","Christopher Jenks","SA12766","Under 15"]
["SA12787",null,"1961-12-26","Sandra Hardacre","SA12787","Vet"]
["SA12801","Dundee Hawkhill Harriers","1991-03-13","Gareth Lamb","SA12801","Senior"]
["SA12829","Livingston & District AAC","1998-07-11","Morna Horn","SA12829","Under 13"]
["SA12841","Barrow in Furness Striders AC","1988-09-28","Jed Bartlett","SA12841","Senior"]
["SA12878","Giffnock North AAC","1957-04-16","Rodger McEleney","SA12878","Vet"]
["SA12895","Ayr Seaforth AAC","1994-12-21","Sarah Cassells","SA12895","Under 17"]
["SA12914","Fife AC","1995-12-30","Euan Berry","SA12914","Under 15"]
["SA12925","Hunters Bog Trotters","1981-12-09","Peter McClelland","SA12925","Senior"]
["SA12943","George Heriots School","1996-01-10","Ben Phelps","SA12943","Under 15"]
["SA12963","Pitreavie AAC","1979-02-24","Colin Beveridge","SA12963","Senior"]
["SA12989","St Andrews University CCC","1986-12-09","Myles Bax","SA12989","Senior"]
["SA12998","St Andrews University CCC","1988-07-23","Gardner Moore","SA12998","Senior"]
["SA13032","Ayr Seaforth AAC","1995-10-02","Shaun Rennie","SA13032","Under 15"]
["SA13044","Glasgow University Hare and H","1987-09-07","Daniel Bradford","SA13044","Senior"]
["SA13065","Lasswade AAC","1981-05-05","Martin Gore","SA13065","Senior"]
["SA13109","Irvine AC","1961-05-20","Iain Fraser","SA13109","Vet"]
["SA13112","Helensburgh AAC","1957-03-24","Andrew Stafford","SA13112","Vet"]
["SA13128","Bellahouston Road Runners","1973-03-19","Richard Leyton","SA13128","Senior"]
["SA13153","Moray Road Runners","1993-08-31","John Little","SA13153","Senior"]
["SA13158","Fife AC","1994-03-01","Elaine Cairns","SA13158","Under 17"]
["SA13178","Airdrie Harriers","1997-11-15","John Harty","SA13178","Under 13"]
["SA13207","Moray Road Runners","1960-07-19","Jonathan Cornall","SA13207","Vet"]
["SA13217","Lasswade AAC","1998-01-01","Lewis Black","SA13217","Under 13"]
["SA13249","Harmeny AC","1968-09-02","Margie Leitch","SA13249","Vet"]
["SA13292","Teviotdale Harriers","1966-04-30","Catriona M Young","SA13292","Vet"]
["SA13293","Hunters Bog Trotters","1985-06-28","Rosie Smith","SA13293","Senior"]
["SA13330","Lothian Running Club","1993-05-20","Zack Jones","SA13330","Senior"]
["SA13342","Ayr Seaforth AAC","1997-05-22","Robbie Henderson","SA13342","Under 15"]
["SA13357","Ron Hill Cambuslang Harriers","1995-04-04","Lauren Doherty","SA13357","Under 17"]
["SA13390","Giffnock North AAC","1998-02-13","Rachel Alexander","SA13390","Under 13"]
["SA13425","Livingston & District AAC","1994-07-01","Daniel Fulton","SA13425","Under 17"]
["SA13429","Falkirk Victoria Harriers","1996-09-22","Fern Gibb","SA13429","Under 15"]
["SA13465","Giffnock North AAC","1995-08-07","Anthony Deveney","SA13465","Under 17"]
["SA13473","Aberdeen AAC","1972-07-17","John Mckeown","SA13473","Senior"]
["SA13489","Harmeny AC","1968-05-27","Christina Morgan","SA13489","Vet"]
["SA13525","Central AC","1997-09-04","Jennifer Downie","SA13525","Under 13"]
["SA13533","Central AC","1995-06-03","Stacey Hardman","SA13533","Under 17"]
["SA13566","Edinburgh AC","1987-08-27","Natalie Griffiths","SA13566","Senior"]
["SA13597","Moorfoot Runners","1995-05-13","James Innes","SA13597","Under 17"]
["SA13602","Perth Road Runners","1981-03-05","Gemma Russell","SA13602","Senior"]
["SA13624","Anster Haddies Running Club","1956-10-31","Christopher Broome","SA13624","Vet"]
["SA13634","Mid Ulster Athletic Club","1986-03-17","Kevin McCloy","SA13634","Senior"]
["SA13644","Inverclyde AC","1992-05-31","Nicole Darroch","SA13644","Senior"]
["SA13665","Strathclyde Univ Harriers","1986-12-06","Patrick Cullinane","SA13665","Senior"]
["SA13674","Helensburgh AAC","1969-01-02","Christine Stanfield","SA13674","Vet"]
["SA13684","Dunbar Running Club","1954-08-29","Sheila Morrison","SA13684","Vet"]
["SA13697","Law & District AAC","1995-05-24","Aimee Gray","SA13697","Under 17"]
["SA13707","Metro Aberdeen Running Club","1952-01-18","Jane Macleod","SA13707","Vet"]
["SA13733","Motherwell AC","1963-07-30","Lesanne Cherry","SA13733","Vet"]
["SA13740","Larkhall YMCA Harriers","1962-12-20","Joe McCallum","SA13740","Vet"]
["SA13757","Moorfoot Runners","1946-05-16","David Wardman","SA13757","Vet"]
["SA13769","Pitreavie AAC","1998-03-03","Jake Beveridge","SA13769","Under 13"]
["SA13788","Carnegie Harriers","1968-01-04","Allan Fotheringham","SA13788","Vet"]
["SA13793","Motherwell AC","1998-10-23","Amy McCourt","SA13793","Under 13"]
["SA13799","Fife AC","1964-09-29","Dave Shepherd","SA13799","Vet"]
["SA13813","Anster Haddies Running Club","1963-12-06","Christine Bowie","SA13813","Vet"]
["SA13829","Clydesdale Harriers","1945-05-07","Hugh Watson","SA13829","Vet"]
["SA13838","Clydesdale Harriers","1959-09-20","Christine Duncanson","SA13838","Vet"]
["SA13853","Banchory Stonehaven AC","1998-09-10","Polly Christie","SA13853","Under 13"]
["SA13870","Edinburgh AC","1995-06-15","Michael Tomassi","SA13870","Under 17"]
["SA13895","Inverness Harriers AAC","1995-05-31","Corrin Miller","SA13895","Under 17"]
["SA13900","Pitreavie AAC","1997-12-12","Vhairi McAtear","SA13900","Under 13"]
["SA13919","Unattached","1997-12-01","Ruaridh Baxter","SA13919","Under 13"]
["SA13922","Giffnock North AAC","1998-06-20","Ross Gray","SA13922","Under 13"]
["SA13960","Fife AC","1994-09-01","Laura Gibson","SA13960","Under 17"]
["SA14027","Calderglen Harriers","1971-05-23","David Wardrope","SA14027","Senior"]
["SA14034","Giffnock North AAC","1996-01-12","Frances Lonergan","SA14034","Under 15"]
["SA14060","Giffnock North AAC","1997-12-28","Adam Kidd","SA14060","Under 13"]
["SA14078","Kirkintilloch Olympians","1961-05-07","Ros OSullivan","SA14078","Vet"]
["SA14080","Kilbarchan AAC","1997-07-26","Euan McKerral","SA14080","Under 15"]
["SA14102",null,"1996-01-21","Shona Campbell","SA14102","Under 15"]
["SA14121","Law & District AAC","1997-06-11","Laura Wight","SA14121","Under 15"]
["SA14127","Giffnock North AAC","1998-05-01","John McLaughlin","SA14127","Under 13"]
["SA14144","Pitreavie AAC","1981-06-19","Mhairi Porterfield","SA14144","Senior"]
["SA14159",null,"1961-10-18","Gordon Mackintosh","SA14159","Vet"]
["SA14168","Law & District AAC","1998-12-31","Kieran Cubis","SA14168","Under 13"]
["SA14212","Edinburgh AC","1997-05-25","Rosie Wilson","SA14212","Under 15"]
["SA14228","Pitreavie AAC","1998-03-18","Hannah Mclaughlan","SA14228","Under 13"]
["SA14246","Calderglen Harriers","1959-11-06","John McBride","SA14246","Vet"]
["SA14258","Perth Road Runners","1951-09-20","Kenneth G N Stewart","SA14258","Vet"]
["SA14268","Ross County Athletic Club","1995-03-18","Loran Mathieson","SA14268","Under 17"]
["SA14277","Caithness AAC","1996-04-10","Sharon Mackay","SA14277","Under 15"]
["SA14288","Caithness AAC","1996-06-19","Isobel MacLeod","SA14288","Under 15"]
["SA14294","East Kilbride A.C.","1995-04-12","Laura McCracken","SA14294","Under 17"]
["SA14307","Kilbarchan AAC","1996-05-22","Christopher McStay","SA14307","Under 15"]
["SA14310","Kilbarchan AAC","2000-01-11","Stephanie McStay","SA14310","Under 11"]
["SA14338","Perth Strathtay Harriers","1993-11-26","Alexander Robertson","SA14338","Under 17"]
["SA14353","Pitreavie AAC","1998-07-17","Isla Sinclair","SA14353","Under 13"]
["SA14359","Linlithgow AAC","1998-02-07","Megan Jack","SA14359","Under 13"]
["SA14370","Linlithgow AAC","1994-07-25","Linsey Campbell","SA14370","Under 17"]
["SA14395","Helensburgh AAC","1998-12-02","Lewis Serpell","SA14395","Under 13"]
["SA14404","Shettleston Harriers","1994-07-03","Cal Docherty","SA14404","Under 17"]
["SA14420","Forres Harriers","1961-07-12","Heather Stuart","SA14420","Vet"]
["SA14432","East Sutherland AC","1996-09-14","Ross Gollan","SA14432","Under 15"]
["SA14447","Livingston & District AAC","1996-08-22","Isla Bruce","SA14447","Under 15"]
["SA14463","Bellahouston Road Runners","1971-05-07","Grant Edmondson","SA14463","Senior"]
["SA14480","Perth Strathtay Harriers","1995-03-03","Andrew Forsyth","SA14480","Under 17"]
["SA14506","Edinburgh AC","1992-11-18","Chanelle Buchan","SA14506","Senior"]
["SA14518","Inverness Harriers AAC","1993-07-25","Sam Freck","SA14518","Senior"]
["SA14524","Inverness Harriers AAC","1995-02-02","Calum Green","SA14524","Under 17"]
["SA14535","Inverness Harriers AAC","1995-03-26","Mhairi MacLennan","SA14535","Under 17"]
["SA14543","Inverness Harriers AAC","1997-07-20","Arianne Ross","SA14543","Under 15"]
["SA14569","Kirkintilloch Olympians","1998-12-04","Laura Keay","SA14569","Under 13"]
["SA14604","Dundee Hawkhill Harriers","1997-04-24","Beth Curtis","SA14604","Under 15"]
["SA14615","Unattached","1971-04-04","Margaret L Sinclair","SA14615","Senior"]
["SA14629","Giffnock North AAC","1998-02-02","Alexandra Pope","SA14629","Under 13"]
["SA14649","Linlithgow AAC","1998-02-04","Michael Fairbanks","SA14649","Under 13"]
["SA14663","Edinburgh AC","1999-05-01","Cal McLennan","SA14663","Under 13"]
["SA14678","Inverness Harriers AAC","1997-04-18","Carly Grant","SA14678","Under 15"]
["SA14695","Aberdeen AAC","1955-04-25","John Geddes","SA14695","Vet"]
["SA14723","Anster Haddies Running Club","1960-02-06","Iain McConnell","SA14723","Vet"]
["SA14744","Ron Hill Cambuslang Harriers","1996-10-02","Joe Brown","SA14744","Under 15"]
["SA14776","Giffnock North AAC","1995-03-05","Scott Young","SA14776","Under 17"]
["SA14787","Orkney AC","1994-01-16","Erica Downie","SA14787","Under 17"]
["SA14794","Pitreavie AAC","1997-05-07","Johnny Pennel","SA14794","Under 15"]
["SA14818","Forres Harriers","1971-10-11","Jenny Stewart","SA14818","Senior"]
["SA14822","Lasswade AAC","1995-11-15","Megan Fleming","SA14822","Under 15"]
["SA14847","Irvine AC","1972-01-12","Mark Livingstone","SA14847","Senior"]
["SA14851","Fife AC","1975-08-01","Matthew MacPherson","SA14851","Senior"]
["SA14869","Lasswade AAC","1996-04-11","Erin Feeley","SA14869","Under 15"]
["SA14909","Edinburgh University AC","1976-03-06","Stephen Booth","SA14909","Senior"]
["SA14926","Law & District AAC","1997-03-06","Darren Daly","SA14926","Under 15"]
["SA14948","Law & District AAC","1997-12-04","Evan Jones","SA14948","Under 13"]
["SA14962","Edinburgh AC","1964-12-04","Scott Hastings","SA14962","Vet"]
["SA14978","Edinburgh AC","1995-10-02","Hamish Campbell","SA14978","Under 15"]
["SA14994","Arbroath & District AC","1998-10-13","Kelsey Young","SA14994","Under 13"]
["SA15004","Hunters Bog Trotters","1946-10-04","Christopher Oliver","SA15004","Vet"]
["SA15032","Law & District AAC","1993-12-19","Emma Bhatti","SA15032","Under 17"]
["SA15037","Edinburgh AC","1994-07-25","Rachel Dinsdale","SA15037","Under 17"]
["SA15049","Pitreavie AAC","1985-02-11","Laura Allan","SA15049","Senior"]
["SA15060","Bellahouston Road Runners","1981-04-13","Bridget Fouhy","SA15060","Senior"]
["SA15072","Edinburgh AC","1998-11-30","Natalie Robbins","SA15072","Under 13"]
["SA15087","Central AC","1999-01-07","Robert Burns","SA15087","Under 13"]
["SA15097","Bellahouston Road Runners","1969-05-10","Shona Quigley","SA15097","Vet"]
["SA15110","Shettleston Harriers","1998-10-14","Kezia Doran","SA15110","Under 13"]
["SA15136","Mid Argyll AC","1997-04-11","Ben Millar","SA15136","Under 15"]
["SA15147","Arbroath & District AC","1996-06-28","Jack Garrigan","SA15147","Under 15"]
["SA15166","Ron Hill Cambuslang Harriers","1997-03-17","Brendan Carey","SA15166","Under 15"]
["SA15182","Shettleston Harriers","1967-05-20","Susan Breckenridge","SA15182","Vet"]
["SA15198","Strathearn Harriers","1976-09-22","Angela Mackenzie","SA15198","Senior"]
["SA15214","Kilbarchan AAC","1995-05-04","Amy McIntyre","SA15214","Under 17"]
["SA15231","Nairn Road Runners","1976-05-25","Jenny Henderson","SA15231","Senior"]
["SA15239","Law & District AAC","1996-10-24","Lewis King","SA15239","Under 15"]
["SA15257","Kilmarnock H&AC","1983-03-18","Steven Currie","SA15257","Senior"]
["SA15276","Ayr Seaforth AAC","1998-12-18","Siobhan Rae","SA15276","Under 13"]
["SA15296","Arbroath & District AC","1983-04-04","Cameron Morrison","SA15296","Senior"]
["SA15304","Kilmarnock H&AC","1997-11-24","Rory Morris","SA15304","Under 13"]
["SA15331","Stornoway Running & AC","1999-05-15","Lewis MacDonald","SA15331","Under 13"]
["SA15337","Stornoway Running & AC","1997-10-24","Peigi McKellar","SA15337","Under 13"]
["SA15344","Fife AC","1999-04-11","Callum Sleigh","SA15344","Under 13"]
["SA15376","Dundee Hawkhill Harriers","1970-01-01","Roger Van Gompel","SA15376","Vet"]
["SA15393","Calderglen Harriers","1975-09-04","Claire Brady","SA15393","Senior"]
["SA15414","Motherwell AC","1996-12-27","Robert Love","SA15414","Under 15"]
["SA15436","VP-Glasgow AC","1995-08-30","Tatiana E Quick","SA15436","Under 17"]
["SA15442","Caithness AAC","1994-08-19","Sarah MacKinnon","SA15442","Under 17"]
["SA15473","Banchory Stonehaven AC","1998-05-19","Matthew Duguid","SA15473","Under 13"]
["SA15490","Calderglen Harriers","1966-12-17","Alan Cullie","SA15490","Vet"]
["SA15492","Teviotdale Harriers","1998-08-14","Sarah Brown","SA15492","Under 13"]
["SA15511","Livingston & District AAC","1995-09-03","Scott Miller","SA15511","Under 15"]
["SA15528","Forfar Road Runners","1962-01-21","Cath McInally","SA15528","Vet"]
["SA15534","Glasgow University Hare and H","1989-09-23","Philip Arthur","SA15534","Senior"]
["SA15548","Ayr Seaforth AAC","1994-08-24","Scott Gibson","SA15548","Under 17"]
["SA15584","Central AC","1995-08-21","Molly Tweedle","SA15584","Under 17"]
["SA15605","Corstorphine AAC","1980-07-15","Christopher Peggie","SA15605","Senior"]
["SA15621","VP-Glasgow AC","1997-04-11","Millie Boyle","SA15621","Under 15"]
["SA15640","Lothian Running Club","1999-04-18","Iain Horsburgh","SA15640","Under 13"]
["SA15644","Livingston & District AAC","1996-02-27","Anna McPhillips","SA15644","Under 15"]
["SA15661","Tonbridge A.C.","1993-04-18","Olivia Louise Stirrat","SA15661","Senior"]
["SA15680","Corstorphine AAC","1996-01-12","Michael Addison","SA15680","Under 15"]
["SA15681","Edinburgh Univ Hare & Hounds","1990-02-03","Pamela Morris","SA15681","Senior"]
["SA15703","Ayr Seaforth AAC","1999-05-12","Amy Topping","SA15703","Under 13"]
["SA15715","Lasswade AAC","1997-04-17","William Hutchison","SA15715","Under 15"]
["SA15730","Airdrie Harriers","1998-09-11","Sarah-Rose McDonald","SA15730","Under 13"]
["SA15751","Montrose & District AC","1996-04-09","Stewart Watson","SA15751","Under 15"]
["SA15766","Hunters Bog Trotters","1982-10-18","Doug Murray","SA15766","Senior"]
["SA15776","Livingston & District AAC","1996-09-14","Jake Thomas","SA15776","Under 15"]
["SA15794","Maryhill Harriers","1980-12-17","Stephen Jones","SA15794","Senior"]
["SA15803","Carnegie Harriers","1966-11-01","Gillian McCracken","SA15803","Vet"]
["SA15820","Lasswade AAC","1999-03-26","Stephanie Purves","SA15820","Under 13"]
["SA15830","Central AC","1998-10-03","Megan Ely","SA15830","Under 13"]
["SA15845","Helensburgh AAC","1964-12-27","Tina Munro","SA15845","Vet"]
["SA15856","Cumbernauld AAC","1998-12-29","Lorna Cowan","SA15856","Under 13"]
["SA15872","Unattached","1970-09-24","Scott Dolan","SA15872","Senior"]
["SA15879","Kilbarchan AAC","1997-01-25","Gavin McArdle","SA15879","Under 15"]
["SA15911","Law & District AAC","1997-11-07","Anya Towers","SA15911","Under 13"]
["SA15926","Edinburgh AC","1994-01-22","Michael Fernie","SA15926","Under 17"]
["SA15945","Forres Harriers","1999-02-17","Jack Carpenter","SA15945","Under 13"]
["SA15962","Whitemoss AAC","1999-05-03","Olivia Fenn","SA15962","Under 13"]
["SA15987","Lasswade AAC","1995-05-11","Rachel Wyse","SA15987","Under 17"]
["SA15997","VP-Glasgow AC","1997-08-15","Jude Sloan-Dennison","SA15997","Under 15"]
["SA16007","Unattached","1950-07-14","Elizabeth Crawford","SA16007","Vet"]
["SA16022","Shettleston Harriers","1995-05-06","Victoria McGloin","SA16022","Under 17"]
["SA16038","Annan & District AC","1998-01-08","Lewis Holliday","SA16038","Under 13"]
["SA16053","Cumbernauld AAC","1997-09-12","Meaghan Sands","SA16053","Under 13"]
["SA16083","VP-Glasgow AC","1998-11-24","Emily Lightbody","SA16083","Under 13"]
["SA16096","Motherwell AC","1996-03-26","Stephen Ross","SA16096","Under 15"]
["SA16123","Giffnock North AAC","1999-08-05","Nathan Edgar","SA16123","Under 13"]
["SA16129","Motherwell AC","1998-07-02","Owen Leach","SA16129","Under 13"]
["SA16137","Ayr Seaforth AAC","1998-12-23","Jason Evans","SA16137","Under 13"]
["SA16151","Stewartry AC","1996-01-01","Lauren Craig","SA16151","Under 15"]
["SA16169","West Dunbartonshire AC","1998-01-14","Robert Archibald","SA16169","Under 13"]
["SA16176",null,"1956-05-23","IAN MACKIE","SA16176","Vet"]
["SA16199","Falkirk Victoria Harriers","1958-01-30","Stephen Oliver","SA16199","Vet"]
["SA16207","Motherwell AC","1963-12-05","Alex HAY","SA16207","Vet"]
["SA16221","Greenock Glenpark Harriers","1994-03-17","Eillidh Hamill","SA16221","Under 17"]
["SA16225","Greenock Glenpark Harriers","1999-01-03","Lauren Mulaghton","SA16225","Under 13"]
["SA16245","Kinross Road Runners","1948-01-13","David Houston","SA16245","Vet"]
["SA16246","Pitreavie AAC","1996-10-30","Kirsten Mullen","SA16246","Under 15"]
["SA16254","Ayr Seaforth AAC","1999-02-21","Harry Mitchell","SA16254","Under 13"]
["SA16264","VP-Glasgow AC","1994-06-25","Sheena MacKillop","SA16264","Under 17"]
["SA16268","Garscube Harriers","1999-04-13","Francis Malarky","SA16268","Under 13"]
["SA16282",null,"1997-10-04","Daisy Williams","SA16282","Under 13"]
["SA16290","Beith Harriers","1999-11-16","Aidan Fitzgerald","SA16290","Under 11"]
["SA16291",null,"1996-11-13","Helena Rose Davison","SA16291","Under 15"]
["SA16305","Unattached","1963-09-13","Steven Smith","SA16305","Vet"]
["SA16313","Dumfries Running Club","1978-06-01","Joanne Needham","SA16313","Senior"]
["SA16314","Fife AC","1971-10-24","Neil Millar","SA16314","Senior"]
["SA16325","Anster Haddies Running Club","1963-10-23","Ian Mills","SA16325","Vet"]
["SA16335",null,"1996-01-13","Chiluba Young","SA16335","Under 15"]
["SA16340","Shettleston Harriers","1983-04-05","Alisdair Strange","SA16340","Senior"]
["SA16348","Kilbarchan AAC","1998-08-17","Alice Drennan","SA16348","Under 13"]
["SA16352","Airdrie Harriers","1999-09-11","Laurie Anderson","SA16352","Under 11"]
["SA16364","Broomhill Sports Club","1993-01-25","Greg Steer","SA16364","Senior"]
["SA16372","Broomhill Sports Club","1998-02-11","John Robb","SA16372","Under 13"]
["SA16380","Shettleston Harriers","1997-10-13","Euan Perry","SA16380","Under 13"]
["SA16385","Edinburgh AC","1992-07-14","Ben Smith","SA16385","Senior"]
["SA16396","East Kilbride A.C.","2000-01-21","lewis Golder","SA16396","Under 11"]
["SA16402","Harmeny AC","1967-04-09","Caroline Dunn","SA16402","Vet"]
["SA16410","Bellahouston Road Runners","1979-06-18","Bruce Carse","SA16410","Senior"]
["SA16413","Greenock Glenpark Harriers","1965-03-15","Peter Clare","SA16413","Vet"]
["SA16426","Springburn Harriers","1953-06-10","Anne Bruce","SA16426","Vet"]
["SA16434","Perth Strathtay Harriers","1997-02-19","Jacob Lewis","SA16434","Under 15"]
["SA16439","Belgrave Harriers","1973-06-28","Tim Watson","SA16439","Senior"]
["SA16448","Inverness Harriers AAC","1997-01-12","Alan McDonald","SA16448","Under 15"]
["SA16457","Fife AC","1993-09-24","Jennifer Cruickshanks","SA16457","Under 17"]
["SA16462","Central AC","1998-07-03","Kieran Potter","SA16462","Under 13"]
["SA16470","Kilmarnock H&AC","1995-03-01","Nathan Ross","SA16470","Under 17"]
["SA16475","Whitemoss AAC","1999-09-14","David John Thomson ","SA16475","Under 11"]
["SA16485","Kilbarchan AAC","1993-03-05","Joe Clayton","SA16485","Senior"]
["SA16494","Strathaven Striders","1962-03-19","Karen Strong","SA16494","Vet"]
["SA16499","Garscube Harriers","1997-05-09","Rory Stevenson","SA16499","Under 15"]
["SA16510","Shettleston Harriers","1997-10-03","Ainsley Marie Stern","SA16510","Under 13"]
["SA16522","Fife AC","1978-12-05","Jill  Bickett","SA16522","Senior"]
["SA16526","Kilmarnock H&AC","1997-07-14","Channelle Kinnaird","SA16526","Under 15"]
["SA16534","Edinburgh AC","1975-08-31","Adam Chmieloski","SA16534","Senior"]
["SA16539","VP-Glasgow AC","1998-12-14","Catriona Ross","SA16539","Under 13"]
["SA16548","Central AC","1999-05-16","Ciara  Price","SA16548","Under 13"]
["SA16557","Fife AC","1997-08-13","Aimee J  Barclay","SA16557","Under 15"]
["SA16562","Falkirk Victoria Harriers","1999-05-17","Lana Kemp","SA16562","Under 13"]
["SA16570","Stonehaven RC","1968-04-23","Josephine Thom","SA16570","Vet"]
["SA16582","Perth Road Runners","1961-06-17","Sandy Macfarlane","SA16582","Vet"]
["SA16586",null,"1999-08-30","Karl Joseph Nelson","SA16586","Under 13"]
["SA16594","Edinburgh AC","1962-02-08","Pam Armstrong","SA16594","Vet"]
["SA16606","Forres Harriers","1969-03-23","Neil Carpenter","SA16606","Vet"]
["SA16608","Chester Le Street Harriers","1979-09-25","Melissa Turner","SA16608","Senior"]
["SA16617","Livingston & District AAC","1996-01-25","Eliza Sandford","SA16617","Under 15"]
["SA16629","Shettleston Harriers","1996-10-14","Jacqueline Ann Anderson","SA16629","Under 15"]
["SA16630","Fife AC","1965-03-19","Allan Harley","SA16630","Vet"]
["SA16642","Portobello Running Club","1982-05-10","Philip Owens","SA16642","Senior"]
["SA16654","Dunfermline & West Fife AC","1998-02-21","Kirsten Francis","SA16654","Under 13"]
["SA16655","Edinburgh AC","1990-02-20","Gareth Robertson","SA16655","Senior"]
["SA16667",null,"1900-01-01","Anne Barclay","SA16667","Vet"]
["SA16670",null,"1960-02-20","Thomas Wallace","SA16670","Vet"]
["SA16677","Whitemoss AAC","1997-05-24","Graeme Blake","SA16677","Under 15"]
["SA16689","Wigan Harriers","1993-02-06","Keir lyon -Fraser","SA16689","Senior"]
["SA16697","Aberdeen AAC","1998-08-22","Lucy McLeod","SA16697","Under 13"]
["SA16703",null,"1988-05-04","Elaine Omand","SA16703","Senior"]
["SA16711","Giffnock North AAC","1997-09-06","Katherine Blues","SA16711","Under 13"]
["SA16721","West Dunbartonshire AC","1999-12-23","Kyle  Pollard","SA16721","Under 11"]
["SA16726",null,"1997-01-16","Thomas MacDonald","SA16726","Under 15"]
["SA16735",null,"1996-09-13","Lucy Dune","SA16735","Under 15"]
["SA16739","Hamilton Harriers","1966-05-18","Finlay Smith","SA16739","Vet"]
["SA16751","Cumbernauld AAC","1994-07-05","Michael Myers","SA16751","Under 17"]
["SA16759","Dunbar Running Club","1997-04-24","Natasha Binnie","SA16759","Under 15"]
["SA16765","Dunbar Running Club","1999-10-07","Linda McCandlish","SA16765","Under 11"]
["SA16777","Aberdeen AAC","1998-04-10","Matthew Reid","SA16777","Under 13"]
["SA16785",null,"1975-11-13","Lee Waller","SA16785","Senior"]
["SA16790","Unattached","1957-06-14","Christine Corson","SA16790","Vet"]
["SA16798","Dundee Hawkhill Harriers","1947-04-23","Don Lindsay","SA16798","Vet"]
["SA16803","Law & District AAC","1999-07-28","Evie Robb","SA16803","Under 13"]
["SA16813","Airdrie Harriers","1998-11-13","Eliot Wilson","SA16813","Under 13"]
["SA16821","VP-Glasgow AC","1999-09-02","Jack Houston","SA16821","Under 11"]
["SA16826","VP-Glasgow AC","1993-06-24","Sandy McIntosh","SA16826","Senior"]
["SA16837","VP-Glasgow AC","1997-02-13","Sophie Coyle","SA16837","Under 15"]
["SA16844","Motherwell AC","1997-04-04","Ronyn Gibb","SA16844","Under 15"]
["SA16849","Lothian Running Club","1997-08-04","Grant Kirkwood","SA16849","Under 15"]
["SA16857","Falkirk Victoria Harriers","1998-05-28","Erika parkinson","SA16857","Under 13"]
["SA16863","VP-Glasgow AC","1995-11-08","George Geddes","SA16863","Under 15"]
["SA16871",null,"1965-12-02","Andrew McNeill","SA16871","Vet"]
["SA16879","Edinburgh AC","1971-12-22","Stuart MacLeod","SA16879","Senior"]
["SA16884","Shettleston Harriers","1990-11-04","Matthew Gillespie","SA16884","Senior"]
["SA16899","Kilbarchan AAC","1999-03-31","Kerry MacAngus","SA16899","Under 13"]
["SA16904",null,"1996-09-28","Brooke Adams","SA16904","Under 15"]
["SA16909","Kirkintilloch Olympians","2000-03-20","Scott Connal","SA16909","Under 11"]
["SA16917","Kirkintilloch Olympians","1996-10-03","Euan McKay","SA16917","Under 15"]
["SA16924","Kirkintilloch Olympians","1999-03-19","Rowan Stevenson","SA16924","Under 13"]
["SA16931","Kilmarnock H&AC","1997-04-12","Kerri Kirkwood","SA16931","Under 15"]
["SA16939","East Kilbride A.C.","1998-09-30","Rebekka  Steele","SA16939","Under 13"]
["SA16944",null,"1984-12-06","Gordon Anderson","SA16944","Senior"]
["SA16959","Moorfoot Runners","1998-12-01","David Collins","SA16959","Under 13"]
["SA16967","Ayr Seaforth AAC","1995-11-04","Gordon Gregor","SA16967","Under 15"]
["SA16968",null,"1970-09-03","Grant Macaulay","SA16968","Senior"]
["SA16978","Lothian Running Club","1997-08-30","Gavin McCreadie","SA16978","Under 15"]
["SA16993",null,"1999-09-07","Lewis Forsyth","SA16993","Under 11"]
["SA16997","Montrose & District AC","1998-08-14","Monica Ogilvie","SA16997","Under 13"]
["SA17003","Edinburgh AC","1998-11-26","Kelly  Whigham","SA17003","Under 13"]
["SA17015","Giffnock North AAC","1998-04-10","Caitlin Allan","SA17015","Under 13"]
["SA17017","Dunfermline & West Fife AC","1998-02-03","Declan Boyle","SA17017","Under 13"]
["SA17031",null,"1998-09-05","Matthew Dalrymple","SA17031","Under 13"]
["SA17038",null,"1999-03-10","Rebecca Louise Craig","SA17038","Under 13"]
["SA17039",null,"1998-03-02","Erin McCarthy","SA17039","Under 13"]
["SA17051","Ron Hill Cambuslang Harriers","2000-01-14","Adam Hamilton","SA17051","Under 11"]
["SA17056","Corstorphine AAC","1999-09-15","Sarah  Malone","SA17056","Under 11"]
["SA17061","Ron Hill Cambuslang Harriers","1998-12-09","Lauren MacGregor","SA17061","Under 13"]
["SA17073","Larkhall YMCA Harriers","1998-05-07","Scott Dunnachie","SA17073","Under 13"]
["SA17082","Giffnock North AAC","1992-05-05","Katie  Sloan","SA17082","Senior"]
["SA17090",null,"1990-08-01","Neah Evans","SA17090","Senior"]
["SA17097","Orkney AC","1996-01-22","Evie Peace","SA17097","Under 15"]
["SA17106","Pitreavie AAC","1978-04-11","David Agnew","SA17106","Senior"]
["SA17111","Whitemoss AAC","1994-02-22","Callum Young","SA17111","Under 17"]
["SA17120","Ross County Athletic Club","1998-05-11","Jamie MacGregor","SA17120","Under 13"]
["SA17128","Falkirk Victoria Harriers","1995-06-03","Sean Griffin","SA17128","Under 17"]
["SA17136","Ron Hill Cambuslang Harriers","1999-10-13","Lauren Carey","SA17136","Under 11"]
["SA17146","Inverclyde AC","1996-11-14","Julia  Baldwin","SA17146","Under 15"]
["SA17155","Shetland AAC","1996-03-04","Kirsty  Laurenson","SA17155","Under 15"]
["SA17160","Lasswade AAC","1997-09-16","Charlee Mayes","SA17160","Under 13"]
["SA17168","Kilmarnock H&AC","1998-03-28","David Hall","SA17168","Under 13"]
["SA17173","Ayr Seaforth AAC","1967-01-23","Kevin Bloy","SA17173","Vet"]
["SA17180","Anster Haddies Running Club","1954-01-12","Susan Hutchison","SA17180","Vet"]
["SA17187",null,"1996-11-29","Jenny MacTaggart","SA17187","Under 15"]
["SA17195","Giffnock North AAC","1998-05-06","Callum Bell","SA17195","Under 13"]
["SA17203","Strathaven Striders","1968-11-24","Robert Scott","SA17203","Vet"]
["SA17208","Orkney Islands AAC","1995-06-01","Magnus Blair","SA17208","Under 17"]
["SA17213","Kilbarchan AAC","1996-05-10","Chelsea MacDougall","SA17213","Under 15"]
["SA17223","Nairn Area AAC","1999-05-22","Lewis Fraser","SA17223","Under 13"]
["SA17232","Ross County Athletic Club","1999-06-30","Finn Crockett","SA17232","Under 13"]
["SA17241","Kilmarnock H&AC","1998-04-03","Lara Ferels","SA17241","Under 13"]
["SA17253","Giffnock North AAC","1995-01-08","Amy Maxwell","SA17253","Under 17"]
["SA17259","Belgrave Harriers","1984-12-11","Colin McCourt","SA17259","Senior"]
["SA17270","Inverness Harriers AAC","1997-06-26","Stuart MacLachlan","SA17270","Under 15"]
["SA17275","East Kilbride A.C.","1995-06-20","Rebecca  Ashelby","SA17275","Under 17"]
["SA17281","Annan & District AC","1996-09-08","Charley Donaldson","SA17281","Under 15"]
["SA17289","Central AC","1998-08-14","Amy Gullen","SA17289","Under 13"]
["SA17297","Falkirk Victoria Harriers","1974-10-03","Brendan Lynch","SA17297","Senior"]
["SA17306","Kilmarnock H&AC","1997-12-23","Jordan Elliott","SA17306","Under 13"]
["SA17316","Arbroath & District AC","1998-04-28","James Payne","SA17316","Under 13"]
["SA17321","Falkirk Victoria Harriers","1994-05-11","Lewis McLean","SA17321","Under 17"]
["SA17329","Giffnock North AAC","1995-10-17","Anna Gavienas","SA17329","Under 15"]
["SA17334","Kilmarnock H&AC","1995-05-04","Laura Nicolson","SA17334","Under 17"]
["SA17341","North Uist AAC","1999-02-16","Fergus MacVicar","SA17341","Under 13"]
["SA17355","Dundee Hawkhill Harriers","2000-03-22","maddie owen","SA17355","Under 11"]
["SA17356","Ayr Seaforth AAC","1997-04-10","Nicole Telfer","SA17356","Under 15"]
["SA17364","Kilmarnock H&AC","1998-09-28","Calum Murray","SA17364","Under 13"]
["SA17374","Kilbarchan AAC","1997-06-27","Sebastian Bascetta","SA17374","Under 15"]
["SA17378","Kilbarchan AAC","1997-11-04","Katie Turnbull","SA17378","Under 13"]
["SA17390",null,"1999-09-01","Peter Lochans","SA17390","Under 11"]
["SA17398","Carnethy Hill Racing Club","1992-10-05","Trevor Wilkinson","SA17398","Senior"]
["SA17399","Carnethy Hill Racing Club","1994-12-03","Owen Wilkinson","SA17399","Under 17"]
["SA17412","Kirkintilloch Olympians","1998-11-19","Callum McKenzie","SA17412","Under 13"]
["SA17420","North Uist AAC","1998-09-15","Katlyn Maclellan","SA17420","Under 13"]
["SA17421",null,"1999-08-19","Erin Dale","SA17421","Under 13"]
["SA17432","Edinburgh AC","1974-02-19","James Mittra","SA17432","Senior"]
["SA17442","Ayr Seaforth AAC","1997-09-29","Khyla Victoria McLatchie Dempsey","SA17442","Under 13"]
["SA17447","Kilmarnock H&AC","2000-04-27","Ryan  Dixon","SA17447","Under 11"]
["SA17456","Inverness Harriers AAC","1998-12-16","Daniel Wilby","SA17456","Under 13"]
["SA17464","Kilmarnock H&AC","1998-04-09","Lauren Reeves","SA17464","Under 13"]
["SA17466",null,"1998-01-28","Eilidh MacDonald","SA17466","Under 13"]
["SA17479",null,"1979-08-16","Martin Crawford","SA17479","Senior"]
["SA17484","Fife AC","1998-10-05","Matthew Baddeley","SA17484","Under 13"]
["SA17492","Central AC","1997-10-16","Charlotte Tilley","SA17492","Under 13"]
["SA17501","Dundee Hawkhill Harriers","1994-09-07","Daniel Ajuh","SA17501","Under 17"]
["SA17507","Moray Road Runners","1997-02-17","Jamie Heald","SA17507","Under 15"]
["SA17515",null,"1989-06-22","Peter Fowley","SA17515","Senior"]
["SA17524","Shettleston Harriers","1995-12-01","Ahmed Hassan","SA17524","Under 15"]
["SA17527",null,"1963-08-27","Johnny Logan","SA17527","Vet"]
["SA17538","Hunters Bog Trotters","1970-09-03","James Jarvis","SA17538","Senior"]
["SA17543","Garscube Harriers","1997-09-23","James Stanley","SA17543","Under 13"]
["SA17551","Nairn Area AAC","1999-09-28","Dylan No Name","SA17551","Under 11"]
["SA17560","Ayr Seaforth AAC","1997-12-05","Charlotte Crossland","SA17560","Under 13"]
["SA17566","Giffnock North AAC","1994-03-01","Declan Campbell","SA17566","Under 17"]
["SA17574","Giffnock North AAC","1996-06-06","Jennifer Boyd","SA17574","Under 15"]
["SA17582","Inverness Harriers AAC","1994-09-07","Morvern MacKenzie","SA17582","Under 17"]
["SA17586","Ayr Seaforth AAC","1998-01-21","Jamie Colquhoun","SA17586","Under 13"]
["SA17596","Ellon AAC","1996-08-25","Beth Hitchcock","SA17596","Under 15"]
["SA17601","Inverness Harriers AAC","1994-10-01","Samantha MacFarlane","SA17601","Under 17"]
["SA17610","Edinburgh AC","1994-06-16","Ailsa Bruce","SA17610","Under 17"]
["SA17622","Dunfermline & West Fife AC","1996-08-03","Alistair Symonds","SA17622","Under 15"]
["SA17626","Strathearn Harriers","1998-07-04","Rebecca Harper","SA17626","Under 13"]
["SA17637",null,"1996-05-18","Grant McGregor","SA17637","Under 15"]
["SA17643","Corstorphine AAC","1994-06-01","Jack Williams","SA17643","Under 17"]
["SA17651","Dumfries Harriers","1960-04-10","Kevin McCaig","SA17651","Vet"]
["SA17660","Dumfries Harriers","1976-08-03","Chris Haining","SA17660","Senior"]
["SA17665","Orkney AC","1993-11-19","Steven Macphail","SA17665","Under 17"]
["SA17673","Pitreavie AAC","1993-11-02","Gary Stewart","SA17673","Under 17"]
["SA17684","Central AC","1996-04-02","Hamish Innes","SA17684","Under 15"]
["SA17687","Irvine AC","1994-01-28","Ryan McEwan","SA17687","Under 17"]
["SA17695","Dunbar Running Club","1998-07-02","Jack Armstrong","SA17695","Under 13"]
["SA17707","Tweed,Leader,Jed Track","1994-08-05","David Edwards","SA17707","Under 17"]
["SA17708","Dundee Hawkhill Harriers","1995-01-19","Jenna Wighton","SA17708","Under 17"]
["SA17717","Inverness Harriers AAC","1994-09-30","Ryan McConnell","SA17717","Under 17"]
["SA17730",null,"1986-04-23","Kevin Farmer","SA17730","Senior"]
["SA17731","Dunbar Running Club","1968-12-12","Emma Taylor","SA17731","Vet"]
["SA17739","Shettleston Harriers","1994-12-16","Andrew Wright","SA17739","Under 17"]
["SA17753","Nairn Area AAC","1999-12-28","Lauren Haggarty","SA17753","Under 11"]
["SA17755","Helensburgh AAC","1982-12-09","Christopher Moses","SA17755","Senior"]
["SA17767","Larkhall YMCA Harriers","2000-06-23","David Lees","SA17767","Under 11"]
["SA17776","Giffnock North AAC","1966-06-23","Graeme Fleming","SA17776","Vet"]
["SA17780","Ayr Seaforth AAC","2000-07-26","Anna George","SA17780","Under 11"]
["SA17791","Dunbar Running Club","2000-06-30","Ruth Kowbell","SA17791","Under 11"]
["SA17799","Pitreavie AAC","1997-06-23","Jennifer Buchanan","SA17799","Under 15"]
["SA17804","Giffnock North AAC","1997-01-27","Carla Rankin","SA17804","Under 15"]
["SA17815","Dundee Hawkhill Harriers","1972-05-01","Gordon Barrie","SA17815","Senior"]
["SA17823","Giffnock North AAC","1998-07-27","Ross Donnelly","SA17823","Under 13"]
["SA17828","Motherwell AC","1993-08-03","William Arthur","SA17828","Senior"]
["SA17838","Dunfermline & West Fife AC","1997-06-20","Hannah Cameron","SA17838","Under 15"]
["SA17842","Lasswade AAC","2000-03-12","Alannis Hutchison","SA17842","Under 11"]
["SA17852","Brechin High AC","1999-01-31","Caitlyn Tough","SA17852","Under 13"]
["SA17860","Law & District AAC","1999-09-20","Morgan Jones","SA17860","Under 11"]
["SA17865","Pitreavie AAC","1995-07-06","Abigail Calder","SA17865","Under 17"]
["SA17878","Giffnock North AAC","1965-05-23","Dawn Zuberi","SA17878","Vet"]
["SA17886","VP-Glasgow AC","1995-01-09","Mark Vallance","SA17886","Under 17"]
["SA17891","Giffnock North AAC","1998-03-22","Jenna Wrisberg","SA17891","Under 13"]
["SA17899","Inverness Harriers AAC","1997-05-07","Katie  Sneddon","SA17899","Under 15"]
["SA17904",null,"1998-12-29","Luis Garcia","SA17904","Under 13"]
["SA17915","Larkhall YMCA Harriers","1998-09-15","Christie Cunningham","SA17915","Under 13"]
["SA17923","Aberdeen AAC","1991-10-30","Tai Jericevich","SA17923","Senior"]
["SA17931","Lasswade AAC","1972-03-24","John Grant","SA17931","Senior"]
["SA17939","Shettleston Harriers","1996-03-20","Jessica Calder","SA17939","Under 15"]
["SA17950","Livingston & District AAC","1997-11-30","Connor Stewart","SA17950","Under 13"]
["SA17953",null,"1997-05-25","Chloe Morrison","SA17953","Under 15"]
["SA17961","Stornoway Running & AC","1997-06-04","Kara Aline Hanlon","SA17961","Under 15"]
["SA17966","Inverness Harriers AAC","1999-04-25","Hannah Rasmussen","SA17966","Under 13"]
["SA17976","Helensburgh AAC","1971-05-16","Karl Giarchi","SA17976","Senior"]
["SA17984","Kirkintilloch Olympians","1979-09-12","Gary Connell","SA17984","Senior"]
["SA17990","Giffnock North AAC","1998-10-23","Sean Smith","SA17990","Under 13"]
["SA17999","Forres Harriers","1968-05-28","Alan Johnstone","SA17999","Vet"]
["SA18011","Caithness AAC","1994-10-29","Andrew Nicolson","SA18011","Under 17"]
["SA18014","Law & District AAC","1999-01-28","Mark Adams","SA18014","Under 13"]
["SA18024","Caithness AAC","1998-10-02","Kane  Webber","SA18024","Under 13"]
["SA18029","Giffnock North AAC","2000-04-22","Catriona G Rennick","SA18029","Under 11"]
["SA18040","Caithness AAC","2000-04-06","Michael MacGregor","SA18040","Under 11"]
["SA18047","Helensburgh AAC","1977-04-28","Iain Walker","SA18047","Senior"]
["SA18052","Kilbarchan AAC","2004-01-05","Jennifer Hanlon","SA18052","Under 11"]
["SA18060","Ellon AAC","1992-06-03","Philip Kenyon","SA18060","Senior"]
["SA18073","Livingston & District AAC","1999-02-15","Rebecca Proudfoot","SA18073","Under 13"]
["SA18074","Livingston & District AAC","1999-05-07","Emma Birch","SA18074","Under 13"]
["SA18082","Bellahouston Road Runners","1981-04-05","Emma Bryson","SA18082","Senior"]
["SA18094","Kilbarchan AAC","1994-09-29","Fraser Warwick","SA18094","Under 17"]
["SA18098","Kilbarchan AAC","1999-01-19","Chloe Baillie","SA18098","Under 13"]
["SA18105","Edinburgh Univ Hare & Hounds","1991-01-30","Daniel Ashworth","SA18105","Senior"]
["SA18117","Strathclyde Univ Harriers","1990-04-01","Neil McDonald","SA18117","Senior"]
["SA18118","Haddington East Lothian Pacem","1971-07-29","Eddie Balfour","SA18118","Senior"]
["SA18133","Calderglen Harriers","1960-12-09","James Carrigan","SA18133","Vet"]
["SA18140","Bellahouston Road Runners","1965-01-17","Graeme Gemmel","SA18140","Vet"]
["SA18141","Central AC","1998-02-20","Cameron Taylor","SA18141","Under 13"]
["SA18154",null,"1996-02-10","Lizzie Knox","SA18154","Under 15"]
["SA18159","Bellahouston Harriers","1985-09-02","Emily Gilleece","SA18159","Senior"]
["SA18164","Giffnock North AAC","1996-06-13","Nathan Munroe","SA18164","Under 15"]
["SA18176","Moray Road Runners","1997-04-09","Callum Alexander","SA18176","Under 15"]
["SA18184","Kirkintilloch Olympians","1996-05-09","Sam Cunningham","SA18184","Under 15"]
["SA18189","Springburn Harriers","1979-04-25","Kirsten Ferguson","SA18189","Senior"]
["SA18192","North Ayrshire AC","1998-02-12","Jack Petrie","SA18192","Under 13"]
["SA18206","Edinburgh Univ Hare & Hounds","1991-02-12","Yvonne Catherine Hastie","SA18206","Senior"]
["SA18211",null,"1969-03-19","Laura MacLellan","SA18211","Vet"]
["SA18220","St Andrews University CCC","1991-08-16","Julia Djurfeldt","SA18220","Senior"]
["SA18226","St Andrews University CCC","1989-05-21","David Farnell","SA18226","Senior"]
["SA18234","Forres Harriers","1997-12-23","lauren Allan","SA18234","Under 13"]
["SA18244","Girvan AAC","1960-06-20","Iain Davidson","SA18244","Vet"]
["SA18250","Garscube Harriers","1995-12-29","HELENA WATSON","SA18250","Under 15"]
["SA18254","Teviotdale Harriers","2000-04-02","Ishbel Inglis","SA18254","Under 11"]
["SA18268","Edinburgh Univ Hare & Hounds","1991-03-13","Rebecca Hannah","SA18268","Senior"]
["SA18274","Motherwell AC","1992-04-13","Stephen Riley","SA18274","Senior"]
["SA18285",null,"1971-12-01","Amanda Morrison","SA18285","Senior"]
["SA18292","Kilmarnock H&AC","1970-12-29","Joan Graham","SA18292","Senior"]
["SA18299","Kirkintilloch Olympians","2000-05-09","Matthew Cribbes","SA18299","Under 11"]
["SA18307","Kilbarchan AAC","1997-06-30","Andrea Graham","SA18307","Under 15"]
["SA18312","Larkhall YMCA Harriers","2000-08-17","Elle Henderson","SA18312","Under 11"]
["SA18317","Garscube Harriers","1969-10-22","Patricia Pryce","SA18317","Vet"]
["SA18327","North Ayrshire AC","1998-03-30","Kyle Jackson","SA18327","Under 13"]
["SA18335","Aldershot Farnham & Dist","1991-03-10","Lilly Partridge","SA18335","Senior"]
["SA18343","North Ayrshire AC","1997-11-05","Derry Wyllie","SA18343","Under 13"]
["SA18351","Central AC","1999-03-30","James Thomson","SA18351","Under 13"]
["SA18357","Garscube Harriers","1989-05-03","Michael O'Hara","SA18357","Senior"]
["SA18365","Fife AC","1984-07-30","Amie McKimmie","SA18365","Senior"]
["SA18370","VP-Glasgow AC","1998-06-22","Ellie Black","SA18370","Under 13"]
["SA18376","VP-Glasgow AC","1998-03-19","Clare Matheson","SA18376","Under 13"]
["SA18384","VP-Glasgow AC","1996-06-08","Nikola Tajner","SA18384","Under 15"]
["SA18393","Teviotdale Harriers","2000-08-28","Emma Grieve","SA18393","Under 11"]
["SA18402","Ayr Seaforth AAC","2000-09-22","Daniel Martin","SA18402","Under 11"]
["SA18407","Helensburgh AAC","1999-01-10","Katie MacGregor","SA18407","Under 13"]
["SA18420","Bellahouston Road Runners","1967-06-15","Fiora Mcfarlane","SA18420","Vet"]
["SA18425","Greenock Glenpark Harriers","1965-07-11","Heather Kangley","SA18425","Vet"]
["SA18430","St Andrews University CCC","1990-11-08","David I Bowers","SA18430","Senior"]
["SA18444","Law & District AAC","1997-10-14","Roxanne Motaghian","SA18444","Under 13"]
["SA18451","VP-Glasgow AC","1997-10-14","Tuesday McKendrick","SA18451","Under 13"]
["SA18461","Moray Road Runners","1994-10-14","Toby Dobbs","SA18461","Under 17"]
["SA18473","Falkirk Victoria Harriers","1992-11-26","Megan Risk","SA18473","Senior"]
["SA18486","Livingston & District AAC","2004-07-04","Calum Gregory","SA18486","Under 11"]
["SA18492","Kirkintilloch Olympians","1958-10-29","Robert Watson","SA18492","Vet"]
["SA18500","Ayr Seaforth AAC","1971-04-28","Barry Duddy","SA18500","Senior"]
["SA18509","Kilmarnock H&AC","2000-04-22","Iona Charles","SA18509","Under 11"]
["SA18510","Carnegie Harriers","1981-11-13","Kristin Lownie","SA18510","Senior"]
["SA18519",null,"1975-07-18","Carolyn Hare","SA18519","Senior"]
["SA18533","Calderglen Harriers","1997-06-10","Connor White","SA18533","Under 15"]
["SA18534","Calderglen Harriers","1997-11-08","Michael McAllister","SA18534","Under 13"]
["SA18546","Kilmarnock H&AC","1996-04-11","Jessica Russell","SA18546","Under 15"]
["SA18553","North Uist AAC","1997-02-12","Jamie Sullivan","SA18553","Under 15"]
["SA18560","Carnegie Harriers","1942-08-27","John Milton","SA18560","Vet"]
["SA18569","Cumbernauld AAC","1992-12-02","Katie Mcilwraith","SA18569","Senior"]
["SA18577","Helensburgh AAC","1966-02-19","Barbara Earnshaw","SA18577","Vet"]
["SA18579","Edinburgh Univ Hare & Hounds","1991-07-08","Chloe Haines","SA18579","Senior"]
["SA18591","Stonehaven RC","1960-04-20","Annie Reid","SA18591","Vet"]
["SA18596","Helensburgh AAC","1965-08-17","Elizabeth Bowden","SA18596","Vet"]
["SA18604","Ross County Athletic Club","1976-02-23","Adelle Mercer","SA18604","Senior"]
["SA18612","Inverness Harriers AAC","2000-02-12","Phillip Gordon","SA18612","Under 11"]
["SA18618","Montrose & District AC","1996-10-16","Kyle Findlater","SA18618","Under 15"]
["SA18626","Montrose & District AC","2000-05-14","Kerrie  Penman","SA18626","Under 11"]
["SA18634","Calderglen Harriers","1999-06-14","Lynsey Thomson","SA18634","Under 13"]
["SA18637","Unattached","1970-01-23","Carol O'Halloran","SA18637","Vet"]
["SA18649","Perth Strathtay Harriers","1996-07-20","Ross Ogg","SA18649","Under 15"]
["SA18654","Inverness Harriers AAC","1992-02-18","Jo Shepherd","SA18654","Senior"]
["SA18662","Unattached","1973-01-16","Nicky Easton","SA18662","Senior"]
["SA18670","Lochaber AC","1964-02-18","Fiona Mackenzie","SA18670","Vet"]
["SA18679","Helensburgh AAC","1956-08-26","LIz McHard","SA18679","Vet"]
["SA18684","East Kilbride A.C.","1996-02-22","Vincent Hastings","SA18684","Under 15"]
["SA18692","Giffnock North AAC","1998-11-04","Dominic Hendrie","SA18692","Under 13"]
["SA18697","Lochaber AC","1998-07-16","Frances Oliver","SA18697","Under 13"]
["SA18704","Aberdeen AAC","1978-03-20","Lee Polson","SA18704","Senior"]
["SA18711","Dundee Hawkhill Harriers","1994-05-17","Ellen Andrew","SA18711","Under 17"]
["SA18720",null,"1988-04-20","David McNamee","SA18720","Senior"]
["SA18729","Perth Strathtay Harriers","1998-01-09","Eilidh Robertson","SA18729","Under 13"]
["SA18740","Clydesdale Harriers","1996-09-10","Georgia Cameron","SA18740","Under 15"]
["SA18745","East Kilbride A.C.","1999-03-24","Liam Wynne","SA18745","Under 13"]
["SA18752","Havering Mayersbrook AC","1957-11-16","Peter Kadobinskyj","SA18752","Vet"]
["SA18762","Haddington East Lothian Pacem","1997-06-05","Mhairi Cunningham","SA18762","Under 15"]
["SA18770","Kirkintilloch Olympians","1996-04-30","Kieran Haddock","SA18770","Under 15"]
["SA18776","Kirkintilloch Olympians","1998-10-06","Greg Burns","SA18776","Under 13"]
["SA18784","Inverness Harriers AAC","1998-07-07","Andrew Joel McFarlane","SA18784","Under 13"]
["SA18793","Lasswade AAC","1997-02-24","William Steel","SA18793","Under 15"]
["SA18804","Cumbernauld AAC","1972-05-18","Caroline Ferguson","SA18804","Senior"]
["SA18807","Ron Hill Cambuslang Harriers","1980-09-21","David Munro","SA18807","Senior"]
["SA18822","Aberdeen AAC","1997-10-31","Emma Murray","SA18822","Under 13"]
["SA18823","Whitemoss AAC","1999-02-28","Andrew Thurston","SA18823","Under 13"]
["SA18833","Musselburgh & District AC","1998-10-23","Lynsey Purves","SA18833","Under 13"]
["SA18845","Musselburgh & District AC","1996-05-06","Rachel Foley","SA18845","Under 15"]
["SA18846","Kilmarnock H&AC","1997-10-26","Harris Baird","SA18846","Under 13"]
["SA18856","Kilbarchan AAC","1997-12-01","Conor Toal","SA18856","Under 13"]
["SA18870","Falkirk Victoria Harriers","1998-04-13","Cailin Roy","SA18870","Under 13"]
["SA18872","West Dunbartonshire AC","1999-05-20","Aidan Ball","SA18872","Under 13"]
["SA18884","Edinburgh AC","2000-03-25","Catherine Bough","SA18884","Under 11"]
["SA18892","Shettleston Harriers","2000-11-12","Roisin Toland","SA18892","Under 11"]
["SA18893","Clydesdale Harriers","2000-05-28","Ryan Alexander","SA18893","Under 11"]
["SA18903","Ayr Seaforth AAC","1997-03-10","Miklos Csiky","SA18903","Under 15"]
["SA18916","Cumbernauld AAC","2000-03-22","Beth Tobin","SA18916","Under 11"]
["SA18924","Lothian & Borders Police AC","1969-04-23","Richie Adams","SA18924","Vet"]
["SA18934","Corstorphine AAC","1975-07-25","Gillian Carr","SA18934","Senior"]
["SA18943","Lasswade AAC","2000-03-12","Katie Golder","SA18943","Under 11"]
["SA18948","Unattached","1900-01-01","Kenny Falconer","SA18948","Vet"]
["SA18956","Unattached","1994-12-22","David Carlaw","SA18956","Under 17"]
["SA18964","Kilmarnock H&AC","1996-09-23","Sophie Dunlop","SA18964","Under 15"]
["SA18970",null,"1967-09-15","Rosemary Hunter","SA18970","Vet"]
["SA18983","Aberdeen AAC","1967-03-02","Barry Reaper","SA18983","Vet"]
["SA18988","Moray Road Runners","1951-03-16","Allan Smith","SA18988","Vet"]
["SA18996","Falkirk Victoria Harriers","1983-07-31","David Hogarth","SA18996","Senior"]
["SA19008","Forres Harriers","1967-01-22","Cisca Cameron","SA19008","Vet"]
["SA19012","Garscube Harriers","1996-05-10","Erin Docherty","SA19012","Under 15"]
["SA19020","VP-Glasgow AC","1965-03-12","Ralph Connolly","SA19020","Vet"]
["SA19025","Garscube Harriers","1993-03-15","David Beglan","SA19025","Senior"]
["SA19034","St Mary's Richmond","1991-08-16","Calum Brown","SA19034","Senior"]
["SA19049","Lothian Running Club","1998-01-02","Megan Balharrie","SA19049","Under 13"]
["SA19054","Perth Road Runners","1976-11-15","Meike Cooper","SA19054","Senior"]
["SA19063","Shettleston Harriers","1998-04-26","Nicola Graham","SA19063","Under 13"]
["SA19075","Garscube Harriers","1998-10-31","Caitlin Fleming","SA19075","Under 13"]
["SA19078","Deeside Runners","1997-09-17","Ewen Kerridge","SA19078","Under 13"]
["SA19086","Kilmarnock H&AC","1993-05-07","Heather Baird","SA19086","Senior"]
["SA19091","Metro Aberdeen Running Club","1979-12-05","Steven Walker","SA19091","Senior"]
["SA19100","Tweed,Leader,Jed Track","1995-05-25","Cameron Balfour","SA19100","Under 17"]
["SA19108","Giffnock North AAC","2000-05-30","Sarah Walsh","SA19108","Under 11"]
["SA19114","Perth Strathtay Harriers","1999-03-11","Fraser Gillies","SA19114","Under 13"]
["SA19122","Stornoway Running & AC","1968-07-05","James Warnock","SA19122","Vet"]
["SA19134","Garscube Harriers","1998-01-04","Giovanna Giambastiani","SA19134","Under 13"]
["SA19136","Portobello Running Club","1967-11-16","Julie Moffat","SA19136","Vet"]
["SA19144","Portobello Running Club","1977-05-20","Gareth Green","SA19144","Senior"]
["SA19149","Lasswade AAC","1999-07-05","Matthew Smith","SA19149","Under 13"]
["SA19157","Dumfries Harriers","1985-03-26","David Turner","SA19157","Senior"]
["SA19167","Dunbar Running Club","1967-08-18","Brian Davidson","SA19167","Vet"]
["SA19171","Kinross Road Runners","1966-04-10","Stephen Crawford","SA19171","Vet"]
["SA19179","Stornoway Running & AC","1978-12-22","Noell Deplano","SA19179","Senior"]
["SA19193","North Ayrshire AC","2000-08-20","James Jack","SA19193","Under 11"]
["SA19194","North Ayrshire AC","1998-04-20","Ryan Graham","SA19194","Under 13"]
["SA19204","Montrose & District AC","1996-10-14","Jane Leckie","SA19204","Under 15"]
["SA19216","Aberdeen AAC","1996-06-12","Megan Rosemary Shearer","SA19216","Under 15"]
["SA19217","Kirkintilloch Olympians","1980-09-29","Paul O'Connor","SA19217","Senior"]
["SA19229","Banchory Stonehaven AC","2000-06-18","Eliza Burgoyne","SA19229","Under 11"]
["SA19239",null,"1996-03-02","Ewan Carter","SA19239","Under 15"]
["SA19240",null,"1971-04-21","Claire Imrie","SA19240","Senior"]
["SA19253","Keith & District AAC","1957-10-21","Ron Wild","SA19253","Vet"]
["SA19255","Edinburgh AC","1986-02-27","Daniel Clarkson","SA19255","Senior"]
["SA19263",null,"2000-05-07","Laurie Allardes","SA19263","Under 11"]
["SA19275","Lasswade AAC","2000-03-30","Lucy Brogan","SA19275","Under 11"]
["SA19283","Unattached","1980-08-28","David Hughes","SA19283","Senior"]
["SA19288","Livingston & District AAC","2000-02-10","Morgan Bow","SA19288","Under 11"]
["SA19297","Beith Harriers","2000-08-14","Greg Anderson","SA19297","Under 11"]
["SA19306","Fife AC","1975-07-13","Dan Gates","SA19306","Senior"]
["SA19312","Metro Aberdeen Running Club","1966-07-27","Steven Chalmers","SA19312","Vet"]
["SA19317","Central AC","1998-05-02","Cameron Wilson","SA19317","Under 13"]
["SA19335","J W Kilmarnock H&AC","1997-09-02","Robyn McClymont","SA19335","Under 13"]
["SA19340","Ochil Hill Runners","1965-08-06","Ron Martin","SA19340","Vet"]
["SA19348",null,"1982-09-17","Julie Carlisle","SA19348","Senior"]
["SA19355","Ayr Seaforth AAC","1994-03-16","Sarah Ross","SA19355","Under 17"]
["SA19363","Ron Hill Cambuslang Harriers","1998-03-18","Connor McGlinchey","SA19363","Under 13"]
["SA19371","Greenock Glenpark Harriers","1993-12-29","Sean McCallion","SA19371","Under 17"]
["SA19383","Central AC","1997-09-19","Tom Chandler","SA19383","Under 13"]
["SA19387","Clydesdale Harriers","1999-08-31","Jenny Kerr","SA19387","Under 13"]
["SA19395","Nithsdale AC","2000-01-25","Robson Mackay","SA19395","Under 11"]
["SA19396","Central AC","1997-06-23","Saskia Anderson","SA19396","Under 15"]
["SA19397","Moray Road Runners","2000-12-27","Grace Whelan","SA19397","Under 11"]
["SA19398","Central AC","2000-01-28","Jack Houghton","SA19398","Under 11"]
["SA19399","Dunfermline & West Fife AC","1994-10-29","David Brand","SA19399","Under 17"]
["SA19401","Westerlands XC Club","1974-05-03","Ivan Chindurza","SA19401","Senior"]
["SA19402","Metro Aberdeen Running Club","1976-02-11","Jackie Morrison","SA19402","Senior"]
["SA19403","Giffnock North AAC","1997-07-19","Lucy Davidson","SA19403","Under 15"]
["SA19404","Ron Hill Cambuslang Harriers","1968-05-18","Alan Ramage","SA19404","Vet"]
["SA19405","Orkney Islands AAC","1956-08-09","Ian Sutcliffe","SA19405","Vet"]
["SA19406","VP-Glasgow AC","1955-03-31","Peter Dawes","SA19406","Vet"]
["SA19407","Pitreavie AAC","1979-08-28","Paul Foster","SA19407","Senior"]
["SA19409","Dunfermline & West Fife AC","2000-02-09","Louise McCullagh","SA19409","Under 11"]
["SA19410","Central AC","22 August 200","Evie Gallagher","SA19410"]
["SA19411","Central AC","2000-08-22","Kate Gallagher","SA19411","Under 11"]
["SA19412","Bellahouston Road Runners","1981-09-07","Alex Lawther","SA19412","Senior"]
["SA19413","Central AC","2000-10-03","Ross McCorgray","SA19413","Under 11"]
["SA19414","Ross County Athletic Club","1997-09-08","Mhairi MacPhail","SA19414","Under 13"]
["SA19415","East Kilbride A.C.","1998-07-08","Stephen Leadbitter","SA19415","Under 13"]
["SA19417","Falkirk Victoria Harriers","1996-04-07","Mairi McKenna","SA19417","Under 15"]
["SA19418","Kirkintilloch Olympians","1999-04-25","Andrew Canning","SA19418","Under 13"]
["SA19419","Garscube Harriers","1987-05-25","Gary Goldie","SA19419","Senior"]
["SA19420","Maryhill Harriers","1997-06-13","Catriona Crawford","SA19420","Under 15"]
["SA19421","Whitemoss AAC","1997-09-29","Joshua Maitland","SA19421","Under 13"]
["SA19422","Aberdeen AAC","1997-06-01","Steven Murray","SA19422","Under 15"]
["SA19423","East Kilbride A.C.","2000-09-29","Maria Mulholland","SA19423","Under 11"]
["SA19424","Whitemoss AAC","1998-11-27","Blair Peacock","SA19424","Under 13"]
["SA19426","Aberdeen AAC","1996-01-24","Sarah-Jane Bush","SA19426","Under 15"]
["SA19427","Kelvin Runners","1966-05-09","Heather Morrison","SA19427","Vet"]
["SA19428","Kilmarnock H&AC","1999-09-07","Brooke Kyle","SA19428","Under 11"]
["SA19430","Bellahouston Harriers","1980-05-26","Suzanne Boyle","SA19430","Senior"]
["SA19431","East Kilbride A.C.","2000-04-27","Emma Roberts","SA19431","Under 11"]
["SA19432","Motherwell AC","1977-05-30","Craig Adams","SA19432","Senior"]
["SA19433","Giffnock North AAC","1985-02-25","Patrick McVey","SA19433","Senior"]
["SA19434","Cosmic Hillbashers AAC","1977-09-11","Kevin Harper","SA19434","Senior"]
["SA19435","Edinburgh AC","1998-08-31","Caitlin Hayes","SA19435","Under 13"]
["SA19436","Caithness AAC","1998-09-07","James McCafferty","SA19436","Under 13"]
["SA19437","Glasgow University Hare and H","1990-09-01","Chris Clarke","SA19437","Senior"]
["SA19438","Kilmarnock H&AC","1995-04-12","Kelly Gilbert","SA19438","Under 17"]
["SA19439","Kilmarnock H&AC","1978-10-01","Michelle Goldie","SA19439","Senior"]
["SA19440","Bellahouston Harriers","1974-01-08","David Mooney","SA19440","Senior"]
["SA19441","Stornoway Running & AC","1967-02-11","Ruairi MacIver","SA19441","Vet"]
["SA19442","Caithness AAC","2000-10-04","Stuart Kirk","SA19442","Under 11"]
["SA19443","Lothian Running Club","1986-04-09","Chloe Cox","SA19443","Senior"]
["SA19444","Central AC","1983-06-30","Lyndsay Morrison","SA19444","Senior"]
["SA19445","Penicuik Harriers","1966-03-03","Kirsty Loudon","SA19445","Vet"]
["SA19446","Dumfries Harriers","1963-02-21","Jane Vickers","SA19446","Vet"]
["SA19447","Central AC","2000-12-19","Rena Fleming","SA19447","Under 11"]
["SA19448","Unattached","2001-03-14","Dion Ingram","SA19448","Under 11"]
["SA19449","VP-Glasgow AC","2000-05-25","Cameron Wray","SA19449","Under 11"]
["SA19450","Lasswade AAC","1998-06-16","Emma Watson","SA19450","Under 13"]
["SA19451","Lasswade AAC","1994-04-15","Fergus Nimmo","SA19451","Under 17"]
["SA19452","Lasswade AAC","1996-04-18","Mungo Wilson","SA19452","Under 15"]
["SA19453","Lasswade AAC","1980-06-25","Chris Poxton","SA19453","Senior"]
["SA19454","Lasswade AAC","1969-04-02","Eddie Kopystynski","SA19454","Vet"]
["SA19455","VP-Glasgow AC","1961-05-23","Alyson Wray","SA19455","Vet"]
["SA19456","Bellahouston Road Runners","1973-09-11","Robert Thorburn","SA19456","Senior"]
["SA19457","Bellahouston Road Runners","1985-04-22","Chris Black","SA19457","Senior"]
["SA19458","Nairn Road Runners","1975-01-26","Iain Blackburn","SA19458","Senior"]
["SA19459","Kilmarnock H&AC","1997-04-02","Emma Murray","SA19459","Under 15"]
["SA19460","Inverness Harriers AAC","2000-08-16","Kiera Forsyth","SA19460","Under 11"]
["SA19461","Montrose & District AC","1990-05-15","Emily Watson","SA19461","Senior"]
["SA19462","Kilbarchan AAC","1970-12-02","Scott Craig","SA19462","Senior"]
["SA19463","Maryhill Harriers","1983-04-11","Julie Taylor","SA19463","Senior"]
["SA19464","Highland Hill Runners","1980-06-09","David Chapman","SA19464","Senior"]
["SA19465","Kirkintilloch Olympians","1962-10-28","Jennifer Bennie","SA19465","Vet"]
["SA19466","Springburn Harriers","1983-12-05","David Logan","SA19466","Senior"]
["SA19467","Elgin AAC","1999-03-07","Rebecca Matheson","SA19467","Under 13"]
["SA19468","Stewartry AC","1999-06-20","Farrel O'Sullivan","SA19468","Under 13"]
["SA19470","Pitreavie AAC","1997-04-21","Sarah Connor","SA19470","Under 15"]
["SA19472","Westerlands XC Club","1951-07-08","Keith Adams","SA19472","Vet"]
["SA19473","Elgin AAC","2000-06-13","Rachelle Matheson","SA19473","Under 11"]
["SA19474","Giffnock North AAC","1979-12-07","Jennifer Arnott","SA19474","Senior"]
["SA19475","Elgin AAC","1997-05-05","Indigo Philip McDade","SA19475","Under 15"]
["SA19476","Kirkintilloch Olympians","1944-10-19","Tom Ross","SA19476","Vet"]
["SA19477","Bellahouston Harriers","1977-08-03","Brian French","SA19477","Senior"]
["sa19599","Bellahouston Harriers",null,"Robel Negash","sa19599","Senior"]
[null,null,null," "]
[]
[null,null,null," "]
[null,null,null," "]
[null,null,null," "]
[null,null,null," "]
[null,null,null," "]
[null,null,null," "]
[null,null,null," "]
[null,null,null," "]
[null,null,null," "]
[null,null,null," "]
[null,null,null," "]
[null,null,null," "]
[null,null,null," "]
[null,null,null," "]
[null,null,null," "]
[null,null,null," "]
[null,null,null," "]
[null,null,null," "]
[null,null,null," "]
[null,null,null," "]
[null,null,null," "]
[null,null,null," "]
[null,null,null," "]
[null,null,null," "]
[null,null,null," "]
[null,null,null," "]
[null,null,null," "]
[null,null,null," "]
[null,null,null," "]
[null,null,null," "]
[null,null,null," "]
[null,null,null," "]
[null,null,null," "]
[null,null,null," "]
[null,null,null," "]
[null,null,null," "]
[null,null,null," "]
[null,null,null," "]
[null,null,null," "]
[null,null,null," "]
[null,null,null," "]
[null,null,null," "]
[null,null,null," "]
[null,null,null," "]
[null,null,null," "]
[null,null,null," "]
[null,null,null," "]
[null,null,null," "]
[null,null,null," "]
[null,null,null," "]
[null,null,null," "]
[null,null,null," "]
[null,null,null," "]
[null,null,null," "]
[null,null,null," "]
[null,null,null," "]
[null,null,null," "]
[null,null,null," "]
[null,null,null," "]
[null,null,null," "]
[null,null,null," "]
[null,null,null," "]
[null,null,null," "]
[null,null,null," "]
[null,null,null," "]
[null,null,null," "]
[null,null,null," "]
[null,null,null," "]
[null,null,null," "]
[null,null,null," "]
[null,null,null," "]
[null,null,null," "]
[null,null,null," "]
[null,null,null," "]
[null,null,null," "]
[null,null,null," "]
[null,null,null," "]
[null,null,null," "]
[null,null,null," "]
[null,null,null," "]
[null,null,null," "]
[null,null,null," "]
[null,null,null," "]
[null,null,null," "]
[null,null,null," "]
[null,null,null," "]
[null,null,null," "]
[null,null,null," "]
[null,null,null," "]
[null,null,null," "]
[null,null,null," "]
[null,null,null," "]
[null,null,null," "]
[null,null,null," "]
[null,null,null," "]
[null,null,null," "]
[null,null,null," "]
[null,null,null," "]
[null,null,null," "]
[null,null,null," "]
[null,null,null," "]
[null,null,null," "]
[null,null,null," "]
[null,null,null," "]
[null,null,null," "]
[null,null,null," "]
[null,null,null," "]
[null,null,null," "]
[null,null,null," "]
[null,null,null," "]
[null,null,null," "]
[null,null,null," "]
[null,null,null," "]
[null,null,null," "]
[null,null,null," "]
[null,null,null," "]
[null,null,null," "]
[null,null,null," "]
[null,null,null," "]
[null,null,null," "]
[null,null,null," "]
[null,null,null," "]
[null,null,null," "]
[null,null,null," "]
[null,null,null," "]
[null,null,null," "]
[null,null,null," "]
[null,null,null," "]
[null,null,null," "]
[null,null,null," "]
[null,null,null," "]
[null,null,null," "]
[null,null,null," "]
[null,null,null," "]
[null,null,null," "]
[null,null,null," "]
[null,null,null," "]
[null,null,null," "]
[null,null,null," "]
[null,null,null," "]
[null,null,null," "]
[null,null,null," "]
[null,null,null," "]
[null,null,null," "]
[null,null,null," "]
[null,null,null," "]
[null,null,null," "]
[null,null,null," "]
[null,null,null," "]
[null,null,null," "]
[null,null,null," "]
[null,null,null," "]
[null,null,null," "]
[null,null,null," "]
[null,null,null," "]
[null,null,null," "]
[null,null,null," "]
[null,null,null," "]
[null,null,null," "]
[null,null,null," "]
[null,null,null," "]
[null,null,null," "]
[null,null,null," "]
[null,null,null," "]
[null,null,null," "]
[null,null,null," "]
[null,null,null," "]
[null,null,null," "]
[null,null,null," "]
[null,null,null," "]
[null,null,null," "]

{"sheet":"Prizewinners","index":1,"n_rows":24,"n_cols":8,"rows_kept":24,"cut":false,"hidden":false,"merged":[]}
["Prize","Name","cat","Club","Ayrshire","Inp","Time"]
["1stM","David Phee","M","Giffnock North AAC",0,3244,"32:44","Copy "]
["2ndM","Cris Walsh","M40","Bellahouston Harriers",0,3435,"34:35","from"]
["3rdM","Andrew Campbell","M","Bellahouston Harriers",0,3448,"34:48","Name"]
["1stM40","Keith Haining","M40","Kilmarnock H&AC","y",3543,"35:43","across"]
["1stM50","John Cairns","M50","Kilmarnock H&AC","y",3838,"38:38"]
["1stM60","James White","M60","Irvine AC","y",4204,"42:04","Delete or"]
["1stMU20","Fraser Mackie","M20","North Ayrshire AC","y",4127,"41:27","compress"]
[null,null,null,null,null,null,null,"unwanted "]
["1stF","Angela Reid","F35","UA","y",4203,"42:03","columns"]
["2ndF","Erica Christie","F55","Bellahouston Harriers",0,4258,"42:58"]
["3rdF","Gael Riddle","F35","Ayr Seaforth AAC","y",4353,"43:53","time"]
["1stF35","Fiona Comrie","F35","North Ayrshire AC","y",4446,"44:46","format"]
["1stF45","Christine Kling","F45","More Than Running","y",4518,"45:18","[hh]:mm"]
["1stF55","Janice McKellar","f55","Ayr Seaforth AAC","y",5351,"53:51"]
["1stFU20","Shona Blades","F20","North Ayrshire AC","y",4430,"44:30"]
[]
[]
["1st Mens Team:","Bellahouston Harriers"]
["Runners:","Cris Walsh",null,"Ruairidh Macdonald"]
[null,"Andrew Campbell",null,"clawson paul"]
["1st Womens Team:","Ayr Seaforth AAC"]
["Runners:","Gael Riddle",null,"Bethany Macrae"]
[null,"Aimi Barker"]

{"sheet":"Ayrshire Medals","index":2,"n_rows":35,"n_cols":7,"rows_kept":35,"cut":false,"hidden":false,"merged":[]}
[" Medal","Name","cat","Club","Ayrshire","Time"]
["1stM","Jamie Findlay",null,"Irvine AC",null,"35:05"]
["2ndM","Steven Reid","M","Ayr Seaforth","y","35:39"]
["3rdM","Keith Haining","M40","Kilmarnock H&AC","y","35:43"]
["1stM40","Keith Haining","M40","Kilmarnock H&AC","y","35:43","unwanted"]
["1stM50","John Cairns","M50","Kilmarnock H&AC","y","38:38","columns"]
["1stM60","James White","M60","Irvine AC","y","42:04","time"]
["1stMU20","Fraser Mackie","M20","North Ayrshire AC","y","41:27","format"]
[null,null,null,null,null,null,"[hh]:mm"]
["1stF","Angela Reid","F35","UA","y","42:03"]
["2ndF","Gael Riddle","F35","Ayr Seaforth AAC","y","43:53"]
["3rdF","Shona Blades","F20","North Ayrshire AC","y","44:30"]
["1stF35","Angela Reid","F35","UA","y","42:03"]
["1stF45","Christine Kling","F45","More Than Running","y","45:18"]
["1stF55","Janice McKellar","F55","Ayr Seaforth AAC","y","53:51"]
["1stFU20","Shona Blades","F20","North Ayrshire AC","y","44:30"]
[]
[]
["1st Mens Team:","Ayr Seaforth AAC"]
["Runners:","Steven Reid",null,"Craig Brown"]
[null,"Stephen McCrorie",null,"Alex Dunlop"]
["2nd Mens Team:","Kilmarnock H&AC"]
["Runners:","Keith Haining",null,"John Cairns"]
[null,"Stewart Ferguson",null,"James Wales"]
["3rd Mens Team:","Irvine AC"]
["Runners:","Jamie Findlay",null,"John Surgenor"]
[null,"Steven Stirrat",null,"Gordon Thomson"]
["1st Womens Team:","Ayr Seaforth AAC"]
["Runners:","Bethany Macrae",null,"Gael Riddle"]
[null,"Aimi Barker"]
["2nd Womens Team:","Kilmarnock H&AC"]
["Runners:","Natalie Boyce",null,"Rosemary McMillan"]
[null,"Jacqueline Neil"]
["3rd Womens Team:","Club here"]
["Runners:"]

{"sheet":"Ayrshire Sorting","index":3,"n_rows":401,"n_cols":16,"rows_kept":401,"cut":false,"hidden":false,"merged":[]}
["Position","Bib No","Name","Cat","Club","Ayrs","Time",null,null,null,"Duplicate Bib Number Check"]
[null,null,"Copy Results Sheet",null,null,"USE THIS SHEET TO CHECK FOR DUPLICATE BIB NUMBERS",null,null,null,"Bib No","Name","Cat","Club","Ayrs","Input","Time"]
[62,20,"Gael Riddle","F35","Ayr Seaforth AAC","y","43:53",null,null,1,"Alan Inglis","M","UA","y",4729,"47:29"]
[88,99,"Bethany Macrae","F20","Ayr Seaforth AAC","y","46:52",null,null,2,"Chris Boyce","M","Troon Tortoises AC","y",4226,"42:26"]
[118,27,"Aimi Barker","F35","Ayr Seaforth AAC","y","50:02",null,null,3,"Paul Darroch","M","UA","y",6607,"66:07"]
[132,152,"Noelle McQuillan","F45","Ayr Seaforth AAC","y","53:14",null,null,5,"Gary Kilpatrick","M","Rons Runners","y",3915,"39:15"]
[136,122,"Janice McKellar","F55","Ayr Seaforth AAC","y","53:51",null,null,8,"Sue Denton","F35","Irvine AC","y",5725,"57:25"]
[95,133,"Elaine Rennie","F45","Girvan AAC","y","47:50",null,null,9,"Angela Reid","F35","UA","y",4203,"42:03"]
[140,144,"Lynn Masterton","F35","Irvine AC","y","54:43",null,null,10,"Luke Chamberlain","M40","UA",0,3813,"38:13"]
[153,8,"Sue Denton","F35","Irvine AC","y","57:25",null,null,12,"Ross Bickerstaff","M50","Hamilton Harriers",0,5752,"57:52"]
[167,37,"Marianne Grover","F55","Jog Stewarton","y","60:43",null,null,13,"Jim McCleary","M50","UA","y",5349,"53:49"]
[99,119,"Natalie Boyce","F","Kilmarnock H&AC","y","48:04",null,null,14,"Doreen McCleary","F35","UA","y",4903,"49:03"]
[100,42,"Jacqueline Neil","F","Kilmarnock H&AC","y","48:18",null,null,15,"Lyndsay Moffat","F","Hamilton Harriers",0,5752,"57:52"]
[102,121,"Rosemary McMillan","F45","Kilmarnock H&AC","y","48:40",null,null,18,"Lindsay Taylor","F35","QT pudding club","y",5538,"55:38"]
[162,94,"Emmy Dodds","F45","Kilmarnock H&AC","y","59:02",null,null,19,"Rachel Borland","F35","QT pudding club","y",4800,"48:00"]
[184,45,"Janice Millar","F55","Kilmarnock H&AC","y","70:58",null,null,20,"Gael Riddle","F35","Ayr Seaforth AAC","y",4353,"43:53"]
[159,41,"Suzy Moorby","F45","Monkton Milers","y","58:32",null,null,21,"Rob Carrol","M","Troon Tortoises AC","y",4845,"48:45"]
[74,32,"Christine Kling","F45","More Than Running","y","45:18",null,null,22,"Ian Wilson","M40","UA","y",4622,"46:22"]
[66,172,"Shona Blades","F20","North Ayrshire AC","y","44:30",null,null,23,"Steven Reid","M","Ayr Seaforth","y",3539,"35:39"]
[68,93,"Fiona Comrie","F35","North Ayrshire AC","y","44:46",null,null,25,"Matthew Cameron","M20","Ayr Seaforth AAC","y",4349,"43:49"]
[98,19,"Rachel Borland","F35","QT pudding club","y","48:00",null,null,26,"Stuart Brockie","M","Ayr Seaforth AAC","y",4054,"40:54"]
[146,18,"Lindsay Taylor","F35","QT pudding club","y","55:38",null,null,27,"Aimi Barker","F35","Ayr Seaforth AAC","y",5002,"50:02"]
[90,175,"Carly Wilson","F","Rons Runners","y","46:56",null,null,29,"Brian Robertson","M","UA",0,3555,"35:55"]
[123,104,"Brogan Gibson","F20","Rons Runners","y","51:39",null,null,30,"James Rowley","M60","Law &  District AAC",0,5350,"53:50"]
[145,181,"Leanne Donovan","F35","Rons Runners","y","55:24",null,null,31,"Stuart Livingstone","M","Corstorphine AAC",0,3716,"37:16"]
[148,139,"Gillian Dunwoodie","F45","Rons Runners","y","56:29",null,null,32,"Christine Kling","F45","More Than Running","y",4518,"45:18"]
[151,190,"Sharon Crombie","F35","Rons Runners","y","57:04",null,null,33,"Hayley McCrorie","F","Bellahouston Road Runners",0,5047,"50:47"]
[152,125,"Carol Rome","F35","Rons Runners","y","57:13",null,null,34,"David Bowman","M","UA","y",4956,"49:56"]
[160,126,"Amanda Lindsay","F45","Rons Runners","y","58:45",null,null,35,"David McCurry","M","UA","y",4956,"49:56"]
[163,103,"Astrud Gibson","F35","Rons Runners","y","59:06",null,null,37,"Marianne Grover","F55","Jog Stewarton","y",6043,"60:43"]
[165,128,"Allison Elliot","F35","Rons Runners","y","59:12",null,null,39,"George Laird","M40","Kilmarnock H&AC","y",4333,"43:33"]
[166,179,"Alex Marshall","F","Rons Runners","y","60:06",null,null,40,"Phil Cordiner","M","UA","y",4535,"45:35"]
[168,180,"Anita Mackie","F35","Rons Runners","y","60:58",null,null,41,"Suzy Moorby","F45","Monkton Milers","y",5832,"58:32"]
[169,178,"Sharon Maule","F35","Rons Runners","y","61:04",null,null,42,"Jacqueline Neil","F","Kilmarnock H&AC","y",4818,"48:18"]
[170,146,"Claire Webb","F","Rons Runners","y","61:50",null,null,43,"Daniel McConnell","M","Kilmarnock H&AC","y",4637,"46:37"]
[176,127,"Patricia McMullen","F45","Rons Runners","y","64:43",null,null,44,"James Murray","M","UA","y",4115,"41:15"]
[180,150,"Carrol Finlay","F45","Rons Runners","y","67:21",null,null,45,"Janice Millar","F55","Kilmarnock H&AC","y",7058,"70:58"]
[181,130,"Shirley Templeton","F45","Rons Runners","y","67:21",null,null,46,"Ian Falconer","M50","UA","y",4655,"46:55"]
[101,148,"Caroline Mutch","F35","Troon Tortoises AC","y","48:35",null,null,48,"Mark Neville","M","UA","y",4406,"44:06"]
[127,186,"Moira Connell","F45","Troon Tortoises AC","y","52:05",null,null,49,"Calum Macdonald","M","Ayr Seaforth AAC","y",4454,"44:54"]
[45,9,"Angela Reid","F35","UA","y","42:03",null,null,50,"Anthony Baker","M","UA","y",5409,"54:09"]
[73,165,"Kerry Murdoch","F","UA","y","45:09",null,null,51,"Mike Turner","M40","UA","y",4639,"46:39"]
[94,86,"Emma Vallely","F20","UA","y","47:44",null,null,52,"Kenneth Fowler","M40","Troon Tortoises AC","y",4208,"42:08"]
[108,14,"Doreen McCleary","F35","UA","y","49:03",null,null,53,"Ian Hughes","M40","Calderglen Harriers",0,3620,"36:20"]
[126,64,"Viv Lambert","F35","UA","y","51:59",null,null,54,"Kevin Bloy","M40","Ayr Seaforth AAC","y",3912,"39:12"]
[130,153,"Gillian Watson","F","UA","y","52:54",null,null,55,"Craig Welsh","M","UA","y",5058,"50:58"]
[133,191,"Ashley Traynor","F","UA","y","53:41",null,null,56,"Darrell Dunscombe","M40","Troon Tortoises AC","y",4524,"45:24"]
[142,90,"Helen Bruce","F45","UA","y","54:49",null,null,57,"Andrew Campbell","M","Bellahouston Harriers",0,3448,"34:48"]
[149,85,"Maggie Kinghorn","F35","UA","y","56:35",null,null,58,"Ian McNee","M50","Troon Tortoises AC","y",4705,"47:05"]
[150,69,"Linda Lithgow","F35","UA","y","56:40",null,null,59,"Andy McNaughton","M40","Rons Runners","y",4602,"46:02"]
[171,183,"Lynn Robertson","F35","UA","y","63:11",null,null,60,"Ian Young","M","Ayr Seaforth AAC","y",4453,"44:53"]
[173,95,"Alison Reid","F35","UA","y","63:54",null,null,61,"Alison Duncan","F","Hamilton Harriers",0,6819,"68:19"]
[174,84,"Jennifer Simpson","F35","UA","y","64:36",null,null,62,"Tom Steel","M40","Hamilton Harriers",0,4233,"42:33"]
[177,105,"Lorraine Howard","F35","UA","y","65:47",null,null,63,"Gillian Stevenson","F","UA",0,6819,"68:19"]
[178,106,"Linda Howard","f35","UA","y","65:47",null,null,64,"Viv Lambert","F35","UA","y",5159,"51:59"]
[5,23,"Steven Reid","M","Ayr Seaforth AAC","y","35:39",null,null,65,"Paul Chapman","M","UA","y",4241,"42:41"]
[9,118,"Stephen McCrorie","M40","Ayr Seaforth AAC","y","36:25",null,null,66,"Derek Middleton","M50","Kilmarnock H&AC","y",4925,"49:25"]
[16,68,"Craig Brown","M","Ayr Seaforth AAC","y","38:17",null,null,67,"Allan Hogarth","M40","UA",0,4751,"47:51"]
[17,156,"Alex Dunlop","M40","Ayr Seaforth AAC","y","38:34",null,null,68,"Craig Brown","M","Ayr Seaforth AAC","y",3817,"38:17"]
[25,54,"Kevin Bloy","M40","Ayr Seaforth AAC","y","39:12",null,null,69,"Linda Lithgow","F35","UA","y",5640,"56:40"]
[32,154,"Stuart Maclean","M40","Ayr Seaforth AAC","y","40:35",null,null,70,"David Thomson","M","East Kilbride AC",0,3858,"38:58"]
[35,26,"Stuart Brockie","M","Ayr Seaforth AAC","y","40:54",null,null,71,"Allan Moore","M","UA",0,4902,"49:02"]
[42,138,"Paul Turnbull","M50","Ayr Seaforth AAC","y","41:26",null,null,72,"David Mitchell","M40","Ayrodynamic Triathlon Club","y",4915,"49:15"]
[50,157,"Martin McCrorie","M","Ayr Seaforth AAC","y","42:28",null,null,73,"Ian Rutherford","M40","UA","y",5156,"51:56"]
[61,25,"Matthew Cameron","M20","Ayr Seaforth AAC","y","43:49",null,null,74,"Kieron Murphy","M","Spenborough AC",0,4029,"40:29"]
[70,60,"Ian Young","M","Ayr Seaforth AAC","y","44:53",null,null,75,"Cris Walsh","M40","Bellahouston Harriers",0,3435,"34:35"]
[110,72,"David Mitchell","M40","Ayrodynamic Triathlon Club","y","49:15",null,null,77,"Ruairidh Macdonald","M","Bellahouston Harriers",0,3814,"38:14"]
[38,135,"Brian Wallace","M","Girvan AAC","y","41:09",null,null,78,"clawson paul","M","Bellahouston Harriers",0,3906,"39:06"]
[48,131,"Stephen Flanagan","M40","Girvan AAC","y","42:17",null,null,79,"Iain Burke","M60","Bellahouston Harriers",0,4637,"46:37"]
[63,134,"John Rennie","M40","Girvan AAC","y","44:00",null,null,80,"Erica Christie","F55","Bellahouston Harriers",0,4258,"42:58"]
[4,188,"Jamie Findlay","M","Irvine AC","y","35:05",null,null,81,"Eric McGowan","M","UA",0,5302,"53:02"]
[12,193,"Steven Stirrat","M","Irvine AC","y","37:31",null,null,82,"Gerry Penman","M40","Scottish Prison Service AAC","y",4945,"49:45"]
[29,102,"John Surgenor","M50","Irvine AC","y","40:14",null,null,83,"Bob Richardson","M","UA",0,5504,"55:04"]
[33,136,"Gordon Thomson","M40","Irvine AC","y","40:37",null,null,84,"Jennifer Simpson","F35","UA","y",6436,"64:36"]
[36,111,"James Sneddon","M40","Irvine AC","y","41:06",null,null,85,"Maggie Kinghorn","F35","UA","y",5635,"56:35"]
[46,142,"James White","M60","Irvine AC","y","42:04",null,null,86,"Emma Vallely","F20","UA","y",4744,"47:44"]
[128,187,"Steven Connell","M40","Irvine AC","y","52:05",null,null,87,"Jim Frew","M40","UA","y",5725,"57:25"]
[54,98,"Tom Coughtrie","M50","Jog Scotland","y","42:52",null,null,88,"Scott Lyden","M","UA","y",3950,"39:50"]
[6,107,"Keith Haining","M40","Kilmarnock H&AC","y","35:43",null,null,89,"Helen Whyte","F55","Hamilton Harriers",0,5400,"54:00"]
[13,124,"Stewart Ferguson","M40","Kilmarnock H&AC","y","37:50",null,null,90,"Helen Bruce","F45","UA","y",5449,"54:49"]
[18,161,"John Cairns","M50","Kilmarnock H&AC","y","38:38",null,null,91,"Maureen McVey","F45","Giffnock North",0,4638,"46:38"]
[19,120,"James Wales","M","Kilmarnock H&AC","y","38:51",null,null,92,"James O'Hagan","M40","Giffnock North",0,4506,"45:06"]
[22,184,"Alasdair Murray","M40","Kilmarnock H&AC","y","39:05",null,null,93,"Fiona Comrie","F35","North Ayrshire AC","y",4446,"44:46"]
[31,123,"John Parker","M50","Kilmarnock H&AC","y","40:31",null,null,94,"Emmy Dodds","F45","Kilmarnock H&AC","y",5902,"59:02"]
[53,176,"Richard Skillen","M40","Kilmarnock H&AC","y","42:50",null,null,95,"Alison Reid","F35","UA","y",6354,"63:54"]
[55,162,"Mark Hamilton","M40","Kilmarnock H&AC","y","42:56",null,null,96,"Thomas Turner snr","M40","Rons Runners","y",5515,"55:15"]
[60,39,"George Laird","M40","Kilmarnock H&AC","y","43:33",null,null,97,"Ian McIlwraith","M40","Rons Runners","y",4257,"42:57"]
[67,109,"Stewart McAllister","M","Kilmarnock H&AC","y","44:32",null,null,98,"Tom Coughtrie","M50","Jog Scotland","y",4252,"42:52"]
[76,147,"Matthew Ferguson","M60","Kilmarnock H&AC","y","45:28",null,null,99,"Bethany Macrae","F20","Ayr Seaforth AAC","y",4652,"46:52"]
[85,43,"Daniel McConnell","M","Kilmarnock H&AC","y","46:37",null,null,100,"Billy Clark","M50","Giffnock North AAC",0,4108,"41:08"]
[97,132,"Brian Darroch","M40","Kilmarnock H&AC","y","47:56",null,null,101,"Kenny Weir","M60","UA","y",5448,"54:48"]
[112,66,"Derek Middleton","M50","Kilmarnock H&AC","y","49:25",null,null,102,"John Surgenor","M50","Irvine AC","y",4014,"40:14"]
[161,177,"Alan Anderson","M50","Kilmarnock H&AC","y","58:48",null,null,103,"Astrud Gibson","F35","Rons Runners","y",5906,"59:06"]
[10,110,"Steve Daye","M","North Ayrshire AC","y","37:07",null,null,104,"Brogan Gibson","F20","Rons Runners","y",5139,"51:39"]
[27,158,"Mark Preston","M","North Ayrshire AC","y","39:19",null,null,105,"Lorraine Howard","F35","UA","y",6547,"65:47"]
[41,112,"Derek Reid","M40","North Ayrshire AC","y","41:22",null,null,106,"Linda Howard","f35","UA","y",6547,"65:47"]
[43,173,"Fraser Mackie","M20","North Ayrshire AC","y","41:27",null,null,107,"Keith Haining","M40","Kilmarnock H&AC","y",3543,"35:43"]
[26,5,"Gary Kilpatrick","M","Rons Runners","y","39:15",null,null,109,"Stewart McAllister","M","Kilmarnock H&AC","y",4432,"44:32"]
[56,97,"Ian McIlwraith","M40","Rons Runners","y","42:57",null,null,110,"Steve Daye","M","North Ayrshire AC","y",3707,"37:07"]
[69,195,"A.Stewart","M40","Rons Runners","y","44:48",null,null,111,"James Sneddon","M40","Irvine AC","y",4106,"41:06"]
[80,59,"Andy McNaughton","M40","Rons Runners","y","46:02",null,null,112,"Derek Reid","M40","North Ayrshire AC","y",4122,"41:22"]
[84,171,"David Mackie","M40","Rons Runners","y","46:35",null,null,113,"Gerry Cole","M50","UA","y",4909,"49:09"]
[103,141,"Ian Short","M60","Rons Runners","y","48:42",null,null,114,"Jim Phillips","M40","Troon Tortoises AC","y",4040,"40:40"]
[124,155,"Paul Camlin","M40","Rons Runners","y","51:39",null,null,115,"John Boyd","M50","UA",0,4922,"49:22"]
[144,96,"Thomas Turner snr","M40","Rons Runners","y","55:15",null,null,116,"Allison Johnston","F45","UA",0,6318,"63:18"]
[147,170,"Gary Kerr","M","Rons Runners","y","55:56",null,null,117,"Bobby Miller","M50","Troon Tortoises AC","y",4113,"41:13"]
[154,97,"Ian McIlwraith","M40","Rons Runners","y","57:25",null,null,118,"Stephen McCrorie","M40","Ayr Seaforth AAC","y",3625,"36:25"]
[164,129,"James Elliot","M40","Rons Runners","y","59:10",null,null,119,"Natalie Boyce","F","Kilmarnock H&AC","y",4804,"48:04"]
[175,189,"C. McNairney","M60","Rons Runners","y","64:37",null,null,120,"James Wales","M","Kilmarnock H&AC","y",3851,"38:51"]
[115,82,"Gerry Penman","M40","Scottish Prison Service AAC","y","49:45",null,null,121,"Rosemary McMillan","F45","Kilmarnock H&AC","y",4840,"48:40"]
[34,114,"Jim Phillips","M40","Troon Tortoises AC","y","40:40",null,null,122,"Janice McKellar","f55","Ayr Seaforth AAC","y",5351,"53:51"]
[39,117,"Bobby Miller","M50","Troon Tortoises AC","y","41:13",null,null,123,"John Parker","M50","Kilmarnock H&AC","y",4031,"40:31"]
[47,52,"Kenneth Fowler","M40","Troon Tortoises AC","y","42:08",null,null,124,"Stewart Ferguson","M40","Kilmarnock H&AC","y",3750,"37:50"]
[49,2,"Chris Boyce","M","Troon Tortoises AC","y","42:26",null,null,125,"Carol Rome","F35","Rons Runners","y",5713,"57:13"]
[75,56,"Darrell Dunscombe","M40","Troon Tortoises AC","y","45:24",null,null,126,"Amanda Lindsay","F45","Rons Runners","y",5845,"58:45"]
[91,58,"Ian McNee","M50","Troon Tortoises AC","y","47:05",null,null,127,"Patricia McMullen","F45","Rons Runners","y",6443,"64:43"]
[104,21,"Rob Carrol","M","Troon Tortoises AC","y","48:45",null,null,128,"Allison Elliot","F35","Rons Runners","y",5912,"59:12"]
[114,151,"George McGregor","M60","Troon Tortoises AC","y","49:39",null,null,129,"James Elliot","M40","Rons Runners","y",5910,"59:10"]
[28,88,"Scott Lyden","M","UA","y","39:50",null,null,130,"Shirley Templeton","F45","Rons Runners","y",6721,"67:21"]
[40,44,"James Murray","M","UA","y","41:15",null,null,131,"Stephen Flanagan","M40","Girvan AAC","y",4217,"42:17"]
[44,163,"Alistair McCallum","M","UA","y","41:59",null,null,132,"Brian Darroch","M40","Kilmarnock H&AC","y",4756,"47:56"]
[52,65,"Paul Chapman","M","UA","y","42:41",null,null,133,"Elaine Rennie","F45","Girvan AAC","y",4750,"47:50"]
[58,182,"Gordon Stuart","M","UA","y","42:59",null,null,134,"John Rennie","M40","Girvan AAC","y",4400,"44:00"]
[59,168,"Thomas Turner ","M","UA","y","43:04",null,null,135,"Brian Wallace","M","Girvan AAC","y",4109,"41:09"]
[64,48,"Mark Neville","M","UA","y","44:06",null,null,136,"Gordon Thomson","M40","Irvine AC","y",4037,"40:37"]
[77,40,"Phil Cordiner","M","UA","y","45:35",null,null,137,"Greig Buchanan","M40","UA","y",4542,"45:42"]
[78,137,"Greig Buchanan","M40","UA","y","45:42",null,null,138,"Paul Turnbull","M50","Ayr Seaforth AAC","y",4126,"41:26"]
[79,194,"James McGill","M40","UA","y","45:43",null,null,139,"Gillian Dunwoodie","F45","Rons Runners","y",5629,"56:29"]
[81,22,"Ian Wilson","M40","UA","y","46:22",null,null,140,"John Connell","M40","UA",0,5005,"50:05"]
[82,164,"Craig Murdoch","M","UA","y","46:28",null,null,141,"Ian Short","M60","Rons Runners","y",4842,"48:42"]
[87,51,"Mike Turner","M40","UA","y","46:39",null,null,142,"James White","M60","Irvine AC","y",4204,"42:04"]
[89,46,"Ian Falconer","M50","UA","y","46:55",null,null,143,"Michael Anderson","M","UA","y",5443,"54:43"]
[92,149,"Robert Staples","M40","UA","y","47:24",null,null,144,"Lynn Masterton","F35","Irvine AC","y",5443,"54:43"]
[93,1,"Alan Inglis","M","UA","y","47:29",null,null,145,"Pamela Porteous","F35","UA",0,4853,"48:53"]
[106,166,"Russel Frew","M","UA","y","48:56",null,null,146,"Claire Webb","F","Rons Runners","y",6150,"61:50"]
[109,113,"Gerry Cole","M50","UA","y","49:09",null,null,147,"Matthew Ferguson","M60","Kilmarnock H&AC","y",4528,"45:28"]
[113,197,"Neill Russel","M40","UA","y","49:38",null,null,148,"Caroline Mutch","F35","Troon Tortoises AC","y",4835,"48:35"]
[116,34,"David Bowman","M","UA","y","49:56",null,null,149,"Robert Staples","M40","UA","y",4724,"47:24"]
[117,35,"David McCurry","M","UA","y","49:56",null,null,150,"Carrol Finlay","F45","Rons Runners","y",6721,"67:21"]
[120,199,"Adam Howieson","M","UA","y","50:07",null,null,151,"George McGregor","M60","Troon Tortoises AC","y",4939,"49:39"]
[122,55,"Craig Welsh","M","UA","y","50:58",null,null,152,"Noelle McQuillan","F45","Ayr Seaforth AAC","y",5314,"53:14"]
[125,73,"Ian Rutherford","M40","UA","y","51:56",null,null,153,"Gillian Watson","F","UA","y",5254,"52:54"]
[129,196,"Alex Howieson","M","UA","y","52:46",null,null,154,"Stuart Maclean","M40","Ayr Seaforth AAC","y",4035,"40:35"]
[134,13,"Jim McCleary","M50","UA","y","53:49",null,null,155,"Paul Camlin","M40","Rons Runners","y",5139,"51:39"]
[138,50,"Anthony Baker","M","UA","y","54:09",null,null,156,"Alex Dunlop","M40","Ayr Seaforth AAC","y",3834,"38:34"]
[139,143,"Michael Anderson","M","UA","y","54:43",null,null,157,"Martin McCrorie","M","Ayr Seaforth AAC","y",4228,"42:28"]
[141,101,"Kenny Weir","M60","UA","y","54:48",null,null,158,"Mark Preston","M","North Ayrshire AC","y",3919,"39:19"]
[157,167,"Robert Steel","M50","UA","y","57:58",null,null,159,"David Phee","M","Giffnock North AAC",0,3244,"32:44"]
[179,3,"Paul Darroch","M","UA","y","66:07",null,null,161,"John Cairns","M50","Kilmarnock H&AC","y",3838,"38:38"]
[185,202,"Kenny Reid","M20","UA","y","74:33",null,null,162,"Mark Hamilton","M40","Kilmarnock H&AC","y",4256,"42:56"]
[1,159,"David Phee","M","Giffnock North AAC",0,"32:44",null,null,163,"Alistair McCallum","M","UA","y",4159,"41:59"]
[2,75,"Cris Walsh","M40","Bellahouston Harriers",0,"34:35",null,null,164,"Craig Murdoch","M","UA","y",4628,"46:28"]
[3,57,"Andrew Campbell","M","Bellahouston Harriers",0,"34:48",null,null,165,"Kerry Murdoch","F","UA","y",4509,"45:09"]
[7,29,"Brian Robertson","M","UA",0,"35:55",null,null,166,"Russel Frew","M","UA","y",4856,"48:56"]
[8,53,"Ian Hughes","M40","Calderglen Harriers",0,"36:20",null,null,167,"Robert Steel","M50","UA","y",5758,"57:58"]
[11,31,"Stuart Livingstone","M","Corstorphine AAC",0,"37:16",null,null,168,"Thomas Turner ","M","UA","y",4304,"43:04"]
[14,10,"Luke Chamberlain","M40","UA",0,"38:13",null,null,169,"Scott MacSephney","M40","Ipswich Jaffa",0,3854,"38:54"]
[15,77,"Ruairidh Macdonald","M","Bellahouston Harriers",0,"38:14",null,null,170,"Gary Kerr","M","Rons Runners","y",5556,"55:56"]
[20,169,"Scott MacSephney","M40","Ipswich Jaffa",0,"38:54",null,null,171,"David Mackie","M40","Rons Runners","y",4635,"46:35"]
[21,70,"David Thomson","M","East Kilbride AC",0,"38:58",null,null,172,"Shona Blades","F20","North Ayrshire AC","y",4430,"44:30"]
[23,78,"clawson paul","M","Bellahouston Harriers",0,"39:06",null,null,173,"Fraser Mackie","M20","North Ayrshire AC","y",4127,"41:27"]
[24,200,"Stephen Speirs","M40","Kilbarchan AAC",0,"39:09",null,null,175,"Carly Wilson","F","Rons Runners","y",4656,"46:56"]
[30,74,"Kieron Murphy","M","Spenborough AC",0,"40:29",null,null,176,"Richard Skillen","M40","Kilmarnock H&AC","y",4250,"42:50"]
[37,100,"Billy Clark","M50","Giffnock North AAC",0,"41:08",null,null,177,"Alan Anderson","M50","Kilmarnock H&AC","y",5848,"58:48"]
[51,62,"Tom Steel","M40","Hamilton Harriers",0,"42:33",null,null,178,"Sharon Maule","F35","Rons Runners","y",6104,"61:04"]
[57,80,"Erica Christie","F55","Bellahouston Harriers",0,"42:58",null,null,179,"Alex Marshall","F","Rons Runners","y",6006,"60:06"]
[65,185,"Andrew Clugston","M","Kilbarchan AAC",0,"44:28",null,null,180,"Anita Mackie","F35","Rons Runners","y",6058,"60:58"]
[71,79,"Iain Burke","M60","Bellahouston Harriers",0,"44:54",null,null,181,"Leanne Donovan","F35","Rons Runners","y",5524,"55:24"]
[72,92,"James O'Hagan","M40","Giffnock North",0,"45:06",null,null,182,"Gordon Stuart","M","UA","y",4259,"42:59"]
[83,79,"Iain Burke","M60","Bellahouston Harriers",0,"46:37",null,null,183,"Lynn Robertson","F35","UA","y",6311,"63:11"]
[86,91,"Maureen McVey","F45","Giffnock North",0,"46:38",null,null,184,"Alasdair Murray","M40","Kilmarnock H&AC","y",3905,"39:05"]
[96,67,"Allan Hogarth","M40","UA",0,"47:51",null,null,185,"Andrew Clugston","M","Kilbarchan AAC",0,4428,"44:28"]
[105,145,"Pamela Porteous","F35","UA",0,"48:53",null,null,186,"Moira Connell","F45","Troon Tortoises AC","y",5205,"52:05"]
[107,71,"Allan Moore","M","UA",0,"49:02",null,null,187,"Steven Connell","M40","Irvine AC","y",5205,"52:05"]
[111,115,"John Boyd","M50","UA",0,"49:22",null,null,188,"Jamie Findlay","M","Irvine AC","y",3505,"35:05"]
[119,140,"John Connell","M40","UA",0,"50:05",null,null,189,"C. McNairney","M60","Rons Runners","y",6437,"64:37"]
[121,33,"Hayley McCrorie","F","Bellahouston Road Runners",0,"50:47",null,null,190,"Sharon Crombie","F35","Rons Runners","y",5704,"57:04"]
[131,81,"Eric McGowan","M","UA",0,"53:02",null,null,191,"Ashley Traynor","F","UA","y",5341,"53:41"]
[135,30,"James Rowley","M60","Law &  District AAC",0,"53:50",null,null,192,"Niki MacSephney","F35","Ipswich Jaffa",0,7459,"74:59"]
[137,89,"Helen Whyte","F55","Hamilton Harriers",0,"54:00",null,null,193,"Steven Stirrat","M","Irvine AC","y",3731,"37:31"]
[143,83,"Bob Richardson","M","UA",0,"55:04",null,null,194,"James McGill","M40","UA","y",4543,"45:43"]
[155,15,"Lyndsay Moffat","F","Hamilton Harriers",0,"57:52",null,null,195,"A.Stewart","M40","Rons Runners","y",4448,"44:48"]
[156,12,"Ross Bickerstaff","M50","Hamilton Harriers",0,"57:52",null,null,196,"Alex Howieson","M","UA","y",5246,"52:46"]
[158,201,"Scott Gilmour","M20","UA",0,"58:21",null,null,197,"Neill Russel","M40","UA","y",4938,"49:38"]
[172,116,"Allison Johnston","F45","UA",0,"63:18",null,null,199,"Adam Howieson","M","UA","y",5007,"50:07"]
[182,63,"Gillian Stevenson","F","UA",0,"68:19",null,null,200,"Stephen Speirs","M40","Kilbarchan AAC",0,3909,"39:09"]
[183,61,"Alison Duncan","F","Hamilton Harriers",0,"68:19",null,null,201,"Scott Gilmour","M20","UA",0,5821,"58:21"]
[186,192,"Niki MacSephney","F35","Ipswich Jaffa",0,"74:59",null,null,202,"Kenny Reid","M20","UA","y",7433,"74:33"]
[null,"."]
[null,"."]
[null,"."]
[null,"."]
[null,"."]
[null,"."]
[null,"."]
[null,"."]
[null,"."]
[null,"."]
[null,"."]
[null,"."]
[null,"."]
[null,"."]
[null,"."]
[null,"."]
[null,"."]
[null,"."]
[null,"."]
[null,"."]
[null,"."]
[null,"."]
[null,"."]
[null,"."]
[null,"."]
[null,"."]
[null,"."]
[null,"."]
[null,"."]
[null,"."]
[null,"."]
[null,"."]
[null,"."]
[null,"."]
[null,"."]
[null,"."]
[null,"."]
[null,"."]
[null,"."]
[null,"."]
[null,"."]
[null,"."]
[null,"."]
[null,"."]
[null,"."]
[null,"."]
[null,"."]
[null,"."]
[null,"."]
[null,"."]
[null,"."]
[null,"."]
[null,"."]
[null,"."]
[null,"."]
[null,"."]
[null,"."]
[null,"."]
[null,"."]
[null,"."]
[null,"."]
[null,"."]
[null,"."]
[null,"."]
[null,"."]
[null,"."]
[null,"."]
[null,"."]
[null,"."]
[null,"."]
[null,"."]
[null,"."]
[null,"."]
[null,"."]
[null,"."]
[null,"."]
[null,"."]
[null,"."]
[null,"."]
[null,"."]
[null,"."]
[null,"."]
[null,"."]
[null,"."]
[null,"."]
[null,"."]
[null,"."]
[null,"."]
[null,"."]
[null,"."]
[null,"."]
[null,"."]
[null,"."]
[null,"."]
[null,"."]
[null,"."]
[null,"."]
[null,"."]
[null,"."]
[null,"."]
[null,"."]
[null,"."]
[null,"."]
[null,"."]
[null,"."]
[null,"."]
[null,"."]
[null,"."]
[null,"."]
[null,"."]
[null,"."]
[null,"."]
[null,"."]
[null,"."]
[null,"."]
[null,"."]
[null,"."]
[null,"."]
[null,"."]
[null,"."]
[null,"."]
[null,"."]
[null,"."]
[null,"."]
[null,"."]
[null,"."]
[null,"."]
[null,"."]
[null,"."]
[null,"."]
[null,"."]
[null,"."]
[null,"."]
[null,"."]
[null,"."]
[null,"."]
[null,"."]
[null,"."]
[null,"."]
[null,"."]
[null,"."]
[null,"."]
[null,"."]
[null,"."]
[null,"."]
[null,"."]
[null,"."]
[null,"."]
[null,"."]
[null,"."]
[null,"."]
[null,"."]
[null,"."]
[null,"."]
[null,"."]
[null,"."]
[null,"."]
[null,"."]
[null,"."]
[null,"."]
[null,"."]
[null,"."]
[null,"."]
[null,"."]
[null,"."]
[null,"."]
[null,"."]
[null,"."]
[null,"."]
[null,"."]
[null,"."]
[null,"."]
[null,"."]
[null,"."]
[null,"."]
[null,"."]
[null,"."]
[null,"."]
[null,"."]
[null,"."]
[null,"."]
[null,"."]
[null,"."]
[null,"."]
[null,"."]
[null,"."]
[null,"."]
[null,"."]
[null,"."]
[null,"."]
[null,"."]
[null,"."]
[null,"."]
[null,"."]
[null,"."]
[null,"."]
[null,"."]
[null,"."]
[null,"."]
[null,"."]
[null,"."]
[null,"."]
[null,"."]
[null,"."]
[null,"."]
[null,"."]
[null,"."]
[null,"."]
[null,"."]
[null,"."]
[null,"."]
[null,"."]
[null,"."]

{"sheet":"Cats & Teams","index":4,"n_rows":399,"n_cols":12,"rows_kept":399,"cut":false,"hidden":false,"merged":[]}
["Input SAL","Bib No","Name","Cat","Club","Ayrs"]
[null,1,"Copy Declarations Sheet"]
[null,2]
[null,3]
[null,4,null,null,null,null,null,null,null,"Open Race",null,"Ayrshire"]
[null,5]
[null,6,null,null,null,null,null,null,"M"]
[null,7,null,null,null,null,null,null,"M40"]
[null,8,null,null,null,null,null,null,"M50"]
[null,9,null,null,null,null,null,null,"M60"]
[null,10,null,null,null,null,null,null,"M20"]
[null,11,null,null,null,null,null,null,"M17","XXX",null,"XXX"]
[null,12,null,null,null,null,null,null,"F"]
[null,13,null,null,null,null,null,null,"F35"]
[null,14,null,null,null,null,null,null,"F45"]
[null,15,null,null,null,null,null,null,"F55"]
[null,16,null,null,null,null,null,null,"F20"]
[null,17,null,null,null,null,null,null,"F17","XXX",null,"XXX"]
[null,18,null,null,null,null,null,null,"Mens Teams"]
[null,19]
[null,20]
[null,21]
[null,22]
[null,23]
[null,24]
[null,25,null,null,null,null,null,null,"Womens Teams"]
[null,26]
[null,27]
[".",28," "," "," "]
[".",29," "," "," "]
[".",30," "," "," "]
[".",31," "," "," "]
[".",32," "," "," "]
[".",33," "," "," "]
[".",34," "," "," "]
[".",35," "," "," "]
[".",36," "," "," "]
[".",37," "," "," "]
[".",38," "," "," "]
[".",39," "," "," "]
[".",40," "," "," "]
[".",41," "," "," "]
[".",42," "," "," "]
[".",43," "," "," "]
[".",44," "," "," "]
[".",45," "," "," "]
[".",46," "," "," "]
[".",47," "," "," "]
[".",48," "," "," "]
[".",49," "," "," "]
[".",50," "," "," "]
[".",51," "," "," "]
[".",52," "," "," "]
[".",53," "," "," "]
[".",54," "," "," "]
[".",55," "," "," "]
[".",56," "," "," "]
[".",57," "," "," "]
[".",58," "," "," "]
[".",59," "," "," "]
[".",60," "," "," "]
[".",61," "," "," "]
[".",62," "," "," "]
[".",63," "," "," "]
[".",64," "," "," "]
[".",65," "," "," "]
[".",66," "," "," "]
[".",67," "," "," "]
[".",68," "," "," "]
[".",69," "," "," "]
[".",70," "," "," "]
[".",71," "," "," "]
[".",72," "," "," "]
[".",73," "," "," "]
[".",74," "," "," "]
[".",75," "," "," "]
[".",76," "," "," "]
[".",77," "," "," "]
[".",78," "," "," "]
[".",79," "," "," "]
[".",80," "," "," "]
[".",81," "," "," "]
[".",82," "," "," "]
[".",83," "," "," "]
[".",84," "," "," "]
[".",85," "," "," "]
[".",86," "," "," "]
[".",87," "," "," "]
[".",88," "," "," "]
[".",89," "," "," "]
[".",90," "," "," "]
[".",91," "," "," "]
[".",92," "," "," "]
[".",93," "," "," "]
[".",94," "," "," "]
[".",95," "," "," "]
[".",96," "," "," "]
[".",97," "," "," "]
[".",98," "," "," "]
[".",99," "," "," "]
[".",100," "," "," "]
[".",101," "," "," "]
[".",102," "," "," "]
[".",103," "," "," "]
[".",104," "," "," "]
[".",105," "," "," "]
[".",106," "," "," "]
[".",107," "," "," "]
[".",108," "," "," "]
[".",109," "," "," "]
[".",110," "," "," "]
[".",111," "," "," "]
[".",112," "," "," "]
[".",113," "," "," "]
[".",114," "," "," "]
[".",115," "," "," "]
[".",116," "," "," "]
[".",117," "," "," "]
[".",118," "," "," "]
[".",119," "," "," "]
[".",120," "," "," "]
[".",121," "," "," "]
[".",122," "," "," "]
[".",123," "," "," "]
[".",124," "," "," "]
[".",125," "," "," "]
[".",126," "," "," "]
[".",127," "," "," "]
[".",128," "," "," "]
[".",129," "," "," "]
[".",130," "," "," "]
[".",131," "," "," "]
[".",132," "," "," "]
[".",133," "," "," "]
[".",134," "," "," "]
[".",135," "," "," "]
[".",136," "," "," "]
[".",137," "," "," "]
[".",138," "," "," "]
[".",139," "," "," "]
[".",140," "," "," "]
[".",141," "," "," "]
[".",142," "," "," "]
[".",143," "," "," "]
[".",144," "," "," "]
[".",145," "," "," "]
[".",146," "," "," "]
[".",147," "," "," "]
[".",148," "," "," "]
[".",149," "," "," "]
[".",150," "," "," "]
[".",151," "," "," "]
[".",152," "," "," "]
[".",153," "," "," "]
[".",154," "," "," "]
[".",155," "," "," "]
[".",156," "," "," "]
[".",157," "," "," "]
[".",158," "," "," "]
[".",159," "," "," "]
[".",160," "," "," "]
[".",161," "," "," "]
[".",162," "," "," "]
[".",163," "," "," "]
[".",164," "," "," "]
[".",165," "," "," "]
[".",166," "," "," "]
[".",167," "," "," "]
[".",168," "," "," "]
[".",169," "," "," "]
[".",170," "," "," "]
[".",171," "," "," "]
[".",172," "," "," "]
[".",173," "," "," "]
[".",174," "," "," "]
[".",175," "," "," "]
[".",176," "," "," "]
[".",177," "," "," "]
[".",178," "," "," "]
[".",179," "," "," "]
[".",180," "," "," "]
[".",181," "," "," "]
[".",182," "," "," "]
[".",183," "," "," "]
[".",184," "," "," "]
[".",185," "," "," "]
[".",186," "," "," "]
[".",187," "," "," "]
[".",188," "," "," "]
[".",189," "," "," "]
[".",190," "," "," "]
[".",191," "," "," "]
[".",192," "," "," "]
[".",193," "," "," "]
[".",194," "," "," "]
[".",195," "," "," "]
[".",196," "," "," "]
[".",197," "," "," "]
[".",198," "," "," "]
[".",199," "," "," "]
[".",200," "," "," "]
[".",201," "," "," "]
[".",202," "," "," "]
[".",203," "," "," "]
[".",204," "," "," "]
[".",205," "," "," "]
[".",206," "," "," "]
[".",207," "," "," "]
[".",208," "," "," "]
[".",209," "," "," "]
[".",210," "," "," "]
[".",211," "," "," "]
[".",212," "," "," "]
[".",213," "," "," "]
[".",214," "," "," "]
[".",215," "," "," "]
[".",216," "," "," "]
[".",217," "," "," "]
[".",218," "," "," "]
[".",219," "," "," "]
[".",220," "," "," "]
[".",221," "," "," "]
[".",222," "," "," "]
[".",223," "," "," "]
[".",224," "," "," "]
[".",225," "," "," "]
[".",226," "," "," "]
[".",227," "," "," "]
[".",228," "," "," "]
[".",229," "," "," "]
[".",230," "," "," "]
[".",231," "," "," "]
[".",232," "," "," "]
[".",233," "," "," "]
[".",234," "," "," "]
[".",235," "," "," "]
[".",236," "," "," "]
[".",237," "," "," "]
[".",238," "," "," "]
[".",239," "," "," "]
[".",240," "," "," "]
[".",241," "," "," "]
[".",242," "," "," "]
[".",243," "," "," "]
[".",244," "," "," "]
[".",245," "," "," "]
[".",246," "," "," "]
[".",247," "," "," "]
[".",248," "," "," "]
[".",249," "," "," "]
[".",250," "," "," "]
[".",251," "," "," "]
[".",252," "," "," "]
[".",253," "," "," "]
[".",254," "," "," "]
[".",255," "," "," "]
[".",256," "," "," "]
[".",257," "," "," "]
[".",258," "," "," "]
[".",259," "," "," "]
[".",260," "," "," "]
[".",261," "," "," "]
[".",262," "," "," "]
[".",263," "," "," "]
[".",264," "," "," "]
[".",265," "," "," "]
[".",266," "," "," "]
[".",267," "," "," "]
[".",268," "," "," "]
[".",269," "," "," "]
[".",270," "," "," "]
[".",271," "," "," "]
[".",272," "," "," "]
[".",273," "," "," "]
[".",274," "," "," "]
[".",275," "," "," "]
[".",276," "," "," "]
[".",277," "," "," "]
[".",278," "," "," "]
[".",279," "," "," "]
[".",280," "," "," "]
[".",281," "," "," "]
[".",282," "," "," "]
[".",283," "," "," "]
[".",284," "," "," "]
[".",285," "," "," "]
[".",286," "," "," "]
[".",287," "," "," "]
[".",288," "," "," "]
[".",289," "," "," "]
[".",290," "," "," "]
[".",291," "," "," "]
[".",292," "," "," "]
[".",293," "," "," "]
[".",294," "," "," "]
[".",295," "," "," "]
[".",296," "," "," "]
[".",297," "," "," "]
[".",298," "," "," "]
[".",299," "," "," "]
[".",300," "," "," "]
[".",301," "," "," "]
[".",302," "," "," "]
[".",303," "," "," "]
[".",304," "," "," "]
[".",305," "," "," "]
[".",306," "," "," "]
[".",307," "," "," "]
[".",308," "," "," "]
[".",309," "," "," "]
[".",310," "," "," "]
[".",311," "," "," "]
[".",312," "," "," "]
[".",313," "," "," "]
[".",314," "," "," "]
[".",315," "," "," "]
[".",316," "," "," "]
[".",317," "," "," "]
[".",318," "," "," "]
[".",319," "," "," "]
[".",320," "," "," "]
[".",321," "," "," "]
[".",322," "," "," "]
[".",323," "," "," "]
[".",324," "," "," "]
[".",325," "," "," "]
[".",326," "," "," "]
[".",327," "," "," "]
[".",328," "," "," "]
[".",329," "," "," "]
[".",330," "," "," "]
[".",331," "," "," "]
[".",332," "," "," "]
[".",333," "," "," "]
[".",334," "," "," "]
[".",335," "," "," "]
[".",336," "," "," "]
[".",337," "," "," "]
[".",338," "," "," "]
[".",339," "," "," "]
[".",340," "," "," "]
[".",341," "," "," "]
[".",342," "," "," "]
[".",343," "," "," "]
[".",344," "," "," "]
[".",345," "," "," "]
[".",346," "," "," "]
[".",347," "," "," "]
[".",348," "," "," "]
[".",349," "," "," "]
[".",350," "," "," "]
[".",351," "," "," "]
[".",352," "," "," "]
[".",353," "," "," "]
[".",354," "," "," "]
[".",355," "," "," "]
[".",356," "," "," "]
[".",357," "," "," "]
[".",358," "," "," "]
[".",359," "," "," "]
[".",360," "," "," "]
[".",361," "," "," "]
[".",362," "," "," "]
[".",363," "," "," "]
[".",364," "," "," "]
[".",365," "," "," "]
[".",366," "," "," "]
[".",367," "," "," "]
[".",368," "," "," "]
[".",369," "," "," "]
[".",370," "," "," "]
[".",371," "," "," "]
[".",372," "," "," "]
[".",373," "," "," "]
[".",374," "," "," "]
[".",375," "," "," "]
[".",376," "," "," "]
[".",377," "," "," "]
[".",378," "," "," "]
[".",379," "," "," "]
[".",380," "," "," "]
[".",381," "," "," "]
[".",382," "," "," "]
[".",383," "," "," "]
[".",384," "," "," "]
[".",385," "," "," "]
[".",386," "," "," "]
[".",387," "," "," "]
[".",388," "," "," "]
[".",389," "," "," "]
[".",390," "," "," "]
[".",391," "," "," "]
[".",392," "," "," "]
[".",393," "," "," "]
[".",394," "," "," "]
[".",395," "," "," "]
[".",396," "," "," "]
[".",397," "," "," "]
[".",398," "," "," "]

{"sheet":"Declarations for SA","index":5,"n_rows":195,"n_cols":7,"rows_kept":195,"cut":false,"hidden":false,"merged":[]}
[]
[null,"Marymass 10K 2013"]
[null,"Declarartions"]
[]
["SA Number","Name","Cat","Club",null,null,"Copy"]
["SA24949","Jacqueline Neil","F","Kilmarnock H&AC",null,null,"Column G"]
["sa27745","Bethany Macrae","F20","Ayr Seaforth AAC",null,null,"to"]
[28547,"Gael Riddle","F35","Ayr Seaforth AAC",null,null,"Column K"]
["sa11813","Caroline Mutch","F35","Troon Tortoises AC"]
["sa28944","Sue Denton","F35","Irvine AC",null,null,"delete"]
["SA29793","Fiona Comrie","F35","North Ayrshire AC"]
["SO00590","Clare Forrest Lowry","F35","Irvine AC",null,null,"Delete B"]
["SA08657","Maureen McVey","F45","Giffnock North",null,null,"before "]
["sa08798","Moira Connel","F45","Troon Tortoises AC"]
["sa27382","Rosemary McMillan","F45","Kilmarnock H&AC"]
[6576,"Erica Christie","F55","Bellahouston Harriers"]
["sa28706","Janice McKellar","f55","Ayr Seaforth AAC"]
["sa2979","Janice Millar","F55","Kilmarnock H&AC"]
[5349,"Steven Reid","M","Ayr Seaforth"]
[28088,"Stuart Brockie","M","Ayr Seaforth AAC"]
["sa01526","James Wales","M","Kilmarnock H&AC"]
["sa05216","Andrew Clugston","M","Kilbarchan AAC"]
["sa07462","David Phee","M","Giffnock North AAC"]
["sa11055","Jamie Findlay","M","Irvine AC"]
["sa12788","Stewart McAllister","M","Kilmarnock H&AC"]
["SA13567","Brian Robertson","M","UA"]
["sa14900","Andrew Campbell","M","Bellahouston Harriers"]
["SA21173","Ruairidh Macdonald","M","Bellahouston Harriers"]
["sa23492","Gareth Brown","M","North Ayrshire AC"]
["SA23574","David Thomson","M","East Kilbride AC"]
["sa24775","Mark Preston","M","North Ayrshire AC"]
["sa26245","Chris Boyce","M","Troon Tortoises AC"]
["sa27192","Steve Daye","M","North Ayrshire AC"]
["sa27200","Steven Stirrat","M","Irvine AC"]
["sa27309","Ian Young","M","Ayr Seaforth AAC"]
["SA28306","Stuart Livingstone","M","Corstorphine AAC"]
["sa30389","Martin McCrorie","M","Ayr Seaforth AAC"]
["sal","clawson paul","M","Bellahouston Harriers"]
["sa19198","Fraser Mackie","M20","North Ayrshire AC"]
["SA30273","Matthew Cameron","M20","Ayr Seaforth AAC"]
[21631,"Ian Hughes","M40","Calderglen Harriers"]
[24419,"Cris Walsh","M40","Bellahouston Harriers"]
["sa04642","Steven Connell","M40","Irvine AC"]
["sa05498","David Mitchell","M40","Ayrodynamic Triathlon Club"]
["sa05788","Jim Sneddon","M40","Irvine AC"]
["Sa06334","James O'Hagan","M40","Giffnock North"]
["sa08450","Mark Hamilton","M40","Kilmarnock H&AC"]
["sa13078","Stuart Maclean","M40","Ayr Seaforth AAC"]
["sa14687","Richard Skillen","M40","Kilmarnock H&AC"]
["sa15962","Alasdair Murray","M40","Kilmarnock H&AC"]
["sa16981","Brian Darroch","M40","Kilmarnock H&AC"]
["sa17173","Kevin Bloy","M40","Ayr Seaforth AAC"]
["sa20714","Derek Reid","M40","North Ayrshire AC"]
["SA21665","Kenneth Fowler","M40","Troon Tortoises AC"]
["sa22278","Stewart Ferguson","M40","Kilmarnock H&AC"]
["sa27121","Gerry Penman","M40","Scottish Prison Service AAC"]
["Sa27808","Darrell Dunscombe","M40","Troon Tortoises AC"]
["sa29430","Keith Haining","M40","Kilmarnock H&AC"]
["sa29483","Jim Phillips","M40","Troon Tortoises AC"]
["sa30504","Stephen McCrorie","M40","Ayr Seaforth AAC"]
["sa35128","Stephen Speirs","M40","Kilbarchan AAC"]
[1039,"Ross Bickerstaff","M50","Hamilton Harriers"]
[7879,"Ian McNee","M50","Troon Tortoises AC"]
["js018323","Tom Coughtrie","M50","Jog Scotland"]
["sa08691","John Surgenor","M50","Irvine AC"]
["sa11430","Billy Clark","M50","Giffnock North AAC"]
["sa22342","Paul Turnbull","M50","Ayr Seaforth AAC"]
["sa5208","John Cairns","M50","Kilmarnock H&AC"]
["sa6028","Bobby Miller","M50","Troon Tortoises AC"]
[27075,"Iain Burke","M60","Bellahouston Harriers"]
["SA06824","James Rowley","M60","Law &  District AAC"]
["sa08986","James White","M60","Irvine AC"]
["sa13825","Matt Ferguson","M60","Kilmarnock H&AC"]
["sa21845","George McGregor","M60","Troon Tortoises AC"]
[null,"Natalie Boyce","F","Kilmarnock H&AC"]
[null,"Claire Webb","F","Rons Runners"]
[null,"Gillian Watson","F","UA"]
[null,"Kerry Murdoch","F","UA"]
[null,"Carly Wilson","F","Rons Runners"]
[null,"Alex Marshall","F","Rons Runners"]
[null,"Ashley Traynor","F","UA"]
[null,"Lyndsay Moffat","F","Hamilton Harriers"]
[null,"Hayley McCrorie","F","Bellahouston Road Runners"]
[null,"Alison Duncan","F","Hamilton Harriers"]
[null,"Gillian Stevenson","F","UA"]
[null,"Brogan Gibson","F20","Rons Runners"]
[null,"Shona Blades","F20","North Ayrshire AC"]
[null,"Emma Vallely","F20","UA"]
[null,"Alison Reid","F35","UA"]
[null,"Astrud Gibson","F35","Rons Runners"]
[null,"Lorraine Howard","F35","UA"]
[null,"Linda Howard","f35","UA"]
[null,"Carol Rome","F35","Rons Runners"]
[null,"Allison Elliot","F35","Rons Runners"]
[null,"Lynn Masterton","F35","Irvine AC"]
[null,"Pamela Porteous","F35","UA"]
[null,"Sharon Maule","F35","Rons Runners"]
[null,"Anita Mackie","F35","Rons Runners"]
[null,"Leanne Donovan","F35","Rons Runners"]
[null,"Lynn Robertson","F35","UA"]
[null,"Sharon Crombie","F35","Rons Runners"]
[null,"Niki MacSephney","F35","Ipswich Jaffa"]
[null,"Angela Reid","F35","UA"]
[null,"Doreen McCleary","F35","UA"]
[null,"Lindsay Taylor","F35","QT pudding club"]
[null,"Rachel Borland","F35","QT pudding club"]
[null,"Aimi Barker","F35","Ayr Seaforth AAC"]
[null,"Viv Lambert","F35","UA"]
[null,"Linda Lithgow","F35","UA"]
[null,"Jennifer Simpson","F35","UA"]
[null,"Maggie Kinghorn","F35","UA"]
[null,"Allison Johnston","F45","UA"]
[null,"Amanda Lindsay","F45","Rons Runners"]
[null,"Patricia McMullen","F45","Rons Runners"]
[null,"Shirley Templeton","F45","Rons Runners"]
[null,"Elaine Rennie","F45","Girvan AAC"]
[null,"Gillian Dunwoodie","F45","Rons Runners"]
[null,"Carrol Finlay","F45","Rons Runners"]
[null,"Noelle McQuillan","F45","Ayr Seaforth AAC"]
[null,"Christine Kling","F45","More Than Running"]
[null,"Suzy Moorby","F45","Monkton Milers"]
[null,"Helen Bruce","F45","UA"]
[null,"Emmy Dodds","F45","Kilmarnock H&AC"]
[null,"Marianne Grover","F55","Jog Stewarton"]
[null,"Helen Whyte","F55","Hamilton Harriers"]
[null,"Brian Wallace","M","Girvan AAC"]
[null,"Michael Anderson","M","UA"]
[null,"Alistair McCallum","M","UA"]
[null,"Craig Murdoch","M","UA"]
[null,"Russel Frew","M","UA"]
[null,"Thomas Turner ","M","UA"]
[null,"Gary Kerr","M","Rons Runners"]
[null,"Gordon Stuart","M","UA"]
[null,"Alex Howieson","M","UA"]
[null,"Adam Howieson","M","UA"]
[null,"Alan Inglis","M","UA"]
[null,"Paul Darroch","M","UA"]
[null,"Paul Lafferty","M","UA"]
[null,"Gary Kilpatrick","M","Rons Runners"]
[null,"Rob Carrol","M","Troon Tortoises AC"]
[null,"David Bowman","M","UA"]
[null,"David McCurry","M","UA"]
[null,"Phil Cordiner","M","UA"]
[null,"Daniel McConnell","M","Kilmarnock H&AC"]
[null,"James Murray","M","UA"]
[null,"Calum Macdonald","M","Ayr Seaforth AAC"]
[null,"Mark Neville","M","UA"]
[null,"Anthony Baker","M","UA"]
[null,"Craig Welsh","M","UA"]
[null,"Paul Chapman","M","UA"]
[null,"Craig Brown","M","Ayr Seaforth AAC"]
[null,"Allan Moore","M","UA"]
[null,"Kieron Murphy","M","Spenborough AC"]
[null,"Eric McGowan","M","UA"]
[null,"Bob Richardson","M","UA"]
[null,"Scott Lyden","M","UA"]
[null,"Scott Gilmour","M20","UA"]
[null,"Kenny Reid","M20","UA"]
[null,"Thomas Turner snr","M40","Rons Runners"]
[null,"Ian McIlwraith","M40","Rons Runners"]
[null,"James Elliot","M40","Rons Runners"]
[null,"Stephen Flanagan","M40","Girvan AAC"]
[null,"John Rennie","M40","Girvan AAC"]
[null,"Gordon Thomson","M40","Irvine AC"]
[null,"Greig Buchanan","M40","UA"]
[null,"John Connell","M40","UA"]
[null,"Robert Staples","M40","UA"]
[null,"Paul Camlin","M40","Rons Runners"]
[null,"Alex Dunlop","M40","Ayr Seaforth AAC"]
[null,"Scott MacSephney","M40","Ipswich Jaffa"]
[null,"David Mackie","M40","Rons Runners"]
[null,"J. Bennie","M40","Fusion Tri Club"]
[null,"James McGill","M40","UA"]
[null,"A.Stewart","M40","Rons Runners"]
[null,"Neill Russel","M40","UA"]
[null,"Luke Chamberlain","M40","UA"]
[null,"Ian Wilson","M40","UA"]
[null,"George Laird","M40","Kilmarnock H&AC"]
[null,"Mike Turner","M40","UA"]
[null,"Andy McNaughton","M40","Rons Runners"]
[null,"Tom Steel","M40","Hamilton Harriers"]
[null,"Allan Hogarth","M40","UA"]
[null,"Ian Rutherford","M40","UA"]
[null,"Jim Frew","M40","UA"]
[null,"Gerry Cole","M50","UA"]
[null,"John Boyd","M50","UA"]
[null,"John Parker","M50","Kilmarnock H&AC"]
[null,"Robert Steel","M50","UA"]
[null,"Alan Anderson","M50","Kilmarnock H&AC"]
[null,"Jim McCleary","M50","UA"]
[null,"Ian Falconer","M50","UA"]
[null,"Derek Middleton","M50","Kilmarnock H&AC"]
[null,"Kenny Weir","M60","UA"]
[null,"Ian Short","M60","Rons Runners"]
[null,"C. McNairney","M60","Rons Runners"]

{"sheet":"Sheet1","index":6,"n_rows":203,"n_cols":13,"rows_kept":203,"cut":false,"hidden":false,"merged":[]}
[null,null,"Entered",null,null,"Finished",null,null,"SA Declared",null,null,"Pre-entry no shows","and dnfs"]
[null,1,"Alan Inglis",null,1,"Alan Inglis",null,null,"A.Stewart",null,4,"Paul Lafferty"]
[null,2,"Chris Boyce",null,2,"Chris Boyce",null,null,"Adam Howieson",null,6,"Anne Marie Latham"]
[null,3,"Paul Darroch",null,3,"Paul Darroch",null,null,"Aimi Barker",null,7,"Lesley Sinclair"]
[null,4,"Paul Lafferty",null,5,"Gary Kilpatrick",null,null,"Alan Anderson",null,11,"Darren Ridout"]
[null,5,"Gary Kilpatrick",null,8,"Sue Denton",null,null,"Alan Inglis",null,16,"Alan Middleton"]
[null,6,"Anne Marie Latham",null,9,"Angela Reid",null,null,"Alasdair Murray",null,17,"Sandra Hunter"]
[null,7,"Lesley Sinclair",null,10,"Luke Chamberlain",null,null,"Alex Dunlop",null,24,"Andrew Crichton"]
[null,8,"Sue Denton",null,12,"Ross Bickerstaff",null,null,"Alex Howieson",null,28,"Gillian Palmer"]
[null,9,"Angela Reid",null,13,"Jim McCleary",null,null,"Alex Marshall",null,36,"Michael Mills"]
[null,10,"Luke Chamberlain",null,14,"Doreen McCleary",null,null,"Alison Duncan",null,38,"Gareth Dunlop"]
[null,11,"Darren Ridout",null,15,"Lyndsay Moffat",null,null,"Alison Reid",null,47,"Anthony Rodden"]
[null,12,"Ross Bickerstaff",null,18,"Lindsay Taylor",null,null,"Alistair McCallum",null,76,"Clare Forrest Lowry"]
[null,13,"Jim McCleary",null,19,"Rachel Borland",null,null,"Allan Hogarth",null,160,"Gareth Brown"]
[null,14,"Doreen McCleary",null,20,"Gael Riddle",null,null,"Allan Moore",null,174,"J. Bennie"]
[null,15,"Lyndsay Moffat",null,21,"Rob Carrol",null,null,"Allison Elliot",null,108,"xxxxxxxxxxx"]
[null,16,"Alan Middleton",null,22,"Ian Wilson",null,null,"Allison Johnston",null,198,"xxxxxxxxxxx"]
[null,17,"Sandra Hunter",null,23,"Steven Reid",null,null,"Amanda Lindsay"]
[null,18,"Lindsay Taylor",null,25,"Matthew Cameron",null,null,"Andrew Campbell"]
[null,19,"Rachel Borland",null,26,"Stuart Brockie",null,null,"Andrew Clugston"]
[null,20,"Gael Riddle",null,27,"Aimi Barker",null,null,"Andy McNaughton"]
[null,21,"Rob Carrol",null,29,"Brian Robertson",null,null,"Angela Reid"]
[null,22,"Ian Wilson",null,30,"James Rowley",null,null,"Anita Mackie"]
[null,23,"Steven Reid",null,31,"Stuart Livingstone",null,null,"Anthony Baker"]
[null,24,"Andrew Crichton",null,32,"Christine Kling",null,null,"Ashley Traynor"]
[null,25,"Matthew Cameron",null,33,"Hayley McCrorie",null,null,"Astrud Gibson"]
[null,26,"Stuart Brockie",null,34,"David Bowman",null,null,"Bethany Macrae"]
[null,27,"Aimi Barker",null,35,"David McCurry",null,null,"Billy Clark"]
[null,28,"Gillian Palmer",null,37,"Marianne Grover",null,null,"Bob Richardson"]
[null,29,"Brian Robertson",null,39,"George Laird",null,null,"Bobby Miller"]
[null,30,"James Rowley",null,40,"Phil Cordiner",null,null,"Brian Darroch"]
[null,31,"Stuart Livingstone",null,41,"Suzy Moorby",null,null,"Brian Robertson"]
[null,32,"Christine Kling",null,42,"Jacqueline Neil",null,null,"Brian Wallace"]
[null,33,"Hayley McCrorie",null,43,"Daniel McConnell",null,null,"Brogan Gibson"]
[null,34,"David Bowman",null,44,"James Murray",null,null,"C. McNairney"]
[null,35,"David McCurry",null,45,"Janice Millar",null,null,"Calum Macdonald"]
[null,36,"Michael Mills",null,46,"Ian Falconer",null,null,"Carly Wilson"]
[null,37,"Marianne Grover",null,48,"Mark Neville",null,null,"Carol Rome"]
[null,38,"Gareth Dunlop",null,50,"Anthony Baker",null,null,"Caroline Mutch"]
[null,39,"George Laird",null,51,"Mike Turner",null,null,"Carrol Finlay"]
[null,40,"Phil Cordiner",null,52,"Kenneth Fowler",null,null,"Chris Boyce"]
[null,41,"Suzy Moorby",null,53,"Ian Hughes",null,null,"Christine Kling"]
[null,42,"Jacqueline Neil",null,54,"Kevin Bloy",null,null,"Claire Webb"]
[null,43,"Daniel McConnell",null,55,"Craig Welsh",null,null,"Clare Forrest Lowry"]
[null,44,"James Murray",null,56,"Darrell Dunscombe",null,null,"clawson paul"]
[null,45,"Janice Millar",null,57,"Andrew Campbell",null,null,"Craig Brown"]
[null,46,"Ian Falconer",null,58,"Ian McNee",null,null,"Craig Murdoch"]
[null,47,"Anthony Rodden",null,59,"Andy McNaughton",null,null,"Craig Welsh"]
[null,49,"Calum Macdonald",null,60,"Ian Young",null,null,"Cris Walsh"]
[null,50,"Anthony Baker",null,61,"Alison Duncan",null,null,"Daniel McConnell"]
[null,48,"Mark Neville",null,62,"Tom Steel",null,null,"Darrell Dunscombe"]
[null,51,"Mike Turner",null,63,"Gillian Stevenson",null,null,"David Bowman"]
[null,52,"Kenneth Fowler",null,64,"Viv Lambert",null,null,"David Mackie"]
[null,53,"Ian Hughes",null,65,"Paul Chapman",null,null,"David McCurry"]
[null,54,"Kevin Bloy",null,66,"Derek Middleton",null,null,"David Mitchell"]
[null,55,"Craig Welsh",null,67,"Allan Hogarth",null,null,"David Phee"]
[null,56,"Darrell Dunscombe",null,68,"Craig Brown",null,null,"David Thomson"]
[null,57,"Andrew Campbell",null,69,"Linda Lithgow",null,null,"Derek Middleton"]
[null,58,"Ian McNee",null,70,"David Thomson",null,null,"Derek Reid"]
[null,59,"Andy McNaughton",null,71,"Allan Moore",null,null,"Doreen McCleary"]
[null,60,"Ian Young",null,72,"David Mitchell",null,null,"Elaine Rennie"]
[null,61,"Alison Duncan",null,73,"Ian Rutherford",null,null,"Emma Vallely"]
[null,62,"Tom Steel",null,74,"Kieron Murphy",null,null,"Emmy Dodds"]
[null,63,"Gillian Stevenson",null,75,"Cris Walsh",null,null,"Eric McGowan"]
[null,64,"Viv Lambert",null,77,"Ruairidh Macdonald",null,null,"Erica Christie"]
[null,65,"Paul Chapman",null,78,"clawson paul",null,null,"Fiona Comrie"]
[null,66,"Derek Middleton",null,79,"Iain Burke",null,null,"Fraser Mackie"]
[null,67,"Allan Hogarth",null,79,"Iain Burke",null,null,"Gael Riddle"]
[null,68,"Craig Brown",null,80,"Erica Christie",null,null,"Gareth Brown"]
[null,69,"Linda Lithgow",null,81,"Eric McGowan",null,null,"Gary Kerr"]
[null,70,"David Thomson",null,82,"Gerry Penman",null,null,"Gary Kilpatrick"]
[null,71,"Allan Moore",null,83,"Bob Richardson",null,null,"George Laird"]
[null,72,"David Mitchell",null,84,"Jennifer Simpson",null,null,"George McGregor"]
[null,73,"Ian Rutherford",null,85,"Maggie Kinghorn",null,null,"Gerry Cole"]
[null,74,"Kieron Murphy",null,86,"Emma Vallely",null,null,"Gerry Penman"]
[null,75,"Cris Walsh",null,88,"Scott Lyden",null,null,"Gillian Dunwoodie"]
[null,76,"Clare Forrest Lowry",null,89,"Helen Whyte",null,null,"Gillian Stevenson"]
[null,77,"Ruairidh Macdonald",null,90,"Helen Bruce",null,null,"Gillian Watson"]
[null,78,"clawson paul",null,91,"Maureen McVey",null,null,"Gordon Stuart"]
[null,79,"Iain Burke",null,92,"James O'Hagan",null,null,"Gordon Thomson"]
[null,80,"Erica Christie",null,93,"Fiona Comrie",null,null,"Greig Buchanan"]
[null,81,"Eric McGowan",null,94,"Emmy Dodds",null,null,"Hayley McCrorie"]
[null,82,"Gerry Penman",null,95,"Alison Reid",null,null,"Helen Bruce"]
[null,83,"Bob Richardson",null,96,"Thomas Turner snr",null,null,"Helen Whyte"]
[null,84,"Jennifer Simpson",null,97,"Ian McIlwraith",null,null,"Iain Burke"]
[null,85,"Maggie Kinghorn",null,97,"Ian McIlwraith",null,null,"Ian Falconer"]
[null,86,"Emma Vallely",null,98,"Tom Coughtrie",null,null,"Ian Hughes"]
[null,87,"Jim Frew",null,99,"Bethany Macrae",null,null,"Ian McIlwraith"]
[null,88,"Scott Lyden",null,100,"Billy Clark",null,null,"Ian McNee"]
[null,89,"Helen Whyte",null,101,"Kenny Weir",null,null,"Ian Rutherford"]
[null,90,"Helen Bruce",null,102,"John Surgenor",null,null,"Ian Short"]
[null,91,"Maureen McVey",null,103,"Astrud Gibson",null,null,"Ian Wilson"]
[null,92,"James O'Hagan",null,104,"Brogan Gibson",null,null,"Ian Young"]
[null,94,"Emmy Dodds",null,105,"Lorraine Howard",null,null,"J. Bennie"]
[null,93,"Fiona Comrie",null,106,"Linda Howard",null,null,"Jacqueline Neil"]
[null,95,"Alison Reid",null,107,"Keith Haining",null,null,"James Elliot"]
[null,96,"Thomas Turner snr",null,109,"Stewart McAllister",null,null,"James McGill"]
[null,97,"Ian McIlwraith",null,110,"Steve Daye",null,null,"James Murray"]
[null,98,"Tom Coughtrie",null,111,"James Sneddon",null,null,"James O'Hagan"]
[null,99,"Bethany Macrae",null,112,"Derek Reid",null,null,"James Rowley"]
[null,100,"Billy Clark",null,113,"Gerry Cole",null,null,"James Wales"]
[null,101,"Kenny Weir",null,114,"Jim Phillips",null,null,"James White"]
[null,102,"John Surgenor",null,115,"John Boyd",null,null,"Jamie Findlay"]
[null,103,"Astrud Gibson",null,116,"Allison Johnston",null,null,"Janice McKellar"]
[null,104,"Brogan Gibson",null,117,"Bobby Miller",null,null,"Janice Millar"]
[null,105,"Lorraine Howard",null,118,"Stephen McCrorie",null,null,"Jennifer Simpson"]
[null,106,"Linda Howard",null,119,"Natalie Boyce",null,null,"Jim Frew"]
[null,107,"Keith Haining",null,120,"James Wales",null,null,"Jim McCleary"]
[null,108,"XXXXXXXX",null,121,"Rosemary McMillan",null,null,"Jim Phillips"]
[null,109,"Stewart McAllister",null,122,"Janice McKellar",null,null,"Jim Sneddon"]
[null,110,"Steve Daye",null,123,"John Parker",null,null,"John Boyd"]
[null,111,"James Sneddon",null,124,"Stewart Ferguson",null,null,"John Cairns"]
[null,112,"Derek Reid",null,125,"Carol Rome",null,null,"John Connell"]
[null,113,"Gerry Cole",null,126,"Amanda Lindsay",null,null,"John Parker"]
[null,114,"Jim Phillips",null,127,"Patricia McMullen",null,null,"John Rennie"]
[null,115,"John Boyd",null,128,"Allison Elliot",null,null,"John Surgenor"]
[null,116,"Allison Johnston",null,129,"James Elliot",null,null,"Keith Haining"]
[null,117,"Bobby Miller",null,130,"Shirley Templeton",null,null,"Kenneth Fowler"]
[null,118,"Stephen McCrorie",null,131,"Stephen Flanagan",null,null,"Kenny Reid"]
[null,119,"Natalie Boyce",null,132,"Brian Darroch",null,null,"Kenny Weir"]
[null,120,"James Wales",null,133,"Elaine Rennie",null,null,"Kerry Murdoch"]
[null,121,"Rosemary McMillan",null,134,"John Rennie",null,null,"Kevin Bloy"]
[null,122,"Janice McKellar",null,135,"Brian Wallace",null,null,"Kieron Murphy"]
[null,123,"John Parker",null,136,"Gordon Thomson",null,null,"Leanne Donovan"]
[null,124,"Stewart Ferguson",null,137,"Greig Buchanan",null,null,"Linda Howard"]
[null,125,"Carol Rome",null,138,"Paul Turnbull",null,null,"Linda Lithgow"]
[null,126,"Amanda Lindsay",null,139,"Gillian Dunwoodie",null,null,"Lindsay Taylor"]
[null,127,"Patricia McMullen",null,140,"John Connell",null,null,"Lorraine Howard"]
[null,128,"Allison Elliot",null,141,"Ian Short",null,null,"Luke Chamberlain"]
[null,129,"James Elliot",null,142,"James White",null,null,"Lyndsay Moffat"]
[null,130,"Shirley Templeton",null,143,"Michael Anderson",null,null,"Lynn Masterton"]
[null,131,"Stephen Flanagan",null,144,"Lynn Masterton",null,null,"Lynn Robertson"]
[null,132,"Brian Darroch",null,145,"Pamela Porteous",null,null,"Maggie Kinghorn"]
[null,133,"Elaine Rennie",null,146,"Claire Webb",null,null,"Marianne Grover"]
[null,134,"John Rennie",null,147,"Matthew Ferguson",null,null,"Mark Hamilton"]
[null,135,"Brian Wallace",null,148,"Caroline Mutch",null,null,"Mark Neville"]
[null,136,"Gordon Thomson",null,149,"Robert Staples",null,null,"Mark Preston"]
[null,137,"Greig Buchanan",null,150,"Carrol Finlay",null,null,"Martin McCrorie"]
[null,138,"Paul Turnbull",null,151,"George McGregor",null,null,"Matt Ferguson"]
[null,139,"Gillian Dunwoodie",null,152,"Noelle McQuillan",null,null,"Matthew Cameron"]
[null,140,"John Connell",null,153,"Gillian Watson",null,null,"Maureen McVey"]
[null,141,"Ian Short",null,154,"Stuart Maclean",null,null,"Michael Anderson"]
[null,142,"James White",null,155,"Paul Camlin",null,null,"Mike Turner"]
[null,143,"Michael Anderson",null,156,"Alex Dunlop",null,null,"Moira Connel"]
[null,144,"Lynn Masterton",null,157,"Martin McCrorie",null,null,"Natalie Boyce"]
[null,145,"Pamela Porteous",null,158,"Mark Preston",null,null,"Neill Russel"]
[null,146,"Claire Webb",null,159,"David Phee",null,null,"Niki MacSephney"]
[null,147,"Matthew Ferguson",null,161,"John Cairns",null,null,"Noelle McQuillan"]
[null,148,"Caroline Mutch",null,162,"Mark Hamilton",null,null,"Pamela Porteous"]
[null,149,"Robert Staples",null,163,"Alistair McCallum",null,null,"Patricia McMullen"]
[null,150,"Carrol Finlay",null,164,"Craig Murdoch",null,null,"Paul Camlin"]
[null,151,"George McGregor",null,165,"Kerry Murdoch",null,null,"Paul Chapman"]
[null,152,"Noelle McQuillan",null,166,"Russel Frew",null,null,"Paul Darroch"]
[null,153,"Gillian Watson",null,167,"Robert Steel",null,null,"Paul Lafferty"]
[null,154,"Stuart Maclean",null,168,"Thomas Turner ",null,null,"Paul Turnbull"]
[null,155,"Paul Camlin",null,169,"Scott MacSephney",null,null,"Phil Cordiner"]
[null,156,"Alex Dunlop",null,170,"Gary Kerr",null,null,"Rachel Borland"]
[null,157,"Martin McCrorie",null,171,"David Mackie",null,null,"Richard Skillen"]
[null,158,"Mark Preston",null,172,"Shona Blades",null,null,"Rob Carrol"]
[null,159,"David Phee",null,173,"Fraser Mackie",null,null,"Robert Staples"]
[null,160,"Gareth Brown",null,175,"Carly Wilson",null,null,"Robert Steel"]
[null,161,"John Cairns",null,176,"Richard Skillen",null,null,"Rosemary McMillan"]
[null,162,"Mark Hamilton",null,177,"Alan Anderson",null,null,"Ross Bickerstaff"]
[null,163,"Alistair McCallum",null,178,"Sharon Maule",null,null,"Ruairidh Macdonald"]
[null,164,"Craig Murdoch",null,179,"Alex Marshall",null,null,"Russel Frew"]
[null,165,"Kerry Murdoch",null,180,"Anita Mackie",null,null,"Scott Gilmour"]
[null,166,"Russel Frew",null,181,"Leanne Donovan",null,null,"Scott Lyden"]
[null,167,"Robert Steel",null,182,"Gordon Stuart",null,null,"Scott MacSephney"]
[null,168,"Thomas Turner ",null,183,"Lynn Robertson",null,null,"Sharon Crombie"]
[null,169,"Scott MacSephney",null,184,"Alasdair Murray",null,null,"Sharon Maule"]
[null,170,"Gary Kerr",null,185,"Andrew Clugston",null,null,"Shirley Templeton"]
[null,171,"David Mackie",null,186,"Moira Connell",null,null,"Shona Blades"]
[null,172,"Shona Blades",null,187,"Steven Connell",null,null,"Stephen Flanagan"]
[null,173,"Fraser Mackie",null,188,"Jamie Findlay",null,null,"Stephen McCrorie"]
[null,174,"J. Bennie",null,189,"C. McNairney",null,null,"Stephen Speirs"]
[null,175,"Carly Wilson",null,190,"Sharon Crombie",null,null,"Steve Daye"]
[null,176,"Richard Skillen",null,191,"Ashley Traynor",null,null,"Steven Connell"]
[null,177,"Alan Anderson",null,192,"Niki MacSephney",null,null,"Steven Reid"]
[null,178,"Sharon Maule",null,193,"Steven Stirrat",null,null,"Steven Stirrat"]
[null,179,"Alex Marshall",null,194,"James McGill",null,null,"Stewart Ferguson"]
[null,180,"Anita Mackie",null,195,"A.Stewart",null,null,"Stewart McAllister"]
[null,181,"Leanne Donovan",null,196,"Alex Howieson",null,null,"Stuart Brockie"]
[null,182,"Gordon Stuart",null,197,"Neill Russel",null,null,"Stuart Livingstone"]
[null,183,"Lynn Robertson",null,199,"Adam Howieson",null,null,"Stuart Maclean"]
[null,184,"Alasdair Murray",null,200,"Stephen Speirs",null,null,"Sue Denton"]
[null,185,"Andrew Clugston",null,201,"Scott Gilmour",null,null,"Suzy Moorby"]
[null,186,"Moira Connell",null,202,"Kenny Reid",null,null,"Thomas Turner "]
[null,187,"Steven Connell",null,null,null,null,null,"Thomas Turner snr"]
[null,188,"Jamie Findlay",null,null,null,null,null,"Tom Coughtrie"]
[null,189,"C. McNairney",null,null,null,null,null,"Tom Steel"]
[null,190,"Sharon Crombie",null,null,null,null,null,"Viv Lambert"]
[null,191,"Ashley Traynor"]
[null,192,"Niki MacSephney"]
[null,193,"Steven Stirrat"]
[null,194,"James McGill"]
[null,195,"A.Stewart"]
[null,196,"Alex Howieson"]
[null,197,"Neill Russel"]
[null,198,"XXXXXXXX"]
[null,199,"Adam Howieson"]
[null,200,"Stephen Speirs"]
[null,201,"Scott Gilmour"]
[null,202,"Kenny Reid"]

{"sheet":"PDF","index":7,"n_rows":188,"n_cols":5,"rows_kept":188,"cut":false,"hidden":false,"merged":[]}
[null,"Irvine AC Marymass 10K",null,"2013-08-21"]
["Position","Name","Cat","Club","Time"]
[1,"David Phee","M","Giffnock North AAC","32:44"]
[2,"Cris Walsh","M40","Bellahouston Harriers","34:35"]
[3,"Andrew Campbell","M","Bellahouston Harriers","34:48"]
[4,"Jamie Findlay","M","Irvine AC","35:05"]
[5,"Steven Reid","M","Ayr Seaforth","35:39"]
[6,"Keith Haining","M40","Kilmarnock H&AC","35:43"]
[7,"Brian Robertson","M","UA","35:55"]
[8,"Ian Hughes","M40","Calderglen Harriers","36:20"]
[9,"Stephen McCrorie","M40","Ayr Seaforth AAC","36:25"]
[10,"Steve Daye","M","North Ayrshire AC","37:07"]
[11,"Stuart Livingstone","M","Corstorphine AAC","37:16"]
[12,"Steven Stirrat","M","Irvine AC","37:31"]
[13,"Stewart Ferguson","M40","Kilmarnock H&AC","37:50"]
[14,"Luke Chamberlain","M40","UA","38:13"]
[15,"Ruairidh Macdonald","M","Bellahouston Harriers","38:14"]
[16,"Craig Brown","M","Ayr Seaforth AAC","38:17"]
[17,"Alex Dunlop","M40","Ayr Seaforth AAC","38:34"]
[18,"John Cairns","M50","Kilmarnock H&AC","38:38"]
[19,"James Wales","M","Kilmarnock H&AC","38:51"]
[20,"Scott MacSephney","M40","Ipswich Jaffa","38:54"]
[21,"David Thomson","M","East Kilbride AC","38:58"]
[22,"Alasdair Murray","M40","Kilmarnock H&AC","39:05"]
[23,"clawson paul","M","Bellahouston Harriers","39:06"]
[24,"Stephen Speirs","M40","Kilbarchan AAC","39:09"]
[25,"Kevin Bloy","M40","Ayr Seaforth AAC","39:12"]
[26,"Gary Kilpatrick","M","Rons Runners","39:15"]
[27,"Mark Preston","M","North Ayrshire AC","39:19"]
[28,"Scott Lyden","M","UA","39:50"]
[29,"John Surgenor","M50","Irvine AC","40:14"]
[30,"Kieron Murphy","M","Spenborough AC","40:29"]
[31,"John Parker","M50","Kilmarnock H&AC","40:31"]
[32,"Stuart Maclean","M40","Ayr Seaforth AAC","40:35"]
[33,"Gordon Thomson","M40","Irvine AC","40:37"]
[34,"Jim Phillips","M40","Troon Tortoises AC","40:40"]
[35,"Stuart Brockie","M","Ayr Seaforth AAC","40:54"]
[36,"James Sneddon","M40","Irvine AC","41:06"]
[37,"Billy Clark","M50","Giffnock North AAC","41:08"]
[38,"Brian Wallace","M","Girvan AAC","41:09"]
[39,"Bobby Miller","M50","Troon Tortoises AC","41:13"]
[40,"James Murray","M","UA","41:15"]
[41,"Derek Reid","M40","North Ayrshire AC","41:22"]
[42,"Paul Turnbull","M50","Ayr Seaforth AAC","41:26"]
[43,"Fraser Mackie","M20","North Ayrshire AC","41:27"]
[44,"Alistair McCallum","M","UA","41:59"]
[45,"Angela Reid","F35","UA","42:03"]
[46,"James White","M60","Irvine AC","42:04"]
[47,"Kenneth Fowler","M40","Troon Tortoises AC","42:08"]
[48,"Stephen Flanagan","M40","Girvan AAC","42:17"]
[49,"Chris Boyce","M","Troon Tortoises AC","42:26"]
[50,"Martin McCrorie","M","Ayr Seaforth AAC","42:28"]
[51,"Tom Steel","M40","Hamilton Harriers","42:33"]
[52,"Paul Chapman","M","UA","42:41"]
[53,"Richard Skillen","M40","Kilmarnock H&AC","42:50"]
[54,"Tom Coughtrie","M50","Jog Scotland","42:52"]
[55,"Mark Hamilton","M40","Kilmarnock H&AC","42:56"]
[56,"Ian McIlwraith","M40","Rons Runners","42:57"]
[57,"Erica Christie","F55","Bellahouston Harriers","42:58"]
[58,"Gordon Stuart","M","UA","42:59"]
[59,"Thomas Turner ","M","UA","43:04"]
[60,"George Laird","M40","Kilmarnock H&AC","43:33"]
[61,"Matthew Cameron","M20","Ayr Seaforth AAC","43:49"]
[62,"Gael Riddle","F35","Ayr Seaforth AAC","43:53"]
[63,"John Rennie","M40","Girvan AAC","44:00"]
[64,"Mark Neville","M","UA","44:06"]
[65,"Andrew Clugston","M","Kilbarchan AAC","44:28"]
[66,"Shona Blades","F20","North Ayrshire AC","44:30"]
[67,"Stewart McAllister","M","Kilmarnock H&AC","44:32"]
[68,"Fiona Comrie","F35","North Ayrshire AC","44:46"]
[69,"A.Stewart","M40","Rons Runners","44:48"]
[70,"Ian Young","M","Ayr Seaforth AAC","44:53"]
[71,"Calum Macdonald","M","Ayr Seaforth AAC","44:54"]
[72,"James O'Hagan","M40","Giffnock North","45:06"]
[73,"Kerry Murdoch","F","UA","45:09"]
[74,"Christine Kling","F45","More Than Running","45:18"]
[75,"Darrell Dunscombe","M40","Troon Tortoises AC","45:24"]
[76,"Matthew Ferguson","M60","Kilmarnock H&AC","45:28"]
[77,"Phil Cordiner","M","UA","45:35"]
[78,"Greig Buchanan","M40","UA","45:42"]
[79,"James McGill","M40","UA","45:43"]
[80,"Andy McNaughton","M40","Rons Runners","46:02"]
[81,"Ian Wilson","M40","UA","46:22"]
[82,"Craig Murdoch","M","UA","46:28"]
[83,"Iain Burke","M60","Bellahouston Harriers","46:37"]
[84,"David Mackie","M40","Rons Runners","46:35"]
[85,"Daniel McConnell","M","Kilmarnock H&AC","46:37"]
[86,"Maureen McVey","F45","Giffnock North","46:38"]
[87,"Mike Turner","M40","UA","46:39"]
[88,"Bethany Macrae","F20","Ayr Seaforth AAC","46:52"]
[89,"Ian Falconer","M50","UA","46:55"]
[90,"Carly Wilson","F","Rons Runners","46:56"]
[91,"Ian McNee","M50","Troon Tortoises AC","47:05"]
[92,"Robert Staples","M40","UA","47:24"]
[93,"Alan Inglis","M","UA","47:29"]
[94,"Emma Vallely","F20","UA","47:44"]
[95,"Elaine Rennie","F45","Girvan AAC","47:50"]
[96,"Allan Hogarth","M40","UA","47:51"]
[97,"Brian Darroch","M40","Kilmarnock H&AC","47:56"]
[98,"Rachel Borland","F35","QT pudding club","48:00"]
[99,"Natalie Boyce","F","Kilmarnock H&AC","48:04"]
[100,"Jacqueline Neil","F","Kilmarnock H&AC","48:18"]
[101,"Caroline Mutch","F35","Troon Tortoises AC","48:35"]
[102,"Rosemary McMillan","F45","Kilmarnock H&AC","48:40"]
[103,"Ian Short","M60","Rons Runners","48:42"]
[104,"Rob Carrol","M","Troon Tortoises AC","48:45"]
[105,"Pamela Porteous","F35","UA","48:53"]
[106,"Russel Frew","M","UA","48:56"]
[107,"Allan Moore","M","UA","49:02"]
[108,"Doreen McCleary","F35","UA","49:03"]
[109,"Gerry Cole","M50","UA","49:09"]
[110,"David Mitchell","M40","Ayrodynamic Triathlon Club","49:15"]
[111,"John Boyd","M50","UA","49:22"]
[112,"Derek Middleton","M50","Kilmarnock H&AC","49:25"]
[113,"Neill Russel","M40","UA","49:38"]
[114,"George McGregor","M60","Troon Tortoises AC","49:39"]
[115,"Gerry Penman","M40","Scottish Prison Service AAC","49:45"]
[116,"David Bowman","M","UA","49:56"]
[117,"David McCurry","M","UA","49:56"]
[118,"Aimi Barker","F35","Ayr Seaforth AAC","50:02"]
[119,"John Connell","M40","UA","50:05"]
[120,"Adam Howieson","M","UA","50:07"]
[121,"Hayley McCrorie","F","Bellahouston Road Runners","50:47"]
[122,"Craig Welsh","M","UA","50:58"]
[123,"Brogan Gibson","F20","Rons Runners","51:39"]
[124,"Paul Camlin","M40","Rons Runners","51:39"]
[125,"Ian Rutherford","M40","UA","51:56"]
[126,"Viv Lambert","F35","UA","51:59"]
[127,"Moira Connell","F45","Troon Tortoises AC","52:05"]
[128,"Steven Connell","M40","Irvine AC","52:05"]
[129,"Alex Howieson","M","UA","52:46"]
[130,"Gillian Watson","F","UA","52:54"]
[131,"Eric McGowan","M","UA","53:02"]
[132,"Noelle McQuillan","F45","Ayr Seaforth AAC","53:14"]
[133,"Ashley Traynor","F","UA","53:41"]
[134,"Jim McCleary","M50","UA","53:49"]
[135,"James Rowley","M60","Law &  District AAC","53:50"]
[136,"Janice McKellar","f55","Ayr Seaforth AAC","53:51"]
[137,"Helen Whyte","F55","Hamilton Harriers","54:00"]
[138,"Anthony Baker","M","UA","54:09"]
[139,"Michael Anderson","M","UA","54:43"]
[140,"Lynn Masterton","F35","Irvine AC","54:43"]
[141,"Kenny Weir","M60","UA","54:48"]
[142,"Helen Bruce","F45","UA","54:49"]
[143,"Bob Richardson","M","UA","55:04"]
[144,"Thomas Turner snr","M40","Rons Runners","55:15"]
[145,"Leanne Donovan","F35","Rons Runners","55:24"]
[146,"Lindsay Taylor","F35","QT pudding club","55:38"]
[147,"Gary Kerr","M","Rons Runners","55:56"]
[148,"Gillian Dunwoodie","F45","Rons Runners","56:29"]
[149,"Maggie Kinghorn","F35","UA","56:35"]
[150,"Linda Lithgow","F35","UA","56:40"]
[151,"Sharon Crombie","F35","Rons Runners","57:04"]
[152,"Carol Rome","F35","Rons Runners","57:13"]
[153,"Sue Denton","F35","Irvine AC","57:25"]
[154,"Jim Frew","M40","UA","57:25"]
[155,"Lyndsay Moffat","F","Hamilton Harriers","57:52"]
[156,"Ross Bickerstaff","M50","Hamilton Harriers","57:52"]
[157,"Robert Steel","M50","UA","57:58"]
[158,"Scott Gilmour","M20","UA","58:21"]
[159,"Suzy Moorby","F45","Monkton Milers","58:32"]
[160,"Amanda Lindsay","F45","Rons Runners","58:45"]
[161,"Alan Anderson","M50","Kilmarnock H&AC","58:48"]
[162,"Emmy Dodds","F45","Kilmarnock H&AC","59:02"]
[163,"Astrud Gibson","F35","Rons Runners","59:06"]
[164,"James Elliot","M40","Rons Runners","59:10"]
[165,"Allison Elliot","F35","Rons Runners","59:12"]
[166,"Alex Marshall","F","Rons Runners","60:06"]
[167,"Marianne Grover","F55","Jog Stewarton","60:43"]
[168,"Anita Mackie","F35","Rons Runners","60:58"]
[169,"Sharon Maule","F35","Rons Runners","61:04"]
[170,"Claire Webb","F","Rons Runners","61:50"]
[171,"Lynn Robertson","F35","UA","63:11"]
[172,"Allison Johnston","F45","UA","63:18"]
[173,"Alison Reid","F35","UA","63:54"]
[174,"Jennifer Simpson","F35","UA","64:36"]
[175,"C. McNairney","M60","Rons Runners","64:37"]
[176,"Patricia McMullen","F45","Rons Runners","64:43"]
[177,"Lorraine Howard","F35","UA","65:47"]
[178,"Linda Howard","f35","UA","65:47"]
[179,"Paul Darroch","M","UA","66:07"]
[180,"Carrol Finlay","F45","Rons Runners","67:21"]
[181,"Shirley Templeton","F45","Rons Runners","67:21"]
[182,"Gillian Stevenson","F","UA","68:19"]
[183,"Alison Duncan","F","Hamilton Harriers","68:19"]
[184,"Janice Millar","F55","Kilmarnock H&AC","70:58"]
[185,"Kenny Reid","M20","UA","74:33"]
[186,"Niki MacSephney","F35","Ipswich Jaffa","74:59"]