{"text_format":"1","workbook":"xlsx","n_sheets":5,"sheets":["entries and results","Sheet1","Prizewinners","Sorting","Decs Publ"],"not_rendered":{"charts":0,"images":0,"macros":1,"external_links":0,"defined_names":2,"comments":0,"pivot_tables":0},"unopened":[],"bounds":{"document_bytes":16777216,"sheet_cells":100000,"rows_first":2000,"rows_last":500,"rows_between":2000,"halvings":0,"cell_chars":16384,"cell_head_chars":4096},"cells_cut":0,"cells_raw":0,"read":"whole","date_system":"1900"}

{"sheet":"entries and results","index":0,"n_rows":8492,"n_cols":68,"rows_kept":2250,"cut":true,"hidden":false,"merged":[[0,6,0,11],[0,12,0,17]],"bounds":{"rows_first":1000,"rows_last":250,"rows_between":1000,"halvings":1}}
[null,null,null,null,null,null,"ENTRIES SECTION",null,null,null,null,null,"RESULTS SECTION"]
["IDentification"," CLUB:  First Claim"," GEN Date of Birth",null,"IDentification","cat","Input SAL","Bib No","Name","Cat","Club","Position","Bib No","Name","Cat","Club","Input","Time",null,null,null,null,null,null,null,null,null,null,null,null,null,null,null,null,null,null,null,null,null,null,null,null,null,null,null,null,null,null,null,null,null,null,null,null,null,null,null,null,"000000",null,null,null,"Runner","LEG 1","CONCAT","HOURS","MIN","SEC"]
["."," "," "," "," "," ","sa33186",1,"Matt Pierce","M40","Troon Tortoises AC",1,235,{"$f":"VLOOKUP('entries and results'!M3,$H$3:$K$30018,2,FALSE)","v":"Robert Gilroy"},{"$f":"VLOOKUP('entries and results'!M3,$H$3:$K$30018,3,FALSE)","v":"M"},{"$f":"VLOOKUP('entries and results'!M3,$H$3:$K$30018,4,FALSE)","v":"Ronhill Cambuslang Harriers"},3149,{"$f":"IF($H3=\"\",\" \",(LOOKUP($H3,$BK$3:$BK$1601,$BJ$3:$BJ$1601)))","v":"31:49"},null,null,null,null,null,null,null,null,null,null,null,null,null,null,null,null,null,null,null,null,null,null,null,null,null,null,null,null,null,null,null,null,null,null,null,null,null,null,null,null,null,null,null,{"$f":"CONCATENATE(BO3,\":\",BP3)","v":"31:49"},1,{"$f":"SUMIF($H$3:$H$601,$BK3,$Q$3:$Q$601)","v":3149},{"$f":"CONCATENATE($BG$2,$BL3)","v":"0000003149"},{"$f":"MID(RIGHT($BM3,6),1,2)","v":"00"},{"$f":"MID(RIGHT($BM3,6),3,2)","v":"31"},{"$f":"MID(RIGHT($BM3,6),5,2)","v":"49"}]
["090911226420140671756C","Edinburgh AC","1962-08-16","Yvonne Jones","090911226420140671756C","Vet",null,2,"Kenneth Sutherland","M40","UA",2,250,{"$f":"VLOOKUP('entries and results'!M4,$H$3:$K$30018,2,FALSE)","v":"Kerry Liam Wilson"},{"$f":"VLOOKUP('entries and results'!M4,$H$3:$K$30018,3,FALSE)","v":"M40"},{"$f":"VLOOKUP('entries and results'!M4,$H$3:$K$30018,4,FALSE)","v":"Ronhill Cambuslang Harriers"},3225,"32:25",null,null,null,null,null,null,null,null,null,null,null,null,null,null,null,null,null,null,null,null,null,null,null,null,null,null,null,null,null,null,null,null,null,null,null,null,null,null,null,null,null,null,null,{"$f":"CONCATENATE(BO4,\":\",BP4)","v":"32:25"},2,3225,{"$f":"CONCATENATE($BG$2,$BL4)","v":"0000003225"},{"$f":"MID(RIGHT($BM4,6),1,2)","v":"00"},{"$f":"MID(RIGHT($BM4,6),3,2)","v":"32"},{"$f":"MID(RIGHT($BM4,6),5,2)","v":"25"}]
["SA00005",null,"1970-04-26","Ruth Robertson","SA00005","Senior","sa28008",3,"Stuart Brockie","M40","Ayr Seaforth AAC",3,214,{"$f":"VLOOKUP('entries and results'!M5,$H$3:$K$30018,2,FALSE)","v":"Gwyn Bellamy"},{"$f":"VLOOKUP('entries and results'!M5,$H$3:$K$30018,3,FALSE)","v":"M"},{"$f":"VLOOKUP('entries and results'!M5,$H$3:$K$30018,4,FALSE)","v":"Westerlands CC Club"},3231,"32:31",null,null,null,null,null,null,null,null,null,null,null,null,null,null,null,null,null,null,null,null,null,null,null,null,null,null,null,null,null,null,null,null,null,null,null,null,null,null,null,null,null,null,null,"32:31",3,3231,"0000003231","00","32","31"]
["SA00014","Reivers Hammer","1936-07-10","Alan Bertram MBE","SA00014","Vet","sa32368",4,"Suzy Moorby","F40","Troon Tortoises AC",4,72,{"$f":"VLOOKUP('entries and results'!M6,$H$3:$K$30018,2,FALSE)","v":"Craig Reid"},{"$f":"VLOOKUP('entries and results'!M6,$H$3:$K$30018,3,FALSE)","v":"M"},{"$f":"VLOOKUP('entries and results'!M6,$H$3:$K$30018,4,FALSE)","v":"Bellahouston Road Runners"},3429,"34:29",null,null,null,null,null,null,null,null,null,null,null,null,null,null,null,null,null,null,null,null,null,null,null,null,null,null,null,null,null,null,null,null,null,null,null,null,null,null,null,null,null,null,null,"34:29",4,3429,"0000003429","00","34","29"]
["SA00018",null,"1974-01-03","Michael Swanney","SA00018","Senior","sa32355",5,"Stuart Cooper","M","UA",5,83,{"$f":"VLOOKUP('entries and results'!M7,$H$3:$K$30018,2,FALSE)","v":"Bruce  Carse"},{"$f":"VLOOKUP('entries and results'!M7,$H$3:$K$30018,3,FALSE)","v":"M"},{"$f":"VLOOKUP('entries and results'!M7,$H$3:$K$30018,4,FALSE)","v":"Bellahouston Road Runners"},3434,"34:34",null,null,null,null,null,null,null,null,null,null,null,null,null,null,null,null,null,null,null,null,null,null,null,null,null,null,null,null,null,null,null,null,null,null,null,null,null,null,null,null,null,null,null,"34:34",5,3434,"0000003434","00","34","34"]
["SA00029","Kilmarnock H&AC","1957-03-29","Hazel Shankland","SA00029","Vet",null,6,"David Locke","M50","UA",6,271,{"$f":"VLOOKUP('entries and results'!M8,$H$3:$K$30018,2,FALSE)","v":"Graham McCabe"},{"$f":"VLOOKUP('entries and results'!M8,$H$3:$K$30018,3,FALSE)","v":"M40"},{"$f":"VLOOKUP('entries and results'!M8,$H$3:$K$30018,4,FALSE)","v":"Kirkintilloch Olympians"},3520,"35:20",null,null,null,null,null,null,null,null,null,null,null,null,null,null,null,null,null,null,null,null,null,null,null,null,null,null,null,null,null,null,null,null,null,null,null,null,null,null,null,null,null,null,null,"35:20",6,3520,"0000003520","00","35","20"]
["SA00032","George Heriots School","1948-05-28","Neil Short","SA00032","Vet","sa26245",7,"Chris Boyce","M","Ayr Seaforth AAC",7,248,{"$f":"VLOOKUP('entries and results'!M9,$H$3:$K$30018,2,FALSE)","v":"James Callender"},{"$f":"VLOOKUP('entries and results'!M9,$H$3:$K$30018,3,FALSE)","v":"M"},{"$f":"VLOOKUP('entries and results'!M9,$H$3:$K$30018,4,FALSE)","v":"Westerlands CC Club"},3530,"35:30",null,null,null,null,null,null,null,null,null,null,null,null,null,null,null,null,null,null,null,null,null,null,null,null,null,null,null,null,null,null,null,null,null,null,null,null,null,null,null,null,null,null,null,"35:30",7,3530,"0000003530","00","35","30"]
["SA00034","Ron Hill Cambuslang Harriers","1948-05-23","Michael Johnston","SA00034","Vet",null,8,"Terry Wright","M60","UA",8,57,{"$f":"VLOOKUP('entries and results'!M10,$H$3:$K$30018,2,FALSE)","v":"Neil Walker"},{"$f":"VLOOKUP('entries and results'!M10,$H$3:$K$30018,3,FALSE)","v":"M"},{"$f":"VLOOKUP('entries and results'!M10,$H$3:$K$30018,4,FALSE)","v":"Kilmarnock H&AC"},3544,"35:44",null,null,null,null,null,null,null,null,null,null,null,null,null,null,null,null,null,null,null,null,null,null,null,null,null,null,null,null,null,null,null,null,null,null,null,null,null,null,null,null,null,null,null,"35:44",8,3544,"0000003544","00","35","44"]
["SA00037",null,"1968-10-21","Karen Costello","SA00037","Vet",null,9,"Kenneth Barker","M50","UA",9,183,{"$f":"VLOOKUP('entries and results'!M11,$H$3:$K$30018,2,FALSE)","v":"Brian Robertson"},{"$f":"VLOOKUP('entries and results'!M11,$H$3:$K$30018,3,FALSE)","v":"M"},{"$f":"VLOOKUP('entries and results'!M11,$H$3:$K$30018,4,FALSE)","v":"Shettleston Harriers"},3552,"35:52",null,null,null,null,null,null,null,null,null,null,null,null,null,null,null,null,null,null,null,null,null,null,null,null,null,null,null,null,null,null,null,null,null,null,null,null,null,null,null,null,null,null,null,"35:52",9,3552,"0000003552","00","35","52"]
["SA00039","Motherwell AC","1947-05-21","Thomas Boyle","SA00039","Vet","sa30273",10,"Matthew Cameron","M","Ayr Seaforth AAC",10,159,{"$f":"VLOOKUP('entries and results'!M12,$H$3:$K$30018,2,FALSE)","v":"Chris Upson"},{"$f":"VLOOKUP('entries and results'!M12,$H$3:$K$30018,3,FALSE)","v":"M50"},{"$f":"VLOOKUP('entries and results'!M12,$H$3:$K$30018,4,FALSE)","v":"Ronhill Cambuslang Harriers"},3613,"36:13",null,null,null,null,null,null,null,null,null,null,null,null,null,null,null,null,null,null,null,null,null,null,null,null,null,null,null,null,null,null,null,null,null,null,null,null,null,null,null,null,null,null,null,"36:13",10,3613,"0000003613","00","36","13"]
["SA00042","Banchory Stonehaven AC","1958-01-31","Ann Christie","SA00042","Vet","sa31979",11,"Kimberley Mackay","F","Irvine Running Club",11,287,{"$f":"VLOOKUP('entries and results'!M13,$H$3:$K$30018,2,FALSE)","v":"Robert Lindsay"},{"$f":"VLOOKUP('entries and results'!M13,$H$3:$K$30018,3,FALSE)","v":"M40"},{"$f":"VLOOKUP('entries and results'!M13,$H$3:$K$30018,4,FALSE)","v":"Kilmarnock H&AC"},3617,"36:17",null,null,null,null,null,null,null,null,null,null,null,null,null,null,null,null,null,null,null,null,null,null,null,null,null,null,null,null,null,null,null,null,null,null,null,null,null,null,null,null,null,null,null,"36:17",11,3617,"0000003617","00","36","17"]
["SA00045","Penicuik Harriers","1937-03-17","George McEwan","SA00045","Vet","sa31958",12,"Craig Pickett","M","Irvine Running Club",12,197,{"$f":"VLOOKUP('entries and results'!M14,$H$3:$K$30018,2,FALSE)","v":"James John"},{"$f":"VLOOKUP('entries and results'!M14,$H$3:$K$30018,3,FALSE)","v":"M40"},{"$f":"VLOOKUP('entries and results'!M14,$H$3:$K$30018,4,FALSE)","v":"Ronhill Cambuslang Harriers"},3619,"36:19",null,null,null,null,null,null,null,null,null,null,null,null,null,null,null,null,null,null,null,null,null,null,null,null,null,null,null,null,null,null,null,null,null,null,null,null,null,null,null,null,null,null,null,"36:19",12,3619,"0000003619","00","36","19"]
["SA00053","Red Star AC","1966-10-18","Gordon Robertson","SA00053","Vet",null,13,"Alexander Beggs","M40","UA",13,219,{"$f":"VLOOKUP('entries and results'!M15,$H$3:$K$30018,2,FALSE)","v":"Grant MacDonald"},{"$f":"VLOOKUP('entries and results'!M15,$H$3:$K$30018,3,FALSE)","v":"M"},{"$f":"VLOOKUP('entries and results'!M15,$H$3:$K$30018,4,FALSE)","v":"Bellahouston Road Runners"},3632,"36:32",null,null,null,null,null,null,null,null,null,null,null,null,null,null,null,null,null,null,null,null,null,null,null,null,null,null,null,null,null,null,null,null,null,null,null,null,null,null,null,null,null,null,null,"36:32",13,3632,"0000003632","00","36","32"]
["SA00058","Lasswade AAC","1987-03-21","Colin Menzies","SA00058","Senior",null,14,"Laura Wallace","F","Ayr Seaforth AAC",14,158,{"$f":"VLOOKUP('entries and results'!M16,$H$3:$K$30018,2,FALSE)","v":"Stuart Murdoch"},{"$f":"VLOOKUP('entries and results'!M16,$H$3:$K$30018,3,FALSE)","v":"M40"},{"$f":"VLOOKUP('entries and results'!M16,$H$3:$K$30018,4,FALSE)","v":"Kilmarnock H&AC"},3634,"36:34",null,null,null,null,null,null,null,null,null,null,null,null,null,null,null,null,null,null,null,null,null,null,null,null,null,null,null,null,null,null,null,null,null,null,null,null,null,null,null,null,null,null,null,"36:34",14,3634,"0000003634","00","36","34"]
["SA00059","North Uist AAC","1959-07-21","Norman MacLeod","SA00059","Vet","sa24137",15,"John Strachan","M","Ayr Seaforth AAC",15,180,{"$f":"VLOOKUP('entries and results'!M17,$H$3:$K$30018,2,FALSE)","v":"Robert O'Neill"},{"$f":"VLOOKUP('entries and results'!M17,$H$3:$K$30018,3,FALSE)","v":"M"},{"$f":"VLOOKUP('entries and results'!M17,$H$3:$K$30018,4,FALSE)","v":"Clydesdale Harriers"},3655,"36:55",null,null,null,null,null,null,null,null,null,null,null,null,null,null,null,null,null,null,null,null,null,null,null,null,null,null,null,null,null,null,null,null,null,null,null,null,null,null,null,null,null,null,null,"36:55",15,3655,"0000003655","00","36","55"]
["SA00066","Kilbarchan AAC","1943-03-20","Derek Parker","SA00066","Vet",null,16,"James Cunningham","M50","UA",16,215,{"$f":"VLOOKUP('entries and results'!M18,$H$3:$K$30018,2,FALSE)","v":"Brian Douglas"},{"$f":"VLOOKUP('entries and results'!M18,$H$3:$K$30018,3,FALSE)","v":"M40"},{"$f":"VLOOKUP('entries and results'!M18,$H$3:$K$30018,4,FALSE)","v":"Bellahouston Harriers"},3701,"37:01",null,null,null,null,null,null,null,null,null,null,null,null,null,null,null,null,null,null,null,null,null,null,null,null,null,null,null,null,null,null,null,null,null,null,null,null,null,null,null,null,null,null,null,"37:01",16,3701,"0000003701","00","37","01"]
["SA00069","Edinburgh AC","1938-12-11","John Dundas","SA00069","Vet",null,17,"Karen Hughes","F40","UA",17,240,{"$f":"VLOOKUP('entries and results'!M19,$H$3:$K$30018,2,FALSE)","v":"Chris Lorimer"},{"$f":"VLOOKUP('entries and results'!M19,$H$3:$K$30018,3,FALSE)","v":"M"},{"$f":"VLOOKUP('entries and results'!M19,$H$3:$K$30018,4,FALSE)","v":"UA"},3712,"37:12",null,null,null,null,null,null,null,null,null,null,null,null,null,null,null,null,null,null,null,null,null,null,null,null,null,null,null,null,null,null,null,null,null,null,null,null,null,null,null,null,null,null,null,"37:12",17,3712,"0000003712","00","37","12"]
["SA00074",null,"1940-07-04","Sandy Hamilton","SA00074","Vet","sa32465",18,"Luke Chamberlain","M40","Giffnock North AAC",18,119,{"$f":"VLOOKUP('entries and results'!M20,$H$3:$K$30018,2,FALSE)","v":"James Murray"},{"$f":"VLOOKUP('entries and results'!M20,$H$3:$K$30018,3,FALSE)","v":"M"},{"$f":"VLOOKUP('entries and results'!M20,$H$3:$K$30018,4,FALSE)","v":"Ayr Seaforth AAC"},3745,"37:45",null,null,null,null,null,null,null,null,null,null,null,null,null,null,null,null,null,null,null,null,null,null,null,null,null,null,null,null,null,null,null,null,null,null,null,null,null,null,null,null,null,null,null,"37:45",18,3745,"0000003745","00","37","45"]
["SA00076","Cumbernauld AAC","1953-02-21","Brenda Stephen","SA00076","Vet",null,19,"Ruth Barclay-Paterson","F","UA",19,33,{"$f":"VLOOKUP('entries and results'!M21,$H$3:$K$30018,2,FALSE)","v":"Tommy O'Connell"},{"$f":"VLOOKUP('entries and results'!M21,$H$3:$K$30018,3,FALSE)","v":"M"},{"$f":"VLOOKUP('entries and results'!M21,$H$3:$K$30018,4,FALSE)","v":"Bellahouston Road Runners"},3754,"37:54",null,null,null,null,null,null,null,null,null,null,null,null,null,null,null,null,null,null,null,null,null,null,null,null,null,null,null,null,null,null,null,null,null,null,null,null,null,null,null,null,null,null,null,"37:54",19,3754,"0000003754","00","37","54"]
["SA00087","VP-Glasgow AC","1946-12-04","Alan Potts","SA00087","Vet",null,20,"Paul Lafferty","M","Ron's Runners",20,14,{"$f":"VLOOKUP('entries and results'!M22,$H$3:$K$30018,2,FALSE)","v":"Laura Wallace"},{"$f":"VLOOKUP('entries and results'!M22,$H$3:$K$30018,3,FALSE)","v":"F"},{"$f":"VLOOKUP('entries and results'!M22,$H$3:$K$30018,4,FALSE)","v":"Ayr Seaforth AAC"},3759,"37:59",null,null,null,null,null,null,null,null,null,null,null,null,null,null,null,null,null,null,null,null,null,null,null,null,null,null,null,null,null,null,null,null,null,null,null,null,null,null,null,null,null,null,null,"37:59",20,3759,"0000003759","00","37","59"]
["SA00088","Dartford Harriers","1960-11-19","Geoff Wightman","SA00088","Vet","sa29279",21,"Janice Millar","F50","Kilmarnock H&AC",21,222,{"$f":"VLOOKUP('entries and results'!M23,$H$3:$K$30018,2,FALSE)","v":"Alan Douglas"},{"$f":"VLOOKUP('entries and results'!M23,$H$3:$K$30018,3,FALSE)","v":"M"},{"$f":"VLOOKUP('entries and results'!M23,$H$3:$K$30018,4,FALSE)","v":"UA"},3806,"38:06",null,null,null,null,null,null,null,null,null,null,null,null,null,null,null,null,null,null,null,null,null,null,null,null,null,null,null,null,null,null,null,null,null,null,null,null,null,null,null,null,null,null,null,"38:06",21,3806,"0000003806","00","38","06"]
["SA00089","Unattached","1962-09-26","Neil Park","SA00089","Vet",null,22,"Alan Dorrans","M","UA",22,294,{"$f":"VLOOKUP('entries and results'!M24,$H$3:$K$30018,2,FALSE)","v":"Scott Brown"},{"$f":"VLOOKUP('entries and results'!M24,$H$3:$K$30018,3,FALSE)","v":"M"},{"$f":"VLOOKUP('entries and results'!M24,$H$3:$K$30018,4,FALSE)","v":"Irvine Running Club"},3818,"38:18",null,null,null,null,null,null,null,null,null,null,null,null,null,null,null,null,null,null,null,null,null,null,null,null,null,null,null,null,null,null,null,null,null,null,null,null,null,null,null,null,null,null,null,"38:18",22,3818,"0000003818","00","38","18"]
["SA00095","Unattached","1924-04-14","Alex McDonald","SA00095","Vet","sa30306",23,"Andrew Crichton","M","Ayr Seaforth AAC",23,136,{"$f":"VLOOKUP('entries and results'!M25,$H$3:$K$30018,2,FALSE)","v":"Jim Phillips"},{"$f":"VLOOKUP('entries and results'!M25,$H$3:$K$30018,3,FALSE)","v":"M40"},{"$f":"VLOOKUP('entries and results'!M25,$H$3:$K$30018,4,FALSE)","v":"Troon Tortoises AC"},3819,"38:19",null,null,null,null,null,null,null,null,null,null,null,null,null,null,null,null,null,null,null,null,null,null,null,null,null,null,null,null,null,null,null,null,null,null,null,null,null,null,null,null,null,null,null,"38:19",23,3819,"0000003819","00","38","19"]
["SA00096","Ayr Seaforth AAC","1993-01-05","Jonathan Thompson","SA00096","Senior","sa13012",24,"Tracy Kerr","F40",{"$f":"VLOOKUP('entries and results'!G26,$A$3:$E$30018,2,FALSE)","v":"Kilmarnock H&AC"},24,276,{"$f":"VLOOKUP('entries and results'!M26,$H$3:$K$30018,2,FALSE)","v":"Colin Whitby"},{"$f":"VLOOKUP('entries and results'!M26,$H$3:$K$30018,3,FALSE)","v":"M"},{"$f":"VLOOKUP('entries and results'!M26,$H$3:$K$30018,4,FALSE)","v":"Irvine Running Club"},3832,"38:32",null,null,null,null,null,null,null,null,null,null,null,null,null,null,null,null,null,null,null,null,null,null,null,null,null,null,null,null,null,null,null,null,null,null,null,null,null,null,null,null,null,null,null,"38:32",24,3832,"0000003832","00","38","32"]
["SA00099","Nithsdale AC","1994-02-19","Carly McCrindle","SA00099","Under 17",null,25,"Andy McNaughton","M40","Ron's Runners",25,182,{"$f":"VLOOKUP('entries and results'!M27,$H$3:$K$30018,2,FALSE)","v":"Rick Williams "},{"$f":"VLOOKUP('entries and results'!M27,$H$3:$K$30018,3,FALSE)","v":"M40"},{"$f":"VLOOKUP('entries and results'!M27,$H$3:$K$30018,4,FALSE)","v":"Galloway Harriers"},3834,"38:34",null,null,null,null,null,null,null,null,null,null,null,null,null,null,null,null,null,null,null,null,null,null,null,null,null,null,null,null,null,null,null,null,null,null,null,null,null,null,null,null,null,null,null,"38:34",25,3834,"0000003834","00","38","34"]
["SA00101","Motherwell AC","1993-06-19","Richard Martin","SA00101","Senior",null,26,"Karen Lees","F","UA",26,174,{"$f":"VLOOKUP('entries and results'!M28,$H$3:$K$30018,2,FALSE)","v":"Vincent Carroll"},{"$f":"VLOOKUP('entries and results'!M28,$H$3:$K$30018,3,FALSE)","v":"M40"},{"$f":"VLOOKUP('entries and results'!M28,$H$3:$K$30018,4,FALSE)","v":"Kirkintilloch Olympians"},3836,"38:36",null,null,null,null,null,null,null,null,null,null,null,null,null,null,null,null,null,null,null,null,null,null,null,null,null,null,null,null,null,null,null,null,null,null,null,null,null,null,null,null,null,null,null,"38:36",26,3836,"0000003836","00","38","36"]
["SA00102","VP-Glasgow AC","1993-08-27","Jennifer Callaghan","SA00102","Senior",null,27,"Angela Stroyan","F","Ron's Runners",27,65,{"$f":"VLOOKUP('entries and results'!M29,$H$3:$K$30018,2,FALSE)","v":"Alan Heron"},{"$f":"VLOOKUP('entries and results'!M29,$H$3:$K$30018,3,FALSE)","v":"M"},{"$f":"VLOOKUP('entries and results'!M29,$H$3:$K$30018,4,FALSE)","v":"Dumbarton AAC"},3836,"38:36",null,null,null,null,null,null,null,null,null,null,null,null,null,null,null,null,null,null,null,null,null,null,null,null,null,null,null,null,null,null,null,null,null,null,null,null,null,null,null,null,null,null,null,"38:36",27,3836,"0000003836","00","38","36"]
["SA00108","Lasswade AAC","1992-04-20","Guy Learmonth","SA00108","Senior",null,28,"Colin Mutch","M60","UA",28,209,{"$f":"VLOOKUP('entries and results'!M30,$H$3:$K$30018,2,FALSE)","v":"Kenneth Neill"},{"$f":"VLOOKUP('entries and results'!M30,$H$3:$K$30018,3,FALSE)","v":"M"},{"$f":"VLOOKUP('entries and results'!M30,$H$3:$K$30018,4,FALSE)","v":"Ayr Seaforth AAC"},3851,"38:51",null,null,null,null,null,null,null,null,null,null,null,null,null,null,null,null,null,null,null,null,null,null,null,null,null,null,null,null,null,null,null,null,null,null,null,null,null,null,null,null,null,null,null,"38:51",28,3851,"0000003851","00","38","51"]
["SA00184","Kirkintilloch Olympians","1989-11-04","Kevin Cornes","SA00184","Senior",null,29,"Jacqui Sandler","F40","Kilmarnock H&AC",29,198,{"$f":"VLOOKUP('entries and results'!M31,$H$3:$K$30018,2,FALSE)","v":"Craig Brown "},{"$f":"VLOOKUP('entries and results'!M31,$H$3:$K$30018,3,FALSE)","v":"M"},{"$f":"VLOOKUP('entries and results'!M31,$H$3:$K$30018,4,FALSE)","v":"Ayr Seaforth AAC"},3856,"38:56",null,null,null,null,null,null,null,null,null,null,null,null,null,null,null,null,null,null,null,null,null,null,null,null,null,null,null,null,null,null,null,null,null,null,null,null,null,null,null,null,null,null,null,"38:56",29,3856,"0000003856","00","38","56"]
["SA00380","Lasswade AAC","1993-10-23","Madeleine Sweeney-Baird","SA00380","Under 17",null,30,"Fiona McDonald","F40","Monkton Milers",30,187,{"$f":"VLOOKUP('entries and results'!M32,$H$3:$K$30018,2,FALSE)","v":"Walter Henderson"},{"$f":"VLOOKUP('entries and results'!M32,$H$3:$K$30018,3,FALSE)","v":"M40"},{"$f":"VLOOKUP('entries and results'!M32,$H$3:$K$30018,4,FALSE)","v":"Shettleston Harriers"},3858,"38:58",null,null,null,null,null,null,null,null,null,null,null,null,null,null,null,null,null,null,null,null,null,null,null,null,null,null,null,null,null,null,null,null,null,null,null,null,null,null,null,null,null,null,null,"38:58",30,3858,"0000003858","00","38","58"]
["SA00398","Forres Harriers","1996-01-04","Lisa McCrossan","SA00398","Under 15",null,31,"Susan Chamberlain","F40","Monkton Milers",31,147,{"$f":"VLOOKUP('entries and results'!M33,$H$3:$K$30018,2,FALSE)","v":"Thomas Slocombe"},{"$f":"VLOOKUP('entries and results'!M33,$H$3:$K$30018,3,FALSE)","v":"M"},{"$f":"VLOOKUP('entries and results'!M33,$H$3:$K$30018,4,FALSE)","v":"UA"},3858,"38:58",null,null,null,null,null,null,null,null,null,null,null,null,null,null,null,null,null,null,null,null,null,null,null,null,null,null,null,null,null,null,null,null,null,null,null,null,null,null,null,null,null,null,null,"38:58",31,3858,"0000003858","00","38","58"]
["SA00399","Girvan AAC","1991-04-04","Laura McTaggart","SA00399","Senior",null,32,"Claire McNicol","F40","UA",32,255,{"$f":"VLOOKUP('entries and results'!M34,$H$3:$K$30018,2,FALSE)","v":"Fraser Mackie"},{"$f":"VLOOKUP('entries and results'!M34,$H$3:$K$30018,3,FALSE)","v":"MU20"},{"$f":"VLOOKUP('entries and results'!M34,$H$3:$K$30018,4,FALSE)","v":"Irvine Running Club"},3859,"38:59",null,null,null,null,null,null,null,null,null,null,null,null,null,null,null,null,null,null,null,null,null,null,null,null,null,null,null,null,null,null,null,null,null,null,null,null,null,null,null,null,null,null,null,"38:59",32,3859,"0000003859","00","38","59"]
["SA00406","Aberdeen AAC","1991-08-02","Cameron Strachan","SA00406","Senior","sa23767",33,"Tommy O'Connell","M","Bellahouston Road Runners",33,186,{"$f":"VLOOKUP('entries and results'!M35,$H$3:$K$30018,2,FALSE)","v":"Fraser McPhail"},{"$f":"VLOOKUP('entries and results'!M35,$H$3:$K$30018,3,FALSE)","v":"M40"},{"$f":"VLOOKUP('entries and results'!M35,$H$3:$K$30018,4,FALSE)","v":"Troon Tortoises AC"},3906,"39:06",null,null,null,null,null,null,null,null,null,null,null,null,null,null,null,null,null,null,null,null,null,null,null,null,null,null,null,null,null,null,null,null,null,null,null,null,null,null,null,null,null,null,null,"39:06",33,3906,"0000003906","00","39","06"]
["SA00408","Aberdeen AAC","1990-09-16","Christie Noble","SA00408","Senior",null,34,"Alan Strange","M40","UA",34,1,{"$f":"VLOOKUP('entries and results'!M36,$H$3:$K$30018,2,FALSE)","v":"Matt Pierce"},{"$f":"VLOOKUP('entries and results'!M36,$H$3:$K$30018,3,FALSE)","v":"M40"},{"$f":"VLOOKUP('entries and results'!M36,$H$3:$K$30018,4,FALSE)","v":"Troon Tortoises AC"},3917,"39:17",null,null,null,null,null,null,null,null,null,null,null,null,null,null,null,null,null,null,null,null,null,null,null,null,null,null,null,null,null,null,null,null,null,null,null,null,null,null,null,null,null,null,null,"39:17",34,3917,"0000003917","00","39","17"]
["SA00409","Aberdeen AAC","1992-11-26","Lewis Stephen","SA00409","Senior",null,35,"Allan Moore","M","UA",35,140,{"$f":"VLOOKUP('entries and results'!M37,$H$3:$K$30018,2,FALSE)","v":"Ian Hannah"},{"$f":"VLOOKUP('entries and results'!M37,$H$3:$K$30018,3,FALSE)","v":"M50"},{"$f":"VLOOKUP('entries and results'!M37,$H$3:$K$30018,4,FALSE)","v":"Galloway Harriers"},3919,"39:19",null,null,null,null,null,null,null,null,null,null,null,null,null,null,null,null,null,null,null,null,null,null,null,null,null,null,null,null,null,null,null,null,null,null,null,null,null,null,null,null,null,null,null,"39:19",35,3919,"0000003919","00","39","19"]
["SA00411","Airdrie Harriers","1994-03-22","Ciaran Gallagher","SA00411","Under 17",null,36,"Rachel Cox","F40","Monkton Milers",36,88,{"$f":"VLOOKUP('entries and results'!M38,$H$3:$K$30018,2,FALSE)","v":"Murray Robertson"},{"$f":"VLOOKUP('entries and results'!M38,$H$3:$K$30018,3,FALSE)","v":"M"},{"$f":"VLOOKUP('entries and results'!M38,$H$3:$K$30018,4,FALSE)","v":"UA"},3926,"39:26",null,null,null,null,null,null,null,null,null,null,null,null,null,null,null,null,null,null,null,null,null,null,null,null,null,null,null,null,null,null,null,null,null,null,null,null,null,null,null,null,null,null,null,"39:26",36,3926,"0000003926","00","39","26"]
["SA00412","Airdrie Harriers","1994-09-22","Emma Howard","SA00412","Under 17",null,37,"Amanda Lindsay","F40","Ron's Runners",37,231,{"$f":"VLOOKUP('entries and results'!M39,$H$3:$K$30018,2,FALSE)","v":"Kevin Bloy"},{"$f":"VLOOKUP('entries and results'!M39,$H$3:$K$30018,3,FALSE)","v":"M40"},{"$f":"VLOOKUP('entries and results'!M39,$H$3:$K$30018,4,FALSE)","v":"Ayr Seaforth AAC"},3934,"39:34",null,null,null,null,null,null,null,null,null,null,null,null,null,null,null,null,null,null,null,null,null,null,null,null,null,null,null,null,null,null,null,null,null,null,null,null,null,null,null,null,null,null,null,"39:34",37,3934,"0000003934","00","39","34"]
["SA00415","Arran Runners","1991-05-31","Nicole Bunyan","SA00415","Senior",null,38,"Leigh-Ann Cherry","F","UA",38,142,{"$f":"VLOOKUP('entries and results'!M40,$H$3:$K$30018,2,FALSE)","v":"Sean Connor"},{"$f":"VLOOKUP('entries and results'!M40,$H$3:$K$30018,3,FALSE)","v":"M"},{"$f":"VLOOKUP('entries and results'!M40,$H$3:$K$30018,4,FALSE)","v":"Galloway Harriers"},3937,"39:37",null,null,null,null,null,null,null,null,null,null,null,null,null,null,null,null,null,null,null,null,null,null,null,null,null,null,null,null,null,null,null,null,null,null,null,null,null,null,null,null,null,null,null,"39:37",38,3937,"0000003937","00","39","37"]
["SA00417","Ayr Seaforth AAC","1991-04-21","Cheryl Gibson","SA00417","Senior",null,39,"Elaine Bufton","F40","UA",39,3,{"$f":"VLOOKUP('entries and results'!M41,$H$3:$K$30018,2,FALSE)","v":"Stuart Brockie"},{"$f":"VLOOKUP('entries and results'!M41,$H$3:$K$30018,3,FALSE)","v":"M40"},{"$f":"VLOOKUP('entries and results'!M41,$H$3:$K$30018,4,FALSE)","v":"Ayr Seaforth AAC"},3942,"39:42",null,null,null,null,null,null,null,null,null,null,null,null,null,null,null,null,null,null,null,null,null,null,null,null,null,null,null,null,null,null,null,null,null,null,null,null,null,null,null,null,null,null,null,"39:42",39,3942,"0000003942","00","39","42"]
["SA00423","Edinburgh AC","1993-02-07","Matthew Jones","SA00423","Senior","sa8450",40,"Mark Hamilton","M40","Kilmarnock H&AC",40,78,{"$f":"VLOOKUP('entries and results'!M42,$H$3:$K$30018,2,FALSE)","v":"Mark Preston"},{"$f":"VLOOKUP('entries and results'!M42,$H$3:$K$30018,3,FALSE)","v":"M"},{"$f":"VLOOKUP('entries and results'!M42,$H$3:$K$30018,4,FALSE)","v":"North Ayrshire AC"},3945,"39:45",null,null,null,null,null,null,null,null,null,null,null,null,null,null,null,null,null,null,null,null,null,null,null,null,null,null,null,null,null,null,null,null,null,null,null,null,null,null,null,null,null,null,null,"39:45",40,3945,"0000003945","00","39","45"]
["SA00438","Dundee Hawkhill Harriers","1992-10-31","Sarah Kelly","SA00438","Senior",null,41,"Fiona Hewitson","F40","UA",41,116,{"$f":"VLOOKUP('entries and results'!M43,$H$3:$K$30018,2,FALSE)","v":"Claire McArthur"},{"$f":"VLOOKUP('entries and results'!M43,$H$3:$K$30018,3,FALSE)","v":"F"},{"$f":"VLOOKUP('entries and results'!M43,$H$3:$K$30018,4,FALSE)","v":"Hamilton Harriers"},3948,"39:48",null,null,null,null,null,null,null,null,null,null,null,null,null,null,null,null,null,null,null,null,null,null,null,null,null,null,null,null,null,null,null,null,null,null,null,null,null,null,null,null,null,null,null,"39:48",41,3948,"0000003948","00","39","48"]
["SA00442","Fife AC","1990-10-10","Ryan Ritchie","SA00442","Senior",null,42,"Alan Hewitson","M40","UA",42,20,{"$f":"VLOOKUP('entries and results'!M44,$H$3:$K$30018,2,FALSE)","v":"Paul Lafferty"},{"$f":"VLOOKUP('entries and results'!M44,$H$3:$K$30018,3,FALSE)","v":"M"},{"$f":"VLOOKUP('entries and results'!M44,$H$3:$K$30018,4,FALSE)","v":"Ron's Runners"},3949,"39:49",null,null,null,null,null,null,null,null,null,null,null,null,null,null,null,null,null,null,null,null,null,null,null,null,null,null,null,null,null,null,null,null,null,null,null,null,null,null,null,null,null,null,null,"39:49",42,3949,"0000003949","00","39","49"]
["SA00445","Fife AC","1991-03-09","Jenny Tan","SA00445","Senior",null,43,"Laura Russell","F40","UA",43,77,{"$f":"VLOOKUP('entries and results'!M45,$H$3:$K$30018,2,FALSE)","v":"Alan Donachy"},{"$f":"VLOOKUP('entries and results'!M45,$H$3:$K$30018,3,FALSE)","v":"M40"},{"$f":"VLOOKUP('entries and results'!M45,$H$3:$K$30018,4,FALSE)","v":"North Ayrshire AC"},4004,"40:04",null,null,null,null,null,null,null,null,null,null,null,null,null,null,null,null,null,null,null,null,null,null,null,null,null,null,null,null,null,null,null,null,null,null,null,null,null,null,null,null,null,null,null,"40:04",43,4004,"0000004004","00","40","04"]
["SA00451","Giffnock North AAC","1994-03-29","Karin Belch","SA00451","Under 17","sa23814",44,"Ciara Baxter","F","Bellahouston Road Runners",44,7,{"$f":"VLOOKUP('entries and results'!M46,$H$3:$K$30018,2,FALSE)","v":"Chris Boyce"},{"$f":"VLOOKUP('entries and results'!M46,$H$3:$K$30018,3,FALSE)","v":"M"},{"$f":"VLOOKUP('entries and results'!M46,$H$3:$K$30018,4,FALSE)","v":"Ayr Seaforth AAC"},4007,"40:07",null,null,null,null,null,null,null,null,null,null,null,null,null,null,null,null,null,null,null,null,null,null,null,null,null,null,null,null,null,null,null,null,null,null,null,null,null,null,null,null,null,null,null,"40:07",44,4007,"0000004007","00","40","07"]
["SA00456","Giffnock North AAC","1994-02-12","Max Lott","SA00456","Under 17","a307715",45,"Sandra Hunter","F50","Ron's Runners",45,165,{"$f":"VLOOKUP('entries and results'!M47,$H$3:$K$30018,2,FALSE)","v":"John Ross"},{"$f":"VLOOKUP('entries and results'!M47,$H$3:$K$30018,3,FALSE)","v":"M"},{"$f":"VLOOKUP('entries and results'!M47,$H$3:$K$30018,4,FALSE)","v":"UA"},4024,"40:24",null,null,null,null,null,null,null,null,null,null,null,null,null,null,null,null,null,null,null,null,null,null,null,null,null,null,null,null,null,null,null,null,null,null,null,null,null,null,null,null,null,null,null,"40:24",45,4024,"0000004024","00","40","24"]
["SA00457","Giffnock North AAC","1994-03-29","Catriona Loughran","SA00457","Under 17",null,46,"Mark Leckie","M","UA",46,40,{"$f":"VLOOKUP('entries and results'!M48,$H$3:$K$30018,2,FALSE)","v":"Mark Hamilton"},{"$f":"VLOOKUP('entries and results'!M48,$H$3:$K$30018,3,FALSE)","v":"M40"},{"$f":"VLOOKUP('entries and results'!M48,$H$3:$K$30018,4,FALSE)","v":"Kilmarnock H&AC"},4029,"40:29",null,null,null,null,null,null,null,null,null,null,null,null,null,null,null,null,null,null,null,null,null,null,null,null,null,null,null,null,null,null,null,null,null,null,null,null,null,null,null,null,null,null,null,"40:29",46,4029,"0000004029","00","40","29"]
["SA00460","Giffnock North AAC","1993-09-03","Sandy Nimmo","SA00460","Under 17",null,47,"Lynsey Leckie","F","UA",47,227,{"$f":"VLOOKUP('entries and results'!M49,$H$3:$K$30018,2,FALSE)","v":"Paul Turnbull"},{"$f":"VLOOKUP('entries and results'!M49,$H$3:$K$30018,3,FALSE)","v":"M50"},{"$f":"VLOOKUP('entries and results'!M49,$H$3:$K$30018,4,FALSE)","v":"Ayr Seaforth AAC"},4034,"40:34",null,null,null,null,null,null,null,null,null,null,null,null,null,null,null,null,null,null,null,null,null,null,null,null,null,null,null,null,null,null,null,null,null,null,null,null,null,null,null,null,null,null,null,"40:34",47,4034,"0000004034","00","40","34"]
["SA00464","Giffnock North AAC","1992-06-02","Greg Turner","SA00464","Senior",null,48,"Cameron Clark","M40","UA",48,93,{"$f":"VLOOKUP('entries and results'!M50,$H$3:$K$30018,2,FALSE)","v":"John Leitch"},{"$f":"VLOOKUP('entries and results'!M50,$H$3:$K$30018,3,FALSE)","v":"M"},{"$f":"VLOOKUP('entries and results'!M50,$H$3:$K$30018,4,FALSE)","v":"North Ayrshire AC"},4055,"40:55",null,null,null,null,null,null,null,null,null,null,null,null,null,null,null,null,null,null,null,null,null,null,null,null,null,null,null,null,null,null,null,null,null,null,null,null,null,null,null,null,null,null,null,"40:55",48,4055,"0000004055","00","40","55"]
["SA00468","Giffnock North AAC","1993-04-16","Katie McKnight","SA00468","Senior",null,49,"Robert Steel","M40","UA",49,161,{"$f":"VLOOKUP('entries and results'!M51,$H$3:$K$30018,2,FALSE)","v":"Stuart Swan"},{"$f":"VLOOKUP('entries and results'!M51,$H$3:$K$30018,3,FALSE)","v":"M"},{"$f":"VLOOKUP('entries and results'!M51,$H$3:$K$30018,4,FALSE)","v":"Troon Tortoises AC"},4120,"41:20",null,null,null,null,null,null,null,null,null,null,null,null,null,null,null,null,null,null,null,null,null,null,null,null,null,null,null,null,null,null,null,null,null,null,null,null,null,null,null,null,null,null,null,"41:20",49,4120,"0000004120","00","41","20"]
["SA00470","Glasgow School of Sport","1992-04-18","Samantha Kelly","SA00470","Senior",null,50,"Andrew Stewart","M50","Ron's Runners",50,268,{"$f":"VLOOKUP('entries and results'!M52,$H$3:$K$30018,2,FALSE)","v":"Stuart McLean"},{"$f":"VLOOKUP('entries and results'!M52,$H$3:$K$30018,3,FALSE)","v":"M40"},{"$f":"VLOOKUP('entries and results'!M52,$H$3:$K$30018,4,FALSE)","v":"UA"},4136,"41:36",null,null,null,null,null,null,null,null,null,null,null,null,null,null,null,null,null,null,null,null,null,null,null,null,null,null,null,null,null,null,null,null,null,null,null,null,null,null,null,null,null,null,null,"41:36",50,4136,"0000004136","00","41","36"]
["SA00477","VP-Glasgow AC","1990-06-12","Hazel Blair","SA00477","Senior",null,51,"Robert Chalmers","M","UA",51,245,{"$f":"VLOOKUP('entries and results'!M53,$H$3:$K$30018,2,FALSE)","v":"John Surgenor"},{"$f":"VLOOKUP('entries and results'!M53,$H$3:$K$30018,3,FALSE)","v":"M50"},{"$f":"VLOOKUP('entries and results'!M53,$H$3:$K$30018,4,FALSE)","v":"Irvine Running Club"},4138,"41:38",null,null,null,null,null,null,null,null,null,null,null,null,null,null,null,null,null,null,null,null,null,null,null,null,null,null,null,null,null,null,null,null,null,null,null,null,null,null,null,null,null,null,null,"41:38",51,4138,"0000004138","00","41","38"]
["SA00495","Livingston & District AAC","1994-06-09","Stephen Watson","SA00495","Under 17",null,52,"Ian Wilson","M40","UA",52,66,{"$f":"VLOOKUP('entries and results'!M54,$H$3:$K$30018,2,FALSE)","v":"Jim Sneddon"},{"$f":"VLOOKUP('entries and results'!M54,$H$3:$K$30018,3,FALSE)","v":"M40"},{"$f":"VLOOKUP('entries and results'!M54,$H$3:$K$30018,4,FALSE)","v":"Irvine Running Club"},4146,"41:46",null,null,null,null,null,null,null,null,null,null,null,null,null,null,null,null,null,null,null,null,null,null,null,null,null,null,null,null,null,null,null,null,null,null,null,null,null,null,null,null,null,null,null,"41:46",52,4146,"0000004146","00","41","46"]
["SA00497","Stewartry AC","1991-02-07","Matthew Lynch","SA00497","Senior","sa27745",53,"Beth MacCrae","FU20","Ayr Seaforth AAC",53,50,{"$f":"VLOOKUP('entries and results'!M55,$H$3:$K$30018,2,FALSE)","v":"Andrew Stewart"},{"$f":"VLOOKUP('entries and results'!M55,$H$3:$K$30018,3,FALSE)","v":"M50"},{"$f":"VLOOKUP('entries and results'!M55,$H$3:$K$30018,4,FALSE)","v":"Ron's Runners"},4204,"42:04",null,null,null,null,null,null,null,null,null,null,null,null,null,null,null,null,null,null,null,null,null,null,null,null,null,null,null,null,null,null,null,null,null,null,null,null,null,null,null,null,null,null,null,"42:04",53,4204,"0000004204","00","42","04"]
["SA00501","Unattached","1991-04-19","Danielle Melville","SA00501","Senior",null,54,"Kenny Vallance","M","UA",54,223,{"$f":"VLOOKUP('entries and results'!M56,$H$3:$K$30018,2,FALSE)","v":"Ian Young"},{"$f":"VLOOKUP('entries and results'!M56,$H$3:$K$30018,3,FALSE)","v":"M"},{"$f":"VLOOKUP('entries and results'!M56,$H$3:$K$30018,4,FALSE)","v":"Ayr Seaforth AAC"},4208,"42:08",null,null,null,null,null,null,null,null,null,null,null,null,null,null,null,null,null,null,null,null,null,null,null,null,null,null,null,null,null,null,null,null,null,null,null,null,null,null,null,null,null,null,null,"42:08",54,4208,"0000004208","00","42","08"]
["SA00502","Stroud A. C.","1988-06-16","Alexander Russell","SA00502","Senior",null,55,"Neil McMullen","M","Ron's Runners",55,138,{"$f":"VLOOKUP('entries and results'!M57,$H$3:$K$30018,2,FALSE)","v":"Paul Bennie"},{"$f":"VLOOKUP('entries and results'!M57,$H$3:$K$30018,3,FALSE)","v":"M40"},{"$f":"VLOOKUP('entries and results'!M57,$H$3:$K$30018,4,FALSE)","v":"Kilmarnock H&AC"},4213,"42:13",null,null,null,null,null,null,null,null,null,null,null,null,null,null,null,null,null,null,null,null,null,null,null,null,null,null,null,null,null,null,null,null,null,null,null,null,null,null,null,null,null,null,null,"42:13",55,4213,"0000004213","00","42","13"]
["SA00512","Edinburgh AC","1993-10-15","Nicky McMurtrie","SA00512","Under 17","sa13565",56,{"$f":"VLOOKUP('entries and results'!G58,$A$3:$E$30018,4,FALSE)","v":"Louise Gray"},"F40",{"$f":"VLOOKUP('entries and results'!G58,$A$3:$E$30018,2,FALSE)","v":"Bellahouston Road Runners"},56,274,{"$f":"VLOOKUP('entries and results'!M58,$H$3:$K$30018,2,FALSE)","v":"John Rennie"},{"$f":"VLOOKUP('entries and results'!M58,$H$3:$K$30018,3,FALSE)","v":"M50"},{"$f":"VLOOKUP('entries and results'!M58,$H$3:$K$30018,4,FALSE)","v":"UA"},4226,"42:26",null,null,null,null,null,null,null,null,null,null,null,null,null,null,null,null,null,null,null,null,null,null,null,null,null,null,null,null,null,null,null,null,null,null,null,null,null,null,null,null,null,null,null,"42:26",56,4226,"0000004226","00","42","26"]
["SA00518","Aberdeen AAC","1993-04-27","Ellie Buchan","SA00518","Senior","sa31013",57,"Neil Walker","M","Kilmarnock H&AC",57,90,{"$f":"VLOOKUP('entries and results'!M59,$H$3:$K$30018,2,FALSE)","v":"Tom Coughtrie"},{"$f":"VLOOKUP('entries and results'!M59,$H$3:$K$30018,3,FALSE)","v":"M50"},{"$f":"VLOOKUP('entries and results'!M59,$H$3:$K$30018,4,FALSE)","v":"Jog Scotland"},4229,"42:29",null,null,null,null,null,null,null,null,null,null,null,null,null,null,null,null,null,null,null,null,null,null,null,null,null,null,null,null,null,null,null,null,null,null,null,null,null,null,null,null,null,null,null,"42:29",57,4229,"0000004229","00","42","29"]
["SA00519","Airdrie Harriers","1993-02-22","Nathan Angelopoulos","SA00519","Senior",null,58,"Samantha McLaren","F","UA",58,184,{"$f":"VLOOKUP('entries and results'!M60,$H$3:$K$30018,2,FALSE)","v":"Stephen McGill"},{"$f":"VLOOKUP('entries and results'!M60,$H$3:$K$30018,3,FALSE)","v":"M50"},{"$f":"VLOOKUP('entries and results'!M60,$H$3:$K$30018,4,FALSE)","v":"UA"},4229,"42:29",null,null,null,null,null,null,null,null,null,null,null,null,null,null,null,null,null,null,null,null,null,null,null,null,null,null,null,null,null,null,null,null,null,null,null,null,null,null,null,null,null,null,null,"42:29",58,4229,"0000004229","00","42","29"]
["SA00524","Arbroath & District AC","1995-10-12","Caitlin McLoughlin","SA00524","Under 15",null,59,"Tim Murphy","M40","UA",59,55,{"$f":"VLOOKUP('entries and results'!M61,$H$3:$K$30018,2,FALSE)","v":"Neil McMullen"},{"$f":"VLOOKUP('entries and results'!M61,$H$3:$K$30018,3,FALSE)","v":"M"},{"$f":"VLOOKUP('entries and results'!M61,$H$3:$K$30018,4,FALSE)","v":"Ron's Runners"},4234,"42:34",null,null,null,null,null,null,null,null,null,null,null,null,null,null,null,null,null,null,null,null,null,null,null,null,null,null,null,null,null,null,null,null,null,null,null,null,null,null,null,null,null,null,null,"42:34",59,4234,"0000004234","00","42","34"]
["SA00527","Banchory Stonehaven AC","1994-07-23","Benjamin Rees","SA00527","Under 17",null,60,"Allan Hogarth","M40","UA",60,267,{"$f":"VLOOKUP('entries and results'!M62,$H$3:$K$30018,2,FALSE)","v":"Martin McCrorie"},{"$f":"VLOOKUP('entries and results'!M62,$H$3:$K$30018,3,FALSE)","v":"M40"},{"$f":"VLOOKUP('entries and results'!M62,$H$3:$K$30018,4,FALSE)","v":"Ayr Seaforth AAC"},4237,"42:37",null,null,null,null,null,null,null,null,null,null,null,null,null,null,null,null,null,null,null,null,null,null,null,null,null,null,null,null,null,null,null,null,null,null,null,null,null,null,null,null,null,null,null,"42:37",60,4237,"0000004237","00","42","37"]
["SA00529","Central AC","1993-09-01","Louise Anderson","SA00529","Under 17","sa05831",61,{"$f":"VLOOKUP('entries and results'!G63,$A$3:$E$30018,4,FALSE)","v":"Shona Donnelly"},"F40",{"$f":"VLOOKUP('entries and results'!G63,$A$3:$E$30018,2,FALSE)","v":"Bellahouston Road Runners"},61,208,{"$f":"VLOOKUP('entries and results'!M63,$H$3:$K$30018,2,FALSE)","v":"Gael Riddle"},{"$f":"VLOOKUP('entries and results'!M63,$H$3:$K$30018,3,FALSE)","v":"F"},{"$f":"VLOOKUP('entries and results'!M63,$H$3:$K$30018,4,FALSE)","v":"Ayr Seaforth AAC"},4237,"42:37",null,null,null,null,null,null,null,null,null,null,null,null,null,null,null,null,null,null,null,null,null,null,null,null,null,null,null,null,null,null,null,null,null,null,null,null,null,null,null,null,null,null,null,"42:37",61,4237,"0000004237","00","42","37"]
["SA00530","Central AC","1994-04-27","Megan Jardine","SA00530","Under 17",null,62,"Catherine Elliot","F50","UA",62,163,{"$f":"VLOOKUP('entries and results'!M64,$H$3:$K$30018,2,FALSE)","v":"Scott Forbes "},{"$f":"VLOOKUP('entries and results'!M64,$H$3:$K$30018,3,FALSE)","v":"M"},{"$f":"VLOOKUP('entries and results'!M64,$H$3:$K$30018,4,FALSE)","v":"UA"},4249,"42:49",null,null,null,null,null,null,null,null,null,null,null,null,null,null,null,null,null,null,null,null,null,null,null,null,null,null,null,null,null,null,null,null,null,null,null,null,null,null,null,null,null,null,null,"42:49",62,4249,"0000004249","00","42","49"]
["SA00535","Edinburgh AC","1994-06-07","Ross Blair","SA00535","Under 17",null,63,"Ruth McLaughlan","F40","Ron's Runners",63,156,{"$f":"VLOOKUP('entries and results'!M65,$H$3:$K$30018,2,FALSE)","v":"Gary Dunlop"},{"$f":"VLOOKUP('entries and results'!M65,$H$3:$K$30018,3,FALSE)","v":"M"},{"$f":"VLOOKUP('entries and results'!M65,$H$3:$K$30018,4,FALSE)","v":"UA"},4255,"42:55",null,null,null,null,null,null,null,null,null,null,null,null,null,null,null,null,null,null,null,null,null,null,null,null,null,null,null,null,null,null,null,null,null,null,null,null,null,null,null,null,null,null,null,"42:55",63,4255,"0000004255","00","42","55"]
["SA00539","Edinburgh AC","1995-12-20","Emma McGinty","SA00539","Under 15",null,64,"Maureen Andrews","F50","Ron's Runners",64,229,{"$f":"VLOOKUP('entries and results'!M66,$H$3:$K$30018,2,FALSE)","v":"Bobby Miller"},{"$f":"VLOOKUP('entries and results'!M66,$H$3:$K$30018,3,FALSE)","v":"M50"},{"$f":"VLOOKUP('entries and results'!M66,$H$3:$K$30018,4,FALSE)","v":"Troon Tortoises AC"},4257,"42:57",null,null,null,null,null,null,null,null,null,null,null,null,null,null,null,null,null,null,null,null,null,null,null,null,null,null,null,null,null,null,null,null,null,null,null,null,null,null,null,null,null,null,null,"42:57",64,4257,"0000004257","00","42","57"]
["SA00541","Edinburgh AC","1992-11-09","Rebecca Shearer","SA00541","Senior","sa32152",65,"Alan Heron","M","Dumbarton AAC",65,241,{"$f":"VLOOKUP('entries and results'!M67,$H$3:$K$30018,2,FALSE)","v":"Elsie Downham"},{"$f":"VLOOKUP('entries and results'!M67,$H$3:$K$30018,3,FALSE)","v":"F"},{"$f":"VLOOKUP('entries and results'!M67,$H$3:$K$30018,4,FALSE)","v":"Bellahouston Road Runners"},4307,"43:07",null,null,null,null,null,null,null,null,null,null,null,null,null,null,null,null,null,null,null,null,null,null,null,null,null,null,null,null,null,null,null,null,null,null,null,null,null,null,null,null,null,null,null,"43:07",65,{"$f":"SUMIF($H$3:$H$601,$BK67,$Q$3:$Q$601)","v":4307},"0000004307","00","43","07"]
["SA00547","East Kilbride A.C.","1993-02-13","Fiona Borthwick","SA00547","Senior","sa05788 ",66,"Jim Sneddon","M40","Irvine Running Club",66,51,{"$f":"VLOOKUP('entries and results'!M68,$H$3:$K$30018,2,FALSE)","v":"Robert Chalmers"},{"$f":"VLOOKUP('entries and results'!M68,$H$3:$K$30018,3,FALSE)","v":"M"},{"$f":"VLOOKUP('entries and results'!M68,$H$3:$K$30018,4,FALSE)","v":"UA"},4313,{"$f":"IF($H68=\"\",\" \",(LOOKUP($H68,$BK$3:$BK$1601,$BJ$3:$BJ$1601)))","v":"43:13"},null,null,null,null,null,null,null,null,null,null,null,null,null,null,null,null,null,null,null,null,null,null,null,null,null,null,null,null,null,null,null,null,null,null,null,null,null,null,null,null,null,null,null,{"$f":"CONCATENATE(BO68,\":\",BP68)","v":"43:13"},66,4313,{"$f":"CONCATENATE($BG$2,$BL68)","v":"0000004313"},{"$f":"MID(RIGHT($BM68,6),1,2)","v":"00"},{"$f":"MID(RIGHT($BM68,6),3,2)","v":"43"},{"$f":"MID(RIGHT($BM68,6),5,2)","v":"13"}]
["SA00548","Edinburgh AC","1996-02-12","Aimee Sutherland","SA00548","Under 15",null,67,"Stephen Harris","M40","Bellahouston Road Runners",67,109,{"$f":"VLOOKUP('entries and results'!M69,$H$3:$K$30018,2,FALSE)","v":"Ross Bickerstaff"},{"$f":"VLOOKUP('entries and results'!M69,$H$3:$K$30018,3,FALSE)","v":"M50"},{"$f":"VLOOKUP('entries and results'!M69,$H$3:$K$30018,4,FALSE)","v":"Hamilton Harriers"},4323,"43:23",null,null,null,null,null,null,null,null,null,null,null,null,null,null,null,null,null,null,null,null,null,null,null,null,null,null,null,null,null,null,null,null,null,null,null,null,null,null,null,null,null,null,null,"43:23",67,4323,"0000004323","00","43","23"]
["SA00554","Falkirk Victoria Harriers","1995-12-08","Katherine Mitchell","SA00554","Under 15",null,68,"Marian Harris","F50","Jog Scotland",68,216,{"$f":"VLOOKUP('entries and results'!M70,$H$3:$K$30018,2,FALSE)","v":"Rory Partis"},{"$f":"VLOOKUP('entries and results'!M70,$H$3:$K$30018,3,FALSE)","v":"M"},{"$f":"VLOOKUP('entries and results'!M70,$H$3:$K$30018,4,FALSE)","v":"UA"},4327,"43:27",null,null,null,null,null,null,null,null,null,null,null,null,null,null,null,null,null,null,null,null,null,null,null,null,null,null,null,null,null,null,null,null,null,null,null,null,null,null,null,null,null,null,null,"43:27",68,4327,"0000004327","00","43","27"]
["SA00556","Fife AC","1992-06-29","Andrew Hood","SA00556","Senior","sa31044",69,"Haylie McCrorie","F","Bellahouston Road Runners",69,202,{"$f":"VLOOKUP('entries and results'!M71,$H$3:$K$30018,2,FALSE)","v":"Calum MacDonald"},{"$f":"VLOOKUP('entries and results'!M71,$H$3:$K$30018,3,FALSE)","v":"M"},{"$f":"VLOOKUP('entries and results'!M71,$H$3:$K$30018,4,FALSE)","v":"Ayr Seaforth AAC"},4341,"43:41",null,null,null,null,null,null,null,null,null,null,null,null,null,null,null,null,null,null,null,null,null,null,null,null,null,null,null,null,null,null,null,null,null,null,null,null,null,null,null,null,null,null,null,"43:41",69,4341,"0000004341","00","43","41"]
["SA00560","George Heriots School","1992-03-20","Ross Christie","SA00560","Senior","sa08884",70,{"$f":"VLOOKUP('entries and results'!G72,$A$3:$E$30018,4,FALSE)","v":"Jane Wild"},"F40",{"$f":"VLOOKUP('entries and results'!G72,$A$3:$E$30018,2,FALSE)","v":"Bellahouston Road Runners"},70,178,{"$f":"VLOOKUP('entries and results'!M72,$H$3:$K$30018,2,FALSE)","v":"Andy Wilson"},{"$f":"VLOOKUP('entries and results'!M72,$H$3:$K$30018,3,FALSE)","v":"M"},{"$f":"VLOOKUP('entries and results'!M72,$H$3:$K$30018,4,FALSE)","v":"UA"},4348,"43:48",null,null,null,null,null,null,null,null,null,null,null,null,null,null,null,null,null,null,null,null,null,null,null,null,null,null,null,null,null,null,null,null,null,null,null,null,null,null,null,null,null,null,null,"43:48",70,4348,"0000004348","00","43","48"]
["SA00563","Helensburgh AAC","1994-09-01","Madeline Robinson","SA00563","Under 17",null,71,"Ewan McKerracher","M","Glasgow Triathlon Club",71,171,{"$f":"VLOOKUP('entries and results'!M73,$H$3:$K$30018,2,FALSE)","v":"Damian Taylor"},{"$f":"VLOOKUP('entries and results'!M73,$H$3:$K$30018,3,FALSE)","v":"M40"},{"$f":"VLOOKUP('entries and results'!M73,$H$3:$K$30018,4,FALSE)","v":"North Ayrshire AC"},4354,"43:54",null,null,null,null,null,null,null,null,null,null,null,null,null,null,null,null,null,null,null,null,null,null,null,null,null,null,null,null,null,null,null,null,null,null,null,null,null,null,null,null,null,null,null,"43:54",71,4354,"0000004354","00","43","54"]
["SA00566","Irvine AC","1995-11-20","Kian Douglas","SA00566","Under 15","sa19039",72,{"$f":"VLOOKUP('entries and results'!G74,$A$3:$E$30018,4,FALSE)","v":"Craig Reid"},"M",{"$f":"VLOOKUP('entries and results'!G74,$A$3:$E$30018,2,FALSE)","v":"Bellahouston Road Runners"},72,129,{"$f":"VLOOKUP('entries and results'!M74,$H$3:$K$30018,2,FALSE)","v":"Sam Golder"},{"$f":"VLOOKUP('entries and results'!M74,$H$3:$K$30018,3,FALSE)","v":"M20"},{"$f":"VLOOKUP('entries and results'!M74,$H$3:$K$30018,4,FALSE)","v":"UA"},4359,"43:59",null,null,null,null,null,null,null,null,null,null,null,null,null,null,null,null,null,null,null,null,null,null,null,null,null,null,null,null,null,null,null,null,null,null,null,null,null,null,null,null,null,null,null,"43:59",72,4359,"0000004359","00","43","59"]
["SA00568","Kilmarnock H&AC","1993-10-15","Andrew Martin","SA00568","Under 17","sa27009",73,"Judith MacGregor","F","Bellahouston Road Runners",73,99,{"$f":"VLOOKUP('entries and results'!M75,$H$3:$K$30018,2,FALSE)","v":"Martin Laddemann"},{"$f":"VLOOKUP('entries and results'!M75,$H$3:$K$30018,3,FALSE)","v":"M"},{"$f":"VLOOKUP('entries and results'!M75,$H$3:$K$30018,4,FALSE)","v":"UA"},4409,"44:09",null,null,null,null,null,null,null,null,null,null,null,null,null,null,null,null,null,null,null,null,null,null,null,null,null,null,null,null,null,null,null,null,null,null,null,null,null,null,null,null,null,null,null,"44:09",73,4409,"0000004409","00","44","09"]
["SA00570","Kilbarchan AAC","1994-09-27","Kate Gillies","SA00570","Under 17",null,74,"Derek Cuthbertson","M40","UA",74,193,{"$f":"VLOOKUP('entries and results'!M76,$H$3:$K$30018,2,FALSE)","v":"Drew Inglis"},{"$f":"VLOOKUP('entries and results'!M76,$H$3:$K$30018,3,FALSE)","v":"M50"},{"$f":"VLOOKUP('entries and results'!M76,$H$3:$K$30018,4,FALSE)","v":"Hamilton Harriers"},4410,"44:10",null,null,null,null,null,null,null,null,null,null,null,null,null,null,null,null,null,null,null,null,null,null,null,null,null,null,null,null,null,null,null,null,null,null,null,null,null,null,null,null,null,null,null,"44:10",74,4410,"0000004410","00","44","10"]
["SA00571","Kilbarchan AAC","1990-06-23","Christina Rankin","SA00571","Senior",null,75,"Abby Cunningham","F","Ayr Seaforth AAC",75,118,{"$f":"VLOOKUP('entries and results'!M77,$H$3:$K$30018,2,FALSE)","v":"Craig Hunter"},{"$f":"VLOOKUP('entries and results'!M77,$H$3:$K$30018,3,FALSE)","v":"M"},{"$f":"VLOOKUP('entries and results'!M77,$H$3:$K$30018,4,FALSE)","v":"Jog Scotland"},4411,"44:11",null,null,null,null,null,null,null,null,null,null,null,null,null,null,null,null,null,null,null,null,null,null,null,null,null,null,null,null,null,null,null,null,null,null,null,null,null,null,null,null,null,null,null,"44:11",75,4411,"0000004411","00","44","11"]
["SA00578","Lasswade AAC","1995-04-20","Katherine Szymanski","SA00578","Under 17",null,76,"Philip Vernon","M","UA",76,259,{"$f":"VLOOKUP('entries and results'!M78,$H$3:$K$30018,2,FALSE)","v":"David Gibson"},{"$f":"VLOOKUP('entries and results'!M78,$H$3:$K$30018,3,FALSE)","v":"M40"},{"$f":"VLOOKUP('entries and results'!M78,$H$3:$K$30018,4,FALSE)","v":"UA"},4412,"44:12",null,null,null,null,null,null,null,null,null,null,null,null,null,null,null,null,null,null,null,null,null,null,null,null,null,null,null,null,null,null,null,null,null,null,null,null,null,null,null,null,null,null,null,"44:12",76,4412,"0000004412","00","44","12"]
["SA00579","Lasswade AAC","1995-04-20","Sarah Szymanski","SA00579","Under 17","sa32398",77,"Alan Donachy","M40","North Ayrshire AC",77,254,{"$f":"VLOOKUP('entries and results'!M79,$H$3:$K$30018,2,FALSE)","v":"David Mackie"},{"$f":"VLOOKUP('entries and results'!M79,$H$3:$K$30018,3,FALSE)","v":"M40"},{"$f":"VLOOKUP('entries and results'!M79,$H$3:$K$30018,4,FALSE)","v":"Ron's Runners"},4413,"44:13",null,null,null,null,null,null,null,null,null,null,null,null,null,null,null,null,null,null,null,null,null,null,null,null,null,null,null,null,null,null,null,null,null,null,null,null,null,null,null,null,null,null,null,"44:13",77,4413,"0000004413","00","44","13"]
["SA00581","Unattached","1994-02-23","Mathew Thomson","SA00581","Under 17","sa24775",78,"Mark Preston","M","North Ayrshire AC",78,94,{"$f":"VLOOKUP('entries and results'!M80,$H$3:$K$30018,2,FALSE)","v":"Steven Crawford"},{"$f":"VLOOKUP('entries and results'!M80,$H$3:$K$30018,3,FALSE)","v":"M"},{"$f":"VLOOKUP('entries and results'!M80,$H$3:$K$30018,4,FALSE)","v":"UA"},4415,"44:15",null,null,null,null,null,null,null,null,null,null,null,null,null,null,null,null,null,null,null,null,null,null,null,null,null,null,null,null,null,null,null,null,null,null,null,null,null,null,null,null,null,null,null,"44:15",78,4415,"0000004415","00","44","15"]
["SA00584","Musselburgh & District AC","1993-06-17","Iain Sinclair","SA00584","Senior",null,79,"Heather Murray","F40","UA",79,175,{"$f":"VLOOKUP('entries and results'!M81,$H$3:$K$30018,2,FALSE)","v":"Sandra Reid"},{"$f":"VLOOKUP('entries and results'!M81,$H$3:$K$30018,3,FALSE)","v":"F40"},{"$f":"VLOOKUP('entries and results'!M81,$H$3:$K$30018,4,FALSE)","v":"UA"},4419,"44:19",null,null,null,null,null,null,null,null,null,null,null,null,null,null,null,null,null,null,null,null,null,null,null,null,null,null,null,null,null,null,null,null,null,null,null,null,null,null,null,null,null,null,null,"44:19",79,4419,"0000004419","00","44","19"]
["SA00594","VP-Glasgow AC","1992-02-27","Corrine McConnachie","SA00594","Senior",null,80,"Gerry Hamill","M40","NW Kilmarnock Running Club",80,53,{"$f":"VLOOKUP('entries and results'!M82,$H$3:$K$30018,2,FALSE)","v":"Beth MacCrae"},{"$f":"VLOOKUP('entries and results'!M82,$H$3:$K$30018,3,FALSE)","v":"FU20"},{"$f":"VLOOKUP('entries and results'!M82,$H$3:$K$30018,4,FALSE)","v":"Ayr Seaforth AAC"},4424,"44:24",null,null,null,null,null,null,null,null,null,null,null,null,null,null,null,null,null,null,null,null,null,null,null,null,null,null,null,null,null,null,null,null,null,null,null,null,null,null,null,null,null,null,null,"44:24",80,4424,"0000004424","00","44","24"]
["SA00598","Whitemoss AAC","1995-09-30","Andrew Ravenscroft","SA00598","Under 15",null,81,"Michelle Murphy","F","UA",81,236,{"$f":"VLOOKUP('entries and results'!M83,$H$3:$K$30018,2,FALSE)","v":"David Boag"},{"$f":"VLOOKUP('entries and results'!M83,$H$3:$K$30018,3,FALSE)","v":"M40"},{"$f":"VLOOKUP('entries and results'!M83,$H$3:$K$30018,4,FALSE)","v":"Bellahouston Road Runners"},4428,"44:28",null,null,null,null,null,null,null,null,null,null,null,null,null,null,null,null,null,null,null,null,null,null,null,null,null,null,null,null,null,null,null,null,null,null,null,null,null,null,null,null,null,null,null,"44:28",81,4428,"0000004428","00","44","28"]
["SA00604","Airdrie Harriers","1991-07-27","Graeme McBride","SA00604","Senior",null,82,"Nina Vaswani","F","UA",82,291,{"$f":"VLOOKUP('entries and results'!M84,$H$3:$K$30018,2,FALSE)","v":"David Ruthven"},{"$f":"VLOOKUP('entries and results'!M84,$H$3:$K$30018,3,FALSE)","v":"M50"},{"$f":"VLOOKUP('entries and results'!M84,$H$3:$K$30018,4,FALSE)","v":"Troon Tortoises AC"},4428,"44:28",null,null,null,null,null,null,null,null,null,null,null,null,null,null,null,null,null,null,null,null,null,null,null,null,null,null,null,null,null,null,null,null,null,null,null,null,null,null,null,null,null,null,null,"44:28",82,4428,"0000004428","00","44","28"]
["SA00606","Arbroath & District AC","1988-07-04","David Murray","SA00606","Senior","sa16410",83,"Bruce  Carse","M","Bellahouston Road Runners",83,105,{"$f":"VLOOKUP('entries and results'!M85,$H$3:$K$30018,2,FALSE)","v":"Steven Donnelly"},{"$f":"VLOOKUP('entries and results'!M85,$H$3:$K$30018,3,FALSE)","v":"M"},{"$f":"VLOOKUP('entries and results'!M85,$H$3:$K$30018,4,FALSE)","v":"Hamilton Harriers"},4447,"44:47",null,null,null,null,null,null,null,null,null,null,null,null,null,null,null,null,null,null,null,null,null,null,null,null,null,null,null,null,null,null,null,null,null,null,null,null,null,null,null,null,null,null,null,"44:47",83,4447,"0000004447","00","44","47"]
["SA00613","Edinburgh AC","1993-04-15","Jonathan Murray","SA00613","Senior",null,84,"Kevin McWhirter","M","UA",84,167,{"$f":"VLOOKUP('entries and results'!M86,$H$3:$K$30018,2,FALSE)","v":"Eamonn Hamill"},{"$f":"VLOOKUP('entries and results'!M86,$H$3:$K$30018,3,FALSE)","v":"M"},{"$f":"VLOOKUP('entries and results'!M86,$H$3:$K$30018,4,FALSE)","v":"UA"},4458,"44:58",null,null,null,null,null,null,null,null,null,null,null,null,null,null,null,null,null,null,null,null,null,null,null,null,null,null,null,null,null,null,null,null,null,null,null,null,null,null,null,null,null,null,null,"44:58",84,4458,"0000004458","00","44","58"]
["SA00620","VP-Glasgow AC","1990-09-16","Lucinda Logan","SA00620","Senior",null,85,"Paul Chapman ","M","UA",85,54,{"$f":"VLOOKUP('entries and results'!M87,$H$3:$K$30018,2,FALSE)","v":"Kenny Vallance"},{"$f":"VLOOKUP('entries and results'!M87,$H$3:$K$30018,3,FALSE)","v":"M"},{"$f":"VLOOKUP('entries and results'!M87,$H$3:$K$30018,4,FALSE)","v":"UA"},4458,"44:58",null,null,null,null,null,null,null,null,null,null,null,null,null,null,null,null,null,null,null,null,null,null,null,null,null,null,null,null,null,null,null,null,null,null,null,null,null,null,null,null,null,null,null,"44:58",85,4458,"0000004458","00","44","58"]
["SA00624","Dundee Hawkhill Harriers","1988-07-13","Kevin Murray","SA00624","Senior","so00581",86,"David Stirling","M40","UA",86,282,{"$f":"VLOOKUP('entries and results'!M88,$H$3:$K$30018,2,FALSE)","v":"Ian McNee"},{"$f":"VLOOKUP('entries and results'!M88,$H$3:$K$30018,3,FALSE)","v":"M50"},{"$f":"VLOOKUP('entries and results'!M88,$H$3:$K$30018,4,FALSE)","v":"Troon Tortoises AC"},4503,"45:03",null,null,null,null,null,null,null,null,null,null,null,null,null,null,null,null,null,null,null,null,null,null,null,null,null,null,null,null,null,null,null,null,null,null,null,null,null,null,null,null,null,null,null,"45:03",86,4503,"0000004503","00","45","03"]
["SA00626","Dunfermline & West Fife AC","1990-02-02","Graeme Gibson","SA00626","Senior","so00607",87,"Daniel Kershaw","M","UA",87,70,{"$f":"VLOOKUP('entries and results'!M89,$H$3:$K$30018,2,FALSE)","v":"Jane Wild"},{"$f":"VLOOKUP('entries and results'!M89,$H$3:$K$30018,3,FALSE)","v":"F40"},{"$f":"VLOOKUP('entries and results'!M89,$H$3:$K$30018,4,FALSE)","v":"Bellahouston Road Runners"},4510,"45:10",null,null,null,null,null,null,null,null,null,null,null,null,null,null,null,null,null,null,null,null,null,null,null,null,null,null,null,null,null,null,null,null,null,null,null,null,null,null,null,null,null,null,null,"45:10",87,4510,"0000004510","00","45","10"]
["SA00631","Edinburgh AC","1990-07-11","Lynsey Sharp","SA00631","Senior",null,88,"Murray Robertson","M","UA",88,61,{"$f":"VLOOKUP('entries and results'!M90,$H$3:$K$30018,2,FALSE)","v":"Shona Donnelly"},{"$f":"VLOOKUP('entries and results'!M90,$H$3:$K$30018,3,FALSE)","v":"F40"},{"$f":"VLOOKUP('entries and results'!M90,$H$3:$K$30018,4,FALSE)","v":"Bellahouston Road Runners"},4517,"45:17",null,null,null,null,null,null,null,null,null,null,null,null,null,null,null,null,null,null,null,null,null,null,null,null,null,null,null,null,null,null,null,null,null,null,null,null,null,null,null,null,null,null,null,"45:17",88,4517,"0000004517","00","45","17"]
["SA00636","Fife AC","1991-09-27","Fiona Bracegirdle","SA00636","Senior",null,89,"Marion Sloan","F40","Monkton Milers",89,262,{"$f":"VLOOKUP('entries and results'!M91,$H$3:$K$30018,2,FALSE)","v":"David Crawford"},{"$f":"VLOOKUP('entries and results'!M91,$H$3:$K$30018,3,FALSE)","v":"M"},{"$f":"VLOOKUP('entries and results'!M91,$H$3:$K$30018,4,FALSE)","v":"UA"},4526,"45:26",null,null,null,null,null,null,null,null,null,null,null,null,null,null,null,null,null,null,null,null,null,null,null,null,null,null,null,null,null,null,null,null,null,null,null,null,null,null,null,null,null,null,null,"45:26",89,4526,"0000004526","00","45","26"]
["SA00640","Fife AC","1992-11-19","Catriona Scott","SA00640","Senior","js018323",90,"Tom Coughtrie","M50","Jog Scotland",90,203,{"$f":"VLOOKUP('entries and results'!M92,$H$3:$K$30018,2,FALSE)","v":"Steven Robson"},{"$f":"VLOOKUP('entries and results'!M92,$H$3:$K$30018,3,FALSE)","v":"M"},{"$f":"VLOOKUP('entries and results'!M92,$H$3:$K$30018,4,FALSE)","v":"UA"},4528,"45:28",null,null,null,null,null,null,null,null,null,null,null,null,null,null,null,null,null,null,null,null,null,null,null,null,null,null,null,null,null,null,null,null,null,null,null,null,null,null,null,null,null,null,null,"45:28",90,4528,"0000004528","00","45","28"]
["SA00642","Giffnock North AAC","1991-07-14","David Smith","SA00642","Senior",null,91,"Jim McCleary","M50","UA",91,121,{"$f":"VLOOKUP('entries and results'!M93,$H$3:$K$30018,2,FALSE)","v":"Frances Butler"},{"$f":"VLOOKUP('entries and results'!M93,$H$3:$K$30018,3,FALSE)","v":"F40"},{"$f":"VLOOKUP('entries and results'!M93,$H$3:$K$30018,4,FALSE)","v":"Galloway Harriers"},4530,"45:30",null,null,null,null,null,null,null,null,null,null,null,null,null,null,null,null,null,null,null,null,null,null,null,null,null,null,null,null,null,null,null,null,null,null,null,null,null,null,null,null,null,null,null,"45:30",91,4530,"0000004530","00","45","30"]
["SA00643","Glasgow City AC","1990-02-18","David Clunie","SA00643","Senior",null,92,"Doreen McCleary","F40","UA",92,237,{"$f":"VLOOKUP('entries and results'!M94,$H$3:$K$30018,2,FALSE)","v":"Fiona Comrie"},{"$f":"VLOOKUP('entries and results'!M94,$H$3:$K$30018,3,FALSE)","v":"F40"},{"$f":"VLOOKUP('entries and results'!M94,$H$3:$K$30018,4,FALSE)","v":"North Ayrshire AC"},4549,"45:49",null,null,null,null,null,null,null,null,null,null,null,null,null,null,null,null,null,null,null,null,null,null,null,null,null,null,null,null,null,null,null,null,null,null,null,null,null,null,null,null,null,null,null,"45:49",92,4549,"0000004549","00","45","49"]
["SA00646","Inverness Harriers AAC","1989-04-01","Jamie Kerr Bowie","SA00646","Senior","sa34275",93,"John Leitch","M","North Ayrshire AC",93,110,{"$f":"VLOOKUP('entries and results'!M95,$H$3:$K$30018,2,FALSE)","v":"Andrew Bickerstaff"},{"$f":"VLOOKUP('entries and results'!M95,$H$3:$K$30018,3,FALSE)","v":"M20"},{"$f":"VLOOKUP('entries and results'!M95,$H$3:$K$30018,4,FALSE)","v":"Hamilton Harriers"},4551,"45:51",null,null,null,null,null,null,null,null,null,null,null,null,null,null,null,null,null,null,null,null,null,null,null,null,null,null,null,null,null,null,null,null,null,null,null,null,null,null,null,null,null,null,null,"45:51",93,4551,"0000004551","00","45","51"]
["SA00651","Kilmarnock H&AC","1993-12-17","Cameron Mackie","SA00651","Under 17",null,94,"Steven Crawford","M","UA",94,290,{"$f":"VLOOKUP('entries and results'!M96,$H$3:$K$30018,2,FALSE)","v":"Charlie Tymon"},{"$f":"VLOOKUP('entries and results'!M96,$H$3:$K$30018,3,FALSE)","v":"M"},{"$f":"VLOOKUP('entries and results'!M96,$H$3:$K$30018,4,FALSE)","v":"UA"},4555,"45:55",null,null,null,null,null,null,null,null,null,null,null,null,null,null,null,null,null,null,null,null,null,null,null,null,null,null,null,null,null,null,null,null,null,null,null,null,null,null,null,null,null,null,null,"45:55",94,4555,"0000004555","00","45","55"]
["SA00652","Kilbarchan AAC","1992-11-01","Graham Evans","SA00652","Senior",null,95,"Nicky McMeechan","M","UA",95,124,{"$f":"VLOOKUP('entries and results'!M97,$H$3:$K$30018,2,FALSE)","v":"Mike Turner"},{"$f":"VLOOKUP('entries and results'!M97,$H$3:$K$30018,3,FALSE)","v":"M40"},{"$f":"VLOOKUP('entries and results'!M97,$H$3:$K$30018,4,FALSE)","v":"UA"},4558,"45:58",null,null,null,null,null,null,null,null,null,null,null,null,null,null,null,null,null,null,null,null,null,null,null,null,null,null,null,null,null,null,null,null,null,null,null,null,null,null,null,null,null,null,null,"45:58",95,4558,"0000004558","00","45","58"]
["SA00659","Lasswade AAC","1990-04-12","Scott Anderson","SA00659","Senior",null,96,"Erin Fletcher-Burns","F","UA",96,283,{"$f":"VLOOKUP('entries and results'!M98,$H$3:$K$30018,2,FALSE)","v":"Paul Deas"},{"$f":"VLOOKUP('entries and results'!M98,$H$3:$K$30018,3,FALSE)","v":"M"},{"$f":"VLOOKUP('entries and results'!M98,$H$3:$K$30018,4,FALSE)","v":"Troon Tortoises AC"},4601,"46:01",null,null,null,null,null,null,null,null,null,null,null,null,null,null,null,null,null,null,null,null,null,null,null,null,null,null,null,null,null,null,null,null,null,null,null,null,null,null,null,null,null,null,null,"46:01",96,4601,"0000004601","00","46","01"]
["SA00661","Lasswade AAC","1991-07-22","Martin Brash","SA00661","Senior","sa31078",97,"Lyndsay Moffat","F","Hamilton Harriers",97,258,{"$f":"VLOOKUP('entries and results'!M99,$H$3:$K$30018,2,FALSE)","v":"Caroline Mutch"},{"$f":"VLOOKUP('entries and results'!M99,$H$3:$K$30018,3,FALSE)","v":"F40"},{"$f":"VLOOKUP('entries and results'!M99,$H$3:$K$30018,4,FALSE)","v":"Troon Tortoises AC"},4610,"46:10",null,null,null,null,null,null,null,null,null,null,null,null,null,null,null,null,null,null,null,null,null,null,null,null,null,null,null,null,null,null,null,null,null,null,null,null,null,null,null,null,null,null,null,"46:10",97,4610,"0000004610","00","46","10"]
["SA00663","Edinburgh AC","1991-10-04","Caitlin Froude","SA00663","Senior","sa27808",98,"Darrell Dunscombe","M40","Troon Tortoises AC",98,230,{"$f":"VLOOKUP('entries and results'!M100,$H$3:$K$30018,2,FALSE)","v":"Carolyn Fisher"},{"$f":"VLOOKUP('entries and results'!M100,$H$3:$K$30018,3,FALSE)","v":"F"},{"$f":"VLOOKUP('entries and results'!M100,$H$3:$K$30018,4,FALSE)","v":"North Ayrshire AC"},4614,"46:14",null,null,null,null,null,null,null,null,null,null,null,null,null,null,null,null,null,null,null,null,null,null,null,null,null,null,null,null,null,null,null,null,null,null,null,null,null,null,null,null,null,null,null,"46:14",98,4614,"0000004614","00","46","14"]
["SA00664","Edinburgh AC","1991-10-04","Erin Froude","SA00664","Senior",null,99,"Martin Laddemann","M","UA",99,15,{"$f":"VLOOKUP('entries and results'!M101,$H$3:$K$30018,2,FALSE)","v":"John Strachan"},{"$f":"VLOOKUP('entries and results'!M101,$H$3:$K$30018,3,FALSE)","v":"M"},{"$f":"VLOOKUP('entries and results'!M101,$H$3:$K$30018,4,FALSE)","v":"Ayr Seaforth AAC"},4623,"46:23",null,null,null,null,null,null,null,null,null,null,null,null,null,null,null,null,null,null,null,null,null,null,null,null,null,null,null,null,null,null,null,null,null,null,null,null,null,null,null,null,null,null,null,"46:23",99,4623,"0000004623","00","46","23"]
["SA00675","Unattached","1992-04-19","Alison Eadie","SA00675","Senior",null,100,"George Rooney","M40","UA",100,217,{"$f":"VLOOKUP('entries and results'!M102,$H$3:$K$30018,2,FALSE)","v":"Malcolm Murray"},{"$f":"VLOOKUP('entries and results'!M102,$H$3:$K$30018,3,FALSE)","v":"M40"},{"$f":"VLOOKUP('entries and results'!M102,$H$3:$K$30018,4,FALSE)","v":"UA"},4624,"46:24",null,null,null,null,null,null,null,null,null,null,null,null,null,null,null,null,null,null,null,null,null,null,null,null,null,null,null,null,null,null,null,null,null,null,null,null,null,null,null,null,null,null,null,"46:24",100,4624,"0000004624","00","46","24"]
["SA00683","Pitreavie AAC","1990-03-02","Kevin Ireland","SA00683","Senior",null,101,"James McGill","M40","UA",101,143,{"$f":"VLOOKUP('entries and results'!M103,$H$3:$K$30018,2,FALSE)","v":"Stewart McRoberts"},{"$f":"VLOOKUP('entries and results'!M103,$H$3:$K$30018,3,FALSE)","v":"M"},{"$f":"VLOOKUP('entries and results'!M103,$H$3:$K$30018,4,FALSE)","v":"UA"},4626,"46:26",null,null,null,null,null,null,null,null,null,null,null,null,null,null,null,null,null,null,null,null,null,null,null,null,null,null,null,null,null,null,null,null,null,null,null,null,null,null,null,null,null,null,null,"46:26",101,4626,"0000004626","00","46","26"]
["SA00686","Pitreavie AAC","1992-11-06","Allan Smith","SA00686","Senior",null,102,"Stuart Hodge","M","UA",102,244,{"$f":"VLOOKUP('entries and results'!M104,$H$3:$K$30018,2,FALSE)","v":"Matthew Watson"},{"$f":"VLOOKUP('entries and results'!M104,$H$3:$K$30018,3,FALSE)","v":"M"},{"$f":"VLOOKUP('entries and results'!M104,$H$3:$K$30018,4,FALSE)","v":"Ron's Runners"},4634,"46:34",null,null,null,null,null,null,null,null,null,null,null,null,null,null,null,null,null,null,null,null,null,null,null,null,null,null,null,null,null,null,null,null,null,null,null,null,null,null,null,null,null,null,null,"46:34",102,4634,"0000004634","00","46","34"]
["SA00713","Arbroath & District AC","1995-07-02","Beth Milne","SA00713","Under 17",null,103,"Liam McBlain","M40","UA",103,12,{"$f":"VLOOKUP('entries and results'!M105,$H$3:$K$30018,2,FALSE)","v":"Craig Pickett"},{"$f":"VLOOKUP('entries and results'!M105,$H$3:$K$30018,3,FALSE)","v":"M"},{"$f":"VLOOKUP('entries and results'!M105,$H$3:$K$30018,4,FALSE)","v":"Irvine Running Club"},4635,"46:35",null,null,null,null,null,null,null,null,null,null,null,null,null,null,null,null,null,null,null,null,null,null,null,null,null,null,null,null,null,null,null,null,null,null,null,null,null,null,null,null,null,null,null,"46:35",103,4635,"0000004635","00","46","35"]
["SA00714","Arbroath & District AC","1993-10-13","Ross Milne","SA00714","Under 17",null,104,"David Jones ","M","UA",104,205,{"$f":"VLOOKUP('entries and results'!M106,$H$3:$K$30018,2,FALSE)","v":"Adam Smith"},{"$f":"VLOOKUP('entries and results'!M106,$H$3:$K$30018,3,FALSE)","v":"MU20"},{"$f":"VLOOKUP('entries and results'!M106,$H$3:$K$30018,4,FALSE)","v":"UA"},4638,"46:38",null,null,null,null,null,null,null,null,null,null,null,null,null,null,null,null,null,null,null,null,null,null,null,null,null,null,null,null,null,null,null,null,null,null,null,null,null,null,null,null,null,null,null,"46:38",104,4638,"0000004638","00","46","38"]
["SA00715","Ayr Seaforth AAC","1995-08-22","Angus Johnston","SA00715","Under 17","sa31297",105,"Steven Donnelly","M","Hamilton Harriers",105,44,{"$f":"VLOOKUP('entries and results'!M107,$H$3:$K$30018,2,FALSE)","v":"Ciara Baxter"},{"$f":"VLOOKUP('entries and results'!M107,$H$3:$K$30018,3,FALSE)","v":"F"},{"$f":"VLOOKUP('entries and results'!M107,$H$3:$K$30018,4,FALSE)","v":"Bellahouston Road Runners"},4647,"46:47",null,null,null,null,null,null,null,null,null,null,null,null,null,null,null,null,null,null,null,null,null,null,null,null,null,null,null,null,null,null,null,null,null,null,null,null,null,null,null,null,null,null,null,"46:47",105,4647,"0000004647","00","46","47"]
["SA00716","Ayr Seaforth AAC","1995-08-22","Ben Johnston","SA00716","Under 17","sa25000",106,"Mark Alexander","M","Kilmarnock H&AC",106,85,{"$f":"VLOOKUP('entries and results'!M108,$H$3:$K$30018,2,FALSE)","v":"Paul Chapman "},{"$f":"VLOOKUP('entries and results'!M108,$H$3:$K$30018,3,FALSE)","v":"M"},{"$f":"VLOOKUP('entries and results'!M108,$H$3:$K$30018,4,FALSE)","v":"UA"},4659,"46:59",null,null,null,null,null,null,null,null,null,null,null,null,null,null,null,null,null,null,null,null,null,null,null,null,null,null,null,null,null,null,null,null,null,null,null,null,null,null,null,null,null,null,null,"46:59",106,4659,"0000004659","00","46","59"]
["SA00721","Pitreavie AAC","1995-06-28","Kirsten Galbraith","SA00721","Under 17",null,107,"Laura Farquharson","F","Hamilton Harriers",107,204,{"$f":"VLOOKUP('entries and results'!M109,$H$3:$K$30018,2,FALSE)","v":"Gerry Penman"},{"$f":"VLOOKUP('entries and results'!M109,$H$3:$K$30018,3,FALSE)","v":"M40"},{"$f":"VLOOKUP('entries and results'!M109,$H$3:$K$30018,4,FALSE)","v":"Scottish Prison Service AAC"},4704,"47:04",null,null,null,null,null,null,null,null,null,null,null,null,null,null,null,null,null,null,null,null,null,null,null,null,null,null,null,null,null,null,null,null,null,null,null,null,null,null,null,null,null,null,null,"47:04",107,4704,"0000004704","00","47","04"]
["SA00731","Shettleston Harriers","1996-03-04","Callum Drummond","SA00731","Under 15","sa31068",108,"Lesley Harvey","F","Hamilton Harriers",108,194,{"$f":"VLOOKUP('entries and results'!M110,$H$3:$K$30018,2,FALSE)","v":"Frazer Corrance"},{"$f":"VLOOKUP('entries and results'!M110,$H$3:$K$30018,3,FALSE)","v":"MU20"},{"$f":"VLOOKUP('entries and results'!M110,$H$3:$K$30018,4,FALSE)","v":"UA"},4707,"47:07",null,null,null,null,null,null,null,null,null,null,null,null,null,null,null,null,null,null,null,null,null,null,null,null,null,null,null,null,null,null,null,null,null,null,null,null,null,null,null,null,null,null,null,"47:07",108,4707,"0000004707","00","47","07"]
["SA00732","Falkirk Victoria Harriers","1989-04-25","Colin McCluskie","SA00732","Senior","sa31012",109,"Ross Bickerstaff","M50","Hamilton Harriers",109,218,{"$f":"VLOOKUP('entries and results'!M111,$H$3:$K$30018,2,FALSE)","v":"Ian Gilmour"},{"$f":"VLOOKUP('entries and results'!M111,$H$3:$K$30018,3,FALSE)","v":"M40"},{"$f":"VLOOKUP('entries and results'!M111,$H$3:$K$30018,4,FALSE)","v":"UA"},4717,"47:17",null,null,null,null,null,null,null,null,null,null,null,null,null,null,null,null,null,null,null,null,null,null,null,null,null,null,null,null,null,null,null,null,null,null,null,null,null,null,null,null,null,null,null,"47:17",109,4717,"0000004717","00","47","17"]
["SA00735","Aberdeen AAC","1989-10-25","Ruth Stephen","SA00735","Senior","sa32175",110,"Andrew Bickerstaff","M20","Hamilton Harriers",110,113,{"$f":"VLOOKUP('entries and results'!M112,$H$3:$K$30018,2,FALSE)","v":"Simon Woodliff"},{"$f":"VLOOKUP('entries and results'!M112,$H$3:$K$30018,3,FALSE)","v":"M"},{"$f":"VLOOKUP('entries and results'!M112,$H$3:$K$30018,4,FALSE)","v":"UA"},4725,"47:25",null,null,null,null,null,null,null,null,null,null,null,null,null,null,null,null,null,null,null,null,null,null,null,null,null,null,null,null,null,null,null,null,null,null,null,null,null,null,null,null,null,null,null,"47:25",110,4725,"0000004725","00","47","25"]
["SA00736","Aberdeen AAC","1989-09-12","Alison Wylie","SA00736","Senior",null,111,"Jamie Donnell","M","UA",111,98,{"$f":"VLOOKUP('entries and results'!M113,$H$3:$K$30018,2,FALSE)","v":"Darrell Dunscombe"},{"$f":"VLOOKUP('entries and results'!M113,$H$3:$K$30018,3,FALSE)","v":"M40"},{"$f":"VLOOKUP('entries and results'!M113,$H$3:$K$30018,4,FALSE)","v":"Troon Tortoises AC"},4727,"47:27",null,null,null,null,null,null,null,null,null,null,null,null,null,null,null,null,null,null,null,null,null,null,null,null,null,null,null,null,null,null,null,null,null,null,null,null,null,null,null,null,null,null,null,"47:27",111,4727,"0000004727","00","47","27"]
["SA00737","Arbroath & District AC","1992-11-16","Michael Downie","SA00737","Senior",null,112,"Michelle Dunleavy","F","UA",112,60,{"$f":"VLOOKUP('entries and results'!M114,$H$3:$K$30018,2,FALSE)","v":"Allan Hogarth"},{"$f":"VLOOKUP('entries and results'!M114,$H$3:$K$30018,3,FALSE)","v":"M40"},{"$f":"VLOOKUP('entries and results'!M114,$H$3:$K$30018,4,FALSE)","v":"UA"},4729,"47:29",null,null,null,null,null,null,null,null,null,null,null,null,null,null,null,null,null,null,null,null,null,null,null,null,null,null,null,null,null,null,null,null,null,null,null,null,null,null,null,null,null,null,null,"47:29",112,4729,"0000004729","00","47","29"]
["SA00742","Banchory Stonehaven AC","1992-03-05","William Smy","SA00742","Senior",null,113,"Simon Woodliff","M","UA",113,232,{"$f":"VLOOKUP('entries and results'!M115,$H$3:$K$30018,2,FALSE)","v":"Anne Noble"},{"$f":"VLOOKUP('entries and results'!M115,$H$3:$K$30018,3,FALSE)","v":"F50"},{"$f":"VLOOKUP('entries and results'!M115,$H$3:$K$30018,4,FALSE)","v":"Troon Tortoises AC"},4737,"47:37",null,null,null,null,null,null,null,null,null,null,null,null,null,null,null,null,null,null,null,null,null,null,null,null,null,null,null,null,null,null,null,null,null,null,null,null,null,null,null,null,null,null,null,"47:37",113,4737,"0000004737","00","47","37"]
["SA00744","Caithness AAC","1992-07-24","Bruce Stewart","SA00744","Senior",null,114,"Rachid Senouci","F","UA",114,67,{"$f":"VLOOKUP('entries and results'!M116,$H$3:$K$30018,2,FALSE)","v":"Stephen Harris"},{"$f":"VLOOKUP('entries and results'!M116,$H$3:$K$30018,3,FALSE)","v":"M40"},{"$f":"VLOOKUP('entries and results'!M116,$H$3:$K$30018,4,FALSE)","v":"Bellahouston Road Runners"},4739,"47:39",null,null,null,null,null,null,null,null,null,null,null,null,null,null,null,null,null,null,null,null,null,null,null,null,null,null,null,null,null,null,null,null,null,null,null,null,null,null,null,null,null,null,null,"47:39",114,4739,"0000004739","00","47","39"]
["SA00749","VP-Glasgow AC","1991-02-14","Suzanne Begg","SA00749","Senior",null,115,"Victoria Morrison","F","UA",115,192,{"$f":"VLOOKUP('entries and results'!M117,$H$3:$K$30018,2,FALSE)","v":"Craig McBreen"},{"$f":"VLOOKUP('entries and results'!M117,$H$3:$K$30018,3,FALSE)","v":"M"},{"$f":"VLOOKUP('entries and results'!M117,$H$3:$K$30018,4,FALSE)","v":"UA"},4741,"47:41",null,null,null,null,null,null,null,null,null,null,null,null,null,null,null,null,null,null,null,null,null,null,null,null,null,null,null,null,null,null,null,null,null,null,null,null,null,null,null,null,null,null,null,"47:41",115,4741,"0000004741","00","47","41"]
["SA00751","VP-Glasgow AC","1994-08-08","Hannah Moultrie","SA00751","Under 17","sa28987",116,"Claire McArthur","F","Hamilton Harriers",116,111,{"$f":"VLOOKUP('entries and results'!M118,$H$3:$K$30018,2,FALSE)","v":"Jamie Donnell"},{"$f":"VLOOKUP('entries and results'!M118,$H$3:$K$30018,3,FALSE)","v":"M"},{"$f":"VLOOKUP('entries and results'!M118,$H$3:$K$30018,4,FALSE)","v":"UA"},4742,"47:42",null,null,null,null,null,null,null,null,null,null,null,null,null,null,null,null,null,null,null,null,null,null,null,null,null,null,null,null,null,null,null,null,null,null,null,null,null,null,null,null,null,null,null,"47:42",116,4742,"0000004742","00","47","42"]
["SA00752","VP-Glasgow AC","1990-11-19","Josephine Moultrie","SA00752","Senior",null,117,"John Brown","M40","Keen Amateurs",117,35,{"$f":"VLOOKUP('entries and results'!M119,$H$3:$K$30018,2,FALSE)","v":"Allan Moore"},{"$f":"VLOOKUP('entries and results'!M119,$H$3:$K$30018,3,FALSE)","v":"M"},{"$f":"VLOOKUP('entries and results'!M119,$H$3:$K$30018,4,FALSE)","v":"UA"},4749,"47:49",null,null,null,null,null,null,null,null,null,null,null,null,null,null,null,null,null,null,null,null,null,null,null,null,null,null,null,null,null,null,null,null,null,null,null,null,null,null,null,null,null,null,null,"47:49",117,4749,"0000004749","00","47","49"]
["SA00753","VP-Glasgow AC","1992-07-01","Nicola Moultrie","SA00753","Senior","js156752",118,"Craig Hunter","M","Jog Scotland",118,270,{"$f":"VLOOKUP('entries and results'!M120,$H$3:$K$30018,2,FALSE)","v":"Stuart McColm"},{"$f":"VLOOKUP('entries and results'!M120,$H$3:$K$30018,3,FALSE)","v":"M40"},{"$f":"VLOOKUP('entries and results'!M120,$H$3:$K$30018,4,FALSE)","v":"UA"},4756,"47:56",null,null,null,null,null,null,null,null,null,null,null,null,null,null,null,null,null,null,null,null,null,null,null,null,null,null,null,null,null,null,null,null,null,null,null,null,null,null,null,null,null,null,null,"47:56",118,4756,"0000004756","00","47","56"]
["SA00758","Dundee Hawkhill Harriers","1990-11-25","Eilish McColgan","SA00758","Senior","sa31539",119,"James Murray","M","Ayr Seaforth AAC",119,220,{"$f":"VLOOKUP('entries and results'!M121,$H$3:$K$30018,2,FALSE)","v":"Gary Crombie"},{"$f":"VLOOKUP('entries and results'!M121,$H$3:$K$30018,3,FALSE)","v":"M40"},{"$f":"VLOOKUP('entries and results'!M121,$H$3:$K$30018,4,FALSE)","v":"UA"},4804,"48:04",null,null,null,null,null,null,null,null,null,null,null,null,null,null,null,null,null,null,null,null,null,null,null,null,null,null,null,null,null,null,null,null,null,null,null,null,null,null,null,null,null,null,null,"48:04",119,4804,"0000004804","00","48","04"]
["SA00759","Dunfermline & West Fife AC","1990-04-09","Victoria Stephen","SA00759","Senior",null,120,"John Needle","M40","UA",120,289,{"$f":"VLOOKUP('entries and results'!M122,$H$3:$K$30018,2,FALSE)","v":"Colin McEwan"},{"$f":"VLOOKUP('entries and results'!M122,$H$3:$K$30018,3,FALSE)","v":"M"},{"$f":"VLOOKUP('entries and results'!M122,$H$3:$K$30018,4,FALSE)","v":"St Bees Tolies"},4806,"48:06",null,null,null,null,null,null,null,null,null,null,null,null,null,null,null,null,null,null,null,null,null,null,null,null,null,null,null,null,null,null,null,null,null,null,null,null,null,null,null,null,null,null,null,"48:06",120,4806,"0000004806","00","48","06"]
["SA00760","East Kilbride A.C.","1991-07-27","John Fergusson","SA00760","Senior",null,121,"Frances Butler","F40","Galloway Harriers",121,188,{"$f":"VLOOKUP('entries and results'!M123,$H$3:$K$30018,2,FALSE)","v":"Cheryl McNulty"},{"$f":"VLOOKUP('entries and results'!M123,$H$3:$K$30018,3,FALSE)","v":"F"},{"$f":"VLOOKUP('entries and results'!M123,$H$3:$K$30018,4,FALSE)","v":"Hamilton Harriers"},4810,"48:10",null,null,null,null,null,null,null,null,null,null,null,null,null,null,null,null,null,null,null,null,null,null,null,null,null,null,null,null,null,null,null,null,null,null,null,null,null,null,null,null,null,null,null,"48:10",121,4810,"0000004810","00","48","10"]
["SA00766","Edinburgh AC","1991-06-05","Sarah Warnock","SA00766","Senior",null,122,"Janette Clarkson","F40","Hamilton Harriers",122,102,{"$f":"VLOOKUP('entries and results'!M124,$H$3:$K$30018,2,FALSE)","v":"Stuart Hodge"},{"$f":"VLOOKUP('entries and results'!M124,$H$3:$K$30018,3,FALSE)","v":"M"},{"$f":"VLOOKUP('entries and results'!M124,$H$3:$K$30018,4,FALSE)","v":"UA"},4813,"48:13",null,null,null,null,null,null,null,null,null,null,null,null,null,null,null,null,null,null,null,null,null,null,null,null,null,null,null,null,null,null,null,null,null,null,null,null,null,null,null,null,null,null,null,"48:13",122,4813,"0000004813","00","48","13"]
["SA00783","Giffnock North AAC","1990-10-19","Neil Hutchison","SA00783","Senior",null,123,"Jon Cunningham","M","UA",123,76,{"$f":"VLOOKUP('entries and results'!M125,$H$3:$K$30018,2,FALSE)","v":"Philip Vernon"},{"$f":"VLOOKUP('entries and results'!M125,$H$3:$K$30018,3,FALSE)","v":"M"},{"$f":"VLOOKUP('entries and results'!M125,$H$3:$K$30018,4,FALSE)","v":"UA"},4813,"48:13",null,null,null,null,null,null,null,null,null,null,null,null,null,null,null,null,null,null,null,null,null,null,null,null,null,null,null,null,null,null,null,null,null,null,null,null,null,null,null,null,null,null,null,"48:13",123,4813,"0000004813","00","48","13"]
["SA00789","Inverclyde AC","1992-10-03","Nynke Mulholland","SA00789","Senior",null,124,"Mike Turner","M40","UA",124,256,{"$f":"VLOOKUP('entries and results'!M126,$H$3:$K$30018,2,FALSE)","v":"Thomas Turner"},{"$f":"VLOOKUP('entries and results'!M126,$H$3:$K$30018,3,FALSE)","v":"M"},{"$f":"VLOOKUP('entries and results'!M126,$H$3:$K$30018,4,FALSE)","v":"UA"},4814,"48:14",null,null,null,null,null,null,null,null,null,null,null,null,null,null,null,null,null,null,null,null,null,null,null,null,null,null,null,null,null,null,null,null,null,null,null,null,null,null,null,null,null,null,null,"48:14",124,4814,"0000004814","00","48","14"]
["SA00798","Lasswade AAC","1990-01-28","Stuart McIlreavy","SA00798","Senior",null,125,"Lynn Robertson","F40","UA",125,179,{"$f":"VLOOKUP('entries and results'!M127,$H$3:$K$30018,2,FALSE)","v":"Raymond Thom"},{"$f":"VLOOKUP('entries and results'!M127,$H$3:$K$30018,3,FALSE)","v":"M"},{"$f":"VLOOKUP('entries and results'!M127,$H$3:$K$30018,4,FALSE)","v":"UA"},4816,"48:16",null,null,null,null,null,null,null,null,null,null,null,null,null,null,null,null,null,null,null,null,null,null,null,null,null,null,null,null,null,null,null,null,null,null,null,null,null,null,null,null,null,null,null,"48:16",125,4816,"0000004816","00","48","16"]
["SA00813","Shettleston Harriers","1992-03-10","Andrew Duffy","SA00813","Senior",null,126,"James McFadden","M40","UA",126,86,{"$f":"VLOOKUP('entries and results'!M128,$H$3:$K$30018,2,FALSE)","v":"David Stirling"},{"$f":"VLOOKUP('entries and results'!M128,$H$3:$K$30018,3,FALSE)","v":"M40"},{"$f":"VLOOKUP('entries and results'!M128,$H$3:$K$30018,4,FALSE)","v":"UA"},4822,"48:22",null,null,null,null,null,null,null,null,null,null,null,null,null,null,null,null,null,null,null,null,null,null,null,null,null,null,null,null,null,null,null,null,null,null,null,null,null,null,null,null,null,null,null,"48:22",126,4822,"0000004822","00","48","22"]
["SA00814","Shettleston Harriers","1989-09-26","Sean Watson","SA00814","Senior",null,127,"Linda McNeil ","F50","UA",127,266,{"$f":"VLOOKUP('entries and results'!M129,$H$3:$K$30018,2,FALSE)","v":"Noel Ireland"},{"$f":"VLOOKUP('entries and results'!M129,$H$3:$K$30018,3,FALSE)","v":"M"},{"$f":"VLOOKUP('entries and results'!M129,$H$3:$K$30018,4,FALSE)","v":"UA"},4833,"48:33",null,null,null,null,null,null,null,null,null,null,null,null,null,null,null,null,null,null,null,null,null,null,null,null,null,null,null,null,null,null,null,null,null,null,null,null,null,null,null,null,null,null,null,"48:33",127,4833,"0000004833","00","48","33"]
["SA00841","Airdrie Harriers","1994-10-03","Jodie Ronald","SA00841","Under 17","sa32375",128,"Ian Rutherford","M40","North Ayrshire AC",128,9,{"$f":"VLOOKUP('entries and results'!M130,$H$3:$K$30018,2,FALSE)","v":"Kenneth Barker"},{"$f":"VLOOKUP('entries and results'!M130,$H$3:$K$30018,3,FALSE)","v":"M50"},{"$f":"VLOOKUP('entries and results'!M130,$H$3:$K$30018,4,FALSE)","v":"UA"},4835,"48:35",null,null,null,null,null,null,null,null,null,null,null,null,null,null,null,null,null,null,null,null,null,null,null,null,null,null,null,null,null,null,null,null,null,null,null,null,null,null,null,null,null,null,null,"48:35",128,4835,"0000004835","00","48","35"]
["SA00842","Arbroath & District AC","1994-09-11","Callum Edwards","SA00842","Under 17",null,129,"Sam Golder","M20","UA",129,275,{"$f":"VLOOKUP('entries and results'!M131,$H$3:$K$30018,2,FALSE)","v":"Elaine Rennie"},{"$f":"VLOOKUP('entries and results'!M131,$H$3:$K$30018,3,FALSE)","v":"F40"},{"$f":"VLOOKUP('entries and results'!M131,$H$3:$K$30018,4,FALSE)","v":"UA"},4837,"48:37",null,null,null,null,null,null,null,null,null,null,null,null,null,null,null,null,null,null,null,null,null,null,null,null,null,null,null,null,null,null,null,null,null,null,null,null,null,null,null,null,null,null,null,"48:37",129,{"$f":"SUMIF($H$3:$H$601,$BK131,$Q$3:$Q$601)","v":4837},"0000004837","00","48","37"]
["SA00847","Banchory Stonehaven AC","1993-12-15","Melanie Christie","SA00847","Under 17",null,130,"Pat Standen","F50","UA",130,185,{"$f":"VLOOKUP('entries and results'!M132,$H$3:$K$30018,2,FALSE)","v":"Lynne Goldie"},{"$f":"VLOOKUP('entries and results'!M132,$H$3:$K$30018,3,FALSE)","v":"F40"},{"$f":"VLOOKUP('entries and results'!M132,$H$3:$K$30018,4,FALSE)","v":"Bellahouston Road Runners"},4838,{"$f":"IF($H132=\"\",\" \",(LOOKUP($H132,$BK$3:$BK$1601,$BJ$3:$BJ$1601)))","v":"48:38"},null,null,null,null,null,null,null,null,null,null,null,null,null,null,null,null,null,null,null,null,null,null,null,null,null,null,null,null,null,null,null,null,null,null,null,null,null,null,null,null,null,null,null,{"$f":"CONCATENATE(BO132,\":\",BP132)","v":"48:38"},130,4838,{"$f":"CONCATENATE($BG$2,$BL132)","v":"0000004838"},{"$f":"MID(RIGHT($BM132,6),1,2)","v":"00"},{"$f":"MID(RIGHT($BM132,6),3,2)","v":"48"},{"$f":"MID(RIGHT($BM132,6),5,2)","v":"38"}]
["SA00849","Banchory Stonehaven AC","1992-12-12","Ben Leftwich","SA00849","Senior",null,131,"Claire Wylie","F40","UA",131,145,{"$f":"VLOOKUP('entries and results'!M133,$H$3:$K$30018,2,FALSE)","v":"Martina Moore"},{"$f":"VLOOKUP('entries and results'!M133,$H$3:$K$30018,3,FALSE)","v":"F40"},{"$f":"VLOOKUP('entries and results'!M133,$H$3:$K$30018,4,FALSE)","v":"Galloway Harriers"},4845,"48:45",null,null,null,null,null,null,null,null,null,null,null,null,null,null,null,null,null,null,null,null,null,null,null,null,null,null,null,null,null,null,null,null,null,null,null,null,null,null,null,null,null,null,null,"48:45",131,4845,"0000004845","00","48","45"]
["SA00850","Banchory Stonehaven AC","1994-04-21","Sam Wright","SA00850","Under 17",null,132,"David McBride","M40","UA",132,164,{"$f":"VLOOKUP('entries and results'!M134,$H$3:$K$30018,2,FALSE)","v":"Mark Morrison"},{"$f":"VLOOKUP('entries and results'!M134,$H$3:$K$30018,3,FALSE)","v":"M"},{"$f":"VLOOKUP('entries and results'!M134,$H$3:$K$30018,4,FALSE)","v":"UA"},4848,"48:48",null,null,null,null,null,null,null,null,null,null,null,null,null,null,null,null,null,null,null,null,null,null,null,null,null,null,null,null,null,null,null,null,null,null,null,null,null,null,null,null,null,null,null,"48:48",132,4848,"0000004848","00","48","48"]
["SA00856","Caithness AAC","1994-01-09","Hannah Paterson","SA00856","Under 17",null,133,"Paul  McBlane","M40","UA",133,56,{"$f":"VLOOKUP('entries and results'!M135,$H$3:$K$30018,2,FALSE)","v":"Louise Gray"},{"$f":"VLOOKUP('entries and results'!M135,$H$3:$K$30018,3,FALSE)","v":"F40"},{"$f":"VLOOKUP('entries and results'!M135,$H$3:$K$30018,4,FALSE)","v":"Bellahouston Road Runners"},4851,"48:51",null,null,null,null,null,null,null,null,null,null,null,null,null,null,null,null,null,null,null,null,null,null,null,null,null,null,null,null,null,null,null,null,null,null,null,null,null,null,null,null,null,null,null,"48:51",133,4851,"0000004851","00","48","51"]
["SA00862","Clydesdale Harriers","1991-08-25","David Brown","SA00862","Senior",null,134,"Angela Brown","F","Irvine Running Club",134,13,{"$f":"VLOOKUP('entries and results'!M136,$H$3:$K$30018,2,FALSE)","v":"Alexander Beggs"},{"$f":"VLOOKUP('entries and results'!M136,$H$3:$K$30018,3,FALSE)","v":"M40"},{"$f":"VLOOKUP('entries and results'!M136,$H$3:$K$30018,4,FALSE)","v":"UA"},4852,"48:52",null,null,null,null,null,null,null,null,null,null,null,null,null,null,null,null,null,null,null,null,null,null,null,null,null,null,null,null,null,null,null,null,null,null,null,null,null,null,null,null,null,null,null,"48:52",134,4852,"0000004852","00","48","52"]
["SA00864","Clydesdale Harriers","1992-10-30","Ryan Kenny","SA00864","Senior",null,135,"Steve Smith","M40","UA",135,123,{"$f":"VLOOKUP('entries and results'!M137,$H$3:$K$30018,2,FALSE)","v":"Jon Cunningham"},{"$f":"VLOOKUP('entries and results'!M137,$H$3:$K$30018,3,FALSE)","v":"M"},{"$f":"VLOOKUP('entries and results'!M137,$H$3:$K$30018,4,FALSE)","v":"UA"},4852,"48:52",null,null,null,null,null,null,null,null,null,null,null,null,null,null,null,null,null,null,null,null,null,null,null,null,null,null,null,null,null,null,null,null,null,null,null,null,null,null,null,null,null,null,null,"48:52",135,4852,"0000004852","00","48","52"]
["SA00866","Corstorphine AAC","1993-08-11","Alison Reid","SA00866","Senior","sa29483",136,"Jim Phillips","M40","Troon Tortoises AC",136,279,{"$f":"VLOOKUP('entries and results'!M138,$H$3:$K$30018,2,FALSE)","v":"Ross McClymont"},{"$f":"VLOOKUP('entries and results'!M138,$H$3:$K$30018,3,FALSE)","v":"M40"},{"$f":"VLOOKUP('entries and results'!M138,$H$3:$K$30018,4,FALSE)","v":"Troon Tortoises AC"},4853,"48:53",null,null,null,null,null,null,null,null,null,null,null,null,null,null,null,null,null,null,null,null,null,null,null,null,null,null,null,null,null,null,null,null,null,null,null,null,null,null,null,null,null,null,null,"48:53",136,4853,"0000004853","00","48","53"]
["SA00867","Pitreavie AAC","1994-09-25","Alison Craig","SA00867","Under 17",null,137,"Angela McDill","F","UA",137,92,{"$f":"VLOOKUP('entries and results'!M139,$H$3:$K$30018,2,FALSE)","v":"Doreen McCleary"},{"$f":"VLOOKUP('entries and results'!M139,$H$3:$K$30018,3,FALSE)","v":"F40"},{"$f":"VLOOKUP('entries and results'!M139,$H$3:$K$30018,4,FALSE)","v":"UA"},4854,"48:54",null,null,null,null,null,null,null,null,null,null,null,null,null,null,null,null,null,null,null,null,null,null,null,null,null,null,null,null,null,null,null,null,null,null,null,null,null,null,null,null,null,null,null,"48:54",137,4854,"0000004854","00","48","54"]
["SA00868","Dunfermline & West Fife AC","1993-05-09","Laura Muir","SA00868","Senior",null,138,"Paul Bennie","M40","Kilmarnock H&AC",138,210,{"$f":"VLOOKUP('entries and results'!M140,$H$3:$K$30018,2,FALSE)","v":"Kirstin Dale"},{"$f":"VLOOKUP('entries and results'!M140,$H$3:$K$30018,3,FALSE)","v":"F"},{"$f":"VLOOKUP('entries and results'!M140,$H$3:$K$30018,4,FALSE)","v":"Kilmarnock H&AC"},4856,"48:56",null,null,null,null,null,null,null,null,null,null,null,null,null,null,null,null,null,null,null,null,null,null,null,null,null,null,null,null,null,null,null,null,null,null,null,null,null,null,null,null,null,null,null,"48:56",138,4856,"0000004856","00","48","56"]
["SA00869","Dunfermline & West Fife AC","1995-11-30","Rory Muir","SA00869","Under 15",null,139,"Yvonne Gallacher","F40","Irvine Running Club",139,269,{"$f":"VLOOKUP('entries and results'!M141,$H$3:$K$30018,2,FALSE)","v":"John Taylor"},{"$f":"VLOOKUP('entries and results'!M141,$H$3:$K$30018,3,FALSE)","v":"M40"},{"$f":"VLOOKUP('entries and results'!M141,$H$3:$K$30018,4,FALSE)","v":"UA"},4901,"49:01",null,null,null,null,null,null,null,null,null,null,null,null,null,null,null,null,null,null,null,null,null,null,null,null,null,null,null,null,null,null,null,null,null,null,null,null,null,null,null,null,null,null,null,"49:01",139,4901,"0000004901","00","49","01"]
["SA00870","Falkirk Victoria Harriers","1994-10-14","Douglas Paul","SA00870","Under 17",null,140,"Ian Hannah","M50","Galloway Harriers",140,166,{"$f":"VLOOKUP('entries and results'!M142,$H$3:$K$30018,2,FALSE)","v":"Ray O'Leary"},{"$f":"VLOOKUP('entries and results'!M142,$H$3:$K$30018,3,FALSE)","v":"M40"},{"$f":"VLOOKUP('entries and results'!M142,$H$3:$K$30018,4,FALSE)","v":"UA"},4902,"49:02",null,null,null,null,null,null,null,null,null,null,null,null,null,null,null,null,null,null,null,null,null,null,null,null,null,null,null,null,null,null,null,null,null,null,null,null,null,null,null,null,null,null,null,"49:02",140,4902,"0000004902","00","49","02"]
["SA00875","Falkirk Victoria Harriers","1996-03-25","Alastair Kirkwood","SA00875","Under 15",null,141,"Lisa Phillips","F","UA",141,115,{"$f":"VLOOKUP('entries and results'!M143,$H$3:$K$30018,2,FALSE)","v":"Victoria Morrison"},{"$f":"VLOOKUP('entries and results'!M143,$H$3:$K$30018,3,FALSE)","v":"F"},{"$f":"VLOOKUP('entries and results'!M143,$H$3:$K$30018,4,FALSE)","v":"UA"},4903,"49:03",null,null,null,null,null,null,null,null,null,null,null,null,null,null,null,null,null,null,null,null,null,null,null,null,null,null,null,null,null,null,null,null,null,null,null,null,null,null,null,null,null,null,null,"49:03",141,4903,"0000004903","00","49","03"]
["SA00877","Fife AC","1991-10-28","Emma Gordon","SA00877","Senior",null,142,"Sean Connor","M","Galloway Harriers",142,69,{"$f":"VLOOKUP('entries and results'!M144,$H$3:$K$30018,2,FALSE)","v":"Haylie McCrorie"},{"$f":"VLOOKUP('entries and results'!M144,$H$3:$K$30018,3,FALSE)","v":"F"},{"$f":"VLOOKUP('entries and results'!M144,$H$3:$K$30018,4,FALSE)","v":"Bellahouston Road Runners"},4907,"49:07",null,null,null,null,null,null,null,null,null,null,null,null,null,null,null,null,null,null,null,null,null,null,null,null,null,null,null,null,null,null,null,null,null,null,null,null,null,null,null,null,null,null,null,"49:07",142,4907,"0000004907","00","49","07"]
["SA00879","Giffnock North AAC","1994-09-07","Emma Claxton","SA00879","Under 17",null,143,"Stewart McRoberts","M","UA",143,169,{"$f":"VLOOKUP('entries and results'!M145,$H$3:$K$30018,2,FALSE)","v":"Graham Blair"},{"$f":"VLOOKUP('entries and results'!M145,$H$3:$K$30018,3,FALSE)","v":"M50"},{"$f":"VLOOKUP('entries and results'!M145,$H$3:$K$30018,4,FALSE)","v":"UA"},4915,"49:15",null,null,null,null,null,null,null,null,null,null,null,null,null,null,null,null,null,null,null,null,null,null,null,null,null,null,null,null,null,null,null,null,null,null,null,null,null,null,null,null,null,null,null,"49:15",143,4915,"0000004915","00","49","15"]
["SA00880","Giffnock North AAC","1993-07-02","Alistair McCallum","SA00880","Senior","sa34309",144,"Stuart Munro","M","Ayr Seaforth AAC",144,128,{"$f":"VLOOKUP('entries and results'!M146,$H$3:$K$30018,2,FALSE)","v":"Ian Rutherford"},{"$f":"VLOOKUP('entries and results'!M146,$H$3:$K$30018,3,FALSE)","v":"M40"},{"$f":"VLOOKUP('entries and results'!M146,$H$3:$K$30018,4,FALSE)","v":"North Ayrshire AC"},4920,"49:20",null,null,null,null,null,null,null,null,null,null,null,null,null,null,null,null,null,null,null,null,null,null,null,null,null,null,null,null,null,null,null,null,null,null,null,null,null,null,null,null,null,null,null,"49:20",144,4920,"0000004920","00","49","20"]
["SA00881","Giffnock North AAC","1995-02-13","Heather McCallum","SA00881","Under 17",null,145,"Martina Moore","F40","Galloway Harriers",145,280,{"$f":"VLOOKUP('entries and results'!M147,$H$3:$K$30018,2,FALSE)","v":"Rhona O'Neill"},{"$f":"VLOOKUP('entries and results'!M147,$H$3:$K$30018,3,FALSE)","v":"F"},{"$f":"VLOOKUP('entries and results'!M147,$H$3:$K$30018,4,FALSE)","v":"Kilmarnock H&AC"},4922,"49:22",null,null,null,null,null,null,null,null,null,null,null,null,null,null,null,null,null,null,null,null,null,null,null,null,null,null,null,null,null,null,null,null,null,null,null,null,null,null,null,null,null,null,null,"49:22",145,4922,"0000004922","00","49","22"]
["SA00883","VP-Glasgow AC","1993-10-04","Catherine Clark","SA00883","Under 17",null,146,"Paul McCallum","M40","Ron's Runners",146,226,{"$f":"VLOOKUP('entries and results'!M148,$H$3:$K$30018,2,FALSE)","v":"Colin Stewart"},{"$f":"VLOOKUP('entries and results'!M148,$H$3:$K$30018,3,FALSE)","v":"M40"},{"$f":"VLOOKUP('entries and results'!M148,$H$3:$K$30018,4,FALSE)","v":"Shettleston Harriers"},4923,"49:23",null,null,null,null,null,null,null,null,null,null,null,null,null,null,null,null,null,null,null,null,null,null,null,null,null,null,null,null,null,null,null,null,null,null,null,null,null,null,null,null,null,null,null,"49:23",146,4923,"0000004923","00","49","23"]
["SA00884","Helensburgh AAC","1992-12-05","Andrew Kennedy","SA00884","Senior",null,147,"Thomas Slocombe","M","UA",147,261,{"$f":"VLOOKUP('entries and results'!M149,$H$3:$K$30018,2,FALSE)","v":"Colin Knox"},{"$f":"VLOOKUP('entries and results'!M149,$H$3:$K$30018,3,FALSE)","v":"M40"},{"$f":"VLOOKUP('entries and results'!M149,$H$3:$K$30018,4,FALSE)","v":"Wee Grumpy Runners"},4924,"49:24",null,null,null,null,null,null,null,null,null,null,null,null,null,null,null,null,null,null,null,null,null,null,null,null,null,null,null,null,null,null,null,null,null,null,null,null,null,null,null,null,null,null,null,"49:24",147,4924,"0000004924","00","49","24"]
["SA00890","North Ayrshire AC","1993-05-04","Molly Bell","SA00890","Senior",null,148,"Bobby Crombie","M50","UA",148,130,{"$f":"VLOOKUP('entries and results'!M150,$H$3:$K$30018,2,FALSE)","v":"Pat Standen"},{"$f":"VLOOKUP('entries and results'!M150,$H$3:$K$30018,3,FALSE)","v":"F50"},{"$f":"VLOOKUP('entries and results'!M150,$H$3:$K$30018,4,FALSE)","v":"UA"},4928,"49:28",null,null,null,null,null,null,null,null,null,null,null,null,null,null,null,null,null,null,null,null,null,null,null,null,null,null,null,null,null,null,null,null,null,null,null,null,null,null,null,null,null,null,null,"49:28",148,4928,"0000004928","00","49","28"]
["SA00895","Kilbarchan AAC","1995-05-04","Cleo Jackson","SA00895","Under 17",null,149,"Moira McDowell","F40","UA",149,103,{"$f":"VLOOKUP('entries and results'!M151,$H$3:$K$30018,2,FALSE)","v":"Liam McBlain"},{"$f":"VLOOKUP('entries and results'!M151,$H$3:$K$30018,3,FALSE)","v":"M40"},{"$f":"VLOOKUP('entries and results'!M151,$H$3:$K$30018,4,FALSE)","v":"UA"},4930,"49:30",null,null,null,null,null,null,null,null,null,null,null,null,null,null,null,null,null,null,null,null,null,null,null,null,null,null,null,null,null,null,null,null,null,null,null,null,null,null,null,null,null,null,null,"49:30",149,4930,"0000004930","00","49","30"]
["SA00897","Kilbarchan AAC","1991-04-20","Emma Pettigrew","SA00897","Senior",32727,150,"John McCluskey","M40","Jog Scotland",150,199,{"$f":"VLOOKUP('entries and results'!M152,$H$3:$K$30018,2,FALSE)","v":"Steven Gilmour"},{"$f":"VLOOKUP('entries and results'!M152,$H$3:$K$30018,3,FALSE)","v":"M40"},{"$f":"VLOOKUP('entries and results'!M152,$H$3:$K$30018,4,FALSE)","v":"UA"},4935,"49:35",null,null,null,null,null,null,null,null,null,null,null,null,null,null,null,null,null,null,null,null,null,null,null,null,null,null,null,null,null,null,null,null,null,null,null,null,null,null,null,null,null,null,null,"49:35",150,4935,"0000004935","00","49","35"]
["SA00902","Kirkintilloch Olympians","1996-01-17","Erin Drummond","SA00902","Under 15",null,151,"Kristy Wise","F","UA",151,59,{"$f":"VLOOKUP('entries and results'!M153,$H$3:$K$30018,2,FALSE)","v":"Tim Murphy"},{"$f":"VLOOKUP('entries and results'!M153,$H$3:$K$30018,3,FALSE)","v":"M40"},{"$f":"VLOOKUP('entries and results'!M153,$H$3:$K$30018,4,FALSE)","v":"UA"},4937,"49:37",null,null,null,null,null,null,null,null,null,null,null,null,null,null,null,null,null,null,null,null,null,null,null,null,null,null,null,null,null,null,null,null,null,null,null,null,null,null,null,null,null,null,null,"49:37",151,4937,"0000004937","00","49","37"]
["SA00903","VP-Glasgow AC","1994-11-29","Maria Milliken","SA00903","Under 17",null,152,"Michael Baxter","M50","UA",152,284,{"$f":"VLOOKUP('entries and results'!M154,$H$3:$K$30018,2,FALSE)","v":"David Lightbody"},{"$f":"VLOOKUP('entries and results'!M154,$H$3:$K$30018,3,FALSE)","v":"M50"},{"$f":"VLOOKUP('entries and results'!M154,$H$3:$K$30018,4,FALSE)","v":"UA"},4941,"49:41",null,null,null,null,null,null,null,null,null,null,null,null,null,null,null,null,null,null,null,null,null,null,null,null,null,null,null,null,null,null,null,null,null,null,null,null,null,null,null,null,null,null,null,"49:41",152,4941,"0000004941","00","49","41"]
["SA00905","Law & District AAC","1992-05-24","Bobby Hill","SA00905","Senior",null,153,"Christine Herman","F40","Irvine Running Club",153,225,{"$f":"VLOOKUP('entries and results'!M155,$H$3:$K$30018,2,FALSE)","v":"Bruce Walker"},{"$f":"VLOOKUP('entries and results'!M155,$H$3:$K$30018,3,FALSE)","v":"M60"},{"$f":"VLOOKUP('entries and results'!M155,$H$3:$K$30018,4,FALSE)","v":"Troon Tortoises AC"},4942,"49:42",null,null,null,null,null,null,null,null,null,null,null,null,null,null,null,null,null,null,null,null,null,null,null,null,null,null,null,null,null,null,null,null,null,null,null,null,null,null,null,null,null,null,null,"49:42",153,4942,"0000004942","00","49","42"]
["SA00906","Law & District AAC","1994-10-11","Ross Hill","SA00906","Under 17",null,154,"Ginny Bell","F40","UA",154,135,{"$f":"VLOOKUP('entries and results'!M156,$H$3:$K$30018,2,FALSE)","v":"Steve Smith"},{"$f":"VLOOKUP('entries and results'!M156,$H$3:$K$30018,3,FALSE)","v":"M40"},{"$f":"VLOOKUP('entries and results'!M156,$H$3:$K$30018,4,FALSE)","v":"UA"},4944,"49:44",null,null,null,null,null,null,null,null,null,null,null,null,null,null,null,null,null,null,null,null,null,null,null,null,null,null,null,null,null,null,null,null,null,null,null,null,null,null,null,null,null,null,null,"49:44",154,4944,"0000004944","00","49","44"]
["SA00908","Law & District AAC","1996-01-28","Calum Lindsay","SA00908","Under 15",null,155,"Victoria Lambart","F","UA",155,224,{"$f":"VLOOKUP('entries and results'!M157,$H$3:$K$30018,2,FALSE)","v":"David Bowman"},{"$f":"VLOOKUP('entries and results'!M157,$H$3:$K$30018,3,FALSE)","v":"M"},{"$f":"VLOOKUP('entries and results'!M157,$H$3:$K$30018,4,FALSE)","v":"UA"},4946,"49:46",null,null,null,null,null,null,null,null,null,null,null,null,null,null,null,null,null,null,null,null,null,null,null,null,null,null,null,null,null,null,null,null,null,null,null,null,null,null,null,null,null,null,null,"49:46",155,4946,"0000004946","00","49","46"]
["SA00910","Livingston & District AAC","1990-06-11","Danny Nicoll","SA00910","Senior",null,156,"Gary Dunlop","M","UA",156,191,{"$f":"VLOOKUP('entries and results'!M158,$H$3:$K$30018,2,FALSE)","v":"Steven Chapman"},{"$f":"VLOOKUP('entries and results'!M158,$H$3:$K$30018,3,FALSE)","v":"M"},{"$f":"VLOOKUP('entries and results'!M158,$H$3:$K$30018,4,FALSE)","v":"UA"},4953,"49:53",null,null,null,null,null,null,null,null,null,null,null,null,null,null,null,null,null,null,null,null,null,null,null,null,null,null,null,null,null,null,null,null,null,null,null,null,null,null,null,null,null,null,null,"49:53",156,4953,"0000004953","00","49","53"]
["SA00911","Moray Road Runners","1996-02-13","Jack Christie","SA00911","Under 15",null,157,"Helen French","F50","UA",157,146,{"$f":"VLOOKUP('entries and results'!M159,$H$3:$K$30018,2,FALSE)","v":"Paul McCallum"},{"$f":"VLOOKUP('entries and results'!M159,$H$3:$K$30018,3,FALSE)","v":"M40"},{"$f":"VLOOKUP('entries and results'!M159,$H$3:$K$30018,4,FALSE)","v":"Ron's Runners"},4955,"49:55",null,null,null,null,null,null,null,null,null,null,null,null,null,null,null,null,null,null,null,null,null,null,null,null,null,null,null,null,null,null,null,null,null,null,null,null,null,null,null,null,null,null,null,"49:55",157,4955,"0000004955","00","49","55"]
["SA00913","Moray Road Runners","1995-04-26","Bethany Wilson","SA00913","Under 17",null,158,"Stuart Murdoch","M40","Kilmarnock H&AC",158,150,{"$f":"VLOOKUP('entries and results'!M160,$H$3:$K$30018,2,FALSE)","v":"John McCluskey"},{"$f":"VLOOKUP('entries and results'!M160,$H$3:$K$30018,3,FALSE)","v":"M40"},{"$f":"VLOOKUP('entries and results'!M160,$H$3:$K$30018,4,FALSE)","v":"Jog Scotland"},5002,"50:02",null,null,null,null,null,null,null,null,null,null,null,null,null,null,null,null,null,null,null,null,null,null,null,null,null,null,null,null,null,null,null,null,null,null,null,null,null,null,null,null,null,null,null,"50:02",158,5002,"0000005002","00","50","02"]
["SA00914","Nithsdale AC","1993-02-17","David Vernon","SA00914","Senior","sa07687",159,{"$f":"VLOOKUP('entries and results'!G161,$A$3:$E$30018,4,FALSE)","v":"Chris Upson"},"M50","Ronhill Cambuslang Harriers",159,238,{"$f":"VLOOKUP('entries and results'!M161,$H$3:$K$30018,2,FALSE)","v":"Laura McGregor"},{"$f":"VLOOKUP('entries and results'!M161,$H$3:$K$30018,3,FALSE)","v":"F"},{"$f":"VLOOKUP('entries and results'!M161,$H$3:$K$30018,4,FALSE)","v":"North Ayrshire AC"},5018,"50:18",null,null,null,null,null,null,null,null,null,null,null,null,null,null,null,null,null,null,null,null,null,null,null,null,null,null,null,null,null,null,null,null,null,null,null,null,null,null,null,null,null,null,null,"50:18",159,5018,"0000005018","00","50","18"]
["SA00921","Shettleston Harriers","1994-10-14","Kirstin Wood","SA00921","Under 17",null,160,"Aimee Clydesdale","F","UA",160,87,{"$f":"VLOOKUP('entries and results'!M162,$H$3:$K$30018,2,FALSE)","v":"Daniel Kershaw"},{"$f":"VLOOKUP('entries and results'!M162,$H$3:$K$30018,3,FALSE)","v":"M"},{"$f":"VLOOKUP('entries and results'!M162,$H$3:$K$30018,4,FALSE)","v":"UA"},5023,"50:23",null,null,null,null,null,null,null,null,null,null,null,null,null,null,null,null,null,null,null,null,null,null,null,null,null,null,null,null,null,null,null,null,null,null,null,null,null,null,null,null,null,null,null,"50:23",160,5023,"0000005023","00","50","23"]
["SA00922","VP-Glasgow AC","1993-05-14","Kirsty Yates","SA00922","Senior","sa34232",161,"Stuart Swan","M","Troon Tortoises AC",161,63,{"$f":"VLOOKUP('entries and results'!M163,$H$3:$K$30018,2,FALSE)","v":"Ruth McLaughlan"},{"$f":"VLOOKUP('entries and results'!M163,$H$3:$K$30018,3,FALSE)","v":"F40"},{"$f":"VLOOKUP('entries and results'!M163,$H$3:$K$30018,4,FALSE)","v":"Ron's Runners"},5024,"50:24",null,null,null,null,null,null,null,null,null,null,null,null,null,null,null,null,null,null,null,null,null,null,null,null,null,null,null,null,null,null,null,null,null,null,null,null,null,null,null,null,null,null,null,"50:24",161,5024,"0000005024","00","50","24"]
["SA00924","Stewarts Melville College","1991-07-06","Chris Gill","SA00924","Senior",null,162,"Sharon Gebbie","F40","UA",162,170,{"$f":"VLOOKUP('entries and results'!M164,$H$3:$K$30018,2,FALSE)","v":"Jen Tucker"},{"$f":"VLOOKUP('entries and results'!M164,$H$3:$K$30018,3,FALSE)","v":"F"},{"$f":"VLOOKUP('entries and results'!M164,$H$3:$K$30018,4,FALSE)","v":"UA"},5032,"50:32",null,null,null,null,null,null,null,null,null,null,null,null,null,null,null,null,null,null,null,null,null,null,null,null,null,null,null,null,null,null,null,null,null,null,null,null,null,null,null,null,null,null,null,"50:32",162,5032,"0000005032","00","50","32"]
["SA00932","VP-Glasgow AC","1994-04-15","Grant McConnachie","SA00932","Under 17",null,163,"Scott Forbes ","M","UA",163,265,{"$f":"VLOOKUP('entries and results'!M165,$H$3:$K$30018,2,FALSE)","v":"Pamela Porteous"},{"$f":"VLOOKUP('entries and results'!M165,$H$3:$K$30018,3,FALSE)","v":"F40"},{"$f":"VLOOKUP('entries and results'!M165,$H$3:$K$30018,4,FALSE)","v":"UA"},5035,"50:35",null,null,null,null,null,null,null,null,null,null,null,null,null,null,null,null,null,null,null,null,null,null,null,null,null,null,null,null,null,null,null,null,null,null,null,null,null,null,null,null,null,null,null,"50:35",163,5035,"0000005035","00","50","35"]
["SA00935","Shetland AAC","1991-01-17","Joshua Morrison","SA00935","Senior",null,164,"Mark Morrison","M","UA",164,207,{"$f":"VLOOKUP('entries and results'!M166,$H$3:$K$30018,2,FALSE)","v":"Claire Gillespie"},{"$f":"VLOOKUP('entries and results'!M166,$H$3:$K$30018,3,FALSE)","v":"F"},{"$f":"VLOOKUP('entries and results'!M166,$H$3:$K$30018,4,FALSE)","v":"Ayr Seaforth AAC"},5036,"50:36",null,null,null,null,null,null,null,null,null,null,null,null,null,null,null,null,null,null,null,null,null,null,null,null,null,null,null,null,null,null,null,null,null,null,null,null,null,null,null,null,null,null,null,"50:36",164,5036,"0000005036","00","50","36"]
["SA00945","Aberdeen AAC","1992-09-05","Kerry Prise","SA00945","Senior",null,165,"John Ross","M","UA",165,126,{"$f":"VLOOKUP('entries and results'!M167,$H$3:$K$30018,2,FALSE)","v":"James McFadden"},{"$f":"VLOOKUP('entries and results'!M167,$H$3:$K$30018,3,FALSE)","v":"M40"},{"$f":"VLOOKUP('entries and results'!M167,$H$3:$K$30018,4,FALSE)","v":"UA"},5037,"50:37",null,null,null,null,null,null,null,null,null,null,null,null,null,null,null,null,null,null,null,null,null,null,null,null,null,null,null,null,null,null,null,null,null,null,null,null,null,null,null,null,null,null,null,"50:37",165,5037,"0000005037","00","50","37"]
["SA00946","Arbroath & District AC","1992-05-06","Ross White","SA00946","Senior",null,166,"Ray O'Leary","M40","UA",166,122,{"$f":"VLOOKUP('entries and results'!M168,$H$3:$K$30018,2,FALSE)","v":"Janette Clarkson"},{"$f":"VLOOKUP('entries and results'!M168,$H$3:$K$30018,3,FALSE)","v":"F40"},{"$f":"VLOOKUP('entries and results'!M168,$H$3:$K$30018,4,FALSE)","v":"Hamilton Harriers"},5045,"50:45",null,null,null,null,null,null,null,null,null,null,null,null,null,null,null,null,null,null,null,null,null,null,null,null,null,null,null,null,null,null,null,null,null,null,null,null,null,null,null,null,null,null,null,"50:45",166,5045,"0000005045","00","50","45"]
["SA00947","Ayr Seaforth AAC","1995-02-22","Angus Arnold","SA00947","Under 17",null,167,"Eamonn Hamill","M","UA",167,148,{"$f":"VLOOKUP('entries and results'!M169,$H$3:$K$30018,2,FALSE)","v":"Bobby Crombie"},{"$f":"VLOOKUP('entries and results'!M169,$H$3:$K$30018,3,FALSE)","v":"M50"},{"$f":"VLOOKUP('entries and results'!M169,$H$3:$K$30018,4,FALSE)","v":"UA"},5049,"50:49",null,null,null,null,null,null,null,null,null,null,null,null,null,null,null,null,null,null,null,null,null,null,null,null,null,null,null,null,null,null,null,null,null,null,null,null,null,null,null,null,null,null,null,"50:49",167,5049,"0000005049","00","50","49"]
["SA00949","Ayr Seaforth AAC","1989-06-17","Andrew McElwee","SA00949","Senior",null,168,"Madeleine Patterson","F","Irvine Running Club",168,211,{"$f":"VLOOKUP('entries and results'!M170,$H$3:$K$30018,2,FALSE)","v":"Thomas Reid"},{"$f":"VLOOKUP('entries and results'!M170,$H$3:$K$30018,3,FALSE)","v":"M50"},{"$f":"VLOOKUP('entries and results'!M170,$H$3:$K$30018,4,FALSE)","v":"Ayrodynamic Triathlon Club"},5056,"50:56",null,null,null,null,null,null,null,null,null,null,null,null,null,null,null,null,null,null,null,null,null,null,null,null,null,null,null,null,null,null,null,null,null,null,null,null,null,null,null,null,null,null,null,"50:56",168,5056,"0000005056","00","50","56"]
["SA00951","Banchory Stonehaven AC","1992-02-29","Theresa Christie","SA00951","Senior",null,169,"Graham Blair","M50","UA",169,234,{"$f":"VLOOKUP('entries and results'!M171,$H$3:$K$30018,2,FALSE)","v":"Lindsay Taylor"},{"$f":"VLOOKUP('entries and results'!M171,$H$3:$K$30018,3,FALSE)","v":"F"},{"$f":"VLOOKUP('entries and results'!M171,$H$3:$K$30018,4,FALSE)","v":"UA"},5101,"51:01",null,null,null,null,null,null,null,null,null,null,null,null,null,null,null,null,null,null,null,null,null,null,null,null,null,null,null,null,null,null,null,null,null,null,null,null,null,null,null,null,null,null,null,"51:01",169,5101,"0000005101","00","51","01"]
["SA00955","Caithness AAC","1994-04-10","Natasha Morris","SA00955","Under 17",null,170,"Jen Tucker","F","UA",170,104,{"$f":"VLOOKUP('entries and results'!M172,$H$3:$K$30018,2,FALSE)","v":"David Jones "},{"$f":"VLOOKUP('entries and results'!M172,$H$3:$K$30018,3,FALSE)","v":"M"},{"$f":"VLOOKUP('entries and results'!M172,$H$3:$K$30018,4,FALSE)","v":"UA"},5102,"51:02",null,null,null,null,null,null,null,null,null,null,null,null,null,null,null,null,null,null,null,null,null,null,null,null,null,null,null,null,null,null,null,null,null,null,null,null,null,null,null,null,null,null,null,"51:02",170,5102,"0000005102","00","51","02"]
["SA00959","Edinburgh AC","1994-07-06","Bethany Valente","SA00959","Under 17","sa32606",171,"Damian Taylor","M40","North Ayrshire AC",171,114,{"$f":"VLOOKUP('entries and results'!M173,$H$3:$K$30018,2,FALSE)","v":"Rachid Senouci"},{"$f":"VLOOKUP('entries and results'!M173,$H$3:$K$30018,3,FALSE)","v":"F"},{"$f":"VLOOKUP('entries and results'!M173,$H$3:$K$30018,4,FALSE)","v":"UA"},5115,"51:15",null,null,null,null,null,null,null,null,null,null,null,null,null,null,null,null,null,null,null,null,null,null,null,null,null,null,null,null,null,null,null,null,null,null,null,null,null,null,null,null,null,null,null,"51:15",171,5115,"0000005115","00","51","15"]
["SA00961","Glasgow University Hare and H","1989-08-17","Neal Robb","SA00961","Senior",null,172,"Lorraine Dobbs","F40","Irvine Running Club",172,292,{"$f":"VLOOKUP('entries and results'!M174,$H$3:$K$30018,2,FALSE)","v":"Neill Russell"},{"$f":"VLOOKUP('entries and results'!M174,$H$3:$K$30018,3,FALSE)","v":"M40"},{"$f":"VLOOKUP('entries and results'!M174,$H$3:$K$30018,4,FALSE)","v":"UA"},5133,"51:33",null,null,null,null,null,null,null,null,null,null,null,null,null,null,null,null,null,null,null,null,null,null,null,null,null,null,null,null,null,null,null,null,null,null,null,null,null,null,null,null,null,null,null,"51:33",172,5133,"0000005133","00","51","33"]
["SA00966","Dundee Hawkhill Harriers","1991-05-24","Gemma Dolan","SA00966","Senior",null,173,"Anna Warnock","F","UA",173,22,{"$f":"VLOOKUP('entries and results'!M175,$H$3:$K$30018,2,FALSE)","v":"Alan Dorrans"},{"$f":"VLOOKUP('entries and results'!M175,$H$3:$K$30018,3,FALSE)","v":"M"},{"$f":"VLOOKUP('entries and results'!M175,$H$3:$K$30018,4,FALSE)","v":"UA"},5136,"51:36",null,null,null,null,null,null,null,null,null,null,null,null,null,null,null,null,null,null,null,null,null,null,null,null,null,null,null,null,null,null,null,null,null,null,null,null,null,null,null,null,null,null,null,"51:36",173,5136,"0000005136","00","51","36"]
["SA00985","Giffnock North AAC","1991-10-29","Kenneth Love","SA00985","Senior","sa29293",174,"Vincent Carroll","M40","Kirkintilloch Olympians",174,173,{"$f":"VLOOKUP('entries and results'!M176,$H$3:$K$30018,2,FALSE)","v":"Anna Warnock"},{"$f":"VLOOKUP('entries and results'!M176,$H$3:$K$30018,3,FALSE)","v":"F"},{"$f":"VLOOKUP('entries and results'!M176,$H$3:$K$30018,4,FALSE)","v":"UA"},5137,"51:37",null,null,null,null,null,null,null,null,null,null,null,null,null,null,null,null,null,null,null,null,null,null,null,null,null,null,null,null,null,null,null,null,null,null,null,null,null,null,null,null,null,null,null,"51:37",174,5137,"0000005137","00","51","37"]
["SA00994","Kilbarchan AAC","1991-12-17","Rachel McNaughton","SA00994","Senior",null,175,"Sandra Reid","F40","UA",175,213,{"$f":"VLOOKUP('entries and results'!M177,$H$3:$K$30018,2,FALSE)","v":"Karishma Roy"},{"$f":"VLOOKUP('entries and results'!M177,$H$3:$K$30018,3,FALSE)","v":"F"},{"$f":"VLOOKUP('entries and results'!M177,$H$3:$K$30018,4,FALSE)","v":"Ron's Runners"},5140,"51:40",null,null,null,null,null,null,null,null,null,null,null,null,null,null,null,null,null,null,null,null,null,null,null,null,null,null,null,null,null,null,null,null,null,null,null,null,null,null,null,null,null,null,null,"51:40",175,5140,"0000005140","00","51","40"]
["SA00999","Law & District AAC","1993-08-18","Nicola Lindsay","SA00999","Senior",null,176,"John Boyd","M50","UA",176,272,{"$f":"VLOOKUP('entries and results'!M178,$H$3:$K$30018,2,FALSE)","v":"Moira Connell"},{"$f":"VLOOKUP('entries and results'!M178,$H$3:$K$30018,3,FALSE)","v":"F50"},{"$f":"VLOOKUP('entries and results'!M178,$H$3:$K$30018,4,FALSE)","v":"Troon Tortoises AC"},5140,"51:40",null,null,null,null,null,null,null,null,null,null,null,null,null,null,null,null,null,null,null,null,null,null,null,null,null,null,null,null,null,null,null,null,null,null,null,null,null,null,null,null,null,null,null,"51:40",176,5140,"0000005140","00","51","40"]
["SA01000","Law & District AAC","1992-03-06","Kirstie McLeod","SA01000","Senior",null,177,"Laura Jamieson","F","UA",177,120,{"$f":"VLOOKUP('entries and results'!M179,$H$3:$K$30018,2,FALSE)","v":"John Needle"},{"$f":"VLOOKUP('entries and results'!M179,$H$3:$K$30018,3,FALSE)","v":"M40"},{"$f":"VLOOKUP('entries and results'!M179,$H$3:$K$30018,4,FALSE)","v":"UA"},5144,"51:44",null,null,null,null,null,null,null,null,null,null,null,null,null,null,null,null,null,null,null,null,null,null,null,null,null,null,null,null,null,null,null,null,null,null,null,null,null,null,null,null,null,null,null,"51:44",177,5144,"0000005144","00","51","44"]
["SA01001","Glasgow School of Sport","1994-04-03","Lewis Nicholson","SA01001","Under 17",null,178,"Andy Wilson","M","UA",178,132,{"$f":"VLOOKUP('entries and results'!M180,$H$3:$K$30018,2,FALSE)","v":"David McBride"},{"$f":"VLOOKUP('entries and results'!M180,$H$3:$K$30018,3,FALSE)","v":"M40"},{"$f":"VLOOKUP('entries and results'!M180,$H$3:$K$30018,4,FALSE)","v":"UA"},5157,"51:57",null,null,null,null,null,null,null,null,null,null,null,null,null,null,null,null,null,null,null,null,null,null,null,null,null,null,null,null,null,null,null,null,null,null,null,null,null,null,null,null,null,null,null,"51:57",178,5157,"0000005157","00","51","57"]
["SA01008","Pitreavie AAC","1993-11-15","Kristy Armstrong","SA01008","Under 17","a825391",179,"Raymond Thom","M","UA",179,48,{"$f":"VLOOKUP('entries and results'!M181,$H$3:$K$30018,2,FALSE)","v":"Cameron Clark"},{"$f":"VLOOKUP('entries and results'!M181,$H$3:$K$30018,3,FALSE)","v":"M40"},{"$f":"VLOOKUP('entries and results'!M181,$H$3:$K$30018,4,FALSE)","v":"UA"},5158,"51:58",null,null,null,null,null,null,null,null,null,null,null,null,null,null,null,null,null,null,null,null,null,null,null,null,null,null,null,null,null,null,null,null,null,null,null,null,null,null,null,null,null,null,null,"51:58",179,5158,"0000005158","00","51","58"]
["SA01009","Pitreavie AAC","1994-07-17","Jessica Barrows","SA01009","Under 17","sa27023",180,"Robert O'Neill","M","Clydesdale Harriers",180,176,{"$f":"VLOOKUP('entries and results'!M182,$H$3:$K$30018,2,FALSE)","v":"John Boyd"},{"$f":"VLOOKUP('entries and results'!M182,$H$3:$K$30018,3,FALSE)","v":"M50"},{"$f":"VLOOKUP('entries and results'!M182,$H$3:$K$30018,4,FALSE)","v":"UA"},5218,"52:18",null,null,null,null,null,null,null,null,null,null,null,null,null,null,null,null,null,null,null,null,null,null,null,null,null,null,null,null,null,null,null,null,null,null,null,null,null,null,null,null,null,null,null,"52:18",180,5218,"0000005218","00","52","18"]
["SA01012","Pitreavie AAC","1990-05-18","Kirstyn Suttie","SA01012","Senior",null,181,"Dave Cossar","M60","UA",181,16,{"$f":"VLOOKUP('entries and results'!M183,$H$3:$K$30018,2,FALSE)","v":"James Cunningham"},{"$f":"VLOOKUP('entries and results'!M183,$H$3:$K$30018,3,FALSE)","v":"M50"},{"$f":"VLOOKUP('entries and results'!M183,$H$3:$K$30018,4,FALSE)","v":"UA"},5230,"52:30",null,null,null,null,null,null,null,null,null,null,null,null,null,null,null,null,null,null,null,null,null,null,null,null,null,null,null,null,null,null,null,null,null,null,null,null,null,null,null,null,null,null,null,"52:30",181,5230,"0000005230","00","52","30"]
["SA01029","Airdrie Harriers","1995-12-13","James Higgins","SA01029","Under 15",null,182,"Rick Williams ","M40","Galloway Harriers",182,253,{"$f":"VLOOKUP('entries and results'!M184,$H$3:$K$30018,2,FALSE)","v":"Scott Watson"},{"$f":"VLOOKUP('entries and results'!M184,$H$3:$K$30018,3,FALSE)","v":"M40"},{"$f":"VLOOKUP('entries and results'!M184,$H$3:$K$30018,4,FALSE)","v":"Ron's Runners"},5230,"52:30",null,null,null,null,null,null,null,null,null,null,null,null,null,null,null,null,null,null,null,null,null,null,null,null,null,null,null,null,null,null,null,null,null,null,null,null,null,null,null,null,null,null,null,"52:30",182,5230,"0000005230","00","52","30"]
["SA01033","Arbroath & District AC","1992-04-27","Greg Milne","SA01033","Senior","sa13567",183,{"$f":"VLOOKUP('entries and results'!G185,$A$3:$E$30018,4,FALSE)","v":"Brian Robertson"},"M","Shettleston Harriers",183,133,{"$f":"VLOOKUP('entries and results'!M185,$H$3:$K$30018,2,FALSE)","v":"Paul  McBlane"},{"$f":"VLOOKUP('entries and results'!M185,$H$3:$K$30018,3,FALSE)","v":"M40"},{"$f":"VLOOKUP('entries and results'!M185,$H$3:$K$30018,4,FALSE)","v":"UA"},5230,"52:30",null,null,null,null,null,null,null,null,null,null,null,null,null,null,null,null,null,null,null,null,null,null,null,null,null,null,null,null,null,null,null,null,null,null,null,null,null,null,null,null,null,null,null,"52:30",183,5230,"0000005230","00","52","30"]
["SA01035","Arbroath & District AC","1995-08-15","Kate Richards","SA01035","Under 17",null,184,"Stephen McGill","M50","UA",184,107,{"$f":"VLOOKUP('entries and results'!M186,$H$3:$K$30018,2,FALSE)","v":"Laura Farquharson"},{"$f":"VLOOKUP('entries and results'!M186,$H$3:$K$30018,3,FALSE)","v":"F"},{"$f":"VLOOKUP('entries and results'!M186,$H$3:$K$30018,4,FALSE)","v":"Hamilton Harriers"},5235,"52:35",null,null,null,null,null,null,null,null,null,null,null,null,null,null,null,null,null,null,null,null,null,null,null,null,null,null,null,null,null,null,null,null,null,null,null,null,null,null,null,null,null,null,null,"52:35",184,5235,"0000005235","00","52","35"]
["SA01036","Ayr Seaforth AAC","1993-10-25","Nicole Adams","SA01036","Under 17",null,185,"Lynne Goldie","F40","Bellahouston Road Runners",185,39,{"$f":"VLOOKUP('entries and results'!M187,$H$3:$K$30018,2,FALSE)","v":"Elaine Bufton"},{"$f":"VLOOKUP('entries and results'!M187,$H$3:$K$30018,3,FALSE)","v":"F40"},{"$f":"VLOOKUP('entries and results'!M187,$H$3:$K$30018,4,FALSE)","v":"UA"},5239,"52:39",null,null,null,null,null,null,null,null,null,null,null,null,null,null,null,null,null,null,null,null,null,null,null,null,null,null,null,null,null,null,null,null,null,null,null,null,null,null,null,null,null,null,null,"52:39",185,5239,"0000005239","00","52","39"]
["SA01038","Ayr Seaforth AAC","1994-12-08","Sam Revie","SA01038","Under 17","sa21540",186,"Fraser McPhail","M40","Troon Tortoises AC",186,95,{"$f":"VLOOKUP('entries and results'!M188,$H$3:$K$30018,2,FALSE)","v":"Nicky McMeechan"},{"$f":"VLOOKUP('entries and results'!M188,$H$3:$K$30018,3,FALSE)","v":"M"},{"$f":"VLOOKUP('entries and results'!M188,$H$3:$K$30018,4,FALSE)","v":"UA"},5250,"52:50",null,null,null,null,null,null,null,null,null,null,null,null,null,null,null,null,null,null,null,null,null,null,null,null,null,null,null,null,null,null,null,null,null,null,null,null,null,null,null,null,null,null,null,"52:50",186,5250,"0000005250","00","52","50"]
["SA01040","Edinburgh AC","1994-03-24","Tom Holligan","SA01040","Under 17","so00678",187,"Walter Henderson","M40","Shettleston Harriers",187,2,{"$f":"VLOOKUP('entries and results'!M189,$H$3:$K$30018,2,FALSE)","v":"Kenneth Sutherland"},{"$f":"VLOOKUP('entries and results'!M189,$H$3:$K$30018,3,FALSE)","v":"M40"},{"$f":"VLOOKUP('entries and results'!M189,$H$3:$K$30018,4,FALSE)","v":"UA"},5251,"52:51",null,null,null,null,null,null,null,null,null,null,null,null,null,null,null,null,null,null,null,null,null,null,null,null,null,null,null,null,null,null,null,null,null,null,null,null,null,null,null,null,null,null,null,"52:51",187,5251,"0000005251","00","52","51"]
["SA01041","Edinburgh AC","1993-06-03","Katie Murdoch","SA01041","Senior","sa21766",188,"Cheryl McNulty","F","Hamilton Harriers",188,273,{"$f":"VLOOKUP('entries and results'!M190,$H$3:$K$30018,2,FALSE)","v":"Alan Anderson"},{"$f":"VLOOKUP('entries and results'!M190,$H$3:$K$30018,3,FALSE)","v":"M50"},{"$f":"VLOOKUP('entries and results'!M190,$H$3:$K$30018,4,FALSE)","v":"Kilmarnock H&AC"},5257,"52:57",null,null,null,null,null,null,null,null,null,null,null,null,null,null,null,null,null,null,null,null,null,null,null,null,null,null,null,null,null,null,null,null,null,null,null,null,null,null,null,null,null,null,null,"52:57",188,5257,"0000005257","00","52","57"]
["SA01042","Edinburgh AC","1993-02-05","Jordan Newport","SA01042","Senior",null,189,"Emmy Dodda","F50","UA",189,247,{"$f":"VLOOKUP('entries and results'!M191,$H$3:$K$30018,2,FALSE)","v":"Ken Wales"},{"$f":"VLOOKUP('entries and results'!M191,$H$3:$K$30018,3,FALSE)","v":"M40"},{"$f":"VLOOKUP('entries and results'!M191,$H$3:$K$30018,4,FALSE)","v":"Kilmarnock H&AC"},5257,"52:57",null,null,null,null,null,null,null,null,null,null,null,null,null,null,null,null,null,null,null,null,null,null,null,null,null,null,null,null,null,null,null,null,null,null,null,null,null,null,null,null,null,null,null,"52:57",189,5257,"0000005257","00","52","57"]
["SA01046","VP-Glasgow AC","1991-12-27","Elizabeth Potter","SA01046","Senior",null,190,"Joanna Reid","F","UA",190,260,{"$f":"VLOOKUP('entries and results'!M192,$H$3:$K$30018,2,FALSE)","v":"Anita Mackie"},{"$f":"VLOOKUP('entries and results'!M192,$H$3:$K$30018,3,FALSE)","v":"F40"},{"$f":"VLOOKUP('entries and results'!M192,$H$3:$K$30018,4,FALSE)","v":"Ron's Runners"},5304,"53:04",null,null,null,null,null,null,null,null,null,null,null,null,null,null,null,null,null,null,null,null,null,null,null,null,null,null,null,null,null,null,null,null,null,null,null,null,null,null,null,null,null,null,null,"53:04",190,5304,"0000005304","00","53","04"]
["SA01047","VP-Glasgow AC","1993-08-10","Sarah Potter","SA01047","Senior",null,191,"Steven Chapman","M","UA",191,251,{"$f":"VLOOKUP('entries and results'!M193,$H$3:$K$30018,2,FALSE)","v":"Shivaun O'Neill"},{"$f":"VLOOKUP('entries and results'!M193,$H$3:$K$30018,3,FALSE)","v":"F"},{"$f":"VLOOKUP('entries and results'!M193,$H$3:$K$30018,4,FALSE)","v":"Ron's Runners"},5308,"53:08",null,null,null,null,null,null,null,null,null,null,null,null,null,null,null,null,null,null,null,null,null,null,null,null,null,null,null,null,null,null,null,null,null,null,null,null,null,null,null,null,null,null,null,"53:08",191,5308,"0000005308","00","53","08"]
["SA01048","Clydesdale Harriers","1992-12-18","Peter Bowman","SA01048","Senior",null,192,"Craig McBreen","M","UA",192,285,{"$f":"VLOOKUP('entries and results'!M194,$H$3:$K$30018,2,FALSE)","v":"Nellie McQuillan"},{"$f":"VLOOKUP('entries and results'!M194,$H$3:$K$30018,3,FALSE)","v":"F40"},{"$f":"VLOOKUP('entries and results'!M194,$H$3:$K$30018,4,FALSE)","v":"Ayr Seaforth AAC"},5309,"53:09",null,null,null,null,null,null,null,null,null,null,null,null,null,null,null,null,null,null,null,null,null,null,null,null,null,null,null,null,null,null,null,null,null,null,null,null,null,null,null,null,null,null,null,"53:09",192,5309,"0000005309","00","53","09"]
["SA01049","Dunbar Running Club","1996-01-19","Emma Paterson","SA01049","Under 15",null,193,"Drew Inglis","M50","Hamilton Harriers",193,89,{"$f":"VLOOKUP('entries and results'!M195,$H$3:$K$30018,2,FALSE)","v":"Marion Sloan"},{"$f":"VLOOKUP('entries and results'!M195,$H$3:$K$30018,3,FALSE)","v":"F40"},{"$f":"VLOOKUP('entries and results'!M195,$H$3:$K$30018,4,FALSE)","v":"Monkton Milers"},5312,"53:12",null,null,null,null,null,null,null,null,null,null,null,null,null,null,null,null,null,null,null,null,null,null,null,null,null,null,null,null,null,null,null,null,null,null,null,null,null,null,null,null,null,null,null,"53:12",193,{"$f":"SUMIF($H$3:$H$601,$BK195,$Q$3:$Q$601)","v":5312},"0000005312","00","53","12"]
["SA01050","Dunbar Running Club","1994-12-20","Nicole Turner","SA01050","Under 17",null,194,"Frazer Corrance","MU20","UA",194,177,{"$f":"VLOOKUP('entries and results'!M196,$H$3:$K$30018,2,FALSE)","v":"Laura Jamieson"},{"$f":"VLOOKUP('entries and results'!M196,$H$3:$K$30018,3,FALSE)","v":"F"},{"$f":"VLOOKUP('entries and results'!M196,$H$3:$K$30018,4,FALSE)","v":"UA"},5322,{"$f":"IF($H196=\"\",\" \",(LOOKUP($H196,$BK$3:$BK$1601,$BJ$3:$BJ$1601)))","v":"53:22"},null,null,null,null,null,null,null,null,null,null,null,null,null,null,null,null,null,null,null,null,null,null,null,null,null,null,null,null,null,null,null,null,null,null,null,null,null,null,null,null,null,null,null,{"$f":"CONCATENATE(BO196,\":\",BP196)","v":"53:22"},194,5322,{"$f":"CONCATENATE($BG$2,$BL196)","v":"0000005322"},{"$f":"MID(RIGHT($BM196,6),1,2)","v":"00"},{"$f":"MID(RIGHT($BM196,6),3,2)","v":"53"},{"$f":"MID(RIGHT($BM196,6),5,2)","v":"22"}]
["SA01051","Dunbar Running Club","1996-12-24","Rebecca Turner","SA01051","Under 15",null,195,"Charles MacDonald","M60","UA",195,228,{"$f":"VLOOKUP('entries and results'!M197,$H$3:$K$30018,2,FALSE)","v":"Lisa Gilmore"},{"$f":"VLOOKUP('entries and results'!M197,$H$3:$K$30018,3,FALSE)","v":"F40"},{"$f":"VLOOKUP('entries and results'!M197,$H$3:$K$30018,4,FALSE)","v":"Bellahouston Harriers"},5328,"53:28",null,null,null,null,null,null,null,null,null,null,null,null,null,null,null,null,null,null,null,null,null,null,null,null,null,null,null,null,null,null,null,null,null,null,null,null,null,null,null,null,null,null,null,"53:28",195,5328,"0000005328","00","53","28"]
["SA01055","Ellon AAC","1995-02-16","Louise Milne","SA01055","Under 17",null,196,"Craig McPike","M","Ayr Seaforth AAC",196,263,{"$f":"VLOOKUP('entries and results'!M198,$H$3:$K$30018,2,FALSE)","v":"Kenny Weir"},{"$f":"VLOOKUP('entries and results'!M198,$H$3:$K$30018,3,FALSE)","v":"M60"},{"$f":"VLOOKUP('entries and results'!M198,$H$3:$K$30018,4,FALSE)","v":"UA"},5329,"53:29",null,null,null,null,null,null,null,null,null,null,null,null,null,null,null,null,null,null,null,null,null,null,null,null,null,null,null,null,null,null,null,null,null,null,null,null,null,null,null,null,null,null,null,"53:29",196,5329,"0000005329","00","53","29"]
["SA01058","Falkirk Victoria Harriers","1991-10-03","Gary Plain","SA01058","Senior","sa32652",197,"James John","M40","Ronhill Cambuslang Harriers",197,28,{"$f":"VLOOKUP('entries and results'!M199,$H$3:$K$30018,2,FALSE)","v":"Colin Mutch"},{"$f":"VLOOKUP('entries and results'!M199,$H$3:$K$30018,3,FALSE)","v":"M60"},{"$f":"VLOOKUP('entries and results'!M199,$H$3:$K$30018,4,FALSE)","v":"UA"},5341,"53:41",null,null,null,null,null,null,null,null,null,null,null,null,null,null,null,null,null,null,null,null,null,null,null,null,null,null,null,null,null,null,null,null,null,null,null,null,null,null,null,null,null,null,null,"53:41",197,5341,"0000005341","00","53","41"]
["SA01063","Larkhall YMCA Harriers","1994-03-12","Eilish McCreadie","SA01063","Under 17","sa20917",198,"Craig Brown ","M","Ayr Seaforth AAC",198,257,{"$f":"VLOOKUP('entries and results'!M200,$H$3:$K$30018,2,FALSE)","v":"Melissa Donald"},{"$f":"VLOOKUP('entries and results'!M200,$H$3:$K$30018,3,FALSE)","v":"M50"},{"$f":"VLOOKUP('entries and results'!M200,$H$3:$K$30018,4,FALSE)","v":"UA"},5343,"53:43",null,null,null,null,null,null,null,null,null,null,null,null,null,null,null,null,null,null,null,null,null,null,null,null,null,null,null,null,null,null,null,null,null,null,null,null,null,null,null,null,null,null,null,"53:43",198,5343,"0000005343","00","53","43"]
["SA01072","Moray Road Runners","1996-04-13","Siobhan Robertson","SA01072","Under 15",null,199,"Steven Gilmour","M40","UA",199,242,{"$f":"VLOOKUP('entries and results'!M201,$H$3:$K$30018,2,FALSE)","v":"James Hobson"},{"$f":"VLOOKUP('entries and results'!M201,$H$3:$K$30018,3,FALSE)","v":"M40"},{"$f":"VLOOKUP('entries and results'!M201,$H$3:$K$30018,4,FALSE)","v":"UA"},5355,"53:55",null,null,null,null,null,null,null,null,null,null,null,null,null,null,null,null,null,null,null,null,null,null,null,null,null,null,null,null,null,null,null,null,null,null,null,null,null,null,null,null,null,null,null,"53:55",199,5355,"0000005355","00","53","55"]
["SA01073","Moray Road Runners","1993-12-12","Callum Shand","SA01073","Under 17",null,200,"Jamie Reid","M","UA",200,36,{"$f":"VLOOKUP('entries and results'!M202,$H$3:$K$30018,2,FALSE)","v":"Rachel Cox"},{"$f":"VLOOKUP('entries and results'!M202,$H$3:$K$30018,3,FALSE)","v":"F40"},{"$f":"VLOOKUP('entries and results'!M202,$H$3:$K$30018,4,FALSE)","v":"Monkton Milers"},5401,"54:01",null,null,null,null,null,null,null,null,null,null,null,null,null,null,null,null,null,null,null,null,null,null,null,null,null,null,null,null,null,null,null,null,null,null,null,null,null,null,null,null,null,null,null,"54:01",200,5401,"0000005401","00","54","01"]
["SA01074","Moray Road Runners","1996-05-30","Kirsty Shand","SA01074","Under 15",null,201,"Thomas Moran","M50","UA",201,286,{"$f":"VLOOKUP('entries and results'!M203,$H$3:$K$30018,2,FALSE)","v":"Janice McKellar"},{"$f":"VLOOKUP('entries and results'!M203,$H$3:$K$30018,3,FALSE)","v":"F50"},{"$f":"VLOOKUP('entries and results'!M203,$H$3:$K$30018,4,FALSE)","v":"Ayr Seaforth AAC"},5402,"54:02",null,null,null,null,null,null,null,null,null,null,null,null,null,null,null,null,null,null,null,null,null,null,null,null,null,null,null,null,null,null,null,null,null,null,null,null,null,null,null,null,null,null,null,"54:02",201,5402,"0000005402","00","54","02"]
["SA01080","Perth Strathtay Harriers","1996-03-15","Amy Dawson","SA01080","Under 15",null,202,"Calum MacDonald","M","Ayr Seaforth AAC",202,201,{"$f":"VLOOKUP('entries and results'!M204,$H$3:$K$30018,2,FALSE)","v":"Thomas Moran"},{"$f":"VLOOKUP('entries and results'!M204,$H$3:$K$30018,3,FALSE)","v":"M50"},{"$f":"VLOOKUP('entries and results'!M204,$H$3:$K$30018,4,FALSE)","v":"UA"},5403,"54:03",null,null,null,null,null,null,null,null,null,null,null,null,null,null,null,null,null,null,null,null,null,null,null,null,null,null,null,null,null,null,null,null,null,null,null,null,null,null,null,null,null,null,null,"54:03",202,5403,"0000005403","00","54","03"]
["SA01081","Perth Strathtay Harriers","1996-03-15","Louise Dawson","SA01081","Under 15",null,203,"Steven Robson","M","UA",203,152,{"$f":"VLOOKUP('entries and results'!M205,$H$3:$K$30018,2,FALSE)","v":"Michael Baxter"},{"$f":"VLOOKUP('entries and results'!M205,$H$3:$K$30018,3,FALSE)","v":"M50"},{"$f":"VLOOKUP('entries and results'!M205,$H$3:$K$30018,4,FALSE)","v":"UA"},5419,"54:19",null,null,null,null,null,null,null,null,null,null,null,null,null,null,null,null,null,null,null,null,null,null,null,null,null,null,null,null,null,null,null,null,null,null,null,null,null,null,null,null,null,null,null,"54:19",203,5419,"0000005419","00","54","19"]
["SA01083","Perth Strathtay Harriers","1992-04-08","Susan Peddie","SA01083","Senior",null,204,"Gerry Penman","M40","Scottish Prison Service AAC",204,81,{"$f":"VLOOKUP('entries and results'!M206,$H$3:$K$30018,2,FALSE)","v":"Michelle Murphy"},{"$f":"VLOOKUP('entries and results'!M206,$H$3:$K$30018,3,FALSE)","v":"F"},{"$f":"VLOOKUP('entries and results'!M206,$H$3:$K$30018,4,FALSE)","v":"UA"},5423,"54:23",null,null,null,null,null,null,null,null,null,null,null,null,null,null,null,null,null,null,null,null,null,null,null,null,null,null,null,null,null,null,null,null,null,null,null,null,null,null,null,null,null,null,null,"54:23",204,5423,"0000005423","00","54","23"]
["SA01085","Pitreavie AAC","1993-10-26","Danny McAtear","SA01085","Under 17",null,205,"Adam Smith","MU20","UA",205,288,{"$f":"VLOOKUP('entries and results'!M207,$H$3:$K$30018,2,FALSE)","v":"Aimi Barker"},{"$f":"VLOOKUP('entries and results'!M207,$H$3:$K$30018,3,FALSE)","v":"F40"},{"$f":"VLOOKUP('entries and results'!M207,$H$3:$K$30018,4,FALSE)","v":"Ayr Seaforth AAC"},5432,"54:32",null,null,null,null,null,null,null,null,null,null,null,null,null,null,null,null,null,null,null,null,null,null,null,null,null,null,null,null,null,null,null,null,null,null,null,null,null,null,null,null,null,null,null,"54:32",205,5432,"0000005432","00","54","32"]
["SA01090","Unattached","1989-05-19","Danielle Osborne","SA01090","Senior",null,206,"Barry Sturgeon","M","UA",206,52,{"$f":"VLOOKUP('entries and results'!M208,$H$3:$K$30018,2,FALSE)","v":"Ian Wilson"},{"$f":"VLOOKUP('entries and results'!M208,$H$3:$K$30018,3,FALSE)","v":"M40"},{"$f":"VLOOKUP('entries and results'!M208,$H$3:$K$30018,4,FALSE)","v":"UA"},5446,"54:46",null,null,null,null,null,null,null,null,null,null,null,null,null,null,null,null,null,null,null,null,null,null,null,null,null,null,null,null,null,null,null,null,null,null,null,null,null,null,null,null,null,null,null,"54:46",206,5446,"0000005446","00","54","46"]
["SA01094","VP-Glasgow AC","1993-02-20","Lara Davidson","SA01094","Senior",null,207,"Claire Gillespie","F","Ayr Seaforth AAC",207,58,{"$f":"VLOOKUP('entries and results'!M209,$H$3:$K$30018,2,FALSE)","v":"Samantha McLaren"},{"$f":"VLOOKUP('entries and results'!M209,$H$3:$K$30018,3,FALSE)","v":"F"},{"$f":"VLOOKUP('entries and results'!M209,$H$3:$K$30018,4,FALSE)","v":"UA"},5446,"54:46",null,null,null,null,null,null,null,null,null,null,null,null,null,null,null,null,null,null,null,null,null,null,null,null,null,null,null,null,null,null,null,null,null,null,null,null,null,null,null,null,null,null,null,"54:46",207,5446,"0000005446","00","54","46"]
["SA01097","Aberdeen AAC","1991-04-10","Gabrielle Wilson","SA01097","Senior","sa28547",208,"Gael Riddle","F","Ayr Seaforth AAC",208,131,{"$f":"VLOOKUP('entries and results'!M210,$H$3:$K$30018,2,FALSE)","v":"Claire Wylie"},{"$f":"VLOOKUP('entries and results'!M210,$H$3:$K$30018,3,FALSE)","v":"F40"},{"$f":"VLOOKUP('entries and results'!M210,$H$3:$K$30018,4,FALSE)","v":"UA"},5506,"55:06",null,null,null,null,null,null,null,null,null,null,null,null,null,null,null,null,null,null,null,null,null,null,null,null,null,null,null,null,null,null,null,null,null,null,null,null,null,null,null,null,null,null,null,"55:06",208,5506,"0000005506","00","55","06"]
["SA01098","Airdrie Harriers","1991-08-09","Adam Skinner","SA01098","Senior","sa26974",209,"Kenneth Neill","M","Ayr Seaforth AAC",209,252,{"$f":"VLOOKUP('entries and results'!M211,$H$3:$K$30018,2,FALSE)","v":"Alison Sutherland"},{"$f":"VLOOKUP('entries and results'!M211,$H$3:$K$30018,3,FALSE)","v":"F40"},{"$f":"VLOOKUP('entries and results'!M211,$H$3:$K$30018,4,FALSE)","v":"Ron's Runners"},5510,"55:10",null,null,null,null,null,null,null,null,null,null,null,null,null,null,null,null,null,null,null,null,null,null,null,null,null,null,null,null,null,null,null,null,null,null,null,null,null,null,null,null,null,null,null,"55:10",209,5510,"0000005510","00","55","10"]
["SA01101","Ayr Seaforth AAC","1990-09-24","Paula Dalgleish","SA01101","Senior","sa31015",210,"Kirstin Dale","F","Kilmarnock H&AC",210,239,{"$f":"VLOOKUP('entries and results'!M212,$H$3:$K$30018,2,FALSE)","v":"Jane Clarke"},{"$f":"VLOOKUP('entries and results'!M212,$H$3:$K$30018,3,FALSE)","v":"F"},{"$f":"VLOOKUP('entries and results'!M212,$H$3:$K$30018,4,FALSE)","v":"UA"},5516,"55:16",null,null,null,null,null,null,null,null,null,null,null,null,null,null,null,null,null,null,null,null,null,null,null,null,null,null,null,null,null,null,null,null,null,null,null,null,null,null,null,null,null,null,null,"55:16",210,5516,"0000005516","00","55","16"]
["SA01105","Edinburgh AC","1993-12-17","Matthew Arnold","SA01105","Under 17","sa19037",211,{"$f":"VLOOKUP('entries and results'!G213,$A$3:$E$30018,4,FALSE)","v":"Thomas Reid"},"M50",{"$f":"VLOOKUP('entries and results'!G213,$A$3:$E$30018,2,FALSE)","v":"Ayrodynamic Triathlon Club"},211,80,{"$f":"VLOOKUP('entries and results'!M213,$H$3:$K$30018,2,FALSE)","v":"Gerry Hamill"},{"$f":"VLOOKUP('entries and results'!M213,$H$3:$K$30018,3,FALSE)","v":"M40"},{"$f":"VLOOKUP('entries and results'!M213,$H$3:$K$30018,4,FALSE)","v":"NW Kilmarnock Running Club"},5522,"55:22",null,null,null,null,null,null,null,null,null,null,null,null,null,null,null,null,null,null,null,null,null,null,null,null,null,null,null,null,null,null,null,null,null,null,null,null,null,null,null,null,null,null,null,"55:22",211,5522,"0000005522","00","55","22"]
["SA01108","Edinburgh AC","1988-01-02","Nicola Falconer","SA01108","Senior",null,212,"Ross Hunter","M","UA",212,243,{"$f":"VLOOKUP('entries and results'!M214,$H$3:$K$30018,2,FALSE)","v":"Gary Craig"},{"$f":"VLOOKUP('entries and results'!M214,$H$3:$K$30018,3,FALSE)","v":"M"},{"$f":"VLOOKUP('entries and results'!M214,$H$3:$K$30018,4,FALSE)","v":"UA"},5532,"55:32",null,null,null,null,null,null,null,null,null,null,null,null,null,null,null,null,null,null,null,null,null,null,null,null,null,null,null,null,null,null,null,null,null,null,null,null,null,null,null,null,null,null,null,"55:32",212,5532,"0000005532","00","55","32"]
["SA01109","VP-Glasgow AC","1991-07-12","Hannah Campbell","SA01109","Senior",null,213,"Karishma Roy","F","Ron's Runners",213,75,{"$f":"VLOOKUP('entries and results'!M215,$H$3:$K$30018,2,FALSE)","v":"Abby Cunningham"},{"$f":"VLOOKUP('entries and results'!M215,$H$3:$K$30018,3,FALSE)","v":"F"},{"$f":"VLOOKUP('entries and results'!M215,$H$3:$K$30018,4,FALSE)","v":"Ayr Seaforth AAC"},5535,"55:35",null,null,null,null,null,null,null,null,null,null,null,null,null,null,null,null,null,null,null,null,null,null,null,null,null,null,null,null,null,null,null,null,null,null,null,null,null,null,null,null,null,null,null,"55:35",213,5535,"0000005535","00","55","35"]
["SA01111","Clydesdale Harriers","1989-10-12","Ryan Savage","SA01111","Senior","sa30852",214,"Gwyn Bellamy","M","Westerlands CC Club",214,27,{"$f":"VLOOKUP('entries and results'!M216,$H$3:$K$30018,2,FALSE)","v":"Angela Stroyan"},{"$f":"VLOOKUP('entries and results'!M216,$H$3:$K$30018,3,FALSE)","v":"F"},{"$f":"VLOOKUP('entries and results'!M216,$H$3:$K$30018,4,FALSE)","v":"Ron's Runners"},5540,"55:40",null,null,null,null,null,null,null,null,null,null,null,null,null,null,null,null,null,null,null,null,null,null,null,null,null,null,null,null,null,null,null,null,null,null,null,null,null,null,null,null,null,null,null,"55:40",214,5540,"0000005540","00","55","40"]
["SA01113","Corstorphine AAC","1993-12-05","Dugald Hepburn","SA01113","Under 17","sa07248",215,{"$f":"VLOOKUP('entries and results'!G217,$A$3:$E$30018,4,FALSE)","v":"Brian Douglas"},"M40",{"$f":"VLOOKUP('entries and results'!G217,$A$3:$E$30018,2,FALSE)","v":"Bellahouston Harriers"},215,97,{"$f":"VLOOKUP('entries and results'!M217,$H$3:$K$30018,2,FALSE)","v":"Lyndsay Moffat"},{"$f":"VLOOKUP('entries and results'!M217,$H$3:$K$30018,3,FALSE)","v":"F"},{"$f":"VLOOKUP('entries and results'!M217,$H$3:$K$30018,4,FALSE)","v":"Hamilton Harriers"},5547,"55:47",null,null,null,null,null,null,null,null,null,null,null,null,null,null,null,null,null,null,null,null,null,null,null,null,null,null,null,null,null,null,null,null,null,null,null,null,null,null,null,null,null,null,null,"55:47",215,5547,"0000005547","00","55","47"]
["SA01116","Unattached","1989-12-11","Nicola Campbell","SA01116","Senior",null,216,"Rory Partis","M","UA",216,108,{"$f":"VLOOKUP('entries and results'!M218,$H$3:$K$30018,2,FALSE)","v":"Lesley Harvey"},{"$f":"VLOOKUP('entries and results'!M218,$H$3:$K$30018,3,FALSE)","v":"F"},{"$f":"VLOOKUP('entries and results'!M218,$H$3:$K$30018,4,FALSE)","v":"Hamilton Harriers"},5547,"55:47",null,null,null,null,null,null,null,null,null,null,null,null,null,null,null,null,null,null,null,null,null,null,null,null,null,null,null,null,null,null,null,null,null,null,null,null,null,null,null,null,null,null,null,"55:47",216,5547,"0000005547","00","55","47"]
["SA01117","East Kilbride A.C.","1992-03-17","Gregor Thorpe","SA01117","Senior",null,217,"Malcolm Murray","M40","UA",217,195,{"$f":"VLOOKUP('entries and results'!M219,$H$3:$K$30018,2,FALSE)","v":"Charles MacDonald"},{"$f":"VLOOKUP('entries and results'!M219,$H$3:$K$30018,3,FALSE)","v":"M60"},{"$f":"VLOOKUP('entries and results'!M219,$H$3:$K$30018,4,FALSE)","v":"UA"},5603,"56:03",null,null,null,null,null,null,null,null,null,null,null,null,null,null,null,null,null,null,null,null,null,null,null,null,null,null,null,null,null,null,null,null,null,null,null,null,null,null,null,null,null,null,null,"56:03",217,5603,"0000005603","00","56","03"]
["SA01118","East Kilbride A.C.","1990-02-08","Niall Walker","SA01118","Senior",null,218,"Ian Gilmour","M40","UA",218,162,{"$f":"VLOOKUP('entries and results'!M220,$H$3:$K$30018,2,FALSE)","v":"Sharon Gebbie"},{"$f":"VLOOKUP('entries and results'!M220,$H$3:$K$30018,3,FALSE)","v":"F40"},{"$f":"VLOOKUP('entries and results'!M220,$H$3:$K$30018,4,FALSE)","v":"UA"},5632,"56:32",null,null,null,null,null,null,null,null,null,null,null,null,null,null,null,null,null,null,null,null,null,null,null,null,null,null,null,null,null,null,null,null,null,null,null,null,null,null,null,null,null,null,null,"56:32",218,5632,"0000005632","00","56","32"]
["SA01126","Falkirk Victoria Harriers","1989-12-16","Kirsty Hunter","SA01126","Senior","sa18267",219,{"$f":"VLOOKUP('entries and results'!G221,$A$3:$E$30018,4,FALSE)","v":"Grant MacDonald"},"M",{"$f":"VLOOKUP('entries and results'!G221,$A$3:$E$30018,2,FALSE)","v":"Bellahouston Road Runners"},219,127,{"$f":"VLOOKUP('entries and results'!M221,$H$3:$K$30018,2,FALSE)","v":"Linda McNeil "},{"$f":"VLOOKUP('entries and results'!M221,$H$3:$K$30018,3,FALSE)","v":"F50"},{"$f":"VLOOKUP('entries and results'!M221,$H$3:$K$30018,4,FALSE)","v":"UA"},5644,"56:44",null,null,null,null,null,null,null,null,null,null,null,null,null,null,null,null,null,null,null,null,null,null,null,null,null,null,null,null,null,null,null,null,null,null,null,null,null,null,null,null,null,null,null,"56:44",219,5644,"0000005644","00","56","44"]
["SA01127","Falkirk Victoria Harriers","1989-12-16","Lynne Hunter","SA01127","Senior",null,220,"Gary Crombie","M40","UA",220,112,{"$f":"VLOOKUP('entries and results'!M222,$H$3:$K$30018,2,FALSE)","v":"Michelle Dunleavy"},{"$f":"VLOOKUP('entries and results'!M222,$H$3:$K$30018,3,FALSE)","v":"F"},{"$f":"VLOOKUP('entries and results'!M222,$H$3:$K$30018,4,FALSE)","v":"UA"},5653,"56:53",null,null,null,null,null,null,null,null,null,null,null,null,null,null,null,null,null,null,null,null,null,null,null,null,null,null,null,null,null,null,null,null,null,null,null,null,null,null,null,null,null,null,null,"56:53",220,5653,"0000005653","00","56","53"]
["SA01129","Falkirk Victoria Harriers","1992-01-21","Myra Perkins","SA01129","Senior",null,221,"Ann Hay","F60","Ron's Runners",221,49,{"$f":"VLOOKUP('entries and results'!M223,$H$3:$K$30018,2,FALSE)","v":"Robert Steel"},{"$f":"VLOOKUP('entries and results'!M223,$H$3:$K$30018,3,FALSE)","v":"M40"},{"$f":"VLOOKUP('entries and results'!M223,$H$3:$K$30018,4,FALSE)","v":"UA"},5708,"57:08",null,null,null,null,null,null,null,null,null,null,null,null,null,null,null,null,null,null,null,null,null,null,null,null,null,null,null,null,null,null,null,null,null,null,null,null,null,null,null,null,null,null,null,"57:08",221,5708,"0000005708","00","57","08"]
["SA01130","Giffnock North AAC","1992-03-06","Catriona Lockie","SA01130","Senior",null,222,"Alan Douglas","M","UA",222,200,{"$f":"VLOOKUP('entries and results'!M224,$H$3:$K$30018,2,FALSE)","v":"Jamie Reid"},{"$f":"VLOOKUP('entries and results'!M224,$H$3:$K$30018,3,FALSE)","v":"M"},{"$f":"VLOOKUP('entries and results'!M224,$H$3:$K$30018,4,FALSE)","v":"UA"},5710,"57:10",null,null,null,null,null,null,null,null,null,null,null,null,null,null,null,null,null,null,null,null,null,null,null,null,null,null,null,null,null,null,null,null,null,null,null,null,null,null,null,null,null,null,null,"57:10",222,5710,"0000005710","00","57","10"]
["SA01134","Shettleston Harriers","1992-02-15","Calum Nicholl","SA01134","Senior","sa27309",223,"Ian Young","M","Ayr Seaforth AAC",223,189,{"$f":"VLOOKUP('entries and results'!M225,$H$3:$K$30018,2,FALSE)","v":"Emmy Dodda"},{"$f":"VLOOKUP('entries and results'!M225,$H$3:$K$30018,3,FALSE)","v":"F50"},{"$f":"VLOOKUP('entries and results'!M225,$H$3:$K$30018,4,FALSE)","v":"UA"},5716,"57:16",null,null,null,null,null,null,null,null,null,null,null,null,null,null,null,null,null,null,null,null,null,null,null,null,null,null,null,null,null,null,null,null,null,null,null,null,null,null,null,null,null,null,null,"57:16",223,5716,"0000005716","00","57","16"]
["SA01135","Greenock Glenpark Harriers","1992-09-06","Emily Pollock","SA01135","Senior",null,224,"David Bowman","M","UA",224,281,{"$f":"VLOOKUP('entries and results'!M226,$H$3:$K$30018,2,FALSE)","v":"Stephanie Dale"},{"$f":"VLOOKUP('entries and results'!M226,$H$3:$K$30018,3,FALSE)","v":"F"},{"$f":"VLOOKUP('entries and results'!M226,$H$3:$K$30018,4,FALSE)","v":"Kilmarnock H&AC"},5733,"57:33",null,null,null,null,null,null,null,null,null,null,null,null,null,null,null,null,null,null,null,null,null,null,null,null,null,null,null,null,null,null,null,null,null,null,null,null,null,null,null,null,null,null,null,"57:33",224,5733,"0000005733","00","57","33"]
["SA01136","Greenock Glenpark Harriers","1990-11-20","Katie Pollock","SA01136","Senior","sa22270",225,"Bruce Walker","M60","Troon Tortoises AC",225,134,{"$f":"VLOOKUP('entries and results'!M227,$H$3:$K$30018,2,FALSE)","v":"Angela Brown"},{"$f":"VLOOKUP('entries and results'!M227,$H$3:$K$30018,3,FALSE)","v":"F"},{"$f":"VLOOKUP('entries and results'!M227,$H$3:$K$30018,4,FALSE)","v":"Irvine Running Club"},5807,"58:07",null,null,null,null,null,null,null,null,null,null,null,null,null,null,null,null,null,null,null,null,null,null,null,null,null,null,null,null,null,null,null,null,null,null,null,null,null,null,null,null,null,null,null,"58:07",225,5807,"0000005807","00","58","07"]
["SA01139","North Ayrshire AC","1993-11-06","Paige Douglas","SA01139","Under 17","so6121",226,"Colin Stewart","M40","Shettleston Harriers",226,277,{"$f":"VLOOKUP('entries and results'!M228,$H$3:$K$30018,2,FALSE)","v":"Alana Montgomery"},{"$f":"VLOOKUP('entries and results'!M228,$H$3:$K$30018,3,FALSE)","v":"F40"},{"$f":"VLOOKUP('entries and results'!M228,$H$3:$K$30018,4,FALSE)","v":"KA Leisure"},5819,"58:19",null,null,null,null,null,null,null,null,null,null,null,null,null,null,null,null,null,null,null,null,null,null,null,null,null,null,null,null,null,null,null,null,null,null,null,null,null,null,null,null,null,null,null,"58:19",226,5819,"0000005819","00","58","19"]
["SA01140","Newham & Essex AC","1989-12-28","Jamie Stevenson","SA01140","Senior","sa22342",227,"Paul Turnbull","M50","Ayr Seaforth AAC",227,278,{"$f":"VLOOKUP('entries and results'!M229,$H$3:$K$30018,2,FALSE)","v":"Anne Cunningham"},{"$f":"VLOOKUP('entries and results'!M229,$H$3:$K$30018,3,FALSE)","v":"F40"},{"$f":"VLOOKUP('entries and results'!M229,$H$3:$K$30018,4,FALSE)","v":"KA Leisure"},5819,"58:19",null,null,null,null,null,null,null,null,null,null,null,null,null,null,null,null,null,null,null,null,null,null,null,null,null,null,null,null,null,null,null,null,null,null,null,null,null,null,null,null,null,null,null,"58:19",227,5819,"0000005819","00","58","19"]
["SA01142","Kilbarchan AAC","1992-06-22","Callum Hawkins","SA01142","Senior","sa28539",228,"Lisa Gilmore","F40","Bellahouston Harriers",228,38,{"$f":"VLOOKUP('entries and results'!M230,$H$3:$K$30018,2,FALSE)","v":"Leigh-Ann Cherry"},{"$f":"VLOOKUP('entries and results'!M230,$H$3:$K$30018,3,FALSE)","v":"F"},{"$f":"VLOOKUP('entries and results'!M230,$H$3:$K$30018,4,FALSE)","v":"UA"},5821,"58:21",null,null,null,null,null,null,null,null,null,null,null,null,null,null,null,null,null,null,null,null,null,null,null,null,null,null,null,null,null,null,null,null,null,null,null,null,null,null,null,null,null,null,null,"58:21",228,5821,"0000005821","00","58","21"]
["SA01146","Law & District AAC","1991-10-07","Ross MacDonald","SA01146","Senior","sa6020",229,"Bobby Miller","M50","Troon Tortoises AC",229,46,{"$f":"VLOOKUP('entries and results'!M231,$H$3:$K$30018,2,FALSE)","v":"Mark Leckie"},{"$f":"VLOOKUP('entries and results'!M231,$H$3:$K$30018,3,FALSE)","v":"M"},{"$f":"VLOOKUP('entries and results'!M231,$H$3:$K$30018,4,FALSE)","v":"UA"},5827,"58:27",null,null,null,null,null,null,null,null,null,null,null,null,null,null,null,null,null,null,null,null,null,null,null,null,null,null,null,null,null,null,null,null,null,null,null,null,null,null,null,null,null,null,null,"58:27",229,5827,"0000005827","00","58","27"]
["SA01151","Edinburgh AC","1991-10-31","Josh Crawford","SA01151","Senior",null,230,"Carolyn Fisher","F","North Ayrshire AC",230,47,{"$f":"VLOOKUP('entries and results'!M232,$H$3:$K$30018,2,FALSE)","v":"Lynsey Leckie"},{"$f":"VLOOKUP('entries and results'!M232,$H$3:$K$30018,3,FALSE)","v":"F"},{"$f":"VLOOKUP('entries and results'!M232,$H$3:$K$30018,4,FALSE)","v":"UA"},5827,"58:27",null,null,null,null,null,null,null,null,null,null,null,null,null,null,null,null,null,null,null,null,null,null,null,null,null,null,null,null,null,null,null,null,null,null,null,null,null,null,null,null,null,null,null,"58:27",230,5827,"0000005827","00","58","27"]
["SA01156","Edinburgh AC","1993-04-27","Ross McManus","SA01156","Senior","sa17173",231,{"$f":"VLOOKUP('entries and results'!G233,$A$3:$E$30018,4,FALSE)","v":"Kevin Bloy"},"M40",{"$f":"VLOOKUP('entries and results'!G233,$A$3:$E$30018,2,FALSE)","v":"Ayr Seaforth AAC"},231,168,{"$f":"VLOOKUP('entries and results'!M233,$H$3:$K$30018,2,FALSE)","v":"Madeleine Patterson"},{"$f":"VLOOKUP('entries and results'!M233,$H$3:$K$30018,3,FALSE)","v":"F"},{"$f":"VLOOKUP('entries and results'!M233,$H$3:$K$30018,4,FALSE)","v":"Irvine Running Club"},5847,"58:47",null,null,null,null,null,null,null,null,null,null,null,null,null,null,null,null,null,null,null,null,null,null,null,null,null,null,null,null,null,null,null,null,null,null,null,null,null,null,null,null,null,null,null,"58:47",231,5847,"0000005847","00","58","47"]
["SA01160","Shettleston Harriers","1990-06-19","Callum Sharp","SA01160","Senior","sa05314",232,{"$f":"VLOOKUP('entries and results'!G234,$A$3:$E$30018,4,FALSE)","v":"Anne Noble"},"F50",{"$f":"VLOOKUP('entries and results'!G234,$A$3:$E$30018,2,FALSE)","v":"Troon Tortoises AC"},232,91,{"$f":"VLOOKUP('entries and results'!M234,$H$3:$K$30018,2,FALSE)","v":"Jim McCleary"},{"$f":"VLOOKUP('entries and results'!M234,$H$3:$K$30018,3,FALSE)","v":"M50"},{"$f":"VLOOKUP('entries and results'!M234,$H$3:$K$30018,4,FALSE)","v":"UA"},5901,"59:01",null,null,null,null,null,null,null,null,null,null,null,null,null,null,null,null,null,null,null,null,null,null,null,null,null,null,null,null,null,null,null,null,null,null,null,null,null,null,null,null,null,null,null,"59:01",232,5901,"0000005901","00","59","01"]
["SA01162","Garscube Harriers","1994-02-23","Gavyn Chalmers","SA01162","Under 17",null,233,"Elizabeth Fairbairn","F50","Ron's Runners",233,42,{"$f":"VLOOKUP('entries and results'!M235,$H$3:$K$30018,2,FALSE)","v":"Alan Hewitson"},{"$f":"VLOOKUP('entries and results'!M235,$H$3:$K$30018,3,FALSE)","v":"M40"},{"$f":"VLOOKUP('entries and results'!M235,$H$3:$K$30018,4,FALSE)","v":"UA"},5923,"59:23",null,null,null,null,null,null,null,null,null,null,null,null,null,null,null,null,null,null,null,null,null,null,null,null,null,null,null,null,null,null,null,null,null,null,null,null,null,null,null,null,null,null,null,"59:23",233,5923,"0000005923","00","59","23"]
["SA01169","VP-Glasgow AC","1990-04-01","Jamie Sinclair","SA01169","Senior",null,234,"Lindsay Taylor","F","UA",234,31,{"$f":"VLOOKUP('entries and results'!M236,$H$3:$K$30018,2,FALSE)","v":"Susan Chamberlain"},{"$f":"VLOOKUP('entries and results'!M236,$H$3:$K$30018,3,FALSE)","v":"F40"},{"$f":"VLOOKUP('entries and results'!M236,$H$3:$K$30018,4,FALSE)","v":"Monkton Milers"},5928,"59:28",null,null,null,null,null,null,null,null,null,null,null,null,null,null,null,null,null,null,null,null,null,null,null,null,null,null,null,null,null,null,null,null,null,null,null,null,null,null,null,null,null,null,null,"59:28",234,5928,"0000005928","00","59","28"]
["SA01173","Kilbarchan AAC","1994-01-23","Ross McGill","SA01173","Under 17","sda33150",235,"Robert Gilroy","M","Ronhill Cambuslang Harriers",235,26,{"$f":"VLOOKUP('entries and results'!M237,$H$3:$K$30018,2,FALSE)","v":"Karen Lees"},{"$f":"VLOOKUP('entries and results'!M237,$H$3:$K$30018,3,FALSE)","v":"F"},{"$f":"VLOOKUP('entries and results'!M237,$H$3:$K$30018,4,FALSE)","v":"UA"},5936,"59:36",null,null,null,null,null,null,null,null,null,null,null,null,null,null,null,null,null,null,null,null,null,null,null,null,null,null,null,null,null,null,null,null,null,null,null,null,null,null,null,null,null,null,null,"59:36",235,5936,"0000005936","00","59","36"]
["SA01174","Whitemoss AAC","1994-04-05","Fiona Thomson","SA01174","Under 17","sa30989",236,"David Boag","M40","Bellahouston Road Runners",236,11,{"$f":"VLOOKUP('entries and results'!M238,$H$3:$K$30018,2,FALSE)","v":"Kimberley Mackay"},{"$f":"VLOOKUP('entries and results'!M238,$H$3:$K$30018,3,FALSE)","v":"F"},{"$f":"VLOOKUP('entries and results'!M238,$H$3:$K$30018,4,FALSE)","v":"Irvine Running Club"},5940,"59:40",null,null,null,null,null,null,null,null,null,null,null,null,null,null,null,null,null,null,null,null,null,null,null,null,null,null,null,null,null,null,null,null,null,null,null,null,null,null,null,null,null,null,null,"59:40",236,5940,"0000005940","00","59","40"]
["SA01175","Aberdeen AAC","1994-07-08","Katie Bain","SA01175","Under 17","sa29793",237,"Fiona Comrie","F40","North Ayrshire AC",237,17,{"$f":"VLOOKUP('entries and results'!M239,$H$3:$K$30018,2,FALSE)","v":"Karen Hughes"},{"$f":"VLOOKUP('entries and results'!M239,$H$3:$K$30018,3,FALSE)","v":"F40"},{"$f":"VLOOKUP('entries and results'!M239,$H$3:$K$30018,4,FALSE)","v":"UA"},5947,"59:47",null,null,null,null,null,null,null,null,null,null,null,null,null,null,null,null,null,null,null,null,null,null,null,null,null,null,null,null,null,null,null,null,null,null,null,null,null,null,null,null,null,null,null,"59:47",237,5947,"0000005947","00","59","47"]
["SA01181","Banchory Stonehaven AC","1992-07-06","Megan Albon","SA01181","Senior","sa30974",238,"Laura McGregor","F","North Ayrshire AC",238,30,{"$f":"VLOOKUP('entries and results'!M240,$H$3:$K$30018,2,FALSE)","v":"Fiona McDonald"},{"$f":"VLOOKUP('entries and results'!M240,$H$3:$K$30018,3,FALSE)","v":"F40"},{"$f":"VLOOKUP('entries and results'!M240,$H$3:$K$30018,4,FALSE)","v":"Monkton Milers"},6002,"60:02",null,null,null,null,null,null,null,null,null,null,null,null,null,null,null,null,null,null,null,null,null,null,null,null,null,null,null,null,null,null,null,null,null,null,null,null,null,null,null,null,null,null,null,"60:02",238,6002,"0000006002","00","60","02"]
["SA01184","VP-Glasgow AC","1969-10-02","Elizabeth Normand","SA01184","Vet",null,239,"Jane Clarke","F","UA",239,155,{"$f":"VLOOKUP('entries and results'!M241,$H$3:$K$30018,2,FALSE)","v":"Victoria Lambart"},{"$f":"VLOOKUP('entries and results'!M241,$H$3:$K$30018,3,FALSE)","v":"F"},{"$f":"VLOOKUP('entries and results'!M241,$H$3:$K$30018,4,FALSE)","v":"UA"},6008,"60:08",null,null,null,null,null,null,null,null,null,null,null,null,null,null,null,null,null,null,null,null,null,null,null,null,null,null,null,null,null,null,null,null,null,null,null,null,null,null,null,null,null,null,null,"60:08",239,6008,"0000006008","00","60","08"]
["SA01185","Central AC","1993-10-11","Tom Watson","SA01185","Under 17",null,240,"Chris Lorimer","M","UA",240,233,{"$f":"VLOOKUP('entries and results'!M242,$H$3:$K$30018,2,FALSE)","v":"Elizabeth Fairbairn"},{"$f":"VLOOKUP('entries and results'!M242,$H$3:$K$30018,3,FALSE)","v":"F50"},{"$f":"VLOOKUP('entries and results'!M242,$H$3:$K$30018,4,FALSE)","v":"Ron's Runners"},6009,"60:09",null,null,null,null,null,null,null,null,null,null,null,null,null,null,null,null,null,null,null,null,null,null,null,null,null,null,null,null,null,null,null,null,null,null,null,null,null,null,null,null,null,null,null,"60:09",240,6009,"0000006009","00","60","09"]
["SA01188","Corby AC","1990-12-10","Lauren Boyd","SA01188","Senior","sa21005",241,"Elsie Downham","F","Bellahouston Road Runners",241,190,{"$f":"VLOOKUP('entries and results'!M243,$H$3:$K$30018,2,FALSE)","v":"Joanna Reid"},{"$f":"VLOOKUP('entries and results'!M243,$H$3:$K$30018,3,FALSE)","v":"F"},{"$f":"VLOOKUP('entries and results'!M243,$H$3:$K$30018,4,FALSE)","v":"UA"},6015,"60:15",null,null,null,null,null,null,null,null,null,null,null,null,null,null,null,null,null,null,null,null,null,null,null,null,null,null,null,null,null,null,null,null,null,null,null,null,null,null,null,null,null,null,null,"60:15",241,6015,"0000006015","00","60","15"]
["SA01196","Falkirk Victoria Harriers","1992-07-21","Karen Glover","SA01196","Senior",null,242,"James Hobson","M40","UA",242,246,{"$f":"VLOOKUP('entries and results'!M244,$H$3:$K$30018,2,FALSE)","v":"Alison Reid"},{"$f":"VLOOKUP('entries and results'!M244,$H$3:$K$30018,3,FALSE)","v":"F40"},{"$f":"VLOOKUP('entries and results'!M244,$H$3:$K$30018,4,FALSE)","v":"UA"},6039,"60:39",null,null,null,null,null,null,null,null,null,null,null,null,null,null,null,null,null,null,null,null,null,null,null,null,null,null,null,null,null,null,null,null,null,null,null,null,null,null,null,null,null,null,null,"60:39",242,6039,"0000006039","00","60","39"]
["SA01203","Kilbarchan AAC","1993-11-07","Elaine Eadie","SA01203","Under 17",null,243,"Gary Craig","M","UA",243,4,{"$f":"VLOOKUP('entries and results'!M245,$H$3:$K$30018,2,FALSE)","v":"Suzy Moorby"},{"$f":"VLOOKUP('entries and results'!M245,$H$3:$K$30018,3,FALSE)","v":"F40"},{"$f":"VLOOKUP('entries and results'!M245,$H$3:$K$30018,4,FALSE)","v":"Troon Tortoises AC"},6039,"60:39",null,null,null,null,null,null,null,null,null,null,null,null,null,null,null,null,null,null,null,null,null,null,null,null,null,null,null,null,null,null,null,null,null,null,null,null,null,null,null,null,null,null,null,"60:39",243,6039,"0000006039","00","60","39"]
["SA01206","Lasswade AAC","1996-06-04","Rachel Robertson","SA01206","Under 15",null,244,"Matthew Watson","M","Ron's Runners",244,154,{"$f":"VLOOKUP('entries and results'!M246,$H$3:$K$30018,2,FALSE)","v":"Ginny Bell"},{"$f":"VLOOKUP('entries and results'!M246,$H$3:$K$30018,3,FALSE)","v":"F40"},{"$f":"VLOOKUP('entries and results'!M246,$H$3:$K$30018,4,FALSE)","v":"UA"},6157,"61:57",null,null,null,null,null,null,null,null,null,null,null,null,null,null,null,null,null,null,null,null,null,null,null,null,null,null,null,null,null,null,null,null,null,null,null,null,null,null,null,null,null,null,null,"61:57",244,6157,"0000006157","00","61","57"]
["SA01208","Montrose & District AC","1994-09-07","Donavan Webster","SA01208","Under 17","sa08691",245,{"$f":"VLOOKUP('entries and results'!G247,$A$3:$E$30018,4,FALSE)","v":"John Surgenor"},"M50","Irvine Running Club",245,221,{"$f":"VLOOKUP('entries and results'!M247,$H$3:$K$30018,2,FALSE)","v":"Ann Hay"},{"$f":"VLOOKUP('entries and results'!M247,$H$3:$K$30018,3,FALSE)","v":"F60"},{"$f":"VLOOKUP('entries and results'!M247,$H$3:$K$30018,4,FALSE)","v":"Ron's Runners"},6204,"62:04",null,null,null,null,null,null,null,null,null,null,null,null,null,null,null,null,null,null,null,null,null,null,null,null,null,null,null,null,null,null,null,null,null,null,null,null,null,null,null,null,null,null,null,"62:04",245,6204,"0000006204","00","62","04"]
["SA01219","Giffnock North AAC","1992-08-25","Kristina Manson","SA01219","Senior",null,246,"Alison Reid","F40","UA",246,160,{"$f":"VLOOKUP('entries and results'!M248,$H$3:$K$30018,2,FALSE)","v":"Aimee Clydesdale"},{"$f":"VLOOKUP('entries and results'!M248,$H$3:$K$30018,3,FALSE)","v":"F"},{"$f":"VLOOKUP('entries and results'!M248,$H$3:$K$30018,4,FALSE)","v":"UA"},6206,"62:06",null,null,null,null,null,null,null,null,null,null,null,null,null,null,null,null,null,null,null,null,null,null,null,null,null,null,null,null,null,null,null,null,null,null,null,null,null,null,null,null,null,null,null,"62:06",246,6206,"0000006206","00","62","06"]
["SA01220","Arbroath & District AC","1990-08-31","Nicola Bell","SA01220","Senior","sa119176",247,"Ken Wales","M40","Kilmarnock H&AC",247,293,{"$f":"VLOOKUP('entries and results'!M249,$H$3:$K$30018,2,FALSE)","v":"Carrol Finlay"},{"$f":"VLOOKUP('entries and results'!M249,$H$3:$K$30018,3,FALSE)","v":"F50"},{"$f":"VLOOKUP('entries and results'!M249,$H$3:$K$30018,4,FALSE)","v":"Ron's Runners"},6214,"62:14",null,null,null,null,null,null,null,null,null,null,null,null,null,null,null,null,null,null,null,null,null,null,null,null,null,null,null,null,null,null,null,null,null,null,null,null,null,null,null,null,null,null,null,"62:14",247,6214,"0000006214","00","62","14"]
["SA01221","Unattached","1989-10-13","Kerry Steel","SA01221","Senior",null,248,"James Callender","M","Westerlands CC Club",248,141,{"$f":"VLOOKUP('entries and results'!M250,$H$3:$K$30018,2,FALSE)","v":"Lisa Phillips"},{"$f":"VLOOKUP('entries and results'!M250,$H$3:$K$30018,3,FALSE)","v":"F"},{"$f":"VLOOKUP('entries and results'!M250,$H$3:$K$30018,4,FALSE)","v":"UA"},6217,"62:17",null,null,null,null,null,null,null,null,null,null,null,null,null,null,null,null,null,null,null,null,null,null,null,null,null,null,null,null,null,null,null,null,null,null,null,null,null,null,null,null,null,null,null,"62:17",248,6217,"0000006217","00","62","17"]
["SA01226","Edinburgh AC","1991-09-25","Tom Ryan","SA01226","Senior",null,249,"Christine Halsall","F","UA",249,264,{"$f":"VLOOKUP('entries and results'!M251,$H$3:$K$30018,2,FALSE)","v":"Hannah O'Shea"},{"$f":"VLOOKUP('entries and results'!M251,$H$3:$K$30018,3,FALSE)","v":"F"},{"$f":"VLOOKUP('entries and results'!M251,$H$3:$K$30018,4,FALSE)","v":"UA"},6246,"62:46",null,null,null,null,null,null,null,null,null,null,null,null,null,null,null,null,null,null,null,null,null,null,null,null,null,null,null,null,null,null,null,null,null,null,null,null,null,null,null,null,null,null,null,"62:46",249,6246,"0000006246","00","62","46"]
["SA01230","Dundee Hawkhill Harriers","1994-05-20","Iona Brodie","SA01230","Under 17","sa07946",250,{"$f":"VLOOKUP('entries and results'!G252,$A$3:$E$30018,4,FALSE)","v":"Kerry Liam Wilson"},"M40","Ronhill Cambuslang Harriers",250,43,{"$f":"VLOOKUP('entries and results'!M252,$H$3:$K$30018,2,FALSE)","v":"Laura Russell"},{"$f":"VLOOKUP('entries and results'!M252,$H$3:$K$30018,3,FALSE)","v":"F40"},{"$f":"VLOOKUP('entries and results'!M252,$H$3:$K$30018,4,FALSE)","v":"UA"},6326,"63:26",null,null,null,null,null,null,null,null,null,null,null,null,null,null,null,null,null,null,null,null,null,null,null,null,null,null,null,null,null,null,null,null,null,null,null,null,null,null,null,null,null,null,null,"63:26",250,6326,"0000006326","00","63","26"]
["SA01236","Edinburgh AC","1992-04-18","Laurie McKenna","SA01236","Senior",null,251,"Shivaun O'Neill","F","Ron's Runners",251,41,{"$f":"VLOOKUP('entries and results'!M253,$H$3:$K$30018,2,FALSE)","v":"Fiona Hewitson"},{"$f":"VLOOKUP('entries and results'!M253,$H$3:$K$30018,3,FALSE)","v":"F40"},{"$f":"VLOOKUP('entries and results'!M253,$H$3:$K$30018,4,FALSE)","v":"UA"},6337,"63:37",null,null,null,null,null,null,null,null,null,null,null,null,null,null,null,null,null,null,null,null,null,null,null,null,null,null,null,null,null,null,null,null,null,null,null,null,null,null,null,null,null,null,null,"63:37",251,6337,"0000006337","00","63","37"]
["SA01238","Falkirk Victoria Harriers","1990-10-15","Rhianydd Parry","SA01238","Senior",null,252,"Alison Sutherland","F40","Ron's Runners",252,125,{"$f":"VLOOKUP('entries and results'!M254,$H$3:$K$30018,2,FALSE)","v":"Lynn Robertson"},{"$f":"VLOOKUP('entries and results'!M254,$H$3:$K$30018,3,FALSE)","v":"F40"},{"$f":"VLOOKUP('entries and results'!M254,$H$3:$K$30018,4,FALSE)","v":"UA"},6401,"64:01",null,null,null,null,null,null,null,null,null,null,null,null,null,null,null,null,null,null,null,null,null,null,null,null,null,null,null,null,null,null,null,null,null,null,null,null,null,null,null,null,null,null,null,"64:01",252,6401,"0000006401","00","64","01"]
["SA01239","Giffnock North AAC","1991-02-05","Caroline Adams","SA01239","Senior",null,253,"Scott Watson","M40","Ron's Runners",253,157,{"$f":"VLOOKUP('entries and results'!M255,$H$3:$K$30018,2,FALSE)","v":"Helen French"},{"$f":"VLOOKUP('entries and results'!M255,$H$3:$K$30018,3,FALSE)","v":"F50"},{"$f":"VLOOKUP('entries and results'!M255,$H$3:$K$30018,4,FALSE)","v":"UA"},6458,"64:58",null,null,null,null,null,null,null,null,null,null,null,null,null,null,null,null,null,null,null,null,null,null,null,null,null,null,null,null,null,null,null,null,null,null,null,null,null,null,null,null,null,null,null,"64:58",253,6458,"0000006458","00","64","58"]
["SA01244","Giffnock North AAC","1993-06-07","Helena Brown","SA01244","Senior",null,254,"David Mackie","M40","Ron's Runners",254,21,{"$f":"VLOOKUP('entries and results'!M256,$H$3:$K$30018,2,FALSE)","v":"Janice Millar"},{"$f":"VLOOKUP('entries and results'!M256,$H$3:$K$30018,3,FALSE)","v":"F50"},{"$f":"VLOOKUP('entries and results'!M256,$H$3:$K$30018,4,FALSE)","v":"Kilmarnock H&AC"},6527,"65:27",null,null,null,null,null,null,null,null,null,null,null,null,null,null,null,null,null,null,null,null,null,null,null,null,null,null,null,null,null,null,null,null,null,null,null,null,null,null,null,null,null,null,null,"65:27",254,6527,"0000006527","00","65","27"]
["SA01245","Giffnock North AAC","1989-03-22","Jennifer Conway","SA01245","Senior",null,255,"Fraser Mackie","MU20","Irvine Running Club",255,139,{"$f":"VLOOKUP('entries and results'!M257,$H$3:$K$30018,2,FALSE)","v":"Yvonne Gallacher"},{"$f":"VLOOKUP('entries and results'!M257,$H$3:$K$30018,3,FALSE)","v":"F40"},{"$f":"VLOOKUP('entries and results'!M257,$H$3:$K$30018,4,FALSE)","v":"Irvine Running Club"},6727,"67:27",null,null,null,null,null,null,null,null,null,null,null,null,null,null,null,null,null,null,null,null,null,null,null,null,null,null,null,null,null,null,null,null,null,null,null,null,null,null,null,null,null,null,null,"67:27",255,6727,"0000006727","00","67","27"]
["SA01247","Giffnock North AAC","1992-09-22","Emma Dowd","SA01247","Senior",null,256,"Thomas Turner","M","UA",256,172,{"$f":"VLOOKUP('entries and results'!M258,$H$3:$K$30018,2,FALSE)","v":"Lorraine Dobbs"},{"$f":"VLOOKUP('entries and results'!M258,$H$3:$K$30018,3,FALSE)","v":"F40"},{"$f":"VLOOKUP('entries and results'!M258,$H$3:$K$30018,4,FALSE)","v":"Irvine Running Club"},6728,"67:28",null,null,null,null,null,null,null,null,null,null,null,null,null,null,null,null,null,null,null,null,null,null,null,null,null,null,null,null,null,null,null,null,null,null,null,null,null,null,null,null,null,null,null,"67:28",256,6728,"0000006728","00","67","28"]
["SA01249","Giffnock North AAC","1994-07-03","James Gray","SA01249","Under 17",null,257,"Melissa Donald","M50","UA",257,151,{"$f":"VLOOKUP('entries and results'!M259,$H$3:$K$30018,2,FALSE)","v":"Kristy Wise"},{"$f":"VLOOKUP('entries and results'!M259,$H$3:$K$30018,3,FALSE)","v":"F"},{"$f":"VLOOKUP('entries and results'!M259,$H$3:$K$30018,4,FALSE)","v":"UA"},6743,"67:43",null,null,null,null,null,null,null,null,null,null,null,null,null,null,null,null,null,null,null,null,null,null,null,null,null,null,null,null,null,null,null,null,null,null,null,null,null,null,null,null,null,null,null,"67:43",257,{"$f":"SUMIF($H$3:$H$601,$BK259,$Q$3:$Q$601)","v":6743},"0000006743","00","67","43"]
["SA01252","Giffnock North AAC","1995-03-04","Lauren Lambie","SA01252","Under 17",null,258,"Caroline Mutch","F40","Troon Tortoises AC",258,23,{"$f":"VLOOKUP('entries and results'!M260,$H$3:$K$30018,2,FALSE)","v":"Andrew Crichton"},{"$f":"VLOOKUP('entries and results'!M260,$H$3:$K$30018,3,FALSE)","v":"M"},{"$f":"VLOOKUP('entries and results'!M260,$H$3:$K$30018,4,FALSE)","v":"Ayr Seaforth AAC"},6743,{"$f":"IF($H260=\"\",\" \",(LOOKUP($H260,$BK$3:$BK$1601,$BJ$3:$BJ$1601)))","v":"67:43"},null,null,null,null,null,null,null,null,null,null,null,null,null,null,null,null,null,null,null,null,null,null,null,null,null,null,null,null,null,null,null,null,null,null,null,null,null,null,null,null,null,null,null,{"$f":"CONCATENATE(BO260,\":\",BP260)","v":"67:43"},258,6743,{"$f":"CONCATENATE($BG$2,$BL260)","v":"0000006743"},{"$f":"MID(RIGHT($BM260,6),1,2)","v":"00"},{"$f":"MID(RIGHT($BM260,6),3,2)","v":"67"},{"$f":"MID(RIGHT($BM260,6),5,2)","v":"43"}]
["SA01254","Giffnock North AAC","1991-01-10","Nicole McLeod","SA01254","Senior",null,259,"David Gibson","M40","UA",259,79,{"$f":"VLOOKUP('entries and results'!M261,$H$3:$K$30018,2,FALSE)","v":"Heather Murray"},{"$f":"VLOOKUP('entries and results'!M261,$H$3:$K$30018,3,FALSE)","v":"F40"},{"$f":"VLOOKUP('entries and results'!M261,$H$3:$K$30018,4,FALSE)","v":"UA"},6802,"68:02",null,null,null,null,null,null,null,null,null,null,null,null,null,null,null,null,null,null,null,null,null,null,null,null,null,null,null,null,null,null,null,null,null,null,null,null,null,null,null,null,null,null,null,"68:02",259,6802,"0000006802","00","68","02"]
["SA01260","Giffnock North AAC","1992-09-25","Ruth Wallace","SA01260","Senior",null,260,"Anita Mackie","F40","Ron's Runners",260,149,{"$f":"VLOOKUP('entries and results'!M262,$H$3:$K$30018,2,FALSE)","v":"Moira McDowell"},{"$f":"VLOOKUP('entries and results'!M262,$H$3:$K$30018,3,FALSE)","v":"F40"},{"$f":"VLOOKUP('entries and results'!M262,$H$3:$K$30018,4,FALSE)","v":"UA"},6831,"68:31",null,null,null,null,null,null,null,null,null,null,null,null,null,null,null,null,null,null,null,null,null,null,null,null,null,null,null,null,null,null,null,null,null,null,null,null,null,null,null,null,null,null,null,"68:31",260,6831,"0000006831","00","68","31"]
["SA01272","Lasswade AAC","1992-10-25","Greg Louden","SA01272","Senior",null,261,"Colin Knox","M40","Wee Grumpy Runners",261,181,{"$f":"VLOOKUP('entries and results'!M263,$H$3:$K$30018,2,FALSE)","v":"Dave Cossar"},{"$f":"VLOOKUP('entries and results'!M263,$H$3:$K$30018,3,FALSE)","v":"M60"},{"$f":"VLOOKUP('entries and results'!M263,$H$3:$K$30018,4,FALSE)","v":"UA"},6916,"69:16",null,null,null,null,null,null,null,null,null,null,null,null,null,null,null,null,null,null,null,null,null,null,null,null,null,null,null,null,null,null,null,null,null,null,null,null,null,null,null,null,null,null,null,"69:16",261,6916,"0000006916","00","69","16"]
["SA01278","Arbroath & District AC","1990-07-14","Paula Murray","SA01278","Senior",null,262,"David Crawford","M","UA",262,68,{"$f":"VLOOKUP('entries and results'!M264,$H$3:$K$30018,2,FALSE)","v":"Marian Harris"},{"$f":"VLOOKUP('entries and results'!M264,$H$3:$K$30018,3,FALSE)","v":"F50"},{"$f":"VLOOKUP('entries and results'!M264,$H$3:$K$30018,4,FALSE)","v":"Jog Scotland"},7019,"70:19",null,null,null,null,null,null,null,null,null,null,null,null,null,null,null,null,null,null,null,null,null,null,null,null,null,null,null,null,null,null,null,null,null,null,null,null,null,null,null,null,null,null,null,"70:19",262,7019,"0000007019","00","70","19"]
["SA01279","Moray Road Runners","1989-05-20","Ian Garioch","SA01279","Senior",null,263,"Kenny Weir","M60","UA",263,153,{"$f":"VLOOKUP('entries and results'!M265,$H$3:$K$30018,2,FALSE)","v":"Christine Herman"},{"$f":"VLOOKUP('entries and results'!M265,$H$3:$K$30018,3,FALSE)","v":"F40"},{"$f":"VLOOKUP('entries and results'!M265,$H$3:$K$30018,4,FALSE)","v":"Irvine Running Club"},7210,"72:10",null,null,null,null,null,null,null,null,null,null,null,null,null,null,null,null,null,null,null,null,null,null,null,null,null,null,null,null,null,null,null,null,null,null,null,null,null,null,null,null,null,null,null,"72:10",263,7210,"0000007210","00","72","10"]
["SA01284","Pitreavie AAC","1995-04-14","Naomi Fox","SA01284","Under 17",null,264,"Hannah O'Shea","F","UA",264,249,{"$f":"VLOOKUP('entries and results'!M266,$H$3:$K$30018,2,FALSE)","v":"Christine Halsall"},{"$f":"VLOOKUP('entries and results'!M266,$H$3:$K$30018,3,FALSE)","v":"F"},{"$f":"VLOOKUP('entries and results'!M266,$H$3:$K$30018,4,FALSE)","v":"UA"},"DNF","00:00",null,null,null,null,null,null,null,null,null,null,null,null,null,null,null,null,null,null,null,null,null,null,null,null,null,null,null,null,null,null,null,null,null,null,null,null,null,null,null,null,null,null,null,"00:00",264,0,"0000000","00","00","00"]
["SA01285","Pitreavie AAC","1992-07-31","Natalie Fox","SA01285","Senior",null,265,"Pamela Porteous","F40","UA",265,5,{"$f":"VLOOKUP('entries and results'!M267,$H$3:$K$30018,2,FALSE)","v":"Stuart Cooper"},{"$f":"VLOOKUP('entries and results'!M267,$H$3:$K$30018,3,FALSE)","v":"M"},{"$f":"VLOOKUP('entries and results'!M267,$H$3:$K$30018,4,FALSE)","v":"UA"}," ","00:00",null,null,null,null,null,null,null,null,null,null,null,null,null,null,null,null,null,null,null,null,null,null,null,null,null,null,null,null,null,null,null,null,null,null,null,null,null,null,null,null,null,null,null,"00:00",265,0,"0000000","00","00","00"]
["SA01292","Shettleston Harriers","1991-01-31","Ruairidh Munro","SA01292","Senior",null,266,"Noel Ireland","M","UA",266,8,"Terry Wright","M60","UA"," ","00:00",null,null,null,null,null,null,null,null,null,null,null,null,null,null,null,null,null,null,null,null,null,null,null,null,null,null,null,null,null,null,null,null,null,null,null,null,null,null,null,null,null,null,null,"00:00",266,0,"0000000","00","00","00"]
["SA01294","VP-Glasgow AC","1991-04-20","Lorn Menzies","SA01294","Senior",null,267,"Martin McCrorie","M40","Ayr Seaforth AAC",267,10,"Matthew Cameron","M","Ayr Seaforth AAC"," ","00:00",null,null,null,null,null,null,null,null,null,null,null,null,null,null,null,null,null,null,null,null,null,null,null,null,null,null,null,null,null,null,null,null,null,null,null,null,null,null,null,null,null,null,null,"00:00",267,0,"0000000","00","00","00"]
["SA01317","Giffnock North AAC","1990-02-09","Ross McLearie","SA01317","Senior",null,268,"Stuart McLean","M40","UA",268,18,"Luke Chamberlain","M40","Giffnock North AAC"," ","00:00",null,null,null,null,null,null,null,null,null,null,null,null,null,null,null,null,null,null,null,null,null,null,null,null,null,null,null,null,null,null,null,null,null,null,null,null,null,null,null,null,null,null,null,"00:00",268,0,"0000000","00","00","00"]
["SA01325","Nairn Area AAC","1992-10-12","Kerri Cameron","SA01325","Senior",null,269,"John Taylor","M40","UA",269,19,"Ruth Barclay-Paterson","F","UA"," ","00:00",null,null,null,null,null,null,null,null,null,null,null,null,null,null,null,null,null,null,null,null,null,null,null,null,null,null,null,null,null,null,null,null,null,null,null,null,null,null,null,null,null,null,null,"00:00",269,0,"0000000","00","00","00"]
["SA01332","VP-Glasgow AC","1989-09-16","Niall Murray","SA01332","Senior",".",270,"Stuart McColm","M40","UA",270,24,"Tracy Kerr","F40","Kilmarnock H&AC"," ","00:00",null,null,null,null,null,null,null,null,null,null,null,null,null,null,null,null,null,null,null,null,null,null,null,null,null,null,null,null,null,null,null,null,null,null,null,null,null,null,null,null,null,null,null,"00:00",270,0,"0000000","00","00","00"]
["SA01335","Airdrie Harriers","1990-03-03","Claire Boyd","SA01335","Senior","sa25010",271,"Graham McCabe","M40","Kirkintilloch Olympians",271,25,"Andy McNaughton","F40","Ron's Runners"," ","00:00",null,null,null,null,null,null,null,null,null,null,null,null,null,null,null,null,null,null,null,null,null,null,null,null,null,null,null,null,null,null,null,null,null,null,null,null,null,null,null,null,null,null,null,"00:00",271,0,"0000000","00","00","00"]
["SA01336","Airdrie Harriers","1992-09-30","Stephanie Boyd","SA01336","Senior",".",272,"Moira Connell","F50","Troon Tortoises AC",272,29,"Jacqui Sandler","F40","Kilmarnock H&AC"," ","00:00",null,null,null,null,null,null,null,null,null,null,null,null,null,null,null,null,null,null,null,null,null,null,null,null,null,null,null,null,null,null,null,null,null,null,null,null,null,null,null,null,null,null,null,"00:00",272,0,"0000000","00","00","00"]
["SA01344","Arbroath & District AC","1989-09-23","Sarah Connolly","SA01344","Senior",".",273,"Alan Anderson","M50","Kilmarnock H&AC",273,32,"Claire McNicol","F40","UA"," ","00:00",null,null,null,null,null,null,null,null,null,null,null,null,null,null,null,null,null,null,null,null,null,null,null,null,null,null,null,null,null,null,null,null,null,null,null,null,null,null,null,null,null,null,null,"00:00",273,0,"0000000","00","00","00"]
["SA01345","Ayr Seaforth AAC","1989-08-09","Elaine Montgomerie","SA01345","Senior",".",274,"John Rennie","M50","UA",274,34,"Alan Strange","M40","UA"," ","00:00",null,null,null,null,null,null,null,null,null,null,null,null,null,null,null,null,null,null,null,null,null,null,null,null,null,null,null,null,null,null,null,null,null,null,null,null,null,null,null,null,null,null,null,"00:00",274,0,"0000000","00","00","00"]
["SA01347","Banchory Stonehaven AC","1991-11-14","Robbie Simpson","SA01347","Senior",".",275,"Elaine Rennie","F40","UA",275,37,"Amanda Lindsay","F40","Ron's Runners"," ","00:00",null,null,null,null,null,null,null,null,null,null,null,null,null,null,null,null,null,null,null,null,null,null,null,null,null,null,null,null,null,null,null,null,null,null,null,null,null,null,null,null,null,null,null,"00:00",275,0,"0000000","00","00","00"]
["SA01348","Blackheath","1989-07-27","Scott Huggins","SA01348","Senior",".",276,"Colin Whitby","M","Irvine Running Club",276,45,"Sandra Hunter","F50","Ron's Runners"," ","00:00",null,null,null,null,null,null,null,null,null,null,null,null,null,null,null,null,null,null,null,null,null,null,null,null,null,null,null,null,null,null,null,null,null,null,null,null,null,null,null,null,null,null,null,"00:00",276,0,"0000000","00","00","00"]
["SA01354","Clydesdale Harriers","1991-02-10","Johnathon Farrell","SA01354","Senior",".",277,"Alana Montgomery","F40","KA Leisure",277,62,"Catherine Elliot","F50","UA"," ","00:00",null,null,null,null,null,null,null,null,null,null,null,null,null,null,null,null,null,null,null,null,null,null,null,null,null,null,null,null,null,null,null,null,null,null,null,null,null,null,null,null,null,null,null,"00:00",277,0,"0000000","00","00","00"]
["SA01357","Corstorphine AAC","1991-12-18","Hamish Hepburn","SA01357","Senior",".",278,"Anne Cunningham","F40","KA Leisure",278,64,"Maureen Andrews","F50","Ron's Runners"," ","00:00",null,null,null,null,null,null,null,null,null,null,null,null,null,null,null,null,null,null,null,null,null,null,null,null,null,null,null,null,null,null,null,null,null,null,null,null,null,null,null,null,null,null,null,"00:00",278,0,"0000000","00","00","00"]
["SA01360","Dundee Hawkhill Harriers","1989-03-24","Robert Mitchell","SA01360","Senior",".",279,"Ross McClymont","M40","Troon Tortoises AC",279,71,"Ewan McKerracher","M","Glasgow Triathlon Club"," ","00:00",null,null,null,null,null,null,null,null,null,null,null,null,null,null,null,null,null,null,null,null,null,null,null,null,null,null,null,null,null,null,null,null,null,null,null,null,null,null,null,null,null,null,null,"00:00",279,0,"0000000","00","00","00"]
["SA01375","Moorfoot Runners","1993-08-26","Faye Nicholson","SA01375","Senior",".",280,"Rhona O'Neill","F","Kilmarnock H&AC",280,73,"Judith MacGregor","F","Bellahouston Road Runners"," ","00:00",null,null,null,null,null,null,null,null,null,null,null,null,null,null,null,null,null,null,null,null,null,null,null,null,null,null,null,null,null,null,null,null,null,null,null,null,null,null,null,null,null,null,null,"00:00",280,0,"0000000","00","00","00"]
["SA01383","Kilbarchan AAC","1990-09-06","Cameron Clark","SA01383","Senior",".",281,"Stephanie Dale","F","Kilmarnock H&AC",281,74,"Derek Cuthbertson","M40","UA"," ","00:00",null,null,null,null,null,null,null,null,null,null,null,null,null,null,null,null,null,null,null,null,null,null,null,null,null,null,null,null,null,null,null,null,null,null,null,null,null,null,null,null,null,null,null,"00:00",281,0,"0000000","00","00","00"]
["SA01386","VP-Glasgow AC","1994-04-13","Deborah Hannah","SA01386","Under 17","sa7879",282,"Ian McNee","M50","Troon Tortoises AC",282,82,"Nina Vaswani","F","UA"," ","00:00",null,null,null,null,null,null,null,null,null,null,null,null,null,null,null,null,null,null,null,null,null,null,null,null,null,null,null,null,null,null,null,null,null,null,null,null,null,null,null,null,null,null,null,"00:00",282,0,"0000000","00","00","00"]
["SA01388","Edinburgh AC","1993-09-13","Cameron Goodall","SA01388","Under 17",".",283,"Paul Deas","M","Troon Tortoises AC",283,84,"Kevin McWhirter","M","UA"," ","00:00",null,null,null,null,null,null,null,null,null,null,null,null,null,null,null,null,null,null,null,null,null,null,null,null,null,null,null,null,null,null,null,null,null,null,null,null,null,null,null,null,null,null,null,"00:00",283,0,"0000000","00","00","00"]
["SA01389","Law & District AAC","1992-05-17","Alan Robb","SA01389","Senior",".",284,"David Lightbody","M50","UA",284,96,"Erin Fletcher-Burns","F","UA"," ","00:00",null,null,null,null,null,null,null,null,null,null,null,null,null,null,null,null,null,null,null,null,null,null,null,null,null,null,null,null,null,null,null,null,null,null,null,null,null,null,null,null,null,null,null,"00:00",284,0,"0000000","00","00","00"]
["SA01394","Moray Road Runners","1988-04-04","Colin McRae","SA01394","Senior",".",285,"Nellie McQuillan","F40","Ayr Seaforth AAC",285,100,"George Rooney","M40","UA"," ","00:00",null,null,null,null,null,null,null,null,null,null,null,null,null,null,null,null,null,null,null,null,null,null,null,null,null,null,null,null,null,null,null,null,null,null,null,null,null,null,null,null,null,null,null,"00:00",285,0,"0000000","00","00","00"]
["SA01395","Motherwell AC","1990-08-04","Christopher McCrum","SA01395","Senior","sa28706",286,"Janice McKellar","F50","Ayr Seaforth AAC",286,101,"James McGill","M40","UA"," ","00:00",null,null,null,null,null,null,null,null,null,null,null,null,null,null,null,null,null,null,null,null,null,null,null,null,null,null,null,null,null,null,null,null,null,null,null,null,null,null,null,null,null,null,null,"00:00",286,0,"0000000","00","00","00"]
["SA01396","Motherwell AC","1994-07-04","David McCrum","SA01396","Under 17","sa29647",287,"Robert Lindsay","M40","Kilmarnock H&AC",287,106,"Mark Alexander","M","Kilmarnock H&AC"," ","00:00",null,null,null,null,null,null,null,null,null,null,null,null,null,null,null,null,null,null,null,null,null,null,null,null,null,null,null,null,null,null,null,null,null,null,null,null,null,null,null,null,null,null,null,"00:00",287,0,"0000000","00","00","00"]
["SA01403","Pitreavie AAC","1989-04-28","Lucy Crookston","SA01403","Senior","sa32365",288,"Aimi Barker","F40","Ayr Seaforth AAC",288,117,"John Brown","M40","Keen Amateurs"," ","00:00",null,null,null,null,null,null,null,null,null,null,null,null,null,null,null,null,null,null,null,null,null,null,null,null,null,null,null,null,null,null,null,null,null,null,null,null,null,null,null,null,null,null,null,"00:00",288,0,"0000000","00","00","00"]
["SA01404","Edinburgh AC","1994-01-21","Rebecca Law","SA01404","Under 17",33751419,289,"Colin McEwan","M","St Bees Tolies",289,137,"Angela McDill","F","UA"," ","00:00",null,null,null,null,null,null,null,null,null,null,null,null,null,null,null,null,null,null,null,null,null,null,null,null,null,null,null,null,null,null,null,null,null,null,null,null,null,null,null,null,null,null,null,"00:00",289,0,"0000000","00","00","00"]
["SA01405","VP-Glasgow AC","1989-12-17","Christopher Bennett","SA01405","Senior",".",290,"Charlie Tymon","M","UA",290,144,"Stuart Munro","M","Ayr Seaforth AAC"," ","00:00",null,null,null,null,null,null,null,null,null,null,null,null,null,null,null,null,null,null,null,null,null,null,null,null,null,null,null,null,null,null,null,null,null,null,null,null,null,null,null,null,null,null,null,"00:00",290,0,"0000000","00","00","00"]
["SA01419","Falkirk Victoria Harriers","1993-12-11","Sarah Hamilton","SA01419","Under 17","sa27171",291,"David Ruthven","M50","Troon Tortoises AC",291,196,"Craig McPike","M","Ayr Seaforth AAC"," ","00:00",null,null,null,null,null,null,null,null,null,null,null,null,null,null,null,null,null,null,null,null,null,null,null,null,null,null,null,null,null,null,null,null,null,null,null,null,null,null,null,null,null,null,null,"00:00",291,0,"0000000","00","00","00"]
["SA01422","Stornoway Running & AC","1989-03-27","Andrew MacKenzie","SA01422","Senior",".",292,"Neill Russell","M40","UA",292,212,"Ross Hunter","M","UA"," ","00:00",null,null,null,null,null,null,null,null,null,null,null,null,null,null,null,null,null,null,null,null,null,null,null,null,null,null,null,null,null,null,null,null,null,null,null,null,null,null,null,null,null,null,null,"00:00",292,0,"0000000","00","00","00"]
["SA01429","Airdrie Harriers","1993-06-09","Samantha Donnelly","SA01429","Senior",".",293,"Carrol Finlay","F50","Ron's Runners",293,6,{"$f":"VLOOKUP('entries and results'!M295,$H$3:$K$30018,2,FALSE)","v":"David Locke"},{"$f":"VLOOKUP('entries and results'!M295,$H$3:$K$30018,3,FALSE)","v":"M50"},{"$f":"VLOOKUP('entries and results'!M295,$H$3:$K$30018,4,FALSE)","v":"UA"}," ","00:00",null,null,null,null,null,null,null,null,null,null,null,null,null,null,null,null,null,null,null,null,null,null,null,null,null,null,null,null,null,null,null,null,null,null,null,null,null,null,null,null,null,null,null,"00:00",293,0,"0000000","00","00","00"]
["SA01433","Arbroath & District AC","1993-03-24","Christine McLoughlin","SA01433","Senior",".",294,"Scott Brown","M","Irvine Running Club",294,206,{"$f":"VLOOKUP('entries and results'!M296,$H$3:$K$30018,2,FALSE)","v":"Barry Sturgeon"},{"$f":"VLOOKUP('entries and results'!M296,$H$3:$K$30018,3,FALSE)","v":"M"},{"$f":"VLOOKUP('entries and results'!M296,$H$3:$K$30018,4,FALSE)","v":"UA"}," ","00:00",null,null,null,null,null,null,null,null,null,null,null,null,null,null,null,null,null,null,null,null,null,null,null,null,null,null,null,null,null,null,null,null,null,null,null,null,null,null,null,null,null,null,null,"00:00",294,0,"0000000","00","00","00"]
["SA01434","Ayr Seaforth AAC","1994-06-18","Lauren Goldie","SA01434","Under 17",".",295,{"$f":"VLOOKUP('entries and results'!G297,$A$3:$E$30018,4,FALSE)","v":" "},{"$f":"VLOOKUP('entries and results'!G297,$A$3:$F$30018,6,FALSE)","v":" "},{"$f":"VLOOKUP('entries and results'!G297,$A$3:$E$30018,2,FALSE)","v":" "},295,".",{"$f":"VLOOKUP('entries and results'!M297,$H$3:$K$30018,2,FALSE)","v":" "},{"$f":"VLOOKUP('entries and results'!M297,$H$3:$K$30018,3,FALSE)","v":" "},{"$f":"VLOOKUP('entries and results'!M297,$H$3:$K$30018,4,FALSE)","v":" "}," ","00:00",null,null,null,null,null,null,null,null,null,null,null,null,null,null,null,null,null,null,null,null,null,null,null,null,null,null,null,null,null,null,null,null,null,null,null,null,null,null,null,null,null,null,null,"00:00",295,0,"0000000","00","00","00"]
["SA01435","Central AC","1993-11-24","Roddy Irvine","SA01435","Under 17",".",296,{"$f":"VLOOKUP('entries and results'!G298,$A$3:$E$30018,4,FALSE)","v":" "},{"$f":"VLOOKUP('entries and results'!G298,$A$3:$F$30018,6,FALSE)","v":" "},{"$f":"VLOOKUP('entries and results'!G298,$A$3:$E$30018,2,FALSE)","v":" "},296,".",{"$f":"VLOOKUP('entries and results'!M298,$H$3:$K$30018,2,FALSE)","v":" "},{"$f":"VLOOKUP('entries and results'!M298,$H$3:$K$30018,3,FALSE)","v":" "},{"$f":"VLOOKUP('entries and results'!M298,$H$3:$K$30018,4,FALSE)","v":" "}," ","00:00",null,null,null,null,null,null,null,null,null,null,null,null,null,null,null,null,null,null,null,null,null,null,null,null,null,null,null,null,null,null,null,null,null,null,null,null,null,null,null,null,null,null,null,"00:00",296,0,"0000000","00","00","00"]
["SA01440","Corstorphine AAC","1994-06-26","Callum Smith","SA01440","Under 17",".",297,{"$f":"VLOOKUP('entries and results'!G299,$A$3:$E$30018,4,FALSE)","v":" "},{"$f":"VLOOKUP('entries and results'!G299,$A$3:$F$30018,6,FALSE)","v":" "},{"$f":"VLOOKUP('entries and results'!G299,$A$3:$E$30018,2,FALSE)","v":" "},297,".",{"$f":"VLOOKUP('entries and results'!M299,$H$3:$K$30018,2,FALSE)","v":" "},{"$f":"VLOOKUP('entries and results'!M299,$H$3:$K$30018,3,FALSE)","v":" "},{"$f":"VLOOKUP('entries and results'!M299,$H$3:$K$30018,4,FALSE)","v":" "}," ","00:00",null,null,null,null,null,null,null,null,null,null,null,null,null,null,null,null,null,null,null,null,null,null,null,null,null,null,null,null,null,null,null,null,null,null,null,null,null,null,null,null,null,null,null,"00:00",297,0,"0000000","00","00","00"]
["SA01446","Edinburgh AC","1991-10-16","Laura Goodson","SA01446","Senior",".",298,{"$f":"VLOOKUP('entries and results'!G300,$A$3:$E$30018,4,FALSE)","v":" "},{"$f":"VLOOKUP('entries and results'!G300,$A$3:$F$30018,6,FALSE)","v":" "},{"$f":"VLOOKUP('entries and results'!G300,$A$3:$E$30018,2,FALSE)","v":" "},298,".",{"$f":"VLOOKUP('entries and results'!M300,$H$3:$K$30018,2,FALSE)","v":" "},{"$f":"VLOOKUP('entries and results'!M300,$H$3:$K$30018,3,FALSE)","v":" "},{"$f":"VLOOKUP('entries and results'!M300,$H$3:$K$30018,4,FALSE)","v":" "}," ","00:00",null,null,null,null,null,null,null,null,null,null,null,null,null,null,null,null,null,null,null,null,null,null,null,null,null,null,null,null,null,null,null,null,null,null,null,null,null,null,null,null,null,null,null,"00:00",298,0,"0000000","00","00","00"]
["SA01448","Falkirk Victoria Harriers","1992-06-21","Lewis Grant","SA01448","Senior",".",299,{"$f":"VLOOKUP('entries and results'!G301,$A$3:$E$30018,4,FALSE)","v":" "},{"$f":"VLOOKUP('entries and results'!G301,$A$3:$F$30018,6,FALSE)","v":" "},{"$f":"VLOOKUP('entries and results'!G301,$A$3:$E$30018,2,FALSE)","v":" "},299,".",{"$f":"VLOOKUP('entries and results'!M301,$H$3:$K$30018,2,FALSE)","v":" "},{"$f":"VLOOKUP('entries and results'!M301,$H$3:$K$30018,3,FALSE)","v":" "},{"$f":"VLOOKUP('entries and results'!M301,$H$3:$K$30018,4,FALSE)","v":" "}," ","00:00",null,null,null,null,null,null,null,null,null,null,null,null,null,null,null,null,null,null,null,null,null,null,null,null,null,null,null,null,null,null,null,null,null,null,null,null,null,null,null,null,null,null,null,"00:00",299,0,"0000000","00","00","00"]
["SA01449","Falkirk Victoria Harriers","1994-08-19","Abby Kemp","SA01449","Under 17",".",300,{"$f":"VLOOKUP('entries and results'!G302,$A$3:$E$30018,4,FALSE)","v":" "},{"$f":"VLOOKUP('entries and results'!G302,$A$3:$F$30018,6,FALSE)","v":" "},{"$f":"VLOOKUP('entries and results'!G302,$A$3:$E$30018,2,FALSE)","v":" "},300,".",{"$f":"VLOOKUP('entries and results'!M302,$H$3:$K$30018,2,FALSE)","v":" "},{"$f":"VLOOKUP('entries and results'!M302,$H$3:$K$30018,3,FALSE)","v":" "},{"$f":"VLOOKUP('entries and results'!M302,$H$3:$K$30018,4,FALSE)","v":" "}," ","00:00",null,null,null,null,null,null,null,null,null,null,null,null,null,null,null,null,null,null,null,null,null,null,null,null,null,null,null,null,null,null,null,null,null,null,null,null,null,null,null,null,null,null,null,"00:00",300,0,"0000000","00","00","00"]
["SA01456","Kilmarnock H&AC","1994-11-01","Evan Cornforth","SA01456","Under 17",".",301,{"$f":"VLOOKUP('entries and results'!G303,$A$3:$E$30018,4,FALSE)","v":" "},{"$f":"VLOOKUP('entries and results'!G303,$A$3:$F$30018,6,FALSE)","v":" "},{"$f":"VLOOKUP('entries and results'!G303,$A$3:$E$30018,2,FALSE)","v":" "},301,".",{"$f":"VLOOKUP('entries and results'!M303,$H$3:$K$30018,2,FALSE)","v":" "},{"$f":"VLOOKUP('entries and results'!M303,$H$3:$K$30018,3,FALSE)","v":" "},{"$f":"VLOOKUP('entries and results'!M303,$H$3:$K$30018,4,FALSE)","v":" "}," ","00:00",null,null,null,null,null,null,null,null,null,null,null,null,null,null,null,null,null,null,null,null,null,null,null,null,null,null,null,null,null,null,null,null,null,null,null,null,null,null,null,null,null,null,null,"00:00",301,0,"0000000","00","00","00"]
["SA01457","Ayr Seaforth AAC","1992-10-10","Sarah McNish","SA01457","Senior",".",302,{"$f":"VLOOKUP('entries and results'!G304,$A$3:$E$30018,4,FALSE)","v":" "},{"$f":"VLOOKUP('entries and results'!G304,$A$3:$F$30018,6,FALSE)","v":" "},{"$f":"VLOOKUP('entries and results'!G304,$A$3:$E$30018,2,FALSE)","v":" "},302,".",{"$f":"VLOOKUP('entries and results'!M304,$H$3:$K$30018,2,FALSE)","v":" "},{"$f":"VLOOKUP('entries and results'!M304,$H$3:$K$30018,3,FALSE)","v":" "},{"$f":"VLOOKUP('entries and results'!M304,$H$3:$K$30018,4,FALSE)","v":" "}," ","00:00",null,null,null,null,null,null,null,null,null,null,null,null,null,null,null,null,null,null,null,null,null,null,null,null,null,null,null,null,null,null,null,null,null,null,null,null,null,null,null,null,null,null,null,"00:00",302,0,"0000000","00","00","00"]
["SA01458","Kilbarchan AAC","1990-06-22","Paul Leck","SA01458","Senior",".",303,{"$f":"VLOOKUP('entries and results'!G305,$A$3:$E$30018,4,FALSE)","v":" "},{"$f":"VLOOKUP('entries and results'!G305,$A$3:$F$30018,6,FALSE)","v":" "},{"$f":"VLOOKUP('entries and results'!G305,$A$3:$E$30018,2,FALSE)","v":" "},303,".",{"$f":"VLOOKUP('entries and results'!M305,$H$3:$K$30018,2,FALSE)","v":" "},{"$f":"VLOOKUP('entries and results'!M305,$H$3:$K$30018,3,FALSE)","v":" "},{"$f":"VLOOKUP('entries and results'!M305,$H$3:$K$30018,4,FALSE)","v":" "}," ","00:00",null,null,null,null,null,null,null,null,null,null,null,null,null,null,null,null,null,null,null,null,null,null,null,null,null,null,null,null,null,null,null,null,null,null,null,null,null,null,null,null,null,null,null,"00:00",303,0,"0000000","00","00","00"]
["SA01460","Lasswade AAC","1994-02-07","Adam Lyon","SA01460","Under 17",".",304,{"$f":"VLOOKUP('entries and results'!G306,$A$3:$E$30018,4,FALSE)","v":" "},{"$f":"VLOOKUP('entries and results'!G306,$A$3:$F$30018,6,FALSE)","v":" "},{"$f":"VLOOKUP('entries and results'!G306,$A$3:$E$30018,2,FALSE)","v":" "},304,".",{"$f":"VLOOKUP('entries and results'!M306,$H$3:$K$30018,2,FALSE)","v":" "},{"$f":"VLOOKUP('entries and results'!M306,$H$3:$K$30018,3,FALSE)","v":" "},{"$f":"VLOOKUP('entries and results'!M306,$H$3:$K$30018,4,FALSE)","v":" "}," ","00:00",null,null,null,null,null,null,null,null,null,null,null,null,null,null,null,null,null,null,null,null,null,null,null,null,null,null,null,null,null,null,null,null,null,null,null,null,null,null,null,null,null,null,null,"00:00",304,0,"0000000","00","00","00"]
["SA01461","Lasswade AAC","1991-10-19","Zander Lyon","SA01461","Senior",".",305,{"$f":"VLOOKUP('entries and results'!G307,$A$3:$E$30018,4,FALSE)","v":" "},{"$f":"VLOOKUP('entries and results'!G307,$A$3:$F$30018,6,FALSE)","v":" "},{"$f":"VLOOKUP('entries and results'!G307,$A$3:$E$30018,2,FALSE)","v":" "},305,".",{"$f":"VLOOKUP('entries and results'!M307,$H$3:$K$30018,2,FALSE)","v":" "},{"$f":"VLOOKUP('entries and results'!M307,$H$3:$K$30018,3,FALSE)","v":" "},{"$f":"VLOOKUP('entries and results'!M307,$H$3:$K$30018,4,FALSE)","v":" "}," ","00:00",null,null,null,null,null,null,null,null,null,null,null,null,null,null,null,null,null,null,null,null,null,null,null,null,null,null,null,null,null,null,null,null,null,null,null,null,null,null,null,null,null,null,null,"00:00",305,0,"0000000","00","00","00"]
["SA01462","Lothian Running Club","1992-05-23","Craig McDowall","SA01462","Senior",".",306,{"$f":"VLOOKUP('entries and results'!G308,$A$3:$E$30018,4,FALSE)","v":" "},{"$f":"VLOOKUP('entries and results'!G308,$A$3:$F$30018,6,FALSE)","v":" "},{"$f":"VLOOKUP('entries and results'!G308,$A$3:$E$30018,2,FALSE)","v":" "},306,".",{"$f":"VLOOKUP('entries and results'!M308,$H$3:$K$30018,2,FALSE)","v":" "},{"$f":"VLOOKUP('entries and results'!M308,$H$3:$K$30018,3,FALSE)","v":" "},{"$f":"VLOOKUP('entries and results'!M308,$H$3:$K$30018,4,FALSE)","v":" "}," ","00:00",null,null,null,null,null,null,null,null,null,null,null,null,null,null,null,null,null,null,null,null,null,null,null,null,null,null,null,null,null,null,null,null,null,null,null,null,null,null,null,null,null,null,null,"00:00",306,0,"0000000","00","00","00"]
["SA01463","Livingston & District AAC","1989-02-09","Robyn McDowall","SA01463","Senior",".",307,{"$f":"VLOOKUP('entries and results'!G309,$A$3:$E$30018,4,FALSE)","v":" "},{"$f":"VLOOKUP('entries and results'!G309,$A$3:$F$30018,6,FALSE)","v":" "},{"$f":"VLOOKUP('entries and results'!G309,$A$3:$E$30018,2,FALSE)","v":" "},307,".",{"$f":"VLOOKUP('entries and results'!M309,$H$3:$K$30018,2,FALSE)","v":" "},{"$f":"VLOOKUP('entries and results'!M309,$H$3:$K$30018,3,FALSE)","v":" "},{"$f":"VLOOKUP('entries and results'!M309,$H$3:$K$30018,4,FALSE)","v":" "}," ","00:00",null,null,null,null,null,null,null,null,null,null,null,null,null,null,null,null,null,null,null,null,null,null,null,null,null,null,null,null,null,null,null,null,null,null,null,null,null,null,null,null,null,null,null,"00:00",307,0,"0000000","00","00","00"]
["SA01465","Montrose & District AC","1990-03-03","Mark Tough","SA01465","Senior",".",308,{"$f":"VLOOKUP('entries and results'!G310,$A$3:$E$30018,4,FALSE)","v":" "},{"$f":"VLOOKUP('entries and results'!G310,$A$3:$F$30018,6,FALSE)","v":" "},{"$f":"VLOOKUP('entries and results'!G310,$A$3:$E$30018,2,FALSE)","v":" "},308,".",{"$f":"VLOOKUP('entries and results'!M310,$H$3:$K$30018,2,FALSE)","v":" "},{"$f":"VLOOKUP('entries and results'!M310,$H$3:$K$30018,3,FALSE)","v":" "},{"$f":"VLOOKUP('entries and results'!M310,$H$3:$K$30018,4,FALSE)","v":" "}," ","00:00",null,null,null,null,null,null,null,null,null,null,null,null,null,null,null,null,null,null,null,null,null,null,null,null,null,null,null,null,null,null,null,null,null,null,null,null,null,null,null,null,null,null,null,"00:00",308,0,"0000000","00","00","00"]
["SA01478","Ayr Seaforth AAC","1992-08-21","Jonathan Dunn","SA01478","Senior",".",309,{"$f":"VLOOKUP('entries and results'!G311,$A$3:$E$30018,4,FALSE)","v":" "},{"$f":"VLOOKUP('entries and results'!G311,$A$3:$F$30018,6,FALSE)","v":" "},{"$f":"VLOOKUP('entries and results'!G311,$A$3:$E$30018,2,FALSE)","v":" "},309,".",{"$f":"VLOOKUP('entries and results'!M311,$H$3:$K$30018,2,FALSE)","v":" "},{"$f":"VLOOKUP('entries and results'!M311,$H$3:$K$30018,3,FALSE)","v":" "},{"$f":"VLOOKUP('entries and results'!M311,$H$3:$K$30018,4,FALSE)","v":" "}," ","00:00",null,null,null,null,null,null,null,null,null,null,null,null,null,null,null,null,null,null,null,null,null,null,null,null,null,null,null,null,null,null,null,null,null,null,null,null,null,null,null,null,null,null,null,"00:00",309,0,"0000000","00","00","00"]
["SA01479","Ayr Seaforth AAC","1994-07-09","Nicola Dunn","SA01479","Under 17",".",310,{"$f":"VLOOKUP('entries and results'!G312,$A$3:$E$30018,4,FALSE)","v":" "},{"$f":"VLOOKUP('entries and results'!G312,$A$3:$F$30018,6,FALSE)","v":" "},{"$f":"VLOOKUP('entries and results'!G312,$A$3:$E$30018,2,FALSE)","v":" "},310,".",{"$f":"VLOOKUP('entries and results'!M312,$H$3:$K$30018,2,FALSE)","v":" "},{"$f":"VLOOKUP('entries and results'!M312,$H$3:$K$30018,3,FALSE)","v":" "},{"$f":"VLOOKUP('entries and results'!M312,$H$3:$K$30018,4,FALSE)","v":" "}," ","00:00",null,null,null,null,null,null,null,null,null,null,null,null,null,null,null,null,null,null,null,null,null,null,null,null,null,null,null,null,null,null,null,null,null,null,null,null,null,null,null,null,null,null,null,"00:00",310,0,"0000000","00","00","00"]
["SA01480","Ayr Seaforth AAC","1992-12-23","Andrew Rae","SA01480","Senior",".",311,{"$f":"VLOOKUP('entries and results'!G313,$A$3:$E$30018,4,FALSE)","v":" "},{"$f":"VLOOKUP('entries and results'!G313,$A$3:$F$30018,6,FALSE)","v":" "},{"$f":"VLOOKUP('entries and results'!G313,$A$3:$E$30018,2,FALSE)","v":" "},311,".",{"$f":"VLOOKUP('entries and results'!M313,$H$3:$K$30018,2,FALSE)","v":" "},{"$f":"VLOOKUP('entries and results'!M313,$H$3:$K$30018,3,FALSE)","v":" "},{"$f":"VLOOKUP('entries and results'!M313,$H$3:$K$30018,4,FALSE)","v":" "}," ","00:00",null,null,null,null,null,null,null,null,null,null,null,null,null,null,null,null,null,null,null,null,null,null,null,null,null,null,null,null,null,null,null,null,null,null,null,null,null,null,null,null,null,null,null,"00:00",311,0,"0000000","00","00","00"]
["SA01481","Ayr Seaforth AAC","1994-08-05","Rachel Whittle","SA01481","Under 17",".",312,{"$f":"VLOOKUP('entries and results'!G314,$A$3:$E$30018,4,FALSE)","v":" "},{"$f":"VLOOKUP('entries and results'!G314,$A$3:$F$30018,6,FALSE)","v":" "},{"$f":"VLOOKUP('entries and results'!G314,$A$3:$E$30018,2,FALSE)","v":" "},312,".",{"$f":"VLOOKUP('entries and results'!M314,$H$3:$K$30018,2,FALSE)","v":" "},{"$f":"VLOOKUP('entries and results'!M314,$H$3:$K$30018,3,FALSE)","v":" "},{"$f":"VLOOKUP('entries and results'!M314,$H$3:$K$30018,4,FALSE)","v":" "}," ","00:00",null,null,null,null,null,null,null,null,null,null,null,null,null,null,null,null,null,null,null,null,null,null,null,null,null,null,null,null,null,null,null,null,null,null,null,null,null,null,null,null,null,null,null,"00:00",312,0,"0000000","00","00","00"]
["SA01490","Dundee Hawkhill Harriers","1992-04-11","Paul Dempsey","SA01490","Senior",".",313,{"$f":"VLOOKUP('entries and results'!G315,$A$3:$E$30018,4,FALSE)","v":" "},{"$f":"VLOOKUP('entries and results'!G315,$A$3:$F$30018,6,FALSE)","v":" "},{"$f":"VLOOKUP('entries and results'!G315,$A$3:$E$30018,2,FALSE)","v":" "},313,".",{"$f":"VLOOKUP('entries and results'!M315,$H$3:$K$30018,2,FALSE)","v":" "},{"$f":"VLOOKUP('entries and results'!M315,$H$3:$K$30018,3,FALSE)","v":" "},{"$f":"VLOOKUP('entries and results'!M315,$H$3:$K$30018,4,FALSE)","v":" "}," ","00:00",null,null,null,null,null,null,null,null,null,null,null,null,null,null,null,null,null,null,null,null,null,null,null,null,null,null,null,null,null,null,null,null,null,null,null,null,null,null,null,null,null,null,null,"00:00",313,0,"0000000","00","00","00"]
["SA01491","Unattached","1992-04-27","Martyn Gall","SA01491","Senior",".",314,{"$f":"VLOOKUP('entries and results'!G316,$A$3:$E$30018,4,FALSE)","v":" "},{"$f":"VLOOKUP('entries and results'!G316,$A$3:$F$30018,6,FALSE)","v":" "},{"$f":"VLOOKUP('entries and results'!G316,$A$3:$E$30018,2,FALSE)","v":" "},314,".",{"$f":"VLOOKUP('entries and results'!M316,$H$3:$K$30018,2,FALSE)","v":" "},{"$f":"VLOOKUP('entries and results'!M316,$H$3:$K$30018,3,FALSE)","v":" "},{"$f":"VLOOKUP('entries and results'!M316,$H$3:$K$30018,4,FALSE)","v":" "}," ","00:00",null,null,null,null,null,null,null,null,null,null,null,null,null,null,null,null,null,null,null,null,null,null,null,null,null,null,null,null,null,null,null,null,null,null,null,null,null,null,null,null,null,null,null,"00:00",314,0,"0000000","00","00","00"]
["SA01493","East Kilbride A.C.","1990-09-10","David Gorman","SA01493","Senior",".",315,{"$f":"VLOOKUP('entries and results'!G317,$A$3:$E$30018,4,FALSE)","v":" "},{"$f":"VLOOKUP('entries and results'!G317,$A$3:$F$30018,6,FALSE)","v":" "},{"$f":"VLOOKUP('entries and results'!G317,$A$3:$E$30018,2,FALSE)","v":" "},315,".",{"$f":"VLOOKUP('entries and results'!M317,$H$3:$K$30018,2,FALSE)","v":" "},{"$f":"VLOOKUP('entries and results'!M317,$H$3:$K$30018,3,FALSE)","v":" "},{"$f":"VLOOKUP('entries and results'!M317,$H$3:$K$30018,4,FALSE)","v":" "}," ","00:00",null,null,null,null,null,null,null,null,null,null,null,null,null,null,null,null,null,null,null,null,null,null,null,null,null,null,null,null,null,null,null,null,null,null,null,null,null,null,null,null,null,null,null,"00:00",315,0,"0000000","00","00","00"]
["SA01496","Fife AC","1994-07-04","Katy Tan","SA01496","Under 17",".",316,{"$f":"VLOOKUP('entries and results'!G318,$A$3:$E$30018,4,FALSE)","v":" "},{"$f":"VLOOKUP('entries and results'!G318,$A$3:$F$30018,6,FALSE)","v":" "},{"$f":"VLOOKUP('entries and results'!G318,$A$3:$E$30018,2,FALSE)","v":" "},316,".",{"$f":"VLOOKUP('entries and results'!M318,$H$3:$K$30018,2,FALSE)","v":" "},{"$f":"VLOOKUP('entries and results'!M318,$H$3:$K$30018,3,FALSE)","v":" "},{"$f":"VLOOKUP('entries and results'!M318,$H$3:$K$30018,4,FALSE)","v":" "}," ","00:00",null,null,null,null,null,null,null,null,null,null,null,null,null,null,null,null,null,null,null,null,null,null,null,null,null,null,null,null,null,null,null,null,null,null,null,null,null,null,null,null,null,null,null,"00:00",316,0,"0000000","00","00","00"]
["SA01498","Giffnock North AAC","1993-01-20","Matthew Cumming","SA01498","Senior",".",317,{"$f":"VLOOKUP('entries and results'!G319,$A$3:$E$30018,4,FALSE)","v":" "},{"$f":"VLOOKUP('entries and results'!G319,$A$3:$F$30018,6,FALSE)","v":" "},{"$f":"VLOOKUP('entries and results'!G319,$A$3:$E$30018,2,FALSE)","v":" "},317,".",{"$f":"VLOOKUP('entries and results'!M319,$H$3:$K$30018,2,FALSE)","v":" "},{"$f":"VLOOKUP('entries and results'!M319,$H$3:$K$30018,3,FALSE)","v":" "},{"$f":"VLOOKUP('entries and results'!M319,$H$3:$K$30018,4,FALSE)","v":" "}," ","00:00",null,null,null,null,null,null,null,null,null,null,null,null,null,null,null,null,null,null,null,null,null,null,null,null,null,null,null,null,null,null,null,null,null,null,null,null,null,null,null,null,null,null,null,"00:00",317,0,"0000000","00","00","00"]
["SA01503","Inverclyde AC","1992-11-02","Paul Currie","SA01503","Senior",".",318,{"$f":"VLOOKUP('entries and results'!G320,$A$3:$E$30018,4,FALSE)","v":" "},{"$f":"VLOOKUP('entries and results'!G320,$A$3:$F$30018,6,FALSE)","v":" "},{"$f":"VLOOKUP('entries and results'!G320,$A$3:$E$30018,2,FALSE)","v":" "},318,".",{"$f":"VLOOKUP('entries and results'!M320,$H$3:$K$30018,2,FALSE)","v":" "},{"$f":"VLOOKUP('entries and results'!M320,$H$3:$K$30018,3,FALSE)","v":" "},{"$f":"VLOOKUP('entries and results'!M320,$H$3:$K$30018,4,FALSE)","v":" "}," ","00:00",null,null,null,null,null,null,null,null,null,null,null,null,null,null,null,null,null,null,null,null,null,null,null,null,null,null,null,null,null,null,null,null,null,null,null,null,null,null,null,null,null,null,null,"00:00",318,0,"0000000","00","00","00"]
["SA01506","Sale Harriers","1990-06-13","Holly Belch","SA01506","Senior",".",319,{"$f":"VLOOKUP('entries and results'!G321,$A$3:$E$30018,4,FALSE)","v":" "},{"$f":"VLOOKUP('entries and results'!G321,$A$3:$F$30018,6,FALSE)","v":" "},{"$f":"VLOOKUP('entries and results'!G321,$A$3:$E$30018,2,FALSE)","v":" "},319,".",{"$f":"VLOOKUP('entries and results'!M321,$H$3:$K$30018,2,FALSE)","v":" "},{"$f":"VLOOKUP('entries and results'!M321,$H$3:$K$30018,3,FALSE)","v":" "},{"$f":"VLOOKUP('entries and results'!M321,$H$3:$K$30018,4,FALSE)","v":" "}," ","00:00",null,null,null,null,null,null,null,null,null,null,null,null,null,null,null,null,null,null,null,null,null,null,null,null,null,null,null,null,null,null,null,null,null,null,null,null,null,null,null,null,null,null,null,"00:00",319,0,"0000000","00","00","00"]
["SA01507","Kilbarchan AAC","1991-07-30","Michelle Bell","SA01507","Senior",".",320,{"$f":"VLOOKUP('entries and results'!G322,$A$3:$E$30018,4,FALSE)","v":" "},{"$f":"VLOOKUP('entries and results'!G322,$A$3:$F$30018,6,FALSE)","v":" "},{"$f":"VLOOKUP('entries and results'!G322,$A$3:$E$30018,2,FALSE)","v":" "},320,".",{"$f":"VLOOKUP('entries and results'!M322,$H$3:$K$30018,2,FALSE)","v":" "},{"$f":"VLOOKUP('entries and results'!M322,$H$3:$K$30018,3,FALSE)","v":" "},{"$f":"VLOOKUP('entries and results'!M322,$H$3:$K$30018,4,FALSE)","v":" "}," ","00:00",null,null,null,null,null,null,null,null,null,null,null,null,null,null,null,null,null,null,null,null,null,null,null,null,null,null,null,null,null,null,null,null,null,null,null,null,null,null,null,null,null,null,null,"00:00",320,0,"0000000","00","00","00"]
["SA01508","Kilbarchan AAC","1993-10-11","Andrew Cunningham","SA01508","Under 17",".",321,{"$f":"VLOOKUP('entries and results'!G323,$A$3:$E$30018,4,FALSE)","v":" "},{"$f":"VLOOKUP('entries and results'!G323,$A$3:$F$30018,6,FALSE)","v":" "},{"$f":"VLOOKUP('entries and results'!G323,$A$3:$E$30018,2,FALSE)","v":" "},321,".",{"$f":"VLOOKUP('entries and results'!M323,$H$3:$K$30018,2,FALSE)","v":" "},{"$f":"VLOOKUP('entries and results'!M323,$H$3:$K$30018,3,FALSE)","v":" "},{"$f":"VLOOKUP('entries and results'!M323,$H$3:$K$30018,4,FALSE)","v":" "}," ","00:00",null,null,null,null,null,null,null,null,null,null,null,null,null,null,null,null,null,null,null,null,null,null,null,null,null,null,null,null,null,null,null,null,null,null,null,null,null,null,null,null,null,null,null,"00:00",321,{"$f":"SUMIF($H$3:$H$601,$BK323,$Q$3:$Q$601)","v":0},"0000000","00","00","00"]
["SA01509","Kilbarchan AAC","1989-04-29","Derek Hawkins","SA01509","Senior",".",322,{"$f":"VLOOKUP('entries and results'!G324,$A$3:$E$30018,4,FALSE)","v":" "},{"$f":"VLOOKUP('entries and results'!G324,$A$3:$F$30018,6,FALSE)","v":" "},{"$f":"VLOOKUP('entries and results'!G324,$A$3:$E$30018,2,FALSE)","v":" "},322,".",{"$f":"VLOOKUP('entries and results'!M324,$H$3:$K$30018,2,FALSE)","v":" "},{"$f":"VLOOKUP('entries and results'!M324,$H$3:$K$30018,3,FALSE)","v":" "},{"$f":"VLOOKUP('entries and results'!M324,$H$3:$K$30018,4,FALSE)","v":" "}," ",{"$f":"IF($H324=\"\",\" \",(LOOKUP($H324,$BK$3:$BK$1601,$BJ$3:$BJ$1601)))","v":"00:00"},null,null,null,null,null,null,null,null,null,null,null,null,null,null,null,null,null,null,null,null,null,null,null,null,null,null,null,null,null,null,null,null,null,null,null,null,null,null,null,null,null,null,null,{"$f":"CONCATENATE(BO324,\":\",BP324)","v":"00:00"},322,0,{"$f":"CONCATENATE($BG$2,$BL324)","v":"0000000"},{"$f":"MID(RIGHT($BM324,6),1,2)","v":"00"},{"$f":"MID(RIGHT($BM324,6),3,2)","v":"00"},{"$f":"MID(RIGHT($BM324,6),5,2)","v":"00"}]
["SA01510","Kilbarchan AAC","1990-03-24","Scott Hawkins","SA01510","Senior",".",323,{"$f":"VLOOKUP('entries and results'!G325,$A$3:$E$30018,4,FALSE)","v":" "},{"$f":"VLOOKUP('entries and results'!G325,$A$3:$F$30018,6,FALSE)","v":" "},{"$f":"VLOOKUP('entries and results'!G325,$A$3:$E$30018,2,FALSE)","v":" "},323,".",{"$f":"VLOOKUP('entries and results'!M325,$H$3:$K$30018,2,FALSE)","v":" "},{"$f":"VLOOKUP('entries and results'!M325,$H$3:$K$30018,3,FALSE)","v":" "},{"$f":"VLOOKUP('entries and results'!M325,$H$3:$K$30018,4,FALSE)","v":" "}," ","00:00",null,null,null,null,null,null,null,null,null,null,null,null,null,null,null,null,null,null,null,null,null,null,null,null,null,null,null,null,null,null,null,null,null,null,null,null,null,null,null,null,null,null,null,{"$f":"CONCATENATE(BO325,\":\",BP325)","v":"00:00"},323,0,{"$f":"CONCATENATE($BG$2,$BL325)","v":"0000000"},{"$f":"MID(RIGHT($BM325,6),1,2)","v":"00"},{"$f":"MID(RIGHT($BM325,6),3,2)","v":"00"},{"$f":"MID(RIGHT($BM325,6),5,2)","v":"00"}]
["SA01511","Kilbarchan AAC","1992-09-01","Andrew McLaughlan","SA01511","Senior",".",324,{"$f":"VLOOKUP('entries and results'!G326,$A$3:$E$30018,4,FALSE)","v":" "},{"$f":"VLOOKUP('entries and results'!G326,$A$3:$F$30018,6,FALSE)","v":" "},{"$f":"VLOOKUP('entries and results'!G326,$A$3:$E$30018,2,FALSE)","v":" "},324,".",{"$f":"VLOOKUP('entries and results'!M326,$H$3:$K$30018,2,FALSE)","v":" "},{"$f":"VLOOKUP('entries and results'!M326,$H$3:$K$30018,3,FALSE)","v":" "},{"$f":"VLOOKUP('entries and results'!M326,$H$3:$K$30018,4,FALSE)","v":" "}," ","00:00",null,null,null,null,null,null,null,null,null,null,null,null,null,null,null,null,null,null,null,null,null,null,null,null,null,null,null,null,null,null,null,null,null,null,null,null,null,null,null,null,null,null,null,{"$f":"CONCATENATE(BO326,\":\",BP326)","v":"00:00"},324,0,{"$f":"CONCATENATE($BG$2,$BL326)","v":"0000000"},{"$f":"MID(RIGHT($BM326,6),1,2)","v":"00"},{"$f":"MID(RIGHT($BM326,6),3,2)","v":"00"},{"$f":"MID(RIGHT($BM326,6),5,2)","v":"00"}]
["SA01517","Pitreavie AAC","1990-09-26","Lauren McManus","SA01517","Senior",".",325,{"$f":"VLOOKUP('entries and results'!G327,$A$3:$E$30018,4,FALSE)","v":" "},{"$f":"VLOOKUP('entries and results'!G327,$A$3:$F$30018,6,FALSE)","v":" "},{"$f":"VLOOKUP('entries and results'!G327,$A$3:$E$30018,2,FALSE)","v":" "},325,".",{"$f":"VLOOKUP('entries and results'!M327,$H$3:$K$30018,2,FALSE)","v":" "},{"$f":"VLOOKUP('entries and results'!M327,$H$3:$K$30018,3,FALSE)","v":" "},{"$f":"VLOOKUP('entries and results'!M327,$H$3:$K$30018,4,FALSE)","v":" "}," ","00:00",null,null,null,null,null,null,null,null,null,null,null,null,null,null,null,null,null,null,null,null,null,null,null,null,null,null,null,null,null,null,null,null,null,null,null,null,null,null,null,null,null,null,null,"00:00",325,0,"0000000","00","00","00"]
["SA01523","Whitemoss AAC","1991-07-06","Stuart Jamieson","SA01523","Senior",".",326,{"$f":"VLOOKUP('entries and results'!G328,$A$3:$E$30018,4,FALSE)","v":" "},{"$f":"VLOOKUP('entries and results'!G328,$A$3:$F$30018,6,FALSE)","v":" "},{"$f":"VLOOKUP('entries and results'!G328,$A$3:$E$30018,2,FALSE)","v":" "},326,".",{"$f":"VLOOKUP('entries and results'!M328,$H$3:$K$30018,2,FALSE)","v":" "},{"$f":"VLOOKUP('entries and results'!M328,$H$3:$K$30018,3,FALSE)","v":" "},{"$f":"VLOOKUP('entries and results'!M328,$H$3:$K$30018,4,FALSE)","v":" "}," ","00:00",null,null,null,null,null,null,null,null,null,null,null,null,null,null,null,null,null,null,null,null,null,null,null,null,null,null,null,null,null,null,null,null,null,null,null,null,null,null,null,null,null,null,null,"00:00",326,0,"0000000","00","00","00"]
["SA01526","Kilmarnock H&AC","1990-09-04","James Wales","SA01526","Senior",".",327,{"$f":"VLOOKUP('entries and results'!G329,$A$3:$E$30018,4,FALSE)","v":" "},{"$f":"VLOOKUP('entries and results'!G329,$A$3:$F$30018,6,FALSE)","v":" "},{"$f":"VLOOKUP('entries and results'!G329,$A$3:$E$30018,2,FALSE)","v":" "},327,".",{"$f":"VLOOKUP('entries and results'!M329,$H$3:$K$30018,2,FALSE)","v":" "},{"$f":"VLOOKUP('entries and results'!M329,$H$3:$K$30018,3,FALSE)","v":" "},{"$f":"VLOOKUP('entries and results'!M329,$H$3:$K$30018,4,FALSE)","v":" "}," ","00:00",null,null,null,null,null,null,null,null,null,null,null,null,null,null,null,null,null,null,null,null,null,null,null,null,null,null,null,null,null,null,null,null,null,null,null,null,null,null,null,null,null,null,null,"00:00",327,0,"0000000","00","00","00"]
["SA01534","Ayr Seaforth AAC","1993-10-12","David Carter","SA01534","Under 17",".",328,{"$f":"VLOOKUP('entries and results'!G330,$A$3:$E$30018,4,FALSE)","v":" "},{"$f":"VLOOKUP('entries and results'!G330,$A$3:$F$30018,6,FALSE)","v":" "},{"$f":"VLOOKUP('entries and results'!G330,$A$3:$E$30018,2,FALSE)","v":" "},328,".",{"$f":"VLOOKUP('entries and results'!M330,$H$3:$K$30018,2,FALSE)","v":" "},{"$f":"VLOOKUP('entries and results'!M330,$H$3:$K$30018,3,FALSE)","v":" "},{"$f":"VLOOKUP('entries and results'!M330,$H$3:$K$30018,4,FALSE)","v":" "}," ","00:00",null,null,null,null,null,null,null,null,null,null,null,null,null,null,null,null,null,null,null,null,null,null,null,null,null,null,null,null,null,null,null,null,null,null,null,null,null,null,null,null,null,null,null,"00:00",328,0,"0000000","00","00","00"]
["SA01535","Edinburgh AC","1988-01-29","Kris Gauson","SA01535","Senior",".",329,{"$f":"VLOOKUP('entries and results'!G331,$A$3:$E$30018,4,FALSE)","v":" "},{"$f":"VLOOKUP('entries and results'!G331,$A$3:$F$30018,6,FALSE)","v":" "},{"$f":"VLOOKUP('entries and results'!G331,$A$3:$E$30018,2,FALSE)","v":" "},329,".",{"$f":"VLOOKUP('entries and results'!M331,$H$3:$K$30018,2,FALSE)","v":" "},{"$f":"VLOOKUP('entries and results'!M331,$H$3:$K$30018,3,FALSE)","v":" "},{"$f":"VLOOKUP('entries and results'!M331,$H$3:$K$30018,4,FALSE)","v":" "}," ","00:00",null,null,null,null,null,null,null,null,null,null,null,null,null,null,null,null,null,null,null,null,null,null,null,null,null,null,null,null,null,null,null,null,null,null,null,null,null,null,null,null,null,null,null,"00:00",329,0,"0000000","00","00","00"]
["SA01541","Edinburgh AC","1989-11-03","Carly Beattie","SA01541","Senior",".",330,{"$f":"VLOOKUP('entries and results'!G332,$A$3:$E$30018,4,FALSE)","v":" "},{"$f":"VLOOKUP('entries and results'!G332,$A$3:$F$30018,6,FALSE)","v":" "},{"$f":"VLOOKUP('entries and results'!G332,$A$3:$E$30018,2,FALSE)","v":" "},330,".",{"$f":"VLOOKUP('entries and results'!M332,$H$3:$K$30018,2,FALSE)","v":" "},{"$f":"VLOOKUP('entries and results'!M332,$H$3:$K$30018,3,FALSE)","v":" "},{"$f":"VLOOKUP('entries and results'!M332,$H$3:$K$30018,4,FALSE)","v":" "}," ","00:00",null,null,null,null,null,null,null,null,null,null,null,null,null,null,null,null,null,null,null,null,null,null,null,null,null,null,null,null,null,null,null,null,null,null,null,null,null,null,null,null,null,null,null,"00:00",330,0,"0000000","00","00","00"]
["SA01543","Edinburgh AC","1992-02-25","Toby Harris","SA01543","Senior",".",331,{"$f":"VLOOKUP('entries and results'!G333,$A$3:$E$30018,4,FALSE)","v":" "},{"$f":"VLOOKUP('entries and results'!G333,$A$3:$F$30018,6,FALSE)","v":" "},{"$f":"VLOOKUP('entries and results'!G333,$A$3:$E$30018,2,FALSE)","v":" "},331,".",{"$f":"VLOOKUP('entries and results'!M333,$H$3:$K$30018,2,FALSE)","v":" "},{"$f":"VLOOKUP('entries and results'!M333,$H$3:$K$30018,3,FALSE)","v":" "},{"$f":"VLOOKUP('entries and results'!M333,$H$3:$K$30018,4,FALSE)","v":" "}," ","00:00",null,null,null,null,null,null,null,null,null,null,null,null,null,null,null,null,null,null,null,null,null,null,null,null,null,null,null,null,null,null,null,null,null,null,null,null,null,null,null,null,null,null,null,"00:00",331,0,"0000000","00","00","00"]
["SA01544","George Heriots School","1992-04-18","Grant McEwan","SA01544","Senior",".",332,{"$f":"VLOOKUP('entries and results'!G334,$A$3:$E$30018,4,FALSE)","v":" "},{"$f":"VLOOKUP('entries and results'!G334,$A$3:$F$30018,6,FALSE)","v":" "},{"$f":"VLOOKUP('entries and results'!G334,$A$3:$E$30018,2,FALSE)","v":" "},332,".",{"$f":"VLOOKUP('entries and results'!M334,$H$3:$K$30018,2,FALSE)","v":" "},{"$f":"VLOOKUP('entries and results'!M334,$H$3:$K$30018,3,FALSE)","v":" "},{"$f":"VLOOKUP('entries and results'!M334,$H$3:$K$30018,4,FALSE)","v":" "}," ","00:00",null,null,null,null,null,null,null,null,null,null,null,null,null,null,null,null,null,null,null,null,null,null,null,null,null,null,null,null,null,null,null,null,null,null,null,null,null,null,null,null,null,null,null,"00:00",332,0,"0000000","00","00","00"]
["SA01546","Edinburgh AC","1990-11-23","Chris O'Hare","SA01546","Senior",".",333,{"$f":"VLOOKUP('entries and results'!G335,$A$3:$E$30018,4,FALSE)","v":" "},{"$f":"VLOOKUP('entries and results'!G335,$A$3:$F$30018,6,FALSE)","v":" "},{"$f":"VLOOKUP('entries and results'!G335,$A$3:$E$30018,2,FALSE)","v":" "},333,".",{"$f":"VLOOKUP('entries and results'!M335,$H$3:$K$30018,2,FALSE)","v":" "},{"$f":"VLOOKUP('entries and results'!M335,$H$3:$K$30018,3,FALSE)","v":" "},{"$f":"VLOOKUP('entries and results'!M335,$H$3:$K$30018,4,FALSE)","v":" "}," ","00:00",null,null,null,null,null,null,null,null,null,null,null,null,null,null,null,null,null,null,null,null,null,null,null,null,null,null,null,null,null,null,null,null,null,null,null,null,null,null,null,null,null,null,null,"00:00",333,0,"0000000","00","00","00"]
["SA01555","East Kilbride A.C.","1993-04-07","Adam Gatens","SA01555","Senior",".",334,{"$f":"VLOOKUP('entries and results'!G336,$A$3:$E$30018,4,FALSE)","v":" "},{"$f":"VLOOKUP('entries and results'!G336,$A$3:$F$30018,6,FALSE)","v":" "},{"$f":"VLOOKUP('entries and results'!G336,$A$3:$E$30018,2,FALSE)","v":" "},334,".",{"$f":"VLOOKUP('entries and results'!M336,$H$3:$K$30018,2,FALSE)","v":" "},{"$f":"VLOOKUP('entries and results'!M336,$H$3:$K$30018,3,FALSE)","v":" "},{"$f":"VLOOKUP('entries and results'!M336,$H$3:$K$30018,4,FALSE)","v":" "}," ","00:00",null,null,null,null,null,null,null,null,null,null,null,null,null,null,null,null,null,null,null,null,null,null,null,null,null,null,null,null,null,null,null,null,null,null,null,null,null,null,null,null,null,null,null,"00:00",334,0,"0000000","00","00","00"]
["SA01556","East Kilbride A.C.","1993-12-26","Rachael Thomson","SA01556","Under 17",".",335,{"$f":"VLOOKUP('entries and results'!G337,$A$3:$E$30018,4,FALSE)","v":" "},{"$f":"VLOOKUP('entries and results'!G337,$A$3:$F$30018,6,FALSE)","v":" "},{"$f":"VLOOKUP('entries and results'!G337,$A$3:$E$30018,2,FALSE)","v":" "},335,".",{"$f":"VLOOKUP('entries and results'!M337,$H$3:$K$30018,2,FALSE)","v":" "},{"$f":"VLOOKUP('entries and results'!M337,$H$3:$K$30018,3,FALSE)","v":" "},{"$f":"VLOOKUP('entries and results'!M337,$H$3:$K$30018,4,FALSE)","v":" "}," ","00:00",null,null,null,null,null,null,null,null,null,null,null,null,null,null,null,null,null,null,null,null,null,null,null,null,null,null,null,null,null,null,null,null,null,null,null,null,null,null,null,null,null,null,null,"00:00",335,0,"0000000","00","00","00"]
["SA01557","Edinburgh AC","1994-04-22","Rebecca Caswell","SA01557","Under 17",".",336,{"$f":"VLOOKUP('entries and results'!G338,$A$3:$E$30018,4,FALSE)","v":" "},{"$f":"VLOOKUP('entries and results'!G338,$A$3:$F$30018,6,FALSE)","v":" "},{"$f":"VLOOKUP('entries and results'!G338,$A$3:$E$30018,2,FALSE)","v":" "},336,".",{"$f":"VLOOKUP('entries and results'!M338,$H$3:$K$30018,2,FALSE)","v":" "},{"$f":"VLOOKUP('entries and results'!M338,$H$3:$K$30018,3,FALSE)","v":" "},{"$f":"VLOOKUP('entries and results'!M338,$H$3:$K$30018,4,FALSE)","v":" "}," ","00:00",null,null,null,null,null,null,null,null,null,null,null,null,null,null,null,null,null,null,null,null,null,null,null,null,null,null,null,null,null,null,null,null,null,null,null,null,null,null,null,null,null,null,null,"00:00",336,0,"0000000","00","00","00"]
["SA01558","Edinburgh AC","1989-02-06","Laura Dunn","SA01558","Senior",".",337,{"$f":"VLOOKUP('entries and results'!G339,$A$3:$E$30018,4,FALSE)","v":" "},{"$f":"VLOOKUP('entries and results'!G339,$A$3:$F$30018,6,FALSE)","v":" "},{"$f":"VLOOKUP('entries and results'!G339,$A$3:$E$30018,2,FALSE)","v":" "},337,".",{"$f":"VLOOKUP('entries and results'!M339,$H$3:$K$30018,2,FALSE)","v":" "},{"$f":"VLOOKUP('entries and results'!M339,$H$3:$K$30018,3,FALSE)","v":" "},{"$f":"VLOOKUP('entries and results'!M339,$H$3:$K$30018,4,FALSE)","v":" "}," ","00:00",null,null,null,null,null,null,null,null,null,null,null,null,null,null,null,null,null,null,null,null,null,null,null,null,null,null,null,null,null,null,null,null,null,null,null,null,null,null,null,null,null,null,null,"00:00",337,0,"0000000","00","00","00"]
["SA01579","Inverclyde AC","1991-12-26","Rachael Bushfield","SA01579","Senior",".",338,{"$f":"VLOOKUP('entries and results'!G340,$A$3:$E$30018,4,FALSE)","v":" "},{"$f":"VLOOKUP('entries and results'!G340,$A$3:$F$30018,6,FALSE)","v":" "},{"$f":"VLOOKUP('entries and results'!G340,$A$3:$E$30018,2,FALSE)","v":" "},338,".",{"$f":"VLOOKUP('entries and results'!M340,$H$3:$K$30018,2,FALSE)","v":" "},{"$f":"VLOOKUP('entries and results'!M340,$H$3:$K$30018,3,FALSE)","v":" "},{"$f":"VLOOKUP('entries and results'!M340,$H$3:$K$30018,4,FALSE)","v":" "}," ","00:00",null,null,null,null,null,null,null,null,null,null,null,null,null,null,null,null,null,null,null,null,null,null,null,null,null,null,null,null,null,null,null,null,null,null,null,null,null,null,null,null,null,null,null,"00:00",338,0,"0000000","00","00","00"]
["SA01585","Kilmarnock H&AC","1991-04-06","Jamie Hannah","SA01585","Senior",".",339,{"$f":"VLOOKUP('entries and results'!G341,$A$3:$E$30018,4,FALSE)","v":" "},{"$f":"VLOOKUP('entries and results'!G341,$A$3:$F$30018,6,FALSE)","v":" "},{"$f":"VLOOKUP('entries and results'!G341,$A$3:$E$30018,2,FALSE)","v":" "},339,".",{"$f":"VLOOKUP('entries and results'!M341,$H$3:$K$30018,2,FALSE)","v":" "},{"$f":"VLOOKUP('entries and results'!M341,$H$3:$K$30018,3,FALSE)","v":" "},{"$f":"VLOOKUP('entries and results'!M341,$H$3:$K$30018,4,FALSE)","v":" "}," ","00:00",null,null,null,null,null,null,null,null,null,null,null,null,null,null,null,null,null,null,null,null,null,null,null,null,null,null,null,null,null,null,null,null,null,null,null,null,null,null,null,null,null,null,null,"00:00",339,0,"0000000","00","00","00"]
["SA01591","Kilbarchan AAC","1992-06-05","Andrew McAlpine","SA01591","Senior",".",340,{"$f":"VLOOKUP('entries and results'!G342,$A$3:$E$30018,4,FALSE)","v":" "},{"$f":"VLOOKUP('entries and results'!G342,$A$3:$F$30018,6,FALSE)","v":" "},{"$f":"VLOOKUP('entries and results'!G342,$A$3:$E$30018,2,FALSE)","v":" "},340,".",{"$f":"VLOOKUP('entries and results'!M342,$H$3:$K$30018,2,FALSE)","v":" "},{"$f":"VLOOKUP('entries and results'!M342,$H$3:$K$30018,3,FALSE)","v":" "},{"$f":"VLOOKUP('entries and results'!M342,$H$3:$K$30018,4,FALSE)","v":" "}," ","00:00",null,null,null,null,null,null,null,null,null,null,null,null,null,null,null,null,null,null,null,null,null,null,null,null,null,null,null,null,null,null,null,null,null,null,null,null,null,null,null,null,null,null,null,"00:00",340,0,"0000000","00","00","00"]
["SA01592","Kirkintilloch Olympians","1991-05-02","Matthew Graham","SA01592","Senior",".",341,{"$f":"VLOOKUP('entries and results'!G343,$A$3:$E$30018,4,FALSE)","v":" "},{"$f":"VLOOKUP('entries and results'!G343,$A$3:$F$30018,6,FALSE)","v":" "},{"$f":"VLOOKUP('entries and results'!G343,$A$3:$E$30018,2,FALSE)","v":" "},341,".",{"$f":"VLOOKUP('entries and results'!M343,$H$3:$K$30018,2,FALSE)","v":" "},{"$f":"VLOOKUP('entries and results'!M343,$H$3:$K$30018,3,FALSE)","v":" "},{"$f":"VLOOKUP('entries and results'!M343,$H$3:$K$30018,4,FALSE)","v":" "}," ","00:00",null,null,null,null,null,null,null,null,null,null,null,null,null,null,null,null,null,null,null,null,null,null,null,null,null,null,null,null,null,null,null,null,null,null,null,null,null,null,null,null,null,null,null,"00:00",341,0,"0000000","00","00","00"]
["SA01593","Law & District AAC","1990-03-15","Cheryl Adam","SA01593","Senior",".",342,{"$f":"VLOOKUP('entries and results'!G344,$A$3:$E$30018,4,FALSE)","v":" "},{"$f":"VLOOKUP('entries and results'!G344,$A$3:$F$30018,6,FALSE)","v":" "},{"$f":"VLOOKUP('entries and results'!G344,$A$3:$E$30018,2,FALSE)","v":" "},342,".",{"$f":"VLOOKUP('entries and results'!M344,$H$3:$K$30018,2,FALSE)","v":" "},{"$f":"VLOOKUP('entries and results'!M344,$H$3:$K$30018,3,FALSE)","v":" "},{"$f":"VLOOKUP('entries and results'!M344,$H$3:$K$30018,4,FALSE)","v":" "}," ","00:00",null,null,null,null,null,null,null,null,null,null,null,null,null,null,null,null,null,null,null,null,null,null,null,null,null,null,null,null,null,null,null,null,null,null,null,null,null,null,null,null,null,null,null,"00:00",342,0,"0000000","00","00","00"]
["SA01594","Law & District AAC","1995-05-24","Colette Bradley","SA01594","Under 17",".",343,{"$f":"VLOOKUP('entries and results'!G345,$A$3:$E$30018,4,FALSE)","v":" "},{"$f":"VLOOKUP('entries and results'!G345,$A$3:$F$30018,6,FALSE)","v":" "},{"$f":"VLOOKUP('entries and results'!G345,$A$3:$E$30018,2,FALSE)","v":" "},343,".",{"$f":"VLOOKUP('entries and results'!M345,$H$3:$K$30018,2,FALSE)","v":" "},{"$f":"VLOOKUP('entries and results'!M345,$H$3:$K$30018,3,FALSE)","v":" "},{"$f":"VLOOKUP('entries and results'!M345,$H$3:$K$30018,4,FALSE)","v":" "}," ","00:00",null,null,null,null,null,null,null,null,null,null,null,null,null,null,null,null,null,null,null,null,null,null,null,null,null,null,null,null,null,null,null,null,null,null,null,null,null,null,null,null,null,null,null,"00:00",343,0,"0000000","00","00","00"]
["SA01595","Law & District AAC","1993-06-20","Thomas Lafferty","SA01595","Senior",".",344,{"$f":"VLOOKUP('entries and results'!G346,$A$3:$E$30018,4,FALSE)","v":" "},{"$f":"VLOOKUP('entries and results'!G346,$A$3:$F$30018,6,FALSE)","v":" "},{"$f":"VLOOKUP('entries and results'!G346,$A$3:$E$30018,2,FALSE)","v":" "},344,".",{"$f":"VLOOKUP('entries and results'!M346,$H$3:$K$30018,2,FALSE)","v":" "},{"$f":"VLOOKUP('entries and results'!M346,$H$3:$K$30018,3,FALSE)","v":" "},{"$f":"VLOOKUP('entries and results'!M346,$H$3:$K$30018,4,FALSE)","v":" "}," ","00:00",null,null,null,null,null,null,null,null,null,null,null,null,null,null,null,null,null,null,null,null,null,null,null,null,null,null,null,null,null,null,null,null,null,null,null,null,null,null,null,null,null,null,null,"00:00",344,0,"0000000","00","00","00"]
["SA01598","Mid Argyll AC","1993-01-18","Gary Turner","SA01598","Senior",".",345,{"$f":"VLOOKUP('entries and results'!G347,$A$3:$E$30018,4,FALSE)","v":" "},{"$f":"VLOOKUP('entries and results'!G347,$A$3:$F$30018,6,FALSE)","v":" "},{"$f":"VLOOKUP('entries and results'!G347,$A$3:$E$30018,2,FALSE)","v":" "},345,".",{"$f":"VLOOKUP('entries and results'!M347,$H$3:$K$30018,2,FALSE)","v":" "},{"$f":"VLOOKUP('entries and results'!M347,$H$3:$K$30018,3,FALSE)","v":" "},{"$f":"VLOOKUP('entries and results'!M347,$H$3:$K$30018,4,FALSE)","v":" "}," ","00:00",null,null,null,null,null,null,null,null,null,null,null,null,null,null,null,null,null,null,null,null,null,null,null,null,null,null,null,null,null,null,null,null,null,null,null,null,null,null,null,null,null,null,null,"00:00",345,0,"0000000","00","00","00"]
["SA01601","Edinburgh AC","1991-10-17","Gregor Maclean","SA01601","Senior",".",346,{"$f":"VLOOKUP('entries and results'!G348,$A$3:$E$30018,4,FALSE)","v":" "},{"$f":"VLOOKUP('entries and results'!G348,$A$3:$F$30018,6,FALSE)","v":" "},{"$f":"VLOOKUP('entries and results'!G348,$A$3:$E$30018,2,FALSE)","v":" "},346,".",{"$f":"VLOOKUP('entries and results'!M348,$H$3:$K$30018,2,FALSE)","v":" "},{"$f":"VLOOKUP('entries and results'!M348,$H$3:$K$30018,3,FALSE)","v":" "},{"$f":"VLOOKUP('entries and results'!M348,$H$3:$K$30018,4,FALSE)","v":" "}," ","00:00",null,null,null,null,null,null,null,null,null,null,null,null,null,null,null,null,null,null,null,null,null,null,null,null,null,null,null,null,null,null,null,null,null,null,null,null,null,null,null,null,null,null,null,"00:00",346,0,"0000000","00","00","00"]
["SA01609","Perth Strathtay Harriers","1991-01-17","Michelle MacKay","SA01609","Senior",".",347,{"$f":"VLOOKUP('entries and results'!G349,$A$3:$E$30018,4,FALSE)","v":" "},{"$f":"VLOOKUP('entries and results'!G349,$A$3:$F$30018,6,FALSE)","v":" "},{"$f":"VLOOKUP('entries and results'!G349,$A$3:$E$30018,2,FALSE)","v":" "},347,".",{"$f":"VLOOKUP('entries and results'!M349,$H$3:$K$30018,2,FALSE)","v":" "},{"$f":"VLOOKUP('entries and results'!M349,$H$3:$K$30018,3,FALSE)","v":" "},{"$f":"VLOOKUP('entries and results'!M349,$H$3:$K$30018,4,FALSE)","v":" "}," ","00:00",null,null,null,null,null,null,null,null,null,null,null,null,null,null,null,null,null,null,null,null,null,null,null,null,null,null,null,null,null,null,null,null,null,null,null,null,null,null,null,null,null,null,null,"00:00",347,0,"0000000","00","00","00"]
["SA01616","Ron Hill Cambuslang Harriers","1991-08-27","Caitlin Hendry","SA01616","Senior",".",348,{"$f":"VLOOKUP('entries and results'!G350,$A$3:$E$30018,4,FALSE)","v":" "},{"$f":"VLOOKUP('entries and results'!G350,$A$3:$F$30018,6,FALSE)","v":" "},{"$f":"VLOOKUP('entries and results'!G350,$A$3:$E$30018,2,FALSE)","v":" "},348,".",{"$f":"VLOOKUP('entries and results'!M350,$H$3:$K$30018,2,FALSE)","v":" "},{"$f":"VLOOKUP('entries and results'!M350,$H$3:$K$30018,3,FALSE)","v":" "},{"$f":"VLOOKUP('entries and results'!M350,$H$3:$K$30018,4,FALSE)","v":" "}," ","00:00",null,null,null,null,null,null,null,null,null,null,null,null,null,null,null,null,null,null,null,null,null,null,null,null,null,null,null,null,null,null,null,null,null,null,null,null,null,null,null,null,null,null,null,"00:00",348,0,"0000000","00","00","00"]
["SA01618","Ron Hill Cambuslang Harriers","1992-12-03","Stewart Orr","SA01618","Senior",".",349,{"$f":"VLOOKUP('entries and results'!G351,$A$3:$E$30018,4,FALSE)","v":" "},{"$f":"VLOOKUP('entries and results'!G351,$A$3:$F$30018,6,FALSE)","v":" "},{"$f":"VLOOKUP('entries and results'!G351,$A$3:$E$30018,2,FALSE)","v":" "},349,".",{"$f":"VLOOKUP('entries and results'!M351,$H$3:$K$30018,2,FALSE)","v":" "},{"$f":"VLOOKUP('entries and results'!M351,$H$3:$K$30018,3,FALSE)","v":" "},{"$f":"VLOOKUP('entries and results'!M351,$H$3:$K$30018,4,FALSE)","v":" "}," ","00:00",null,null,null,null,null,null,null,null,null,null,null,null,null,null,null,null,null,null,null,null,null,null,null,null,null,null,null,null,null,null,null,null,null,null,null,null,null,null,null,null,null,null,null,"00:00",349,0,"0000000","00","00","00"]
["SA01628","Whitemoss AAC","1992-12-18","Lynsey Greenfield","SA01628","Senior",".",350,{"$f":"VLOOKUP('entries and results'!G352,$A$3:$E$30018,4,FALSE)","v":" "},{"$f":"VLOOKUP('entries and results'!G352,$A$3:$F$30018,6,FALSE)","v":" "},{"$f":"VLOOKUP('entries and results'!G352,$A$3:$E$30018,2,FALSE)","v":" "},350,".",{"$f":"VLOOKUP('entries and results'!M352,$H$3:$K$30018,2,FALSE)","v":" "},{"$f":"VLOOKUP('entries and results'!M352,$H$3:$K$30018,3,FALSE)","v":" "},{"$f":"VLOOKUP('entries and results'!M352,$H$3:$K$30018,4,FALSE)","v":" "}," ","00:00",null,null,null,null,null,null,null,null,null,null,null,null,null,null,null,null,null,null,null,null,null,null,null,null,null,null,null,null,null,null,null,null,null,null,null,null,null,null,null,null,null,null,null,"00:00",350,0,"0000000","00","00","00"]
["SA01639","Carnegie Harriers","1995-04-29","Fergus McGaw","SA01639","Under 17",".",351,{"$f":"VLOOKUP('entries and results'!G353,$A$3:$E$30018,4,FALSE)","v":" "},{"$f":"VLOOKUP('entries and results'!G353,$A$3:$F$30018,6,FALSE)","v":" "},{"$f":"VLOOKUP('entries and results'!G353,$A$3:$E$30018,2,FALSE)","v":" "},351,".",{"$f":"VLOOKUP('entries and results'!M353,$H$3:$K$30018,2,FALSE)","v":" "},{"$f":"VLOOKUP('entries and results'!M353,$H$3:$K$30018,3,FALSE)","v":" "},{"$f":"VLOOKUP('entries and results'!M353,$H$3:$K$30018,4,FALSE)","v":" "}," ","00:00",null,null,null,null,null,null,null,null,null,null,null,null,null,null,null,null,null,null,null,null,null,null,null,null,null,null,null,null,null,null,null,null,null,null,null,null,null,null,null,null,null,null,null,"00:00",351,0,"0000000","00","00","00"]
["SA01643","Amber Valley A.C.","1987-10-17","David Feeney","SA01643","Senior",".",352,{"$f":"VLOOKUP('entries and results'!G354,$A$3:$E$30018,4,FALSE)","v":" "},{"$f":"VLOOKUP('entries and results'!G354,$A$3:$F$30018,6,FALSE)","v":" "},{"$f":"VLOOKUP('entries and results'!G354,$A$3:$E$30018,2,FALSE)","v":" "},352,".",{"$f":"VLOOKUP('entries and results'!M354,$H$3:$K$30018,2,FALSE)","v":" "},{"$f":"VLOOKUP('entries and results'!M354,$H$3:$K$30018,3,FALSE)","v":" "},{"$f":"VLOOKUP('entries and results'!M354,$H$3:$K$30018,4,FALSE)","v":" "}," ","00:00",null,null,null,null,null,null,null,null,null,null,null,null,null,null,null,null,null,null,null,null,null,null,null,null,null,null,null,null,null,null,null,null,null,null,null,null,null,null,null,null,null,null,null,"00:00",352,0,"0000000","00","00","00"]
["SA01646","Ayr Seaforth AAC","1995-06-28","Jemma McSheffery","SA01646","Under 17",".",353,{"$f":"VLOOKUP('entries and results'!G355,$A$3:$E$30018,4,FALSE)","v":" "},{"$f":"VLOOKUP('entries and results'!G355,$A$3:$F$30018,6,FALSE)","v":" "},{"$f":"VLOOKUP('entries and results'!G355,$A$3:$E$30018,2,FALSE)","v":" "},353,".",{"$f":"VLOOKUP('entries and results'!M355,$H$3:$K$30018,2,FALSE)","v":" "},{"$f":"VLOOKUP('entries and results'!M355,$H$3:$K$30018,3,FALSE)","v":" "},{"$f":"VLOOKUP('entries and results'!M355,$H$3:$K$30018,4,FALSE)","v":" "}," ","00:00",null,null,null,null,null,null,null,null,null,null,null,null,null,null,null,null,null,null,null,null,null,null,null,null,null,null,null,null,null,null,null,null,null,null,null,null,null,null,null,null,null,null,null,"00:00",353,0,"0000000","00","00","00"]
["SA01649","East Sutherland AC","1994-11-29","Jade Currie","SA01649","Under 17",".",354,{"$f":"VLOOKUP('entries and results'!G356,$A$3:$E$30018,4,FALSE)","v":" "},{"$f":"VLOOKUP('entries and results'!G356,$A$3:$F$30018,6,FALSE)","v":" "},{"$f":"VLOOKUP('entries and results'!G356,$A$3:$E$30018,2,FALSE)","v":" "},354,".",{"$f":"VLOOKUP('entries and results'!M356,$H$3:$K$30018,2,FALSE)","v":" "},{"$f":"VLOOKUP('entries and results'!M356,$H$3:$K$30018,3,FALSE)","v":" "},{"$f":"VLOOKUP('entries and results'!M356,$H$3:$K$30018,4,FALSE)","v":" "}," ","00:00",null,null,null,null,null,null,null,null,null,null,null,null,null,null,null,null,null,null,null,null,null,null,null,null,null,null,null,null,null,null,null,null,null,null,null,null,null,null,null,null,null,null,null,"00:00",354,0,"0000000","00","00","00"]
["SA01650","Edinburgh AC","1995-04-30","Emma Dunnett","SA01650","Under 17",".",355,{"$f":"VLOOKUP('entries and results'!G357,$A$3:$E$30018,4,FALSE)","v":" "},{"$f":"VLOOKUP('entries and results'!G357,$A$3:$F$30018,6,FALSE)","v":" "},{"$f":"VLOOKUP('entries and results'!G357,$A$3:$E$30018,2,FALSE)","v":" "},355,".",{"$f":"VLOOKUP('entries and results'!M357,$H$3:$K$30018,2,FALSE)","v":" "},{"$f":"VLOOKUP('entries and results'!M357,$H$3:$K$30018,3,FALSE)","v":" "},{"$f":"VLOOKUP('entries and results'!M357,$H$3:$K$30018,4,FALSE)","v":" "}," ","00:00",null,null,null,null,null,null,null,null,null,null,null,null,null,null,null,null,null,null,null,null,null,null,null,null,null,null,null,null,null,null,null,null,null,null,null,null,null,null,null,null,null,null,null,"00:00",355,0,"0000000","00","00","00"]
["SA01651","Edinburgh AC","1995-04-30","Oonagh Dunnett","SA01651","Under 17",".",356,{"$f":"VLOOKUP('entries and results'!G358,$A$3:$E$30018,4,FALSE)","v":" "},{"$f":"VLOOKUP('entries and results'!G358,$A$3:$F$30018,6,FALSE)","v":" "},{"$f":"VLOOKUP('entries and results'!G358,$A$3:$E$30018,2,FALSE)","v":" "},356,".",{"$f":"VLOOKUP('entries and results'!M358,$H$3:$K$30018,2,FALSE)","v":" "},{"$f":"VLOOKUP('entries and results'!M358,$H$3:$K$30018,3,FALSE)","v":" "},{"$f":"VLOOKUP('entries and results'!M358,$H$3:$K$30018,4,FALSE)","v":" "}," ","00:00",null,null,null,null,null,null,null,null,null,null,null,null,null,null,null,null,null,null,null,null,null,null,null,null,null,null,null,null,null,null,null,null,null,null,null,null,null,null,null,null,null,null,null,"00:00",356,0,"0000000","00","00","00"]
["SA01652","Caithness AAC","1994-10-16","Rob Murdoch","SA01652","Under 17",".",357,{"$f":"VLOOKUP('entries and results'!G359,$A$3:$E$30018,4,FALSE)","v":" "},{"$f":"VLOOKUP('entries and results'!G359,$A$3:$F$30018,6,FALSE)","v":" "},{"$f":"VLOOKUP('entries and results'!G359,$A$3:$E$30018,2,FALSE)","v":" "},357,".",{"$f":"VLOOKUP('entries and results'!M359,$H$3:$K$30018,2,FALSE)","v":" "},{"$f":"VLOOKUP('entries and results'!M359,$H$3:$K$30018,3,FALSE)","v":" "},{"$f":"VLOOKUP('entries and results'!M359,$H$3:$K$30018,4,FALSE)","v":" "}," ","00:00",null,null,null,null,null,null,null,null,null,null,null,null,null,null,null,null,null,null,null,null,null,null,null,null,null,null,null,null,null,null,null,null,null,null,null,null,null,null,null,null,null,null,null,"00:00",357,0,"0000000","00","00","00"]
["SA01653","Caithness AAC","1992-12-18","Sam O'Kane","SA01653","Senior",".",358,{"$f":"VLOOKUP('entries and results'!G360,$A$3:$E$30018,4,FALSE)","v":" "},{"$f":"VLOOKUP('entries and results'!G360,$A$3:$F$30018,6,FALSE)","v":" "},{"$f":"VLOOKUP('entries and results'!G360,$A$3:$E$30018,2,FALSE)","v":" "},358,".",{"$f":"VLOOKUP('entries and results'!M360,$H$3:$K$30018,2,FALSE)","v":" "},{"$f":"VLOOKUP('entries and results'!M360,$H$3:$K$30018,3,FALSE)","v":" "},{"$f":"VLOOKUP('entries and results'!M360,$H$3:$K$30018,4,FALSE)","v":" "}," ","00:00",null,null,null,null,null,null,null,null,null,null,null,null,null,null,null,null,null,null,null,null,null,null,null,null,null,null,null,null,null,null,null,null,null,null,null,null,null,null,null,null,null,null,null,"00:00",358,0,"0000000","00","00","00"]
["SA01657","Central AC","1988-10-22","Graham Harvey","SA01657","Senior",".",359,{"$f":"VLOOKUP('entries and results'!G361,$A$3:$E$30018,4,FALSE)","v":" "},{"$f":"VLOOKUP('entries and results'!G361,$A$3:$F$30018,6,FALSE)","v":" "},{"$f":"VLOOKUP('entries and results'!G361,$A$3:$E$30018,2,FALSE)","v":" "},359,".",{"$f":"VLOOKUP('entries and results'!M361,$H$3:$K$30018,2,FALSE)","v":" "},{"$f":"VLOOKUP('entries and results'!M361,$H$3:$K$30018,3,FALSE)","v":" "},{"$f":"VLOOKUP('entries and results'!M361,$H$3:$K$30018,4,FALSE)","v":" "}," ","00:00",null,null,null,null,null,null,null,null,null,null,null,null,null,null,null,null,null,null,null,null,null,null,null,null,null,null,null,null,null,null,null,null,null,null,null,null,null,null,null,null,null,null,null,"00:00",359,0,"0000000","00","00","00"]
["SA01658","Central AC","1992-10-19","Kyle Henderson","SA01658","Senior",".",360,{"$f":"VLOOKUP('entries and results'!G362,$A$3:$E$30018,4,FALSE)","v":" "},{"$f":"VLOOKUP('entries and results'!G362,$A$3:$F$30018,6,FALSE)","v":" "},{"$f":"VLOOKUP('entries and results'!G362,$A$3:$E$30018,2,FALSE)","v":" "},360,".",{"$f":"VLOOKUP('entries and results'!M362,$H$3:$K$30018,2,FALSE)","v":" "},{"$f":"VLOOKUP('entries and results'!M362,$H$3:$K$30018,3,FALSE)","v":" "},{"$f":"VLOOKUP('entries and results'!M362,$H$3:$K$30018,4,FALSE)","v":" "}," ","00:00",null,null,null,null,null,null,null,null,null,null,null,null,null,null,null,null,null,null,null,null,null,null,null,null,null,null,null,null,null,null,null,null,null,null,null,null,null,null,null,null,null,null,null,"00:00",360,0,"0000000","00","00","00"]
["SA01659","Central AC","1990-09-24","Sean Reilly","SA01659","Senior",".",361,{"$f":"VLOOKUP('entries and results'!G363,$A$3:$E$30018,4,FALSE)","v":" "},{"$f":"VLOOKUP('entries and results'!G363,$A$3:$F$30018,6,FALSE)","v":" "},{"$f":"VLOOKUP('entries and results'!G363,$A$3:$E$30018,2,FALSE)","v":" "},361,".",{"$f":"VLOOKUP('entries and results'!M363,$H$3:$K$30018,2,FALSE)","v":" "},{"$f":"VLOOKUP('entries and results'!M363,$H$3:$K$30018,3,FALSE)","v":" "},{"$f":"VLOOKUP('entries and results'!M363,$H$3:$K$30018,4,FALSE)","v":" "}," ","00:00",null,null,null,null,null,null,null,null,null,null,null,null,null,null,null,null,null,null,null,null,null,null,null,null,null,null,null,null,null,null,null,null,null,null,null,null,null,null,null,null,null,null,null,"00:00",361,0,"0000000","00","00","00"]
["SA01660","Edinburgh AC","1994-03-10","Faye Kearney","SA01660","Under 17",".",362,{"$f":"VLOOKUP('entries and results'!G364,$A$3:$E$30018,4,FALSE)","v":" "},{"$f":"VLOOKUP('entries and results'!G364,$A$3:$F$30018,6,FALSE)","v":" "},{"$f":"VLOOKUP('entries and results'!G364,$A$3:$E$30018,2,FALSE)","v":" "},362,".",{"$f":"VLOOKUP('entries and results'!M364,$H$3:$K$30018,2,FALSE)","v":" "},{"$f":"VLOOKUP('entries and results'!M364,$H$3:$K$30018,3,FALSE)","v":" "},{"$f":"VLOOKUP('entries and results'!M364,$H$3:$K$30018,4,FALSE)","v":" "}," ","00:00",null,null,null,null,null,null,null,null,null,null,null,null,null,null,null,null,null,null,null,null,null,null,null,null,null,null,null,null,null,null,null,null,null,null,null,null,null,null,null,null,null,null,null,"00:00",362,0,"0000000","00","00","00"]
["SA01662","Edinburgh AC","1991-10-14","Fraser Mann","SA01662","Senior",".",363,{"$f":"VLOOKUP('entries and results'!G365,$A$3:$E$30018,4,FALSE)","v":" "},{"$f":"VLOOKUP('entries and results'!G365,$A$3:$F$30018,6,FALSE)","v":" "},{"$f":"VLOOKUP('entries and results'!G365,$A$3:$E$30018,2,FALSE)","v":" "},363,".",{"$f":"VLOOKUP('entries and results'!M365,$H$3:$K$30018,2,FALSE)","v":" "},{"$f":"VLOOKUP('entries and results'!M365,$H$3:$K$30018,3,FALSE)","v":" "},{"$f":"VLOOKUP('entries and results'!M365,$H$3:$K$30018,4,FALSE)","v":" "}," ","00:00",null,null,null,null,null,null,null,null,null,null,null,null,null,null,null,null,null,null,null,null,null,null,null,null,null,null,null,null,null,null,null,null,null,null,null,null,null,null,null,null,null,null,null,"00:00",363,0,"0000000","00","00","00"]
["SA01663","Edinburgh AC","1995-07-13","Olivia O'Hare","SA01663","Under 17",".",364,{"$f":"VLOOKUP('entries and results'!G366,$A$3:$E$30018,4,FALSE)","v":" "},{"$f":"VLOOKUP('entries and results'!G366,$A$3:$F$30018,6,FALSE)","v":" "},{"$f":"VLOOKUP('entries and results'!G366,$A$3:$E$30018,2,FALSE)","v":" "},364,".",{"$f":"VLOOKUP('entries and results'!M366,$H$3:$K$30018,2,FALSE)","v":" "},{"$f":"VLOOKUP('entries and results'!M366,$H$3:$K$30018,3,FALSE)","v":" "},{"$f":"VLOOKUP('entries and results'!M366,$H$3:$K$30018,4,FALSE)","v":" "}," ","00:00",null,null,null,null,null,null,null,null,null,null,null,null,null,null,null,null,null,null,null,null,null,null,null,null,null,null,null,null,null,null,null,null,null,null,null,null,null,null,null,null,null,null,null,"00:00",364,0,"0000000","00","00","00"]
["SA01666","VP-Glasgow AC","1993-05-03","Michaela Stephen","SA01666","Senior",".",365,{"$f":"VLOOKUP('entries and results'!G367,$A$3:$E$30018,4,FALSE)","v":" "},{"$f":"VLOOKUP('entries and results'!G367,$A$3:$F$30018,6,FALSE)","v":" "},{"$f":"VLOOKUP('entries and results'!G367,$A$3:$E$30018,2,FALSE)","v":" "},365,".",{"$f":"VLOOKUP('entries and results'!M367,$H$3:$K$30018,2,FALSE)","v":" "},{"$f":"VLOOKUP('entries and results'!M367,$H$3:$K$30018,3,FALSE)","v":" "},{"$f":"VLOOKUP('entries and results'!M367,$H$3:$K$30018,4,FALSE)","v":" "}," ","00:00",null,null,null,null,null,null,null,null,null,null,null,null,null,null,null,null,null,null,null,null,null,null,null,null,null,null,null,null,null,null,null,null,null,null,null,null,null,null,null,null,null,null,null,"00:00",365,0,"0000000","00","00","00"]
["SA01670","East Kilbride A.C.","1989-09-18","Jamie Clements","SA01670","Senior",".",366,{"$f":"VLOOKUP('entries and results'!G368,$A$3:$E$30018,4,FALSE)","v":" "},{"$f":"VLOOKUP('entries and results'!G368,$A$3:$F$30018,6,FALSE)","v":" "},{"$f":"VLOOKUP('entries and results'!G368,$A$3:$E$30018,2,FALSE)","v":" "},366,".",{"$f":"VLOOKUP('entries and results'!M368,$H$3:$K$30018,2,FALSE)","v":" "},{"$f":"VLOOKUP('entries and results'!M368,$H$3:$K$30018,3,FALSE)","v":" "},{"$f":"VLOOKUP('entries and results'!M368,$H$3:$K$30018,4,FALSE)","v":" "}," ","00:00",null,null,null,null,null,null,null,null,null,null,null,null,null,null,null,null,null,null,null,null,null,null,null,null,null,null,null,null,null,null,null,null,null,null,null,null,null,null,null,null,null,null,null,"00:00",366,0,"0000000","00","00","00"]
["SA01671","East Kilbride A.C.","1991-04-04","Beth Duff","SA01671","Senior",".",367,{"$f":"VLOOKUP('entries and results'!G369,$A$3:$E$30018,4,FALSE)","v":" "},{"$f":"VLOOKUP('entries and results'!G369,$A$3:$F$30018,6,FALSE)","v":" "},{"$f":"VLOOKUP('entries and results'!G369,$A$3:$E$30018,2,FALSE)","v":" "},367,".",{"$f":"VLOOKUP('entries and results'!M369,$H$3:$K$30018,2,FALSE)","v":" "},{"$f":"VLOOKUP('entries and results'!M369,$H$3:$K$30018,3,FALSE)","v":" "},{"$f":"VLOOKUP('entries and results'!M369,$H$3:$K$30018,4,FALSE)","v":" "}," ","00:00",null,null,null,null,null,null,null,null,null,null,null,null,null,null,null,null,null,null,null,null,null,null,null,null,null,null,null,null,null,null,null,null,null,null,null,null,null,null,null,null,null,null,null,"00:00",367,0,"0000000","00","00","00"]
["SA01677","Edinburgh AC","1993-06-25","Claire Florence","SA01677","Senior",".",368,{"$f":"VLOOKUP('entries and results'!G370,$A$3:$E$30018,4,FALSE)","v":" "},{"$f":"VLOOKUP('entries and results'!G370,$A$3:$F$30018,6,FALSE)","v":" "},{"$f":"VLOOKUP('entries and results'!G370,$A$3:$E$30018,2,FALSE)","v":" "},368,".",{"$f":"VLOOKUP('entries and results'!M370,$H$3:$K$30018,2,FALSE)","v":" "},{"$f":"VLOOKUP('entries and results'!M370,$H$3:$K$30018,3,FALSE)","v":" "},{"$f":"VLOOKUP('entries and results'!M370,$H$3:$K$30018,4,FALSE)","v":" "}," ","00:00",null,null,null,null,null,null,null,null,null,null,null,null,null,null,null,null,null,null,null,null,null,null,null,null,null,null,null,null,null,null,null,null,null,null,null,null,null,null,null,null,null,null,null,"00:00",368,0,"0000000","00","00","00"]
["SA01679","Edinburgh AC","1991-12-24","Emily Stewart","SA01679","Senior",".",369,{"$f":"VLOOKUP('entries and results'!G371,$A$3:$E$30018,4,FALSE)","v":" "},{"$f":"VLOOKUP('entries and results'!G371,$A$3:$F$30018,6,FALSE)","v":" "},{"$f":"VLOOKUP('entries and results'!G371,$A$3:$E$30018,2,FALSE)","v":" "},369,".",{"$f":"VLOOKUP('entries and results'!M371,$H$3:$K$30018,2,FALSE)","v":" "},{"$f":"VLOOKUP('entries and results'!M371,$H$3:$K$30018,3,FALSE)","v":" "},{"$f":"VLOOKUP('entries and results'!M371,$H$3:$K$30018,4,FALSE)","v":" "}," ","00:00",null,null,null,null,null,null,null,null,null,null,null,null,null,null,null,null,null,null,null,null,null,null,null,null,null,null,null,null,null,null,null,null,null,null,null,null,null,null,null,null,null,null,null,"00:00",369,0,"0000000","00","00","00"]
["SA01680","Edinburgh AC","1994-06-19","Louisa Stewart","SA01680","Under 17",".",370,{"$f":"VLOOKUP('entries and results'!G372,$A$3:$E$30018,4,FALSE)","v":" "},{"$f":"VLOOKUP('entries and results'!G372,$A$3:$F$30018,6,FALSE)","v":" "},{"$f":"VLOOKUP('entries and results'!G372,$A$3:$E$30018,2,FALSE)","v":" "},370,".",{"$f":"VLOOKUP('entries and results'!M372,$H$3:$K$30018,2,FALSE)","v":" "},{"$f":"VLOOKUP('entries and results'!M372,$H$3:$K$30018,3,FALSE)","v":" "},{"$f":"VLOOKUP('entries and results'!M372,$H$3:$K$30018,4,FALSE)","v":" "}," ","00:00",null,null,null,null,null,null,null,null,null,null,null,null,null,null,null,null,null,null,null,null,null,null,null,null,null,null,null,null,null,null,null,null,null,null,null,null,null,null,null,null,null,null,null,"00:00",370,0,"0000000","00","00","00"]
["SA01681","Ellon AAC","1994-07-03","Kelly Bodley","SA01681","Under 17",".",371,{"$f":"VLOOKUP('entries and results'!G373,$A$3:$E$30018,4,FALSE)","v":" "},{"$f":"VLOOKUP('entries and results'!G373,$A$3:$F$30018,6,FALSE)","v":" "},{"$f":"VLOOKUP('entries and results'!G373,$A$3:$E$30018,2,FALSE)","v":" "},371,".",{"$f":"VLOOKUP('entries and results'!M373,$H$3:$K$30018,2,FALSE)","v":" "},{"$f":"VLOOKUP('entries and results'!M373,$H$3:$K$30018,3,FALSE)","v":" "},{"$f":"VLOOKUP('entries and results'!M373,$H$3:$K$30018,4,FALSE)","v":" "}," ","00:00",null,null,null,null,null,null,null,null,null,null,null,null,null,null,null,null,null,null,null,null,null,null,null,null,null,null,null,null,null,null,null,null,null,null,null,null,null,null,null,null,null,null,null,"00:00",371,0,"0000000","00","00","00"]
["SA01682","Ellon AAC","1990-10-02","Michelle Bodley","SA01682","Senior",".",372,{"$f":"VLOOKUP('entries and results'!G374,$A$3:$E$30018,4,FALSE)","v":" "},{"$f":"VLOOKUP('entries and results'!G374,$A$3:$F$30018,6,FALSE)","v":" "},{"$f":"VLOOKUP('entries and results'!G374,$A$3:$E$30018,2,FALSE)","v":" "},372,".",{"$f":"VLOOKUP('entries and results'!M374,$H$3:$K$30018,2,FALSE)","v":" "},{"$f":"VLOOKUP('entries and results'!M374,$H$3:$K$30018,3,FALSE)","v":" "},{"$f":"VLOOKUP('entries and results'!M374,$H$3:$K$30018,4,FALSE)","v":" "}," ","00:00",null,null,null,null,null,null,null,null,null,null,null,null,null,null,null,null,null,null,null,null,null,null,null,null,null,null,null,null,null,null,null,null,null,null,null,null,null,null,null,null,null,null,null,"00:00",372,0,"0000000","00","00","00"]
["SA01684","Falkirk Victoria Harriers","1991-12-11","Kyle Randalls","SA01684","Senior",".",373,{"$f":"VLOOKUP('entries and results'!G375,$A$3:$E$30018,4,FALSE)","v":" "},{"$f":"VLOOKUP('entries and results'!G375,$A$3:$F$30018,6,FALSE)","v":" "},{"$f":"VLOOKUP('entries and results'!G375,$A$3:$E$30018,2,FALSE)","v":" "},373,".",{"$f":"VLOOKUP('entries and results'!M375,$H$3:$K$30018,2,FALSE)","v":" "},{"$f":"VLOOKUP('entries and results'!M375,$H$3:$K$30018,3,FALSE)","v":" "},{"$f":"VLOOKUP('entries and results'!M375,$H$3:$K$30018,4,FALSE)","v":" "}," ","00:00",null,null,null,null,null,null,null,null,null,null,null,null,null,null,null,null,null,null,null,null,null,null,null,null,null,null,null,null,null,null,null,null,null,null,null,null,null,null,null,null,null,null,null,"00:00",373,0,"0000000","00","00","00"]
["SA01686","Fife AC","1992-01-29","Kiri Stone","SA01686","Senior",".",374,{"$f":"VLOOKUP('entries and results'!G376,$A$3:$E$30018,4,FALSE)","v":" "},{"$f":"VLOOKUP('entries and results'!G376,$A$3:$F$30018,6,FALSE)","v":" "},{"$f":"VLOOKUP('entries and results'!G376,$A$3:$E$30018,2,FALSE)","v":" "},374,".",{"$f":"VLOOKUP('entries and results'!M376,$H$3:$K$30018,2,FALSE)","v":" "},{"$f":"VLOOKUP('entries and results'!M376,$H$3:$K$30018,3,FALSE)","v":" "},{"$f":"VLOOKUP('entries and results'!M376,$H$3:$K$30018,4,FALSE)","v":" "}," ","00:00",null,null,null,null,null,null,null,null,null,null,null,null,null,null,null,null,null,null,null,null,null,null,null,null,null,null,null,null,null,null,null,null,null,null,null,null,null,null,null,null,null,null,null,"00:00",374,0,"0000000","00","00","00"]
["SA01688","Forres Harriers","1992-02-14","Eleanor Duncan","SA01688","Senior",".",375,{"$f":"VLOOKUP('entries and results'!G377,$A$3:$E$30018,4,FALSE)","v":" "},{"$f":"VLOOKUP('entries and results'!G377,$A$3:$F$30018,6,FALSE)","v":" "},{"$f":"VLOOKUP('entries and results'!G377,$A$3:$E$30018,2,FALSE)","v":" "},375,".",{"$f":"VLOOKUP('entries and results'!M377,$H$3:$K$30018,2,FALSE)","v":" "},{"$f":"VLOOKUP('entries and results'!M377,$H$3:$K$30018,3,FALSE)","v":" "},{"$f":"VLOOKUP('entries and results'!M377,$H$3:$K$30018,4,FALSE)","v":" "}," ","00:00",null,null,null,null,null,null,null,null,null,null,null,null,null,null,null,null,null,null,null,null,null,null,null,null,null,null,null,null,null,null,null,null,null,null,null,null,null,null,null,null,null,null,null,"00:00",375,0,"0000000","00","00","00"]
["SA01701","Inverclyde AC","1989-02-02","Sean Gaffney","SA01701","Senior",".",376,{"$f":"VLOOKUP('entries and results'!G378,$A$3:$E$30018,4,FALSE)","v":" "},{"$f":"VLOOKUP('entries and results'!G378,$A$3:$F$30018,6,FALSE)","v":" "},{"$f":"VLOOKUP('entries and results'!G378,$A$3:$E$30018,2,FALSE)","v":" "},376,".",{"$f":"VLOOKUP('entries and results'!M378,$H$3:$K$30018,2,FALSE)","v":" "},{"$f":"VLOOKUP('entries and results'!M378,$H$3:$K$30018,3,FALSE)","v":" "},{"$f":"VLOOKUP('entries and results'!M378,$H$3:$K$30018,4,FALSE)","v":" "}," ","00:00",null,null,null,null,null,null,null,null,null,null,null,null,null,null,null,null,null,null,null,null,null,null,null,null,null,null,null,null,null,null,null,null,null,null,null,null,null,null,null,null,null,null,null,"00:00",376,0,"0000000","00","00","00"]
["SA01703","Irvine AC","1991-08-28","Ryan McDonald","SA01703","Senior",".",377,{"$f":"VLOOKUP('entries and results'!G379,$A$3:$E$30018,4,FALSE)","v":" "},{"$f":"VLOOKUP('entries and results'!G379,$A$3:$F$30018,6,FALSE)","v":" "},{"$f":"VLOOKUP('entries and results'!G379,$A$3:$E$30018,2,FALSE)","v":" "},377,".",{"$f":"VLOOKUP('entries and results'!M379,$H$3:$K$30018,2,FALSE)","v":" "},{"$f":"VLOOKUP('entries and results'!M379,$H$3:$K$30018,3,FALSE)","v":" "},{"$f":"VLOOKUP('entries and results'!M379,$H$3:$K$30018,4,FALSE)","v":" "}," ","00:00",null,null,null,null,null,null,null,null,null,null,null,null,null,null,null,null,null,null,null,null,null,null,null,null,null,null,null,null,null,null,null,null,null,null,null,null,null,null,null,null,null,null,null,"00:00",377,0,"0000000","00","00","00"]
["SA01707","Kilbarchan AAC","1989-07-27","Elspeth Curran","SA01707","Senior",".",378,{"$f":"VLOOKUP('entries and results'!G380,$A$3:$E$30018,4,FALSE)","v":" "},{"$f":"VLOOKUP('entries and results'!G380,$A$3:$F$30018,6,FALSE)","v":" "},{"$f":"VLOOKUP('entries and results'!G380,$A$3:$E$30018,2,FALSE)","v":" "},378,".",{"$f":"VLOOKUP('entries and results'!M380,$H$3:$K$30018,2,FALSE)","v":" "},{"$f":"VLOOKUP('entries and results'!M380,$H$3:$K$30018,3,FALSE)","v":" "},{"$f":"VLOOKUP('entries and results'!M380,$H$3:$K$30018,4,FALSE)","v":" "}," ","00:00",null,null,null,null,null,null,null,null,null,null,null,null,null,null,null,null,null,null,null,null,null,null,null,null,null,null,null,null,null,null,null,null,null,null,null,null,null,null,null,null,null,null,null,"00:00",378,0,"0000000","00","00","00"]
["SA01709","Kilbarchan AAC","1989-01-14","Martin Lipton","SA01709","Senior",".",379,{"$f":"VLOOKUP('entries and results'!G381,$A$3:$E$30018,4,FALSE)","v":" "},{"$f":"VLOOKUP('entries and results'!G381,$A$3:$F$30018,6,FALSE)","v":" "},{"$f":"VLOOKUP('entries and results'!G381,$A$3:$E$30018,2,FALSE)","v":" "},379,".",{"$f":"VLOOKUP('entries and results'!M381,$H$3:$K$30018,2,FALSE)","v":" "},{"$f":"VLOOKUP('entries and results'!M381,$H$3:$K$30018,3,FALSE)","v":" "},{"$f":"VLOOKUP('entries and results'!M381,$H$3:$K$30018,4,FALSE)","v":" "}," ","00:00",null,null,null,null,null,null,null,null,null,null,null,null,null,null,null,null,null,null,null,null,null,null,null,null,null,null,null,null,null,null,null,null,null,null,null,null,null,null,null,null,null,null,null,"00:00",379,0,"0000000","00","00","00"]
["SA01711","Kilbarchan AAC","1990-10-25","Jessica Martin","SA01711","Senior",".",380,{"$f":"VLOOKUP('entries and results'!G382,$A$3:$E$30018,4,FALSE)","v":" "},{"$f":"VLOOKUP('entries and results'!G382,$A$3:$F$30018,6,FALSE)","v":" "},{"$f":"VLOOKUP('entries and results'!G382,$A$3:$E$30018,2,FALSE)","v":" "},380,".",{"$f":"VLOOKUP('entries and results'!M382,$H$3:$K$30018,2,FALSE)","v":" "},{"$f":"VLOOKUP('entries and results'!M382,$H$3:$K$30018,3,FALSE)","v":" "},{"$f":"VLOOKUP('entries and results'!M382,$H$3:$K$30018,4,FALSE)","v":" "}," ","00:00",null,null,null,null,null,null,null,null,null,null,null,null,null,null,null,null,null,null,null,null,null,null,null,null,null,null,null,null,null,null,null,null,null,null,null,null,null,null,null,null,null,null,null,"00:00",380,0,"0000000","00","00","00"]
["SA01719","VP-Glasgow AC","1994-04-14","Andrea Gaffney","SA01719","Under 17",".",381,{"$f":"VLOOKUP('entries and results'!G383,$A$3:$E$30018,4,FALSE)","v":" "},{"$f":"VLOOKUP('entries and results'!G383,$A$3:$F$30018,6,FALSE)","v":" "},{"$f":"VLOOKUP('entries and results'!G383,$A$3:$E$30018,2,FALSE)","v":" "},381,".",{"$f":"VLOOKUP('entries and results'!M383,$H$3:$K$30018,2,FALSE)","v":" "},{"$f":"VLOOKUP('entries and results'!M383,$H$3:$K$30018,3,FALSE)","v":" "},{"$f":"VLOOKUP('entries and results'!M383,$H$3:$K$30018,4,FALSE)","v":" "}," ","00:00",null,null,null,null,null,null,null,null,null,null,null,null,null,null,null,null,null,null,null,null,null,null,null,null,null,null,null,null,null,null,null,null,null,null,null,null,null,null,null,null,null,null,null,"00:00",381,0,"0000000","00","00","00"]
["SA01720","VP-Glasgow AC","1992-04-07","Jennifer Hannah","SA01720","Senior",".",382,{"$f":"VLOOKUP('entries and results'!G384,$A$3:$E$30018,4,FALSE)","v":" "},{"$f":"VLOOKUP('entries and results'!G384,$A$3:$F$30018,6,FALSE)","v":" "},{"$f":"VLOOKUP('entries and results'!G384,$A$3:$E$30018,2,FALSE)","v":" "},382,".",{"$f":"VLOOKUP('entries and results'!M384,$H$3:$K$30018,2,FALSE)","v":" "},{"$f":"VLOOKUP('entries and results'!M384,$H$3:$K$30018,3,FALSE)","v":" "},{"$f":"VLOOKUP('entries and results'!M384,$H$3:$K$30018,4,FALSE)","v":" "}," ","00:00",null,null,null,null,null,null,null,null,null,null,null,null,null,null,null,null,null,null,null,null,null,null,null,null,null,null,null,null,null,null,null,null,null,null,null,null,null,null,null,null,null,null,null,"00:00",382,0,"0000000","00","00","00"]
["SA01722","Kirkintilloch Olympians","1993-06-05","Alexandra Lamond","SA01722","Senior",".",383,{"$f":"VLOOKUP('entries and results'!G385,$A$3:$E$30018,4,FALSE)","v":" "},{"$f":"VLOOKUP('entries and results'!G385,$A$3:$F$30018,6,FALSE)","v":" "},{"$f":"VLOOKUP('entries and results'!G385,$A$3:$E$30018,2,FALSE)","v":" "},383,".",{"$f":"VLOOKUP('entries and results'!M385,$H$3:$K$30018,2,FALSE)","v":" "},{"$f":"VLOOKUP('entries and results'!M385,$H$3:$K$30018,3,FALSE)","v":" "},{"$f":"VLOOKUP('entries and results'!M385,$H$3:$K$30018,4,FALSE)","v":" "}," ","00:00",null,null,null,null,null,null,null,null,null,null,null,null,null,null,null,null,null,null,null,null,null,null,null,null,null,null,null,null,null,null,null,null,null,null,null,null,null,null,null,null,null,null,null,"00:00",383,0,"0000000","00","00","00"]
["SA01723","Shettleston Harriers","1990-11-18","John Ruddy","SA01723","Senior",".",384,{"$f":"VLOOKUP('entries and results'!G386,$A$3:$E$30018,4,FALSE)","v":" "},{"$f":"VLOOKUP('entries and results'!G386,$A$3:$F$30018,6,FALSE)","v":" "},{"$f":"VLOOKUP('entries and results'!G386,$A$3:$E$30018,2,FALSE)","v":" "},384,".",{"$f":"VLOOKUP('entries and results'!M386,$H$3:$K$30018,2,FALSE)","v":" "},{"$f":"VLOOKUP('entries and results'!M386,$H$3:$K$30018,3,FALSE)","v":" "},{"$f":"VLOOKUP('entries and results'!M386,$H$3:$K$30018,4,FALSE)","v":" "}," ","00:00",null,null,null,null,null,null,null,null,null,null,null,null,null,null,null,null,null,null,null,null,null,null,null,null,null,null,null,null,null,null,null,null,null,null,null,null,null,null,null,null,null,null,null,"00:00",384,0,"0000000","00","00","00"]
["SA01726","Lasswade AAC","1994-06-26","Ryan Cook","SA01726","Under 17",".",385,{"$f":"VLOOKUP('entries and results'!G387,$A$3:$E$30018,4,FALSE)","v":" "},{"$f":"VLOOKUP('entries and results'!G387,$A$3:$F$30018,6,FALSE)","v":" "},{"$f":"VLOOKUP('entries and results'!G387,$A$3:$E$30018,2,FALSE)","v":" "},385,".",{"$f":"VLOOKUP('entries and results'!M387,$H$3:$K$30018,2,FALSE)","v":" "},{"$f":"VLOOKUP('entries and results'!M387,$H$3:$K$30018,3,FALSE)","v":" "},{"$f":"VLOOKUP('entries and results'!M387,$H$3:$K$30018,4,FALSE)","v":" "}," ","00:00",null,null,null,null,null,null,null,null,null,null,null,null,null,null,null,null,null,null,null,null,null,null,null,null,null,null,null,null,null,null,null,null,null,null,null,null,null,null,null,null,null,null,null,"00:00",385,{"$f":"SUMIF($H$3:$H$601,$BK387,$Q$3:$Q$601)","v":0},"0000000","00","00","00"]
["SA01729","Law & District AAC","1992-10-16","Billy Clarkson","SA01729","Senior",".",386,{"$f":"VLOOKUP('entries and results'!G388,$A$3:$E$30018,4,FALSE)","v":" "},{"$f":"VLOOKUP('entries and results'!G388,$A$3:$F$30018,6,FALSE)","v":" "},{"$f":"VLOOKUP('entries and results'!G388,$A$3:$E$30018,2,FALSE)","v":" "},386,".",{"$f":"VLOOKUP('entries and results'!M388,$H$3:$K$30018,2,FALSE)","v":" "},{"$f":"VLOOKUP('entries and results'!M388,$H$3:$K$30018,3,FALSE)","v":" "},{"$f":"VLOOKUP('entries and results'!M388,$H$3:$K$30018,4,FALSE)","v":" "}," ",{"$f":"IF($H388=\"\",\" \",(LOOKUP($H388,$BK$3:$BK$1601,$BJ$3:$BJ$1601)))","v":"00:00"},null,null,null,null,null,null,null,null,null,null,null,null,null,null,null,null,null,null,null,null,null,null,null,null,null,null,null,null,null,null,null,null,null,null,null,null,null,null,null,null,null,null,null,"00:00",386,0,"0000000","00","00","00"]
["SA01741","Edinburgh AC","1994-11-08","Andrew Loudon","SA01741","Under 17",".",387,{"$f":"VLOOKUP('entries and results'!G389,$A$3:$E$30018,4,FALSE)","v":" "},{"$f":"VLOOKUP('entries and results'!G389,$A$3:$F$30018,6,FALSE)","v":" "},{"$f":"VLOOKUP('entries and results'!G389,$A$3:$E$30018,2,FALSE)","v":" "},387,".",{"$f":"VLOOKUP('entries and results'!M389,$H$3:$K$30018,2,FALSE)","v":" "},{"$f":"VLOOKUP('entries and results'!M389,$H$3:$K$30018,3,FALSE)","v":" "},{"$f":"VLOOKUP('entries and results'!M389,$H$3:$K$30018,4,FALSE)","v":" "}," ","00:00",null,null,null,null,null,null,null,null,null,null,null,null,null,null,null,null,null,null,null,null,null,null,null,null,null,null,null,null,null,null,null,null,null,null,null,null,null,null,null,null,null,null,null,"00:00",387,0,"0000000","00","00","00"]
["SA01742","Edinburgh AC","1995-10-31","George Loudon","SA01742","Under 15",".",388,{"$f":"VLOOKUP('entries and results'!G390,$A$3:$E$30018,4,FALSE)","v":" "},{"$f":"VLOOKUP('entries and results'!G390,$A$3:$F$30018,6,FALSE)","v":" "},{"$f":"VLOOKUP('entries and results'!G390,$A$3:$E$30018,2,FALSE)","v":" "},388,".",{"$f":"VLOOKUP('entries and results'!M390,$H$3:$K$30018,2,FALSE)","v":" "},{"$f":"VLOOKUP('entries and results'!M390,$H$3:$K$30018,3,FALSE)","v":" "},{"$f":"VLOOKUP('entries and results'!M390,$H$3:$K$30018,4,FALSE)","v":" "}," ","00:00",null,null,null,null,null,null,null,null,null,null,null,null,null,null,null,null,null,null,null,null,null,null,null,null,null,null,null,null,null,null,null,null,null,null,null,null,null,null,null,null,null,null,null,{"$f":"CONCATENATE(BO390,\":\",BP390)","v":"00:00"},388,0,{"$f":"CONCATENATE($BG$2,$BL390)","v":"0000000"},{"$f":"MID(RIGHT($BM390,6),1,2)","v":"00"},{"$f":"MID(RIGHT($BM390,6),3,2)","v":"00"},{"$f":"MID(RIGHT($BM390,6),5,2)","v":"00"}]
["SA01743","Edinburgh AC","1993-03-09","Peter Loudon","SA01743","Senior",".",389,{"$f":"VLOOKUP('entries and results'!G391,$A$3:$E$30018,4,FALSE)","v":" "},{"$f":"VLOOKUP('entries and results'!G391,$A$3:$F$30018,6,FALSE)","v":" "},{"$f":"VLOOKUP('entries and results'!G391,$A$3:$E$30018,2,FALSE)","v":" "},389,".",{"$f":"VLOOKUP('entries and results'!M391,$H$3:$K$30018,2,FALSE)","v":" "},{"$f":"VLOOKUP('entries and results'!M391,$H$3:$K$30018,3,FALSE)","v":" "},{"$f":"VLOOKUP('entries and results'!M391,$H$3:$K$30018,4,FALSE)","v":" "}," ","00:00",null,null,null,null,null,null,null,null,null,null,null,null,null,null,null,null,null,null,null,null,null,null,null,null,null,null,null,null,null,null,null,null,null,null,null,null,null,null,null,null,null,null,null,"00:00",389,0,"0000000","00","00","00"]
["SA01750","Pitreavie AAC","1991-03-29","Sarah Ross","SA01750","Senior",".",390,{"$f":"VLOOKUP('entries and results'!G392,$A$3:$E$30018,4,FALSE)","v":" "},{"$f":"VLOOKUP('entries and results'!G392,$A$3:$F$30018,6,FALSE)","v":" "},{"$f":"VLOOKUP('entries and results'!G392,$A$3:$E$30018,2,FALSE)","v":" "},390,".",{"$f":"VLOOKUP('entries and results'!M392,$H$3:$K$30018,2,FALSE)","v":" "},{"$f":"VLOOKUP('entries and results'!M392,$H$3:$K$30018,3,FALSE)","v":" "},{"$f":"VLOOKUP('entries and results'!M392,$H$3:$K$30018,4,FALSE)","v":" "}," ","00:00",null,null,null,null,null,null,null,null,null,null,null,null,null,null,null,null,null,null,null,null,null,null,null,null,null,null,null,null,null,null,null,null,null,null,null,null,null,null,null,null,null,null,null,"00:00",390,0,"0000000","00","00","00"]
["SA01761","VP-Glasgow AC","1995-03-14","Max Aitchison","SA01761","Under 17",".",391,{"$f":"VLOOKUP('entries and results'!G393,$A$3:$E$30018,4,FALSE)","v":" "},{"$f":"VLOOKUP('entries and results'!G393,$A$3:$F$30018,6,FALSE)","v":" "},{"$f":"VLOOKUP('entries and results'!G393,$A$3:$E$30018,2,FALSE)","v":" "},391,".",{"$f":"VLOOKUP('entries and results'!M393,$H$3:$K$30018,2,FALSE)","v":" "},{"$f":"VLOOKUP('entries and results'!M393,$H$3:$K$30018,3,FALSE)","v":" "},{"$f":"VLOOKUP('entries and results'!M393,$H$3:$K$30018,4,FALSE)","v":" "}," ","00:00",null,null,null,null,null,null,null,null,null,null,null,null,null,null,null,null,null,null,null,null,null,null,null,null,null,null,null,null,null,null,null,null,null,null,null,null,null,null,null,null,null,null,null,"00:00",391,0,"0000000","00","00","00"]
["SA01765","VP-Glasgow AC","1990-03-02","Abbey McGhee","SA01765","Senior",".",392,{"$f":"VLOOKUP('entries and results'!G394,$A$3:$E$30018,4,FALSE)","v":" "},{"$f":"VLOOKUP('entries and results'!G394,$A$3:$F$30018,6,FALSE)","v":" "},{"$f":"VLOOKUP('entries and results'!G394,$A$3:$E$30018,2,FALSE)","v":" "},392,".",{"$f":"VLOOKUP('entries and results'!M394,$H$3:$K$30018,2,FALSE)","v":" "},{"$f":"VLOOKUP('entries and results'!M394,$H$3:$K$30018,3,FALSE)","v":" "},{"$f":"VLOOKUP('entries and results'!M394,$H$3:$K$30018,4,FALSE)","v":" "}," ","00:00",null,null,null,null,null,null,null,null,null,null,null,null,null,null,null,null,null,null,null,null,null,null,null,null,null,null,null,null,null,null,null,null,null,null,null,null,null,null,null,null,null,null,null,"00:00",392,0,"0000000","00","00","00"]
["SA01766","VP-Glasgow AC","1990-03-02","Aisling McGhee","SA01766","Senior",".",393,{"$f":"VLOOKUP('entries and results'!G395,$A$3:$E$30018,4,FALSE)","v":" "},{"$f":"VLOOKUP('entries and results'!G395,$A$3:$F$30018,6,FALSE)","v":" "},{"$f":"VLOOKUP('entries and results'!G395,$A$3:$E$30018,2,FALSE)","v":" "},393,".",{"$f":"VLOOKUP('entries and results'!M395,$H$3:$K$30018,2,FALSE)","v":" "},{"$f":"VLOOKUP('entries and results'!M395,$H$3:$K$30018,3,FALSE)","v":" "},{"$f":"VLOOKUP('entries and results'!M395,$H$3:$K$30018,4,FALSE)","v":" "}," ","00:00",null,null,null,null,null,null,null,null,null,null,null,null,null,null,null,null,null,null,null,null,null,null,null,null,null,null,null,null,null,null,null,null,null,null,null,null,null,null,null,null,null,null,null,"00:00",393,0,"0000000","00","00","00"]
["SA01774","Lasswade AAC","1994-10-21","Francesca Benham","SA01774","Under 17",".",394,{"$f":"VLOOKUP('entries and results'!G396,$A$3:$E$30018,4,FALSE)","v":" "},{"$f":"VLOOKUP('entries and results'!G396,$A$3:$F$30018,6,FALSE)","v":" "},{"$f":"VLOOKUP('entries and results'!G396,$A$3:$E$30018,2,FALSE)","v":" "},394,".",{"$f":"VLOOKUP('entries and results'!M396,$H$3:$K$30018,2,FALSE)","v":" "},{"$f":"VLOOKUP('entries and results'!M396,$H$3:$K$30018,3,FALSE)","v":" "},{"$f":"VLOOKUP('entries and results'!M396,$H$3:$K$30018,4,FALSE)","v":" "}," ","00:00",null,null,null,null,null,null,null,null,null,null,null,null,null,null,null,null,null,null,null,null,null,null,null,null,null,null,null,null,null,null,null,null,null,null,null,null,null,null,null,null,null,null,null,"00:00",394,0,"0000000","00","00","00"]
["SA01784","Kilbarchan AAC","1991-11-09","Deborah Henderson","SA01784","Senior",".",395,{"$f":"VLOOKUP('entries and results'!G397,$A$3:$E$30018,4,FALSE)","v":" "},{"$f":"VLOOKUP('entries and results'!G397,$A$3:$F$30018,6,FALSE)","v":" "},{"$f":"VLOOKUP('entries and results'!G397,$A$3:$E$30018,2,FALSE)","v":" "},395,".",{"$f":"VLOOKUP('entries and results'!M397,$H$3:$K$30018,2,FALSE)","v":" "},{"$f":"VLOOKUP('entries and results'!M397,$H$3:$K$30018,3,FALSE)","v":" "},{"$f":"VLOOKUP('entries and results'!M397,$H$3:$K$30018,4,FALSE)","v":" "}," ","00:00",null,null,null,null,null,null,null,null,null,null,null,null,null,null,null,null,null,null,null,null,null,null,null,null,null,null,null,null,null,null,null,null,null,null,null,null,null,null,null,null,null,null,null,"00:00",395,0,"0000000","00","00","00"]
["SA01787","Aberdeen AAC","1988-10-28","Myles Edwards","SA01787","Senior",".",396,{"$f":"VLOOKUP('entries and results'!G398,$A$3:$E$30018,4,FALSE)","v":" "},{"$f":"VLOOKUP('entries and results'!G398,$A$3:$F$30018,6,FALSE)","v":" "},{"$f":"VLOOKUP('entries and results'!G398,$A$3:$E$30018,2,FALSE)","v":" "},396,".",{"$f":"VLOOKUP('entries and results'!M398,$H$3:$K$30018,2,FALSE)","v":" "},{"$f":"VLOOKUP('entries and results'!M398,$H$3:$K$30018,3,FALSE)","v":" "},{"$f":"VLOOKUP('entries and results'!M398,$H$3:$K$30018,4,FALSE)","v":" "}," ","00:00",null,null,null,null,null,null,null,null,null,null,null,null,null,null,null,null,null,null,null,null,null,null,null,null,null,null,null,null,null,null,null,null,null,null,null,null,null,null,null,null,null,null,null,"00:00",396,0,"0000000","00","00","00"]
["SA01788","Aberdeen AAC","1995-02-21","Kate Murdoch","SA01788","Under 17",".",397,{"$f":"VLOOKUP('entries and results'!G399,$A$3:$E$30018,4,FALSE)","v":" "},{"$f":"VLOOKUP('entries and results'!G399,$A$3:$F$30018,6,FALSE)","v":" "},{"$f":"VLOOKUP('entries and results'!G399,$A$3:$E$30018,2,FALSE)","v":" "},397,".",{"$f":"VLOOKUP('entries and results'!M399,$H$3:$K$30018,2,FALSE)","v":" "},{"$f":"VLOOKUP('entries and results'!M399,$H$3:$K$30018,3,FALSE)","v":" "},{"$f":"VLOOKUP('entries and results'!M399,$H$3:$K$30018,4,FALSE)","v":" "}," ","00:00",null,null,null,null,null,null,null,null,null,null,null,null,null,null,null,null,null,null,null,null,null,null,null,null,null,null,null,null,null,null,null,null,null,null,null,null,null,null,null,null,null,null,null,"00:00",397,0,"0000000","00","00","00"]
["SA01790","Aberdeen AAC","1989-10-18","Siobhan Prise","SA01790","Senior",".",398,{"$f":"VLOOKUP('entries and results'!G400,$A$3:$E$30018,4,FALSE)","v":" "},{"$f":"VLOOKUP('entries and results'!G400,$A$3:$F$30018,6,FALSE)","v":" "},{"$f":"VLOOKUP('entries and results'!G400,$A$3:$E$30018,2,FALSE)","v":" "},398,".",{"$f":"VLOOKUP('entries and results'!M400,$H$3:$K$30018,2,FALSE)","v":" "},{"$f":"VLOOKUP('entries and results'!M400,$H$3:$K$30018,3,FALSE)","v":" "},{"$f":"VLOOKUP('entries and results'!M400,$H$3:$K$30018,4,FALSE)","v":" "}," ","00:00",null,null,null,null,null,null,null,null,null,null,null,null,null,null,null,null,null,null,null,null,null,null,null,null,null,null,null,null,null,null,null,null,null,null,null,null,null,null,null,null,null,null,null,"00:00",398,0,"0000000","00","00","00"]
["SA01795","Ayr Seaforth AAC","1993-05-24","Kerry Leith","SA01795","Senior",".",399,{"$f":"VLOOKUP('entries and results'!G401,$A$3:$E$30018,4,FALSE)","v":" "},{"$f":"VLOOKUP('entries and results'!G401,$A$3:$F$30018,6,FALSE)","v":" "},{"$f":"VLOOKUP('entries and results'!G401,$A$3:$E$30018,2,FALSE)","v":" "},399,".",{"$f":"VLOOKUP('entries and results'!M401,$H$3:$K$30018,2,FALSE)","v":" "},{"$f":"VLOOKUP('entries and results'!M401,$H$3:$K$30018,3,FALSE)","v":" "},{"$f":"VLOOKUP('entries and results'!M401,$H$3:$K$30018,4,FALSE)","v":" "}," ","00:00",null,null,null,null,null,null,null,null,null,null,null,null,null,null,null,null,null,null,null,null,null,null,null,null,null,null,null,null,null,null,null,null,null,null,null,null,null,null,null,null,null,null,null,"00:00",399,0,"0000000","00","00","00"]
["SA01798","Banchory Stonehaven AC","1993-02-18","Stewart Clark","SA01798","Senior",".",400,{"$f":"VLOOKUP('entries and results'!G402,$A$3:$E$30018,4,FALSE)","v":" "},{"$f":"VLOOKUP('entries and results'!G402,$A$3:$F$30018,6,FALSE)","v":" "},{"$f":"VLOOKUP('entries and results'!G402,$A$3:$E$30018,2,FALSE)","v":" "},400,".",{"$f":"VLOOKUP('entries and results'!M402,$H$3:$K$30018,2,FALSE)","v":" "},{"$f":"VLOOKUP('entries and results'!M402,$H$3:$K$30018,3,FALSE)","v":" "},{"$f":"VLOOKUP('entries and results'!M402,$H$3:$K$30018,4,FALSE)","v":" "}," ","00:00",null,null,null,null,null,null,null,null,null,null,null,null,null,null,null,null,null,null,null,null,null,null,null,null,null,null,null,null,null,null,null,null,null,null,null,null,null,null,null,null,null,null,null,"00:00",400,0,"0000000","00","00","00"]
["SA01801","Banchory Stonehaven AC","1992-10-03","Eleanor Workman","SA01801","Senior",".",401,{"$f":"VLOOKUP('entries and results'!G403,$A$3:$E$30018,4,FALSE)","v":" "},{"$f":"VLOOKUP('entries and results'!G403,$A$3:$F$30018,6,FALSE)","v":" "},{"$f":"VLOOKUP('entries and results'!G403,$A$3:$E$30018,2,FALSE)","v":" "},401,".",{"$f":"VLOOKUP('entries and results'!M403,$H$3:$K$30018,2,FALSE)","v":" "},{"$f":"VLOOKUP('entries and results'!M403,$H$3:$K$30018,3,FALSE)","v":" "},{"$f":"VLOOKUP('entries and results'!M403,$H$3:$K$30018,4,FALSE)","v":" "}," ","00:00",null,null,null,null,null,null,null,null,null,null,null,null,null,null,null,null,null,null,null,null,null,null,null,null,null,null,null,null,null,null,null,null,null,null,null,null,null,null,null,null,null,null,null,"00:00",401,0,"0000000","00","00","00"]
["SA01802","Moray Road Runners","1992-06-25","Gemma Cormack","SA01802","Senior",".",402,{"$f":"VLOOKUP('entries and results'!G404,$A$3:$E$30018,4,FALSE)","v":" "},{"$f":"VLOOKUP('entries and results'!G404,$A$3:$F$30018,6,FALSE)","v":" "},{"$f":"VLOOKUP('entries and results'!G404,$A$3:$E$30018,2,FALSE)","v":" "},402,".",{"$f":"VLOOKUP('entries and results'!M404,$H$3:$K$30018,2,FALSE)","v":" "},{"$f":"VLOOKUP('entries and results'!M404,$H$3:$K$30018,3,FALSE)","v":" "},{"$f":"VLOOKUP('entries and results'!M404,$H$3:$K$30018,4,FALSE)","v":" "}," ","00:00",null,null,null,null,null,null,null,null,null,null,null,null,null,null,null,null,null,null,null,null,null,null,null,null,null,null,null,null,null,null,null,null,null,null,null,null,null,null,null,null,null,null,null,"00:00",402,0,"0000000","00","00","00"]
["SA01805","Calderglen Harriers","1990-08-13","Stephen Reilly","SA01805","Senior",".",403,{"$f":"VLOOKUP('entries and results'!G405,$A$3:$E$30018,4,FALSE)","v":" "},{"$f":"VLOOKUP('entries and results'!G405,$A$3:$F$30018,6,FALSE)","v":" "},{"$f":"VLOOKUP('entries and results'!G405,$A$3:$E$30018,2,FALSE)","v":" "},403,".",{"$f":"VLOOKUP('entries and results'!M405,$H$3:$K$30018,2,FALSE)","v":" "},{"$f":"VLOOKUP('entries and results'!M405,$H$3:$K$30018,3,FALSE)","v":" "},{"$f":"VLOOKUP('entries and results'!M405,$H$3:$K$30018,4,FALSE)","v":" "}," ","00:00",null,null,null,null,null,null,null,null,null,null,null,null,null,null,null,null,null,null,null,null,null,null,null,null,null,null,null,null,null,null,null,null,null,null,null,null,null,null,null,null,null,null,null,"00:00",403,0,"0000000","00","00","00"]
["SA01808","Central AC","1992-12-31","Martyn Paterson","SA01808","Senior",".",404,{"$f":"VLOOKUP('entries and results'!G406,$A$3:$E$30018,4,FALSE)","v":" "},{"$f":"VLOOKUP('entries and results'!G406,$A$3:$F$30018,6,FALSE)","v":" "},{"$f":"VLOOKUP('entries and results'!G406,$A$3:$E$30018,2,FALSE)","v":" "},404,".",{"$f":"VLOOKUP('entries and results'!M406,$H$3:$K$30018,2,FALSE)","v":" "},{"$f":"VLOOKUP('entries and results'!M406,$H$3:$K$30018,3,FALSE)","v":" "},{"$f":"VLOOKUP('entries and results'!M406,$H$3:$K$30018,4,FALSE)","v":" "}," ","00:00",null,null,null,null,null,null,null,null,null,null,null,null,null,null,null,null,null,null,null,null,null,null,null,null,null,null,null,null,null,null,null,null,null,null,null,null,null,null,null,null,null,null,null,"00:00",404,0,"0000000","00","00","00"]
["SA01810","Edinburgh AC","1992-02-27","Hannah Chrisp","SA01810","Senior",".",405,{"$f":"VLOOKUP('entries and results'!G407,$A$3:$E$30018,4,FALSE)","v":" "},{"$f":"VLOOKUP('entries and results'!G407,$A$3:$F$30018,6,FALSE)","v":" "},{"$f":"VLOOKUP('entries and results'!G407,$A$3:$E$30018,2,FALSE)","v":" "},405,".",{"$f":"VLOOKUP('entries and results'!M407,$H$3:$K$30018,2,FALSE)","v":" "},{"$f":"VLOOKUP('entries and results'!M407,$H$3:$K$30018,3,FALSE)","v":" "},{"$f":"VLOOKUP('entries and results'!M407,$H$3:$K$30018,4,FALSE)","v":" "}," ","00:00",null,null,null,null,null,null,null,null,null,null,null,null,null,null,null,null,null,null,null,null,null,null,null,null,null,null,null,null,null,null,null,null,null,null,null,null,null,null,null,null,null,null,null,"00:00",405,0,"0000000","00","00","00"]
["SA01813","Edinburgh AC","1994-10-17","Scott MacDougall","SA01813","Under 17",".",406,{"$f":"VLOOKUP('entries and results'!G408,$A$3:$E$30018,4,FALSE)","v":" "},{"$f":"VLOOKUP('entries and results'!G408,$A$3:$F$30018,6,FALSE)","v":" "},{"$f":"VLOOKUP('entries and results'!G408,$A$3:$E$30018,2,FALSE)","v":" "},406,".",{"$f":"VLOOKUP('entries and results'!M408,$H$3:$K$30018,2,FALSE)","v":" "},{"$f":"VLOOKUP('entries and results'!M408,$H$3:$K$30018,3,FALSE)","v":" "},{"$f":"VLOOKUP('entries and results'!M408,$H$3:$K$30018,4,FALSE)","v":" "}," ","00:00",null,null,null,null,null,null,null,null,null,null,null,null,null,null,null,null,null,null,null,null,null,null,null,null,null,null,null,null,null,null,null,null,null,null,null,null,null,null,null,null,null,null,null,"00:00",406,0,"0000000","00","00","00"]
["SA01814","Edinburgh AC","1995-08-07","Caitlin O'Neil","SA01814","Under 17",".",407,{"$f":"VLOOKUP('entries and results'!G409,$A$3:$E$30018,4,FALSE)","v":" "},{"$f":"VLOOKUP('entries and results'!G409,$A$3:$F$30018,6,FALSE)","v":" "},{"$f":"VLOOKUP('entries and results'!G409,$A$3:$E$30018,2,FALSE)","v":" "},407,".",{"$f":"VLOOKUP('entries and results'!M409,$H$3:$K$30018,2,FALSE)","v":" "},{"$f":"VLOOKUP('entries and results'!M409,$H$3:$K$30018,3,FALSE)","v":" "},{"$f":"VLOOKUP('entries and results'!M409,$H$3:$K$30018,4,FALSE)","v":" "}," ","00:00",null,null,null,null,null,null,null,null,null,null,null,null,null,null,null,null,null,null,null,null,null,null,null,null,null,null,null,null,null,null,null,null,null,null,null,null,null,null,null,null,null,null,null,"00:00",407,0,"0000000","00","00","00"]
["SA01826","Corstorphine AAC","1991-12-18","Fraser Scott","SA01826","Senior",".",408,{"$f":"VLOOKUP('entries and results'!G410,$A$3:$E$30018,4,FALSE)","v":" "},{"$f":"VLOOKUP('entries and results'!G410,$A$3:$F$30018,6,FALSE)","v":" "},{"$f":"VLOOKUP('entries and results'!G410,$A$3:$E$30018,2,FALSE)","v":" "},408,".",{"$f":"VLOOKUP('entries and results'!M410,$H$3:$K$30018,2,FALSE)","v":" "},{"$f":"VLOOKUP('entries and results'!M410,$H$3:$K$30018,3,FALSE)","v":" "},{"$f":"VLOOKUP('entries and results'!M410,$H$3:$K$30018,4,FALSE)","v":" "}," ","00:00",null,null,null,null,null,null,null,null,null,null,null,null,null,null,null,null,null,null,null,null,null,null,null,null,null,null,null,null,null,null,null,null,null,null,null,null,null,null,null,null,null,null,null,"00:00",408,0,"0000000","00","00","00"]
["SA01837","Edinburgh AC","1993-03-03","Emily Dudgeon","SA01837","Senior",".",409,{"$f":"VLOOKUP('entries and results'!G411,$A$3:$E$30018,4,FALSE)","v":" "},{"$f":"VLOOKUP('entries and results'!G411,$A$3:$F$30018,6,FALSE)","v":" "},{"$f":"VLOOKUP('entries and results'!G411,$A$3:$E$30018,2,FALSE)","v":" "},409,".",{"$f":"VLOOKUP('entries and results'!M411,$H$3:$K$30018,2,FALSE)","v":" "},{"$f":"VLOOKUP('entries and results'!M411,$H$3:$K$30018,3,FALSE)","v":" "},{"$f":"VLOOKUP('entries and results'!M411,$H$3:$K$30018,4,FALSE)","v":" "}," ","00:00",null,null,null,null,null,null,null,null,null,null,null,null,null,null,null,null,null,null,null,null,null,null,null,null,null,null,null,null,null,null,null,null,null,null,null,null,null,null,null,null,null,null,null,"00:00",409,0,"0000000","00","00","00"]
["SA01848","Falkirk Victoria Harriers","1995-11-12","Holly Meikle","SA01848","Under 15",".",410,{"$f":"VLOOKUP('entries and results'!G412,$A$3:$E$30018,4,FALSE)","v":" "},{"$f":"VLOOKUP('entries and results'!G412,$A$3:$F$30018,6,FALSE)","v":" "},{"$f":"VLOOKUP('entries and results'!G412,$A$3:$E$30018,2,FALSE)","v":" "},410,".",{"$f":"VLOOKUP('entries and results'!M412,$H$3:$K$30018,2,FALSE)","v":" "},{"$f":"VLOOKUP('entries and results'!M412,$H$3:$K$30018,3,FALSE)","v":" "},{"$f":"VLOOKUP('entries and results'!M412,$H$3:$K$30018,4,FALSE)","v":" "}," ","00:00",null,null,null,null,null,null,null,null,null,null,null,null,null,null,null,null,null,null,null,null,null,null,null,null,null,null,null,null,null,null,null,null,null,null,null,null,null,null,null,null,null,null,null,"00:00",410,0,"0000000","00","00","00"]
["SA01849","Falkirk Victoria Harriers","1991-03-23","Jade Nimmo","SA01849","Senior",".",411,{"$f":"VLOOKUP('entries and results'!G413,$A$3:$E$30018,4,FALSE)","v":" "},{"$f":"VLOOKUP('entries and results'!G413,$A$3:$F$30018,6,FALSE)","v":" "},{"$f":"VLOOKUP('entries and results'!G413,$A$3:$E$30018,2,FALSE)","v":" "},411,".",{"$f":"VLOOKUP('entries and results'!M413,$H$3:$K$30018,2,FALSE)","v":" "},{"$f":"VLOOKUP('entries and results'!M413,$H$3:$K$30018,3,FALSE)","v":" "},{"$f":"VLOOKUP('entries and results'!M413,$H$3:$K$30018,4,FALSE)","v":" "}," ","00:00",null,null,null,null,null,null,null,null,null,null,null,null,null,null,null,null,null,null,null,null,null,null,null,null,null,null,null,null,null,null,null,null,null,null,null,null,null,null,null,null,null,null,null,"00:00",411,0,"0000000","00","00","00"]
["SA01850","Falkirk Victoria Harriers","1994-10-30","Clare O'Neill","SA01850","Under 17",".",412,{"$f":"VLOOKUP('entries and results'!G414,$A$3:$E$30018,4,FALSE)","v":" "},{"$f":"VLOOKUP('entries and results'!G414,$A$3:$F$30018,6,FALSE)","v":" "},{"$f":"VLOOKUP('entries and results'!G414,$A$3:$E$30018,2,FALSE)","v":" "},412,".",{"$f":"VLOOKUP('entries and results'!M414,$H$3:$K$30018,2,FALSE)","v":" "},{"$f":"VLOOKUP('entries and results'!M414,$H$3:$K$30018,3,FALSE)","v":" "},{"$f":"VLOOKUP('entries and results'!M414,$H$3:$K$30018,4,FALSE)","v":" "}," ","00:00",null,null,null,null,null,null,null,null,null,null,null,null,null,null,null,null,null,null,null,null,null,null,null,null,null,null,null,null,null,null,null,null,null,null,null,null,null,null,null,null,null,null,null,"00:00",412,0,"0000000","00","00","00"]
["SA01852","Unattached","1993-08-05","Andrew Spears","SA01852","Senior",".",413,{"$f":"VLOOKUP('entries and results'!G415,$A$3:$E$30018,4,FALSE)","v":" "},{"$f":"VLOOKUP('entries and results'!G415,$A$3:$F$30018,6,FALSE)","v":" "},{"$f":"VLOOKUP('entries and results'!G415,$A$3:$E$30018,2,FALSE)","v":" "},413,".",{"$f":"VLOOKUP('entries and results'!M415,$H$3:$K$30018,2,FALSE)","v":" "},{"$f":"VLOOKUP('entries and results'!M415,$H$3:$K$30018,3,FALSE)","v":" "},{"$f":"VLOOKUP('entries and results'!M415,$H$3:$K$30018,4,FALSE)","v":" "}," ","00:00",null,null,null,null,null,null,null,null,null,null,null,null,null,null,null,null,null,null,null,null,null,null,null,null,null,null,null,null,null,null,null,null,null,null,null,null,null,null,null,null,null,null,null,"00:00",413,0,"0000000","00","00","00"]
["SA01855","Fife AC","1993-08-18","Lucy Duff","SA01855","Senior",".",414,{"$f":"VLOOKUP('entries and results'!G416,$A$3:$E$30018,4,FALSE)","v":" "},{"$f":"VLOOKUP('entries and results'!G416,$A$3:$F$30018,6,FALSE)","v":" "},{"$f":"VLOOKUP('entries and results'!G416,$A$3:$E$30018,2,FALSE)","v":" "},414,".",{"$f":"VLOOKUP('entries and results'!M416,$H$3:$K$30018,2,FALSE)","v":" "},{"$f":"VLOOKUP('entries and results'!M416,$H$3:$K$30018,3,FALSE)","v":" "},{"$f":"VLOOKUP('entries and results'!M416,$H$3:$K$30018,4,FALSE)","v":" "}," ","00:00",null,null,null,null,null,null,null,null,null,null,null,null,null,null,null,null,null,null,null,null,null,null,null,null,null,null,null,null,null,null,null,null,null,null,null,null,null,null,null,null,null,null,null,"00:00",414,0,"0000000","00","00","00"]
["SA01860","Forres Harriers","1994-06-09","Hannah Duncan","SA01860","Under 17",".",415,{"$f":"VLOOKUP('entries and results'!G417,$A$3:$E$30018,4,FALSE)","v":" "},{"$f":"VLOOKUP('entries and results'!G417,$A$3:$F$30018,6,FALSE)","v":" "},{"$f":"VLOOKUP('entries and results'!G417,$A$3:$E$30018,2,FALSE)","v":" "},415,".",{"$f":"VLOOKUP('entries and results'!M417,$H$3:$K$30018,2,FALSE)","v":" "},{"$f":"VLOOKUP('entries and results'!M417,$H$3:$K$30018,3,FALSE)","v":" "},{"$f":"VLOOKUP('entries and results'!M417,$H$3:$K$30018,4,FALSE)","v":" "}," ","00:00",null,null,null,null,null,null,null,null,null,null,null,null,null,null,null,null,null,null,null,null,null,null,null,null,null,null,null,null,null,null,null,null,null,null,null,null,null,null,null,null,null,null,null,"00:00",415,0,"0000000","00","00","00"]
["SA01862","Gala Harriers","1994-01-09","Alice Haining","SA01862","Under 17",".",416,{"$f":"VLOOKUP('entries and results'!G418,$A$3:$E$30018,4,FALSE)","v":" "},{"$f":"VLOOKUP('entries and results'!G418,$A$3:$F$30018,6,FALSE)","v":" "},{"$f":"VLOOKUP('entries and results'!G418,$A$3:$E$30018,2,FALSE)","v":" "},416,".",{"$f":"VLOOKUP('entries and results'!M418,$H$3:$K$30018,2,FALSE)","v":" "},{"$f":"VLOOKUP('entries and results'!M418,$H$3:$K$30018,3,FALSE)","v":" "},{"$f":"VLOOKUP('entries and results'!M418,$H$3:$K$30018,4,FALSE)","v":" "}," ","00:00",null,null,null,null,null,null,null,null,null,null,null,null,null,null,null,null,null,null,null,null,null,null,null,null,null,null,null,null,null,null,null,null,null,null,null,null,null,null,null,null,null,null,null,"00:00",416,0,"0000000","00","00","00"]
["SA01884","Inverness Harriers AAC","1993-04-02","Eilidh Black","SA01884","Senior",".",417,{"$f":"VLOOKUP('entries and results'!G419,$A$3:$E$30018,4,FALSE)","v":" "},{"$f":"VLOOKUP('entries and results'!G419,$A$3:$F$30018,6,FALSE)","v":" "},{"$f":"VLOOKUP('entries and results'!G419,$A$3:$E$30018,2,FALSE)","v":" "},417,".",{"$f":"VLOOKUP('entries and results'!M419,$H$3:$K$30018,2,FALSE)","v":" "},{"$f":"VLOOKUP('entries and results'!M419,$H$3:$K$30018,3,FALSE)","v":" "},{"$f":"VLOOKUP('entries and results'!M419,$H$3:$K$30018,4,FALSE)","v":" "}," ","00:00",null,null,null,null,null,null,null,null,null,null,null,null,null,null,null,null,null,null,null,null,null,null,null,null,null,null,null,null,null,null,null,null,null,null,null,null,null,null,null,null,null,null,null,"00:00",417,0,"0000000","00","00","00"]
["SA01892","Inverness Harriers AAC","1992-05-03","Katie Munro","SA01892","Senior",".",418,{"$f":"VLOOKUP('entries and results'!G420,$A$3:$E$30018,4,FALSE)","v":" "},{"$f":"VLOOKUP('entries and results'!G420,$A$3:$F$30018,6,FALSE)","v":" "},{"$f":"VLOOKUP('entries and results'!G420,$A$3:$E$30018,2,FALSE)","v":" "},418,".",{"$f":"VLOOKUP('entries and results'!M420,$H$3:$K$30018,2,FALSE)","v":" "},{"$f":"VLOOKUP('entries and results'!M420,$H$3:$K$30018,3,FALSE)","v":" "},{"$f":"VLOOKUP('entries and results'!M420,$H$3:$K$30018,4,FALSE)","v":" "}," ","00:00",null,null,null,null,null,null,null,null,null,null,null,null,null,null,null,null,null,null,null,null,null,null,null,null,null,null,null,null,null,null,null,null,null,null,null,null,null,null,null,null,null,null,null,"00:00",418,0,"0000000","00","00","00"]
["SA01901","North Ayrshire AC","1995-11-11","Gordon Wilson","SA01901","Under 15",".",419,{"$f":"VLOOKUP('entries and results'!G421,$A$3:$E$30018,4,FALSE)","v":" "},{"$f":"VLOOKUP('entries and results'!G421,$A$3:$F$30018,6,FALSE)","v":" "},{"$f":"VLOOKUP('entries and results'!G421,$A$3:$E$30018,2,FALSE)","v":" "},419,".",{"$f":"VLOOKUP('entries and results'!M421,$H$3:$K$30018,2,FALSE)","v":" "},{"$f":"VLOOKUP('entries and results'!M421,$H$3:$K$30018,3,FALSE)","v":" "},{"$f":"VLOOKUP('entries and results'!M421,$H$3:$K$30018,4,FALSE)","v":" "}," ","00:00",null,null,null,null,null,null,null,null,null,null,null,null,null,null,null,null,null,null,null,null,null,null,null,null,null,null,null,null,null,null,null,null,null,null,null,null,null,null,null,null,null,null,null,"00:00",419,0,"0000000","00","00","00"]
["SA01905","Kilbarchan AAC","1992-01-27","Amanda Herron","SA01905","Senior",".",420,{"$f":"VLOOKUP('entries and results'!G422,$A$3:$E$30018,4,FALSE)","v":" "},{"$f":"VLOOKUP('entries and results'!G422,$A$3:$F$30018,6,FALSE)","v":" "},{"$f":"VLOOKUP('entries and results'!G422,$A$3:$E$30018,2,FALSE)","v":" "},420,".",{"$f":"VLOOKUP('entries and results'!M422,$H$3:$K$30018,2,FALSE)","v":" "},{"$f":"VLOOKUP('entries and results'!M422,$H$3:$K$30018,3,FALSE)","v":" "},{"$f":"VLOOKUP('entries and results'!M422,$H$3:$K$30018,4,FALSE)","v":" "}," ","00:00",null,null,null,null,null,null,null,null,null,null,null,null,null,null,null,null,null,null,null,null,null,null,null,null,null,null,null,null,null,null,null,null,null,null,null,null,null,null,null,null,null,null,null,"00:00",420,0,"0000000","00","00","00"]
["SA01906","Kilbarchan AAC","1992-01-25","Scott MacAulay","SA01906","Senior",".",421,{"$f":"VLOOKUP('entries and results'!G423,$A$3:$E$30018,4,FALSE)","v":" "},{"$f":"VLOOKUP('entries and results'!G423,$A$3:$F$30018,6,FALSE)","v":" "},{"$f":"VLOOKUP('entries and results'!G423,$A$3:$E$30018,2,FALSE)","v":" "},421,".",{"$f":"VLOOKUP('entries and results'!M423,$H$3:$K$30018,2,FALSE)","v":" "},{"$f":"VLOOKUP('entries and results'!M423,$H$3:$K$30018,3,FALSE)","v":" "},{"$f":"VLOOKUP('entries and results'!M423,$H$3:$K$30018,4,FALSE)","v":" "}," ","00:00",null,null,null,null,null,null,null,null,null,null,null,null,null,null,null,null,null,null,null,null,null,null,null,null,null,null,null,null,null,null,null,null,null,null,null,null,null,null,null,null,null,null,null,"00:00",421,0,"0000000","00","00","00"]
["SA01913","Kilbarchan AAC","1991-10-09","Sally Webster","SA01913","Senior",".",422,{"$f":"VLOOKUP('entries and results'!G424,$A$3:$E$30018,4,FALSE)","v":" "},{"$f":"VLOOKUP('entries and results'!G424,$A$3:$F$30018,6,FALSE)","v":" "},{"$f":"VLOOKUP('entries and results'!G424,$A$3:$E$30018,2,FALSE)","v":" "},422,".",{"$f":"VLOOKUP('entries and results'!M424,$H$3:$K$30018,2,FALSE)","v":" "},{"$f":"VLOOKUP('entries and results'!M424,$H$3:$K$30018,3,FALSE)","v":" "},{"$f":"VLOOKUP('entries and results'!M424,$H$3:$K$30018,4,FALSE)","v":" "}," ","00:00",null,null,null,null,null,null,null,null,null,null,null,null,null,null,null,null,null,null,null,null,null,null,null,null,null,null,null,null,null,null,null,null,null,null,null,null,null,null,null,null,null,null,null,"00:00",422,0,"0000000","00","00","00"]
["SA01916","Shettleston Harriers","1995-05-25","Calum Divers","SA01916","Under 17",".",423,{"$f":"VLOOKUP('entries and results'!G425,$A$3:$E$30018,4,FALSE)","v":" "},{"$f":"VLOOKUP('entries and results'!G425,$A$3:$F$30018,6,FALSE)","v":" "},{"$f":"VLOOKUP('entries and results'!G425,$A$3:$E$30018,2,FALSE)","v":" "},423,".",{"$f":"VLOOKUP('entries and results'!M425,$H$3:$K$30018,2,FALSE)","v":" "},{"$f":"VLOOKUP('entries and results'!M425,$H$3:$K$30018,3,FALSE)","v":" "},{"$f":"VLOOKUP('entries and results'!M425,$H$3:$K$30018,4,FALSE)","v":" "}," ","00:00",null,null,null,null,null,null,null,null,null,null,null,null,null,null,null,null,null,null,null,null,null,null,null,null,null,null,null,null,null,null,null,null,null,null,null,null,null,null,null,null,null,null,null,"00:00",423,0,"0000000","00","00","00"]
["SA01921","Lasswade AAC","1992-08-27","Lesley Campbell","SA01921","Senior",".",424,{"$f":"VLOOKUP('entries and results'!G426,$A$3:$E$30018,4,FALSE)","v":" "},{"$f":"VLOOKUP('entries and results'!G426,$A$3:$F$30018,6,FALSE)","v":" "},{"$f":"VLOOKUP('entries and results'!G426,$A$3:$E$30018,2,FALSE)","v":" "},424,".",{"$f":"VLOOKUP('entries and results'!M426,$H$3:$K$30018,2,FALSE)","v":" "},{"$f":"VLOOKUP('entries and results'!M426,$H$3:$K$30018,3,FALSE)","v":" "},{"$f":"VLOOKUP('entries and results'!M426,$H$3:$K$30018,4,FALSE)","v":" "}," ","00:00",null,null,null,null,null,null,null,null,null,null,null,null,null,null,null,null,null,null,null,null,null,null,null,null,null,null,null,null,null,null,null,null,null,null,null,null,null,null,null,null,null,null,null,"00:00",424,0,"0000000","00","00","00"]
["SA01924","Channel Island AC","1988-05-05","David Martin","SA01924","Senior",".",425,{"$f":"VLOOKUP('entries and results'!G427,$A$3:$E$30018,4,FALSE)","v":" "},{"$f":"VLOOKUP('entries and results'!G427,$A$3:$F$30018,6,FALSE)","v":" "},{"$f":"VLOOKUP('entries and results'!G427,$A$3:$E$30018,2,FALSE)","v":" "},425,".",{"$f":"VLOOKUP('entries and results'!M427,$H$3:$K$30018,2,FALSE)","v":" "},{"$f":"VLOOKUP('entries and results'!M427,$H$3:$K$30018,3,FALSE)","v":" "},{"$f":"VLOOKUP('entries and results'!M427,$H$3:$K$30018,4,FALSE)","v":" "}," ","00:00",null,null,null,null,null,null,null,null,null,null,null,null,null,null,null,null,null,null,null,null,null,null,null,null,null,null,null,null,null,null,null,null,null,null,null,null,null,null,null,null,null,null,null,"00:00",425,0,"0000000","00","00","00"]
["SA01933","Falkirk Victoria Harriers","1993-07-31","Declan Wright","SA01933","Senior",".",426,{"$f":"VLOOKUP('entries and results'!G428,$A$3:$E$30018,4,FALSE)","v":" "},{"$f":"VLOOKUP('entries and results'!G428,$A$3:$F$30018,6,FALSE)","v":" "},{"$f":"VLOOKUP('entries and results'!G428,$A$3:$E$30018,2,FALSE)","v":" "},426,".",{"$f":"VLOOKUP('entries and results'!M428,$H$3:$K$30018,2,FALSE)","v":" "},{"$f":"VLOOKUP('entries and results'!M428,$H$3:$K$30018,3,FALSE)","v":" "},{"$f":"VLOOKUP('entries and results'!M428,$H$3:$K$30018,4,FALSE)","v":" "}," ","00:00",null,null,null,null,null,null,null,null,null,null,null,null,null,null,null,null,null,null,null,null,null,null,null,null,null,null,null,null,null,null,null,null,null,null,null,null,null,null,null,null,null,null,null,"00:00",426,0,"0000000","00","00","00"]
["SA01935","Livingston & District AAC","1995-09-25","Mhairi Horn","SA01935","Under 15",".",427,{"$f":"VLOOKUP('entries and results'!G429,$A$3:$E$30018,4,FALSE)","v":" "},{"$f":"VLOOKUP('entries and results'!G429,$A$3:$F$30018,6,FALSE)","v":" "},{"$f":"VLOOKUP('entries and results'!G429,$A$3:$E$30018,2,FALSE)","v":" "},427,".",{"$f":"VLOOKUP('entries and results'!M429,$H$3:$K$30018,2,FALSE)","v":" "},{"$f":"VLOOKUP('entries and results'!M429,$H$3:$K$30018,3,FALSE)","v":" "},{"$f":"VLOOKUP('entries and results'!M429,$H$3:$K$30018,4,FALSE)","v":" "}," ","00:00",null,null,null,null,null,null,null,null,null,null,null,null,null,null,null,null,null,null,null,null,null,null,null,null,null,null,null,null,null,null,null,null,null,null,null,null,null,null,null,null,null,null,null,"00:00",427,0,"0000000","00","00","00"]
["SA01936","Livingston & District AAC","1990-06-02","John McOmish","SA01936","Senior",".",428,{"$f":"VLOOKUP('entries and results'!G430,$A$3:$E$30018,4,FALSE)","v":" "},{"$f":"VLOOKUP('entries and results'!G430,$A$3:$F$30018,6,FALSE)","v":" "},{"$f":"VLOOKUP('entries and results'!G430,$A$3:$E$30018,2,FALSE)","v":" "},428,".",{"$f":"VLOOKUP('entries and results'!M430,$H$3:$K$30018,2,FALSE)","v":" "},{"$f":"VLOOKUP('entries and results'!M430,$H$3:$K$30018,3,FALSE)","v":" "},{"$f":"VLOOKUP('entries and results'!M430,$H$3:$K$30018,4,FALSE)","v":" "}," ","00:00",null,null,null,null,null,null,null,null,null,null,null,null,null,null,null,null,null,null,null,null,null,null,null,null,null,null,null,null,null,null,null,null,null,null,null,null,null,null,null,null,null,null,null,"00:00",428,0,"0000000","00","00","00"]
["SA01943","Moray Road Runners","1993-05-17","Scott Bowie","SA01943","Senior",".",429,{"$f":"VLOOKUP('entries and results'!G431,$A$3:$E$30018,4,FALSE)","v":" "},{"$f":"VLOOKUP('entries and results'!G431,$A$3:$F$30018,6,FALSE)","v":" "},{"$f":"VLOOKUP('entries and results'!G431,$A$3:$E$30018,2,FALSE)","v":" "},429,".",{"$f":"VLOOKUP('entries and results'!M431,$H$3:$K$30018,2,FALSE)","v":" "},{"$f":"VLOOKUP('entries and results'!M431,$H$3:$K$30018,3,FALSE)","v":" "},{"$f":"VLOOKUP('entries and results'!M431,$H$3:$K$30018,4,FALSE)","v":" "}," ","00:00",null,null,null,null,null,null,null,null,null,null,null,null,null,null,null,null,null,null,null,null,null,null,null,null,null,null,null,null,null,null,null,null,null,null,null,null,null,null,null,null,null,null,null,"00:00",429,0,"0000000","00","00","00"]
["SA01947","Moray Road Runners","1993-10-23","Moray Goodfellow","SA01947","Under 17",".",430,{"$f":"VLOOKUP('entries and results'!G432,$A$3:$E$30018,4,FALSE)","v":" "},{"$f":"VLOOKUP('entries and results'!G432,$A$3:$F$30018,6,FALSE)","v":" "},{"$f":"VLOOKUP('entries and results'!G432,$A$3:$E$30018,2,FALSE)","v":" "},430,".",{"$f":"VLOOKUP('entries and results'!M432,$H$3:$K$30018,2,FALSE)","v":" "},{"$f":"VLOOKUP('entries and results'!M432,$H$3:$K$30018,3,FALSE)","v":" "},{"$f":"VLOOKUP('entries and results'!M432,$H$3:$K$30018,4,FALSE)","v":" "}," ","00:00",null,null,null,null,null,null,null,null,null,null,null,null,null,null,null,null,null,null,null,null,null,null,null,null,null,null,null,null,null,null,null,null,null,null,null,null,null,null,null,null,null,null,null,"00:00",430,0,"0000000","00","00","00"]
["SA01950","Moray Road Runners","1995-11-07","Adam Jays","SA01950","Under 15",".",431,{"$f":"VLOOKUP('entries and results'!G433,$A$3:$E$30018,4,FALSE)","v":" "},{"$f":"VLOOKUP('entries and results'!G433,$A$3:$F$30018,6,FALSE)","v":" "},{"$f":"VLOOKUP('entries and results'!G433,$A$3:$E$30018,2,FALSE)","v":" "},431,".",{"$f":"VLOOKUP('entries and results'!M433,$H$3:$K$30018,2,FALSE)","v":" "},{"$f":"VLOOKUP('entries and results'!M433,$H$3:$K$30018,3,FALSE)","v":" "},{"$f":"VLOOKUP('entries and results'!M433,$H$3:$K$30018,4,FALSE)","v":" "}," ","00:00",null,null,null,null,null,null,null,null,null,null,null,null,null,null,null,null,null,null,null,null,null,null,null,null,null,null,null,null,null,null,null,null,null,null,null,null,null,null,null,null,null,null,null,"00:00",431,0,"0000000","00","00","00"]
["SA01951","Central AC","1993-12-14","Rachel Adamson","SA01951","Under 17",".",432,{"$f":"VLOOKUP('entries and results'!G434,$A$3:$E$30018,4,FALSE)","v":" "},{"$f":"VLOOKUP('entries and results'!G434,$A$3:$F$30018,6,FALSE)","v":" "},{"$f":"VLOOKUP('entries and results'!G434,$A$3:$E$30018,2,FALSE)","v":" "},432,".",{"$f":"VLOOKUP('entries and results'!M434,$H$3:$K$30018,2,FALSE)","v":" "},{"$f":"VLOOKUP('entries and results'!M434,$H$3:$K$30018,3,FALSE)","v":" "},{"$f":"VLOOKUP('entries and results'!M434,$H$3:$K$30018,4,FALSE)","v":" "}," ","00:00",null,null,null,null,null,null,null,null,null,null,null,null,null,null,null,null,null,null,null,null,null,null,null,null,null,null,null,null,null,null,null,null,null,null,null,null,null,null,null,null,null,null,null,"00:00",432,0,"0000000","00","00","00"]
["SA01955","Motherwell AC","1993-05-12","Scott Dickson","SA01955","Senior",".",433,{"$f":"VLOOKUP('entries and results'!G435,$A$3:$E$30018,4,FALSE)","v":" "},{"$f":"VLOOKUP('entries and results'!G435,$A$3:$F$30018,6,FALSE)","v":" "},{"$f":"VLOOKUP('entries and results'!G435,$A$3:$E$30018,2,FALSE)","v":" "},433,".",{"$f":"VLOOKUP('entries and results'!M435,$H$3:$K$30018,2,FALSE)","v":" "},{"$f":"VLOOKUP('entries and results'!M435,$H$3:$K$30018,3,FALSE)","v":" "},{"$f":"VLOOKUP('entries and results'!M435,$H$3:$K$30018,4,FALSE)","v":" "}," ","00:00",null,null,null,null,null,null,null,null,null,null,null,null,null,null,null,null,null,null,null,null,null,null,null,null,null,null,null,null,null,null,null,null,null,null,null,null,null,null,null,null,null,null,null,"00:00",433,0,"0000000","00","00","00"]
["SA01959","North Uist AAC","1993-05-15","Angus MacIntosh","SA01959","Senior",".",434,{"$f":"VLOOKUP('entries and results'!G436,$A$3:$E$30018,4,FALSE)","v":" "},{"$f":"VLOOKUP('entries and results'!G436,$A$3:$F$30018,6,FALSE)","v":" "},{"$f":"VLOOKUP('entries and results'!G436,$A$3:$E$30018,2,FALSE)","v":" "},434,".",{"$f":"VLOOKUP('entries and results'!M436,$H$3:$K$30018,2,FALSE)","v":" "},{"$f":"VLOOKUP('entries and results'!M436,$H$3:$K$30018,3,FALSE)","v":" "},{"$f":"VLOOKUP('entries and results'!M436,$H$3:$K$30018,4,FALSE)","v":" "}," ","00:00",null,null,null,null,null,null,null,null,null,null,null,null,null,null,null,null,null,null,null,null,null,null,null,null,null,null,null,null,null,null,null,null,null,null,null,null,null,null,null,null,null,null,null,"00:00",434,0,"0000000","00","00","00"]
["SA01966","Perth Strathtay Harriers","1992-12-30","Murray Sturrock","SA01966","Senior",".",435,{"$f":"VLOOKUP('entries and results'!G437,$A$3:$E$30018,4,FALSE)","v":" "},{"$f":"VLOOKUP('entries and results'!G437,$A$3:$F$30018,6,FALSE)","v":" "},{"$f":"VLOOKUP('entries and results'!G437,$A$3:$E$30018,2,FALSE)","v":" "},435,".",{"$f":"VLOOKUP('entries and results'!M437,$H$3:$K$30018,2,FALSE)","v":" "},{"$f":"VLOOKUP('entries and results'!M437,$H$3:$K$30018,3,FALSE)","v":" "},{"$f":"VLOOKUP('entries and results'!M437,$H$3:$K$30018,4,FALSE)","v":" "}," ","00:00",null,null,null,null,null,null,null,null,null,null,null,null,null,null,null,null,null,null,null,null,null,null,null,null,null,null,null,null,null,null,null,null,null,null,null,null,null,null,null,null,null,null,null,"00:00",435,0,"0000000","00","00","00"]
["SA01967","Pitreavie AAC","1992-03-21","Donald Tod","SA01967","Senior",".",436,{"$f":"VLOOKUP('entries and results'!G438,$A$3:$E$30018,4,FALSE)","v":" "},{"$f":"VLOOKUP('entries and results'!G438,$A$3:$F$30018,6,FALSE)","v":" "},{"$f":"VLOOKUP('entries and results'!G438,$A$3:$E$30018,2,FALSE)","v":" "},436,".",{"$f":"VLOOKUP('entries and results'!M438,$H$3:$K$30018,2,FALSE)","v":" "},{"$f":"VLOOKUP('entries and results'!M438,$H$3:$K$30018,3,FALSE)","v":" "},{"$f":"VLOOKUP('entries and results'!M438,$H$3:$K$30018,4,FALSE)","v":" "}," ","00:00",null,null,null,null,null,null,null,null,null,null,null,null,null,null,null,null,null,null,null,null,null,null,null,null,null,null,null,null,null,null,null,null,null,null,null,null,null,null,null,null,null,null,null,"00:00",436,0,"0000000","00","00","00"]
["SA01969","Pitreavie AAC","1995-07-01","Micaela Brown","SA01969","Under 17",".",437,{"$f":"VLOOKUP('entries and results'!G439,$A$3:$E$30018,4,FALSE)","v":" "},{"$f":"VLOOKUP('entries and results'!G439,$A$3:$F$30018,6,FALSE)","v":" "},{"$f":"VLOOKUP('entries and results'!G439,$A$3:$E$30018,2,FALSE)","v":" "},437,".",{"$f":"VLOOKUP('entries and results'!M439,$H$3:$K$30018,2,FALSE)","v":" "},{"$f":"VLOOKUP('entries and results'!M439,$H$3:$K$30018,3,FALSE)","v":" "},{"$f":"VLOOKUP('entries and results'!M439,$H$3:$K$30018,4,FALSE)","v":" "}," ","00:00",null,null,null,null,null,null,null,null,null,null,null,null,null,null,null,null,null,null,null,null,null,null,null,null,null,null,null,null,null,null,null,null,null,null,null,null,null,null,null,null,null,null,null,"00:00",437,0,"0000000","00","00","00"]
["SA01970","Pitreavie AAC","1988-10-25","Stephanie Walker","SA01970","Senior",".",438,{"$f":"VLOOKUP('entries and results'!G440,$A$3:$E$30018,4,FALSE)","v":" "},{"$f":"VLOOKUP('entries and results'!G440,$A$3:$F$30018,6,FALSE)","v":" "},{"$f":"VLOOKUP('entries and results'!G440,$A$3:$E$30018,2,FALSE)","v":" "},438,".",{"$f":"VLOOKUP('entries and results'!M440,$H$3:$K$30018,2,FALSE)","v":" "},{"$f":"VLOOKUP('entries and results'!M440,$H$3:$K$30018,3,FALSE)","v":" "},{"$f":"VLOOKUP('entries and results'!M440,$H$3:$K$30018,4,FALSE)","v":" "}," ","00:00",null,null,null,null,null,null,null,null,null,null,null,null,null,null,null,null,null,null,null,null,null,null,null,null,null,null,null,null,null,null,null,null,null,null,null,null,null,null,null,null,null,null,null,"00:00",438,0,"0000000","00","00","00"]
["SA01971","Pitreavie AAC","1992-09-14","Anthony Young","SA01971","Senior",".",439,{"$f":"VLOOKUP('entries and results'!G441,$A$3:$E$30018,4,FALSE)","v":" "},{"$f":"VLOOKUP('entries and results'!G441,$A$3:$F$30018,6,FALSE)","v":" "},{"$f":"VLOOKUP('entries and results'!G441,$A$3:$E$30018,2,FALSE)","v":" "},439,".",{"$f":"VLOOKUP('entries and results'!M441,$H$3:$K$30018,2,FALSE)","v":" "},{"$f":"VLOOKUP('entries and results'!M441,$H$3:$K$30018,3,FALSE)","v":" "},{"$f":"VLOOKUP('entries and results'!M441,$H$3:$K$30018,4,FALSE)","v":" "}," ","00:00",null,null,null,null,null,null,null,null,null,null,null,null,null,null,null,null,null,null,null,null,null,null,null,null,null,null,null,null,null,null,null,null,null,null,null,null,null,null,null,null,null,null,null,"00:00",439,0,"0000000","00","00","00"]
["SA01972","Inverness Harriers AAC","1992-04-21","James MacPhail","SA01972","Senior",".",440,{"$f":"VLOOKUP('entries and results'!G442,$A$3:$E$30018,4,FALSE)","v":" "},{"$f":"VLOOKUP('entries and results'!G442,$A$3:$F$30018,6,FALSE)","v":" "},{"$f":"VLOOKUP('entries and results'!G442,$A$3:$E$30018,2,FALSE)","v":" "},440,".",{"$f":"VLOOKUP('entries and results'!M442,$H$3:$K$30018,2,FALSE)","v":" "},{"$f":"VLOOKUP('entries and results'!M442,$H$3:$K$30018,3,FALSE)","v":" "},{"$f":"VLOOKUP('entries and results'!M442,$H$3:$K$30018,4,FALSE)","v":" "}," ","00:00",null,null,null,null,null,null,null,null,null,null,null,null,null,null,null,null,null,null,null,null,null,null,null,null,null,null,null,null,null,null,null,null,null,null,null,null,null,null,null,null,null,null,null,"00:00",440,0,"0000000","00","00","00"]
["SA01973","Ross County Athletic Club","1995-04-06","Scott MacPhail","SA01973","Under 17",".",441,{"$f":"VLOOKUP('entries and results'!G443,$A$3:$E$30018,4,FALSE)","v":" "},{"$f":"VLOOKUP('entries and results'!G443,$A$3:$F$30018,6,FALSE)","v":" "},{"$f":"VLOOKUP('entries and results'!G443,$A$3:$E$30018,2,FALSE)","v":" "},441,".",{"$f":"VLOOKUP('entries and results'!M443,$H$3:$K$30018,2,FALSE)","v":" "},{"$f":"VLOOKUP('entries and results'!M443,$H$3:$K$30018,3,FALSE)","v":" "},{"$f":"VLOOKUP('entries and results'!M443,$H$3:$K$30018,4,FALSE)","v":" "}," ","00:00",null,null,null,null,null,null,null,null,null,null,null,null,null,null,null,null,null,null,null,null,null,null,null,null,null,null,null,null,null,null,null,null,null,null,null,null,null,null,null,null,null,null,null,"00:00",441,0,"0000000","00","00","00"]
["SA01974","Shettleston Harriers","1993-10-14","Jack Bishop","SA01974","Under 17",".",442,{"$f":"VLOOKUP('entries and results'!G444,$A$3:$E$30018,4,FALSE)","v":" "},{"$f":"VLOOKUP('entries and results'!G444,$A$3:$F$30018,6,FALSE)","v":" "},{"$f":"VLOOKUP('entries and results'!G444,$A$3:$E$30018,2,FALSE)","v":" "},442,".",{"$f":"VLOOKUP('entries and results'!M444,$H$3:$K$30018,2,FALSE)","v":" "},{"$f":"VLOOKUP('entries and results'!M444,$H$3:$K$30018,3,FALSE)","v":" "},{"$f":"VLOOKUP('entries and results'!M444,$H$3:$K$30018,4,FALSE)","v":" "}," ","00:00",null,null,null,null,null,null,null,null,null,null,null,null,null,null,null,null,null,null,null,null,null,null,null,null,null,null,null,null,null,null,null,null,null,null,null,null,null,null,null,null,null,null,null,"00:00",442,0,"0000000","00","00","00"]
["SA01977","Shettleston Harriers","1993-10-17","Nicholas Devlin","SA01977","Under 17",".",443,{"$f":"VLOOKUP('entries and results'!G445,$A$3:$E$30018,4,FALSE)","v":" "},{"$f":"VLOOKUP('entries and results'!G445,$A$3:$F$30018,6,FALSE)","v":" "},{"$f":"VLOOKUP('entries and results'!G445,$A$3:$E$30018,2,FALSE)","v":" "},443,".",{"$f":"VLOOKUP('entries and results'!M445,$H$3:$K$30018,2,FALSE)","v":" "},{"$f":"VLOOKUP('entries and results'!M445,$H$3:$K$30018,3,FALSE)","v":" "},{"$f":"VLOOKUP('entries and results'!M445,$H$3:$K$30018,4,FALSE)","v":" "}," ","00:00",null,null,null,null,null,null,null,null,null,null,null,null,null,null,null,null,null,null,null,null,null,null,null,null,null,null,null,null,null,null,null,null,null,null,null,null,null,null,null,null,null,null,null,"00:00",443,0,"0000000","00","00","00"]
["SA01980","Shettleston Harriers","1992-01-30","Lachlan Oates","SA01980","Senior",".",444,{"$f":"VLOOKUP('entries and results'!G446,$A$3:$E$30018,4,FALSE)","v":" "},{"$f":"VLOOKUP('entries and results'!G446,$A$3:$F$30018,6,FALSE)","v":" "},{"$f":"VLOOKUP('entries and results'!G446,$A$3:$E$30018,2,FALSE)","v":" "},444,".",{"$f":"VLOOKUP('entries and results'!M446,$H$3:$K$30018,2,FALSE)","v":" "},{"$f":"VLOOKUP('entries and results'!M446,$H$3:$K$30018,3,FALSE)","v":" "},{"$f":"VLOOKUP('entries and results'!M446,$H$3:$K$30018,4,FALSE)","v":" "}," ","00:00",null,null,null,null,null,null,null,null,null,null,null,null,null,null,null,null,null,null,null,null,null,null,null,null,null,null,null,null,null,null,null,null,null,null,null,null,null,null,null,null,null,null,null,"00:00",444,0,"0000000","00","00","00"]
["SA01984","Stornoway Running & AC","1992-06-23","Kirsty Munro","SA01984","Senior",".",445,{"$f":"VLOOKUP('entries and results'!G447,$A$3:$E$30018,4,FALSE)","v":" "},{"$f":"VLOOKUP('entries and results'!G447,$A$3:$F$30018,6,FALSE)","v":" "},{"$f":"VLOOKUP('entries and results'!G447,$A$3:$E$30018,2,FALSE)","v":" "},445,".",{"$f":"VLOOKUP('entries and results'!M447,$H$3:$K$30018,2,FALSE)","v":" "},{"$f":"VLOOKUP('entries and results'!M447,$H$3:$K$30018,3,FALSE)","v":" "},{"$f":"VLOOKUP('entries and results'!M447,$H$3:$K$30018,4,FALSE)","v":" "}," ","00:00",null,null,null,null,null,null,null,null,null,null,null,null,null,null,null,null,null,null,null,null,null,null,null,null,null,null,null,null,null,null,null,null,null,null,null,null,null,null,null,null,null,null,null,"00:00",445,0,"0000000","00","00","00"]
["SA01985","Stornoway Running & AC","1993-07-05","Ceit Stewart","SA01985","Senior",".",446,{"$f":"VLOOKUP('entries and results'!G448,$A$3:$E$30018,4,FALSE)","v":" "},{"$f":"VLOOKUP('entries and results'!G448,$A$3:$F$30018,6,FALSE)","v":" "},{"$f":"VLOOKUP('entries and results'!G448,$A$3:$E$30018,2,FALSE)","v":" "},446,".",{"$f":"VLOOKUP('entries and results'!M448,$H$3:$K$30018,2,FALSE)","v":" "},{"$f":"VLOOKUP('entries and results'!M448,$H$3:$K$30018,3,FALSE)","v":" "},{"$f":"VLOOKUP('entries and results'!M448,$H$3:$K$30018,4,FALSE)","v":" "}," ","00:00",null,null,null,null,null,null,null,null,null,null,null,null,null,null,null,null,null,null,null,null,null,null,null,null,null,null,null,null,null,null,null,null,null,null,null,null,null,null,null,null,null,null,null,"00:00",446,0,"0000000","00","00","00"]
["SA01986","Stornoway Running & AC","1991-12-17","Ruaraidh Stewart","SA01986","Senior",".",447,{"$f":"VLOOKUP('entries and results'!G449,$A$3:$E$30018,4,FALSE)","v":" "},{"$f":"VLOOKUP('entries and results'!G449,$A$3:$F$30018,6,FALSE)","v":" "},{"$f":"VLOOKUP('entries and results'!G449,$A$3:$E$30018,2,FALSE)","v":" "},447,".",{"$f":"VLOOKUP('entries and results'!M449,$H$3:$K$30018,2,FALSE)","v":" "},{"$f":"VLOOKUP('entries and results'!M449,$H$3:$K$30018,3,FALSE)","v":" "},{"$f":"VLOOKUP('entries and results'!M449,$H$3:$K$30018,4,FALSE)","v":" "}," ","00:00",null,null,null,null,null,null,null,null,null,null,null,null,null,null,null,null,null,null,null,null,null,null,null,null,null,null,null,null,null,null,null,null,null,null,null,null,null,null,null,null,null,null,null,"00:00",447,0,"0000000","00","00","00"]
["SA01991","VP-Glasgow AC","1992-09-08","Alison Innes","SA01991","Senior",".",448,{"$f":"VLOOKUP('entries and results'!G450,$A$3:$E$30018,4,FALSE)","v":" "},{"$f":"VLOOKUP('entries and results'!G450,$A$3:$F$30018,6,FALSE)","v":" "},{"$f":"VLOOKUP('entries and results'!G450,$A$3:$E$30018,2,FALSE)","v":" "},448,".",{"$f":"VLOOKUP('entries and results'!M450,$H$3:$K$30018,2,FALSE)","v":" "},{"$f":"VLOOKUP('entries and results'!M450,$H$3:$K$30018,3,FALSE)","v":" "},{"$f":"VLOOKUP('entries and results'!M450,$H$3:$K$30018,4,FALSE)","v":" "}," ","00:00",null,null,null,null,null,null,null,null,null,null,null,null,null,null,null,null,null,null,null,null,null,null,null,null,null,null,null,null,null,null,null,null,null,null,null,null,null,null,null,null,null,null,null,"00:00",448,0,"0000000","00","00","00"]
["SA01992","VP-Glasgow AC","1990-09-17","Calum Innes","SA01992","Senior",".",449,{"$f":"VLOOKUP('entries and results'!G451,$A$3:$E$30018,4,FALSE)","v":" "},{"$f":"VLOOKUP('entries and results'!G451,$A$3:$F$30018,6,FALSE)","v":" "},{"$f":"VLOOKUP('entries and results'!G451,$A$3:$E$30018,2,FALSE)","v":" "},449,".",{"$f":"VLOOKUP('entries and results'!M451,$H$3:$K$30018,2,FALSE)","v":" "},{"$f":"VLOOKUP('entries and results'!M451,$H$3:$K$30018,3,FALSE)","v":" "},{"$f":"VLOOKUP('entries and results'!M451,$H$3:$K$30018,4,FALSE)","v":" "}," ","00:00",null,null,null,null,null,null,null,null,null,null,null,null,null,null,null,null,null,null,null,null,null,null,null,null,null,null,null,null,null,null,null,null,null,null,null,null,null,null,null,null,null,null,null,"00:00",449,{"$f":"SUMIF($H$3:$H$601,$BK451,$Q$3:$Q$601)","v":0},"0000000","00","00","00"]
["SA01993","VP-Glasgow AC","1990-09-17","Gregor Innes","SA01993","Senior",".",450,{"$f":"VLOOKUP('entries and results'!G452,$A$3:$E$30018,4,FALSE)","v":" "},{"$f":"VLOOKUP('entries and results'!G452,$A$3:$F$30018,6,FALSE)","v":" "},{"$f":"VLOOKUP('entries and results'!G452,$A$3:$E$30018,2,FALSE)","v":" "},450,".",{"$f":"VLOOKUP('entries and results'!M452,$H$3:$K$30018,2,FALSE)","v":" "},{"$f":"VLOOKUP('entries and results'!M452,$H$3:$K$30018,3,FALSE)","v":" "},{"$f":"VLOOKUP('entries and results'!M452,$H$3:$K$30018,4,FALSE)","v":" "}," ",{"$f":"IF($H452=\"\",\" \",(LOOKUP($H452,$BK$3:$BK$1601,$BJ$3:$BJ$1601)))","v":"00:00"},null,null,null,null,null,null,null,null,null,null,null,null,null,null,null,null,null,null,null,null,null,null,null,null,null,null,null,null,null,null,null,null,null,null,null,null,null,null,null,null,null,null,null,"00:00",450,0,"0000000","00","00","00"]
["SA01995","VP-Glasgow AC","1993-04-05","Jade Barclay","SA01995","Senior",".",451,{"$f":"VLOOKUP('entries and results'!G453,$A$3:$E$30018,4,FALSE)","v":" "},{"$f":"VLOOKUP('entries and results'!G453,$A$3:$F$30018,6,FALSE)","v":" "},{"$f":"VLOOKUP('entries and results'!G453,$A$3:$E$30018,2,FALSE)","v":" "},451,".",{"$f":"VLOOKUP('entries and results'!M453,$H$3:$K$30018,2,FALSE)","v":" "},{"$f":"VLOOKUP('entries and results'!M453,$H$3:$K$30018,3,FALSE)","v":" "},{"$f":"VLOOKUP('entries and results'!M453,$H$3:$K$30018,4,FALSE)","v":" "}," ","00:00",null,null,null,null,null,null,null,null,null,null,null,null,null,null,null,null,null,null,null,null,null,null,null,null,null,null,null,null,null,null,null,null,null,null,null,null,null,null,null,null,null,null,null,"00:00",451,0,"0000000","00","00","00"]
["SA01998","Ron Hill Cambuslang Harriers","1994-10-28","Rachel Fraser","SA01998","Under 17",".",452,{"$f":"VLOOKUP('entries and results'!G454,$A$3:$E$30018,4,FALSE)","v":" "},{"$f":"VLOOKUP('entries and results'!G454,$A$3:$F$30018,6,FALSE)","v":" "},{"$f":"VLOOKUP('entries and results'!G454,$A$3:$E$30018,2,FALSE)","v":" "},452,".",{"$f":"VLOOKUP('entries and results'!M454,$H$3:$K$30018,2,FALSE)","v":" "},{"$f":"VLOOKUP('entries and results'!M454,$H$3:$K$30018,3,FALSE)","v":" "},{"$f":"VLOOKUP('entries and results'!M454,$H$3:$K$30018,4,FALSE)","v":" "}," ","00:00",null,null,null,null,null,null,null,null,null,null,null,null,null,null,null,null,null,null,null,null,null,null,null,null,null,null,null,null,null,null,null,null,null,null,null,null,null,null,null,null,null,null,null,{"$f":"CONCATENATE(BO454,\":\",BP454)","v":"00:00"},452,0,{"$f":"CONCATENATE($BG$2,$BL454)","v":"0000000"},{"$f":"MID(RIGHT($BM454,6),1,2)","v":"00"},{"$f":"MID(RIGHT($BM454,6),3,2)","v":"00"},{"$f":"MID(RIGHT($BM454,6),5,2)","v":"00"}]
["SA02011","Ron Hill Cambuslang Harriers","1990-02-01","Kenneth Boyd","SA02011","Senior",".",453,{"$f":"VLOOKUP('entries and results'!G455,$A$3:$E$30018,4,FALSE)","v":" "},{"$f":"VLOOKUP('entries and results'!G455,$A$3:$F$30018,6,FALSE)","v":" "},{"$f":"VLOOKUP('entries and results'!G455,$A$3:$E$30018,2,FALSE)","v":" "},453,".",{"$f":"VLOOKUP('entries and results'!M455,$H$3:$K$30018,2,FALSE)","v":" "},{"$f":"VLOOKUP('entries and results'!M455,$H$3:$K$30018,3,FALSE)","v":" "},{"$f":"VLOOKUP('entries and results'!M455,$H$3:$K$30018,4,FALSE)","v":" "}," ","00:00",null,null,null,null,null,null,null,null,null,null,null,null,null,null,null,null,null,null,null,null,null,null,null,null,null,null,null,null,null,null,null,null,null,null,null,null,null,null,null,null,null,null,null,"00:00",453,0,"0000000","00","00","00"]
["SA02013","Aberdeen AAC","1993-11-12","Sebastian Wilson","SA02013","Under 17",".",454,{"$f":"VLOOKUP('entries and results'!G456,$A$3:$E$30018,4,FALSE)","v":" "},{"$f":"VLOOKUP('entries and results'!G456,$A$3:$F$30018,6,FALSE)","v":" "},{"$f":"VLOOKUP('entries and results'!G456,$A$3:$E$30018,2,FALSE)","v":" "},454,".",{"$f":"VLOOKUP('entries and results'!M456,$H$3:$K$30018,2,FALSE)","v":" "},{"$f":"VLOOKUP('entries and results'!M456,$H$3:$K$30018,3,FALSE)","v":" "},{"$f":"VLOOKUP('entries and results'!M456,$H$3:$K$30018,4,FALSE)","v":" "}," ","00:00",null,null,null,null,null,null,null,null,null,null,null,null,null,null,null,null,null,null,null,null,null,null,null,null,null,null,null,null,null,null,null,null,null,null,null,null,null,null,null,null,null,null,null,"00:00",454,0,"0000000","00","00","00"]
["SA02018","Airdrie Harriers","1991-12-21","Ross Mclean","SA02018","Senior",".",455,{"$f":"VLOOKUP('entries and results'!G457,$A$3:$E$30018,4,FALSE)","v":" "},{"$f":"VLOOKUP('entries and results'!G457,$A$3:$F$30018,6,FALSE)","v":" "},{"$f":"VLOOKUP('entries and results'!G457,$A$3:$E$30018,2,FALSE)","v":" "},455,".",{"$f":"VLOOKUP('entries and results'!M457,$H$3:$K$30018,2,FALSE)","v":" "},{"$f":"VLOOKUP('entries and results'!M457,$H$3:$K$30018,3,FALSE)","v":" "},{"$f":"VLOOKUP('entries and results'!M457,$H$3:$K$30018,4,FALSE)","v":" "}," ","00:00",null,null,null,null,null,null,null,null,null,null,null,null,null,null,null,null,null,null,null,null,null,null,null,null,null,null,null,null,null,null,null,null,null,null,null,null,null,null,null,null,null,null,null,"00:00",455,0,"0000000","00","00","00"]
["SA02024","Ayr Seaforth AAC","1994-08-26","Caroline George","SA02024","Under 17",".",456,{"$f":"VLOOKUP('entries and results'!G458,$A$3:$E$30018,4,FALSE)","v":" "},{"$f":"VLOOKUP('entries and results'!G458,$A$3:$F$30018,6,FALSE)","v":" "},{"$f":"VLOOKUP('entries and results'!G458,$A$3:$E$30018,2,FALSE)","v":" "},456,".",{"$f":"VLOOKUP('entries and results'!M458,$H$3:$K$30018,2,FALSE)","v":" "},{"$f":"VLOOKUP('entries and results'!M458,$H$3:$K$30018,3,FALSE)","v":" "},{"$f":"VLOOKUP('entries and results'!M458,$H$3:$K$30018,4,FALSE)","v":" "}," ","00:00",null,null,null,null,null,null,null,null,null,null,null,null,null,null,null,null,null,null,null,null,null,null,null,null,null,null,null,null,null,null,null,null,null,null,null,null,null,null,null,null,null,null,null,"00:00",456,0,"0000000","00","00","00"]
["SA02035","Edinburgh AC","1993-04-21","Joanna Dudgeon","SA02035","Senior",".",457,{"$f":"VLOOKUP('entries and results'!G459,$A$3:$E$30018,4,FALSE)","v":" "},{"$f":"VLOOKUP('entries and results'!G459,$A$3:$F$30018,6,FALSE)","v":" "},{"$f":"VLOOKUP('entries and results'!G459,$A$3:$E$30018,2,FALSE)","v":" "},457,".",{"$f":"VLOOKUP('entries and results'!M459,$H$3:$K$30018,2,FALSE)","v":" "},{"$f":"VLOOKUP('entries and results'!M459,$H$3:$K$30018,3,FALSE)","v":" "},{"$f":"VLOOKUP('entries and results'!M459,$H$3:$K$30018,4,FALSE)","v":" "}," ","00:00",null,null,null,null,null,null,null,null,null,null,null,null,null,null,null,null,null,null,null,null,null,null,null,null,null,null,null,null,null,null,null,null,null,null,null,null,null,null,null,null,null,null,null,"00:00",457,0,"0000000","00","00","00"]
["SA02036","George Heriots School","1993-04-16","Amber Lockhart","SA02036","Senior",".",458,{"$f":"VLOOKUP('entries and results'!G460,$A$3:$E$30018,4,FALSE)","v":" "},{"$f":"VLOOKUP('entries and results'!G460,$A$3:$F$30018,6,FALSE)","v":" "},{"$f":"VLOOKUP('entries and results'!G460,$A$3:$E$30018,2,FALSE)","v":" "},458,".",{"$f":"VLOOKUP('entries and results'!M460,$H$3:$K$30018,2,FALSE)","v":" "},{"$f":"VLOOKUP('entries and results'!M460,$H$3:$K$30018,3,FALSE)","v":" "},{"$f":"VLOOKUP('entries and results'!M460,$H$3:$K$30018,4,FALSE)","v":" "}," ","00:00",null,null,null,null,null,null,null,null,null,null,null,null,null,null,null,null,null,null,null,null,null,null,null,null,null,null,null,null,null,null,null,null,null,null,null,null,null,null,null,null,null,null,null,"00:00",458,0,"0000000","00","00","00"]
["SA02037","Edinburgh AC","1994-09-10","Amil Mair","SA02037","Under 17",".",459,{"$f":"VLOOKUP('entries and results'!G461,$A$3:$E$30018,4,FALSE)","v":" "},{"$f":"VLOOKUP('entries and results'!G461,$A$3:$F$30018,6,FALSE)","v":" "},{"$f":"VLOOKUP('entries and results'!G461,$A$3:$E$30018,2,FALSE)","v":" "},459,".",{"$f":"VLOOKUP('entries and results'!M461,$H$3:$K$30018,2,FALSE)","v":" "},{"$f":"VLOOKUP('entries and results'!M461,$H$3:$K$30018,3,FALSE)","v":" "},{"$f":"VLOOKUP('entries and results'!M461,$H$3:$K$30018,4,FALSE)","v":" "}," ","00:00",null,null,null,null,null,null,null,null,null,null,null,null,null,null,null,null,null,null,null,null,null,null,null,null,null,null,null,null,null,null,null,null,null,null,null,null,null,null,null,null,null,null,null,"00:00",459,0,"0000000","00","00","00"]
["SA02038","Edinburgh AC","1993-05-13","Nikhil Mair","SA02038","Senior",".",460,{"$f":"VLOOKUP('entries and results'!G462,$A$3:$E$30018,4,FALSE)","v":" "},{"$f":"VLOOKUP('entries and results'!G462,$A$3:$F$30018,6,FALSE)","v":" "},{"$f":"VLOOKUP('entries and results'!G462,$A$3:$E$30018,2,FALSE)","v":" "},460,".",{"$f":"VLOOKUP('entries and results'!M462,$H$3:$K$30018,2,FALSE)","v":" "},{"$f":"VLOOKUP('entries and results'!M462,$H$3:$K$30018,3,FALSE)","v":" "},{"$f":"VLOOKUP('entries and results'!M462,$H$3:$K$30018,4,FALSE)","v":" "}," ","00:00",null,null,null,null,null,null,null,null,null,null,null,null,null,null,null,null,null,null,null,null,null,null,null,null,null,null,null,null,null,null,null,null,null,null,null,null,null,null,null,null,null,null,null,"00:00",460,0,"0000000","00","00","00"]
["SA02039","Edinburgh AC","1992-03-16","Amy Rogers","SA02039","Senior",".",461,{"$f":"VLOOKUP('entries and results'!G463,$A$3:$E$30018,4,FALSE)","v":" "},{"$f":"VLOOKUP('entries and results'!G463,$A$3:$F$30018,6,FALSE)","v":" "},{"$f":"VLOOKUP('entries and results'!G463,$A$3:$E$30018,2,FALSE)","v":" "},461,".",{"$f":"VLOOKUP('entries and results'!M463,$H$3:$K$30018,2,FALSE)","v":" "},{"$f":"VLOOKUP('entries and results'!M463,$H$3:$K$30018,3,FALSE)","v":" "},{"$f":"VLOOKUP('entries and results'!M463,$H$3:$K$30018,4,FALSE)","v":" "}," ","00:00",null,null,null,null,null,null,null,null,null,null,null,null,null,null,null,null,null,null,null,null,null,null,null,null,null,null,null,null,null,null,null,null,null,null,null,null,null,null,null,null,null,null,null,"00:00",461,0,"0000000","00","00","00"]
["SA02040","Edinburgh AC","1993-02-26","Philipa Valente","SA02040","Senior",".",462,{"$f":"VLOOKUP('entries and results'!G464,$A$3:$E$30018,4,FALSE)","v":" "},{"$f":"VLOOKUP('entries and results'!G464,$A$3:$F$30018,6,FALSE)","v":" "},{"$f":"VLOOKUP('entries and results'!G464,$A$3:$E$30018,2,FALSE)","v":" "},462,".",{"$f":"VLOOKUP('entries and results'!M464,$H$3:$K$30018,2,FALSE)","v":" "},{"$f":"VLOOKUP('entries and results'!M464,$H$3:$K$30018,3,FALSE)","v":" "},{"$f":"VLOOKUP('entries and results'!M464,$H$3:$K$30018,4,FALSE)","v":" "}," ","00:00",null,null,null,null,null,null,null,null,null,null,null,null,null,null,null,null,null,null,null,null,null,null,null,null,null,null,null,null,null,null,null,null,null,null,null,null,null,null,null,null,null,null,null,"00:00",462,0,"0000000","00","00","00"]
["SA02041","VP-Glasgow AC","1989-02-06","Erin Leggate","SA02041","Senior",".",463,{"$f":"VLOOKUP('entries and results'!G465,$A$3:$E$30018,4,FALSE)","v":" "},{"$f":"VLOOKUP('entries and results'!G465,$A$3:$F$30018,6,FALSE)","v":" "},{"$f":"VLOOKUP('entries and results'!G465,$A$3:$E$30018,2,FALSE)","v":" "},463,".",{"$f":"VLOOKUP('entries and results'!M465,$H$3:$K$30018,2,FALSE)","v":" "},{"$f":"VLOOKUP('entries and results'!M465,$H$3:$K$30018,3,FALSE)","v":" "},{"$f":"VLOOKUP('entries and results'!M465,$H$3:$K$30018,4,FALSE)","v":" "}," ","00:00",null,null,null,null,null,null,null,null,null,null,null,null,null,null,null,null,null,null,null,null,null,null,null,null,null,null,null,null,null,null,null,null,null,null,null,null,null,null,null,null,null,null,null,"00:00",463,0,"0000000","00","00","00"]
["SA02052","East Kilbride A.C.","1995-04-20","Scott Hernon","SA02052","Under 17",".",464,{"$f":"VLOOKUP('entries and results'!G466,$A$3:$E$30018,4,FALSE)","v":" "},{"$f":"VLOOKUP('entries and results'!G466,$A$3:$F$30018,6,FALSE)","v":" "},{"$f":"VLOOKUP('entries and results'!G466,$A$3:$E$30018,2,FALSE)","v":" "},464,".",{"$f":"VLOOKUP('entries and results'!M466,$H$3:$K$30018,2,FALSE)","v":" "},{"$f":"VLOOKUP('entries and results'!M466,$H$3:$K$30018,3,FALSE)","v":" "},{"$f":"VLOOKUP('entries and results'!M466,$H$3:$K$30018,4,FALSE)","v":" "}," ","00:00",null,null,null,null,null,null,null,null,null,null,null,null,null,null,null,null,null,null,null,null,null,null,null,null,null,null,null,null,null,null,null,null,null,null,null,null,null,null,null,null,null,null,null,"00:00",464,0,"0000000","00","00","00"]
["SA02054","Edinburgh AC","1990-01-06","Anna Cathro","SA02054","Senior",".",465,{"$f":"VLOOKUP('entries and results'!G467,$A$3:$E$30018,4,FALSE)","v":" "},{"$f":"VLOOKUP('entries and results'!G467,$A$3:$F$30018,6,FALSE)","v":" "},{"$f":"VLOOKUP('entries and results'!G467,$A$3:$E$30018,2,FALSE)","v":" "},465,".",{"$f":"VLOOKUP('entries and results'!M467,$H$3:$K$30018,2,FALSE)","v":" "},{"$f":"VLOOKUP('entries and results'!M467,$H$3:$K$30018,3,FALSE)","v":" "},{"$f":"VLOOKUP('entries and results'!M467,$H$3:$K$30018,4,FALSE)","v":" "}," ","00:00",null,null,null,null,null,null,null,null,null,null,null,null,null,null,null,null,null,null,null,null,null,null,null,null,null,null,null,null,null,null,null,null,null,null,null,null,null,null,null,null,null,null,null,"00:00",465,0,"0000000","00","00","00"]
["SA02056","Edinburgh AC","1992-09-25","Ailsa Mackie","SA02056","Senior",".",466,{"$f":"VLOOKUP('entries and results'!G468,$A$3:$E$30018,4,FALSE)","v":" "},{"$f":"VLOOKUP('entries and results'!G468,$A$3:$F$30018,6,FALSE)","v":" "},{"$f":"VLOOKUP('entries and results'!G468,$A$3:$E$30018,2,FALSE)","v":" "},466,".",{"$f":"VLOOKUP('entries and results'!M468,$H$3:$K$30018,2,FALSE)","v":" "},{"$f":"VLOOKUP('entries and results'!M468,$H$3:$K$30018,3,FALSE)","v":" "},{"$f":"VLOOKUP('entries and results'!M468,$H$3:$K$30018,4,FALSE)","v":" "}," ","00:00",null,null,null,null,null,null,null,null,null,null,null,null,null,null,null,null,null,null,null,null,null,null,null,null,null,null,null,null,null,null,null,null,null,null,null,null,null,null,null,null,null,null,null,"00:00",466,0,"0000000","00","00","00"]
["SA02057","Edinburgh AC","1994-10-08","Tatiana Spens","SA02057","Under 17",".",467,{"$f":"VLOOKUP('entries and results'!G469,$A$3:$E$30018,4,FALSE)","v":" "},{"$f":"VLOOKUP('entries and results'!G469,$A$3:$F$30018,6,FALSE)","v":" "},{"$f":"VLOOKUP('entries and results'!G469,$A$3:$E$30018,2,FALSE)","v":" "},467,".",{"$f":"VLOOKUP('entries and results'!M469,$H$3:$K$30018,2,FALSE)","v":" "},{"$f":"VLOOKUP('entries and results'!M469,$H$3:$K$30018,3,FALSE)","v":" "},{"$f":"VLOOKUP('entries and results'!M469,$H$3:$K$30018,4,FALSE)","v":" "}," ","00:00",null,null,null,null,null,null,null,null,null,null,null,null,null,null,null,null,null,null,null,null,null,null,null,null,null,null,null,null,null,null,null,null,null,null,null,null,null,null,null,null,null,null,null,"00:00",467,0,"0000000","00","00","00"]
["SA02062","Falkirk Victoria Harriers","1994-05-11","Lucy Mitchell","SA02062","Under 17",".",468,{"$f":"VLOOKUP('entries and results'!G470,$A$3:$E$30018,4,FALSE)","v":" "},{"$f":"VLOOKUP('entries and results'!G470,$A$3:$F$30018,6,FALSE)","v":" "},{"$f":"VLOOKUP('entries and results'!G470,$A$3:$E$30018,2,FALSE)","v":" "},468,".",{"$f":"VLOOKUP('entries and results'!M470,$H$3:$K$30018,2,FALSE)","v":" "},{"$f":"VLOOKUP('entries and results'!M470,$H$3:$K$30018,3,FALSE)","v":" "},{"$f":"VLOOKUP('entries and results'!M470,$H$3:$K$30018,4,FALSE)","v":" "}," ","00:00",null,null,null,null,null,null,null,null,null,null,null,null,null,null,null,null,null,null,null,null,null,null,null,null,null,null,null,null,null,null,null,null,null,null,null,null,null,null,null,null,null,null,null,"00:00",468,0,"0000000","00","00","00"]
["SA02063","Falkirk Victoria Harriers","1993-01-13","Darren Weir","SA02063","Senior",".",469,{"$f":"VLOOKUP('entries and results'!G471,$A$3:$E$30018,4,FALSE)","v":" "},{"$f":"VLOOKUP('entries and results'!G471,$A$3:$F$30018,6,FALSE)","v":" "},{"$f":"VLOOKUP('entries and results'!G471,$A$3:$E$30018,2,FALSE)","v":" "},469,".",{"$f":"VLOOKUP('entries and results'!M471,$H$3:$K$30018,2,FALSE)","v":" "},{"$f":"VLOOKUP('entries and results'!M471,$H$3:$K$30018,3,FALSE)","v":" "},{"$f":"VLOOKUP('entries and results'!M471,$H$3:$K$30018,4,FALSE)","v":" "}," ","00:00",null,null,null,null,null,null,null,null,null,null,null,null,null,null,null,null,null,null,null,null,null,null,null,null,null,null,null,null,null,null,null,null,null,null,null,null,null,null,null,null,null,null,null,"00:00",469,0,"0000000","00","00","00"]
["SA02064","Fife AC","1995-05-27","Gareth Clark","SA02064","Under 17",".",470,{"$f":"VLOOKUP('entries and results'!G472,$A$3:$E$30018,4,FALSE)","v":" "},{"$f":"VLOOKUP('entries and results'!G472,$A$3:$F$30018,6,FALSE)","v":" "},{"$f":"VLOOKUP('entries and results'!G472,$A$3:$E$30018,2,FALSE)","v":" "},470,".",{"$f":"VLOOKUP('entries and results'!M472,$H$3:$K$30018,2,FALSE)","v":" "},{"$f":"VLOOKUP('entries and results'!M472,$H$3:$K$30018,3,FALSE)","v":" "},{"$f":"VLOOKUP('entries and results'!M472,$H$3:$K$30018,4,FALSE)","v":" "}," ","00:00",null,null,null,null,null,null,null,null,null,null,null,null,null,null,null,null,null,null,null,null,null,null,null,null,null,null,null,null,null,null,null,null,null,null,null,null,null,null,null,null,null,null,null,"00:00",470,0,"0000000","00","00","00"]
["SA02071","Fife AC","1992-05-30","Peter Silvera","SA02071","Senior",".",471,{"$f":"VLOOKUP('entries and results'!G473,$A$3:$E$30018,4,FALSE)","v":" "},{"$f":"VLOOKUP('entries and results'!G473,$A$3:$F$30018,6,FALSE)","v":" "},{"$f":"VLOOKUP('entries and results'!G473,$A$3:$E$30018,2,FALSE)","v":" "},471,".",{"$f":"VLOOKUP('entries and results'!M473,$H$3:$K$30018,2,FALSE)","v":" "},{"$f":"VLOOKUP('entries and results'!M473,$H$3:$K$30018,3,FALSE)","v":" "},{"$f":"VLOOKUP('entries and results'!M473,$H$3:$K$30018,4,FALSE)","v":" "}," ","00:00",null,null,null,null,null,null,null,null,null,null,null,null,null,null,null,null,null,null,null,null,null,null,null,null,null,null,null,null,null,null,null,null,null,null,null,null,null,null,null,null,null,null,null,"00:00",471,0,"0000000","00","00","00"]
["SA02080","Giffnock North AAC","1994-06-29","Emma Brown","SA02080","Under 17",".",472,{"$f":"VLOOKUP('entries and results'!G474,$A$3:$E$30018,4,FALSE)","v":" "},{"$f":"VLOOKUP('entries and results'!G474,$A$3:$F$30018,6,FALSE)","v":" "},{"$f":"VLOOKUP('entries and results'!G474,$A$3:$E$30018,2,FALSE)","v":" "},472,".",{"$f":"VLOOKUP('entries and results'!M474,$H$3:$K$30018,2,FALSE)","v":" "},{"$f":"VLOOKUP('entries and results'!M474,$H$3:$K$30018,3,FALSE)","v":" "},{"$f":"VLOOKUP('entries and results'!M474,$H$3:$K$30018,4,FALSE)","v":" "}," ","00:00",null,null,null,null,null,null,null,null,null,null,null,null,null,null,null,null,null,null,null,null,null,null,null,null,null,null,null,null,null,null,null,null,null,null,null,null,null,null,null,null,null,null,null,"00:00",472,0,"0000000","00","00","00"]
["SA02083","Giffnock North AAC","1994-10-15","Nikki Manson","SA02083","Under 17",".",473,{"$f":"VLOOKUP('entries and results'!G475,$A$3:$E$30018,4,FALSE)","v":" "},{"$f":"VLOOKUP('entries and results'!G475,$A$3:$F$30018,6,FALSE)","v":" "},{"$f":"VLOOKUP('entries and results'!G475,$A$3:$E$30018,2,FALSE)","v":" "},473,".",{"$f":"VLOOKUP('entries and results'!M475,$H$3:$K$30018,2,FALSE)","v":" "},{"$f":"VLOOKUP('entries and results'!M475,$H$3:$K$30018,3,FALSE)","v":" "},{"$f":"VLOOKUP('entries and results'!M475,$H$3:$K$30018,4,FALSE)","v":" "}," ","00:00",null,null,null,null,null,null,null,null,null,null,null,null,null,null,null,null,null,null,null,null,null,null,null,null,null,null,null,null,null,null,null,null,null,null,null,null,null,null,null,null,null,null,null,"00:00",473,0,"0000000","00","00","00"]
["SA02084","Greenock Glenpark Harriers","1991-06-27","Emma Baxter","SA02084","Senior",".",474,{"$f":"VLOOKUP('entries and results'!G476,$A$3:$E$30018,4,FALSE)","v":" "},{"$f":"VLOOKUP('entries and results'!G476,$A$3:$F$30018,6,FALSE)","v":" "},{"$f":"VLOOKUP('entries and results'!G476,$A$3:$E$30018,2,FALSE)","v":" "},474,".",{"$f":"VLOOKUP('entries and results'!M476,$H$3:$K$30018,2,FALSE)","v":" "},{"$f":"VLOOKUP('entries and results'!M476,$H$3:$K$30018,3,FALSE)","v":" "},{"$f":"VLOOKUP('entries and results'!M476,$H$3:$K$30018,4,FALSE)","v":" "}," ","00:00",null,null,null,null,null,null,null,null,null,null,null,null,null,null,null,null,null,null,null,null,null,null,null,null,null,null,null,null,null,null,null,null,null,null,null,null,null,null,null,null,null,null,null,"00:00",474,0,"0000000","00","00","00"]
["SA02087","Kilmarnock H&AC","1991-08-02","Lauren Campbell","SA02087","Senior",".",475,{"$f":"VLOOKUP('entries and results'!G477,$A$3:$E$30018,4,FALSE)","v":" "},{"$f":"VLOOKUP('entries and results'!G477,$A$3:$F$30018,6,FALSE)","v":" "},{"$f":"VLOOKUP('entries and results'!G477,$A$3:$E$30018,2,FALSE)","v":" "},475,".",{"$f":"VLOOKUP('entries and results'!M477,$H$3:$K$30018,2,FALSE)","v":" "},{"$f":"VLOOKUP('entries and results'!M477,$H$3:$K$30018,3,FALSE)","v":" "},{"$f":"VLOOKUP('entries and results'!M477,$H$3:$K$30018,4,FALSE)","v":" "}," ","00:00",null,null,null,null,null,null,null,null,null,null,null,null,null,null,null,null,null,null,null,null,null,null,null,null,null,null,null,null,null,null,null,null,null,null,null,null,null,null,null,null,null,null,null,"00:00",475,0,"0000000","00","00","00"]
["SA02088","Kilmarnock H&AC","1993-04-13","Murray McDonald","SA02088","Senior",".",476,{"$f":"VLOOKUP('entries and results'!G478,$A$3:$E$30018,4,FALSE)","v":" "},{"$f":"VLOOKUP('entries and results'!G478,$A$3:$F$30018,6,FALSE)","v":" "},{"$f":"VLOOKUP('entries and results'!G478,$A$3:$E$30018,2,FALSE)","v":" "},476,".",{"$f":"VLOOKUP('entries and results'!M478,$H$3:$K$30018,2,FALSE)","v":" "},{"$f":"VLOOKUP('entries and results'!M478,$H$3:$K$30018,3,FALSE)","v":" "},{"$f":"VLOOKUP('entries and results'!M478,$H$3:$K$30018,4,FALSE)","v":" "}," ","00:00",null,null,null,null,null,null,null,null,null,null,null,null,null,null,null,null,null,null,null,null,null,null,null,null,null,null,null,null,null,null,null,null,null,null,null,null,null,null,null,null,null,null,null,"00:00",476,0,"0000000","00","00","00"]
["SA02089","Kilbarchan AAC","1992-05-05","Blair Crawford","SA02089","Senior",".",477,{"$f":"VLOOKUP('entries and results'!G479,$A$3:$E$30018,4,FALSE)","v":" "},{"$f":"VLOOKUP('entries and results'!G479,$A$3:$F$30018,6,FALSE)","v":" "},{"$f":"VLOOKUP('entries and results'!G479,$A$3:$E$30018,2,FALSE)","v":" "},477,".",{"$f":"VLOOKUP('entries and results'!M479,$H$3:$K$30018,2,FALSE)","v":" "},{"$f":"VLOOKUP('entries and results'!M479,$H$3:$K$30018,3,FALSE)","v":" "},{"$f":"VLOOKUP('entries and results'!M479,$H$3:$K$30018,4,FALSE)","v":" "}," ","00:00",null,null,null,null,null,null,null,null,null,null,null,null,null,null,null,null,null,null,null,null,null,null,null,null,null,null,null,null,null,null,null,null,null,null,null,null,null,null,null,null,null,null,null,"00:00",477,0,"0000000","00","00","00"]
["SA02090","Kilbarchan AAC","1992-10-02","Connor Henderson","SA02090","Senior",".",478,{"$f":"VLOOKUP('entries and results'!G480,$A$3:$E$30018,4,FALSE)","v":" "},{"$f":"VLOOKUP('entries and results'!G480,$A$3:$F$30018,6,FALSE)","v":" "},{"$f":"VLOOKUP('entries and results'!G480,$A$3:$E$30018,2,FALSE)","v":" "},478,".",{"$f":"VLOOKUP('entries and results'!M480,$H$3:$K$30018,2,FALSE)","v":" "},{"$f":"VLOOKUP('entries and results'!M480,$H$3:$K$30018,3,FALSE)","v":" "},{"$f":"VLOOKUP('entries and results'!M480,$H$3:$K$30018,4,FALSE)","v":" "}," ","00:00",null,null,null,null,null,null,null,null,null,null,null,null,null,null,null,null,null,null,null,null,null,null,null,null,null,null,null,null,null,null,null,null,null,null,null,null,null,null,null,null,null,null,null,"00:00",478,0,"0000000","00","00","00"]
["SA02091","Kilbarchan AAC","1990-07-17","Grant Higgins","SA02091","Senior",".",479,{"$f":"VLOOKUP('entries and results'!G481,$A$3:$E$30018,4,FALSE)","v":" "},{"$f":"VLOOKUP('entries and results'!G481,$A$3:$F$30018,6,FALSE)","v":" "},{"$f":"VLOOKUP('entries and results'!G481,$A$3:$E$30018,2,FALSE)","v":" "},479,".",{"$f":"VLOOKUP('entries and results'!M481,$H$3:$K$30018,2,FALSE)","v":" "},{"$f":"VLOOKUP('entries and results'!M481,$H$3:$K$30018,3,FALSE)","v":" "},{"$f":"VLOOKUP('entries and results'!M481,$H$3:$K$30018,4,FALSE)","v":" "}," ","00:00",null,null,null,null,null,null,null,null,null,null,null,null,null,null,null,null,null,null,null,null,null,null,null,null,null,null,null,null,null,null,null,null,null,null,null,null,null,null,null,null,null,null,null,"00:00",479,0,"0000000","00","00","00"]
["SA02094","Kilbarchan AAC","1992-02-20","Judith McNicol","SA02094","Senior",".",480,{"$f":"VLOOKUP('entries and results'!G482,$A$3:$E$30018,4,FALSE)","v":" "},{"$f":"VLOOKUP('entries and results'!G482,$A$3:$F$30018,6,FALSE)","v":" "},{"$f":"VLOOKUP('entries and results'!G482,$A$3:$E$30018,2,FALSE)","v":" "},480,".",{"$f":"VLOOKUP('entries and results'!M482,$H$3:$K$30018,2,FALSE)","v":" "},{"$f":"VLOOKUP('entries and results'!M482,$H$3:$K$30018,3,FALSE)","v":" "},{"$f":"VLOOKUP('entries and results'!M482,$H$3:$K$30018,4,FALSE)","v":" "}," ","00:00",null,null,null,null,null,null,null,null,null,null,null,null,null,null,null,null,null,null,null,null,null,null,null,null,null,null,null,null,null,null,null,null,null,null,null,null,null,null,null,null,null,null,null,"00:00",480,0,"0000000","00","00","00"]
["SA02096","Kilbarchan AAC","1991-04-05","Natalie Sharp","SA02096","Senior",".",481,{"$f":"VLOOKUP('entries and results'!G483,$A$3:$E$30018,4,FALSE)","v":" "},{"$f":"VLOOKUP('entries and results'!G483,$A$3:$F$30018,6,FALSE)","v":" "},{"$f":"VLOOKUP('entries and results'!G483,$A$3:$E$30018,2,FALSE)","v":" "},481,".",{"$f":"VLOOKUP('entries and results'!M483,$H$3:$K$30018,2,FALSE)","v":" "},{"$f":"VLOOKUP('entries and results'!M483,$H$3:$K$30018,3,FALSE)","v":" "},{"$f":"VLOOKUP('entries and results'!M483,$H$3:$K$30018,4,FALSE)","v":" "}," ","00:00",null,null,null,null,null,null,null,null,null,null,null,null,null,null,null,null,null,null,null,null,null,null,null,null,null,null,null,null,null,null,null,null,null,null,null,null,null,null,null,null,null,null,null,"00:00",481,0,"0000000","00","00","00"]
["SA02104","Mull Athletic Club","1993-07-19","Iain McDowall","SA02104","Senior",".",482,{"$f":"VLOOKUP('entries and results'!G484,$A$3:$E$30018,4,FALSE)","v":" "},{"$f":"VLOOKUP('entries and results'!G484,$A$3:$F$30018,6,FALSE)","v":" "},{"$f":"VLOOKUP('entries and results'!G484,$A$3:$E$30018,2,FALSE)","v":" "},482,".",{"$f":"VLOOKUP('entries and results'!M484,$H$3:$K$30018,2,FALSE)","v":" "},{"$f":"VLOOKUP('entries and results'!M484,$H$3:$K$30018,3,FALSE)","v":" "},{"$f":"VLOOKUP('entries and results'!M484,$H$3:$K$30018,4,FALSE)","v":" "}," ","00:00",null,null,null,null,null,null,null,null,null,null,null,null,null,null,null,null,null,null,null,null,null,null,null,null,null,null,null,null,null,null,null,null,null,null,null,null,null,null,null,null,null,null,null,"00:00",482,0,"0000000","00","00","00"]
["SA02110","North Uist AAC","1994-12-17","Graham Black","SA02110","Under 17",".",483,{"$f":"VLOOKUP('entries and results'!G485,$A$3:$E$30018,4,FALSE)","v":" "},{"$f":"VLOOKUP('entries and results'!G485,$A$3:$F$30018,6,FALSE)","v":" "},{"$f":"VLOOKUP('entries and results'!G485,$A$3:$E$30018,2,FALSE)","v":" "},483,".",{"$f":"VLOOKUP('entries and results'!M485,$H$3:$K$30018,2,FALSE)","v":" "},{"$f":"VLOOKUP('entries and results'!M485,$H$3:$K$30018,3,FALSE)","v":" "},{"$f":"VLOOKUP('entries and results'!M485,$H$3:$K$30018,4,FALSE)","v":" "}," ","00:00",null,null,null,null,null,null,null,null,null,null,null,null,null,null,null,null,null,null,null,null,null,null,null,null,null,null,null,null,null,null,null,null,null,null,null,null,null,null,null,null,null,null,null,"00:00",483,0,"0000000","00","00","00"]
["SA02113","North Uist AAC","1993-03-08","Mairi Morrison","SA02113","Senior",".",484,{"$f":"VLOOKUP('entries and results'!G486,$A$3:$E$30018,4,FALSE)","v":" "},{"$f":"VLOOKUP('entries and results'!G486,$A$3:$F$30018,6,FALSE)","v":" "},{"$f":"VLOOKUP('entries and results'!G486,$A$3:$E$30018,2,FALSE)","v":" "},484,".",{"$f":"VLOOKUP('entries and results'!M486,$H$3:$K$30018,2,FALSE)","v":" "},{"$f":"VLOOKUP('entries and results'!M486,$H$3:$K$30018,3,FALSE)","v":" "},{"$f":"VLOOKUP('entries and results'!M486,$H$3:$K$30018,4,FALSE)","v":" "}," ","00:00",null,null,null,null,null,null,null,null,null,null,null,null,null,null,null,null,null,null,null,null,null,null,null,null,null,null,null,null,null,null,null,null,null,null,null,null,null,null,null,null,null,null,null,"00:00",484,0,"0000000","00","00","00"]
["SA02129","East Kilbride A.C.","1992-05-28","Deborah Stokoe","SA02129","Senior",".",485,{"$f":"VLOOKUP('entries and results'!G487,$A$3:$E$30018,4,FALSE)","v":" "},{"$f":"VLOOKUP('entries and results'!G487,$A$3:$F$30018,6,FALSE)","v":" "},{"$f":"VLOOKUP('entries and results'!G487,$A$3:$E$30018,2,FALSE)","v":" "},485,".",{"$f":"VLOOKUP('entries and results'!M487,$H$3:$K$30018,2,FALSE)","v":" "},{"$f":"VLOOKUP('entries and results'!M487,$H$3:$K$30018,3,FALSE)","v":" "},{"$f":"VLOOKUP('entries and results'!M487,$H$3:$K$30018,4,FALSE)","v":" "}," ","00:00",null,null,null,null,null,null,null,null,null,null,null,null,null,null,null,null,null,null,null,null,null,null,null,null,null,null,null,null,null,null,null,null,null,null,null,null,null,null,null,null,null,null,null,"00:00",485,0,"0000000","00","00","00"]
["SA02134","Garioch Road Runners","1992-06-29","Cameron Leel","SA02134","Senior",".",486,{"$f":"VLOOKUP('entries and results'!G488,$A$3:$E$30018,4,FALSE)","v":" "},{"$f":"VLOOKUP('entries and results'!G488,$A$3:$F$30018,6,FALSE)","v":" "},{"$f":"VLOOKUP('entries and results'!G488,$A$3:$E$30018,2,FALSE)","v":" "},486,".",{"$f":"VLOOKUP('entries and results'!M488,$H$3:$K$30018,2,FALSE)","v":" "},{"$f":"VLOOKUP('entries and results'!M488,$H$3:$K$30018,3,FALSE)","v":" "},{"$f":"VLOOKUP('entries and results'!M488,$H$3:$K$30018,4,FALSE)","v":" "}," ","00:00",null,null,null,null,null,null,null,null,null,null,null,null,null,null,null,null,null,null,null,null,null,null,null,null,null,null,null,null,null,null,null,null,null,null,null,null,null,null,null,null,null,null,null,"00:00",486,0,"0000000","00","00","00"]
["SA02140","Aberdeen AAC","1991-09-08","Tom Brodie","SA02140","Senior",".",487,{"$f":"VLOOKUP('entries and results'!G489,$A$3:$E$30018,4,FALSE)","v":" "},{"$f":"VLOOKUP('entries and results'!G489,$A$3:$F$30018,6,FALSE)","v":" "},{"$f":"VLOOKUP('entries and results'!G489,$A$3:$E$30018,2,FALSE)","v":" "},487,".",{"$f":"VLOOKUP('entries and results'!M489,$H$3:$K$30018,2,FALSE)","v":" "},{"$f":"VLOOKUP('entries and results'!M489,$H$3:$K$30018,3,FALSE)","v":" "},{"$f":"VLOOKUP('entries and results'!M489,$H$3:$K$30018,4,FALSE)","v":" "}," ","00:00",null,null,null,null,null,null,null,null,null,null,null,null,null,null,null,null,null,null,null,null,null,null,null,null,null,null,null,null,null,null,null,null,null,null,null,null,null,null,null,null,null,null,null,"00:00",487,0,"0000000","00","00","00"]
["SA02145","Aberdeen AAC","1991-03-27","Ross Fulton","SA02145","Senior",".",488,{"$f":"VLOOKUP('entries and results'!G490,$A$3:$E$30018,4,FALSE)","v":" "},{"$f":"VLOOKUP('entries and results'!G490,$A$3:$F$30018,6,FALSE)","v":" "},{"$f":"VLOOKUP('entries and results'!G490,$A$3:$E$30018,2,FALSE)","v":" "},488,".",{"$f":"VLOOKUP('entries and results'!M490,$H$3:$K$30018,2,FALSE)","v":" "},{"$f":"VLOOKUP('entries and results'!M490,$H$3:$K$30018,3,FALSE)","v":" "},{"$f":"VLOOKUP('entries and results'!M490,$H$3:$K$30018,4,FALSE)","v":" "}," ","00:00",null,null,null,null,null,null,null,null,null,null,null,null,null,null,null,null,null,null,null,null,null,null,null,null,null,null,null,null,null,null,null,null,null,null,null,null,null,null,null,null,null,null,null,"00:00",488,0,"0000000","00","00","00"]
["SA02152","Aberdeen AAC","1994-05-29","Yasmin Milne","SA02152","Under 17",".",489,{"$f":"VLOOKUP('entries and results'!G491,$A$3:$E$30018,4,FALSE)","v":" "},{"$f":"VLOOKUP('entries and results'!G491,$A$3:$F$30018,6,FALSE)","v":" "},{"$f":"VLOOKUP('entries and results'!G491,$A$3:$E$30018,2,FALSE)","v":" "},489,".",{"$f":"VLOOKUP('entries and results'!M491,$H$3:$K$30018,2,FALSE)","v":" "},{"$f":"VLOOKUP('entries and results'!M491,$H$3:$K$30018,3,FALSE)","v":" "},{"$f":"VLOOKUP('entries and results'!M491,$H$3:$K$30018,4,FALSE)","v":" "}," ","00:00",null,null,null,null,null,null,null,null,null,null,null,null,null,null,null,null,null,null,null,null,null,null,null,null,null,null,null,null,null,null,null,null,null,null,null,null,null,null,null,null,null,null,null,"00:00",489,0,"0000000","00","00","00"]
["SA02157","Aberdeen AAC","1995-06-15","Morven Sneddon","SA02157","Under 17",".",490,{"$f":"VLOOKUP('entries and results'!G492,$A$3:$E$30018,4,FALSE)","v":" "},{"$f":"VLOOKUP('entries and results'!G492,$A$3:$F$30018,6,FALSE)","v":" "},{"$f":"VLOOKUP('entries and results'!G492,$A$3:$E$30018,2,FALSE)","v":" "},490,".",{"$f":"VLOOKUP('entries and results'!M492,$H$3:$K$30018,2,FALSE)","v":" "},{"$f":"VLOOKUP('entries and results'!M492,$H$3:$K$30018,3,FALSE)","v":" "},{"$f":"VLOOKUP('entries and results'!M492,$H$3:$K$30018,4,FALSE)","v":" "}," ","00:00",null,null,null,null,null,null,null,null,null,null,null,null,null,null,null,null,null,null,null,null,null,null,null,null,null,null,null,null,null,null,null,null,null,null,null,null,null,null,null,null,null,null,null,"00:00",490,0,"0000000","00","00","00"]
["SA02162","Airdrie Harriers","1991-12-15","Robert Ferrie","SA02162","Senior",".",491,{"$f":"VLOOKUP('entries and results'!G493,$A$3:$E$30018,4,FALSE)","v":" "},{"$f":"VLOOKUP('entries and results'!G493,$A$3:$F$30018,6,FALSE)","v":" "},{"$f":"VLOOKUP('entries and results'!G493,$A$3:$E$30018,2,FALSE)","v":" "},491,".",{"$f":"VLOOKUP('entries and results'!M493,$H$3:$K$30018,2,FALSE)","v":" "},{"$f":"VLOOKUP('entries and results'!M493,$H$3:$K$30018,3,FALSE)","v":" "},{"$f":"VLOOKUP('entries and results'!M493,$H$3:$K$30018,4,FALSE)","v":" "}," ","00:00",null,null,null,null,null,null,null,null,null,null,null,null,null,null,null,null,null,null,null,null,null,null,null,null,null,null,null,null,null,null,null,null,null,null,null,null,null,null,null,null,null,null,null,"00:00",491,0,"0000000","00","00","00"]
["SA02164","Airdrie Harriers","1995-09-22","Rebecca Gibson","SA02164","Under 15",".",492,{"$f":"VLOOKUP('entries and results'!G494,$A$3:$E$30018,4,FALSE)","v":" "},{"$f":"VLOOKUP('entries and results'!G494,$A$3:$F$30018,6,FALSE)","v":" "},{"$f":"VLOOKUP('entries and results'!G494,$A$3:$E$30018,2,FALSE)","v":" "},492,".",{"$f":"VLOOKUP('entries and results'!M494,$H$3:$K$30018,2,FALSE)","v":" "},{"$f":"VLOOKUP('entries and results'!M494,$H$3:$K$30018,3,FALSE)","v":" "},{"$f":"VLOOKUP('entries and results'!M494,$H$3:$K$30018,4,FALSE)","v":" "}," ","00:00",null,null,null,null,null,null,null,null,null,null,null,null,null,null,null,null,null,null,null,null,null,null,null,null,null,null,null,null,null,null,null,null,null,null,null,null,null,null,null,null,null,null,null,"00:00",492,0,"0000000","00","00","00"]
["SA02166","Airdrie Harriers","1993-08-18","Emma Mulholland","SA02166","Senior",".",493,{"$f":"VLOOKUP('entries and results'!G495,$A$3:$E$30018,4,FALSE)","v":" "},{"$f":"VLOOKUP('entries and results'!G495,$A$3:$F$30018,6,FALSE)","v":" "},{"$f":"VLOOKUP('entries and results'!G495,$A$3:$E$30018,2,FALSE)","v":" "},493,".",{"$f":"VLOOKUP('entries and results'!M495,$H$3:$K$30018,2,FALSE)","v":" "},{"$f":"VLOOKUP('entries and results'!M495,$H$3:$K$30018,3,FALSE)","v":" "},{"$f":"VLOOKUP('entries and results'!M495,$H$3:$K$30018,4,FALSE)","v":" "}," ","00:00",null,null,null,null,null,null,null,null,null,null,null,null,null,null,null,null,null,null,null,null,null,null,null,null,null,null,null,null,null,null,null,null,null,null,null,null,null,null,null,null,null,null,null,"00:00",493,0,"0000000","00","00","00"]
["SA02167","Airdrie Harriers","1994-05-19","Nicole Mulholland","SA02167","Under 17",".",494,{"$f":"VLOOKUP('entries and results'!G496,$A$3:$E$30018,4,FALSE)","v":" "},{"$f":"VLOOKUP('entries and results'!G496,$A$3:$F$30018,6,FALSE)","v":" "},{"$f":"VLOOKUP('entries and results'!G496,$A$3:$E$30018,2,FALSE)","v":" "},494,".",{"$f":"VLOOKUP('entries and results'!M496,$H$3:$K$30018,2,FALSE)","v":" "},{"$f":"VLOOKUP('entries and results'!M496,$H$3:$K$30018,3,FALSE)","v":" "},{"$f":"VLOOKUP('entries and results'!M496,$H$3:$K$30018,4,FALSE)","v":" "}," ","00:00",null,null,null,null,null,null,null,null,null,null,null,null,null,null,null,null,null,null,null,null,null,null,null,null,null,null,null,null,null,null,null,null,null,null,null,null,null,null,null,null,null,null,null,"00:00",494,0,"0000000","00","00","00"]
["SA02169","Airdrie Harriers","1992-07-20","Jane Williams","SA02169","Senior",".",495,{"$f":"VLOOKUP('entries and results'!G497,$A$3:$E$30018,4,FALSE)","v":" "},{"$f":"VLOOKUP('entries and results'!G497,$A$3:$F$30018,6,FALSE)","v":" "},{"$f":"VLOOKUP('entries and results'!G497,$A$3:$E$30018,2,FALSE)","v":" "},495,".",{"$f":"VLOOKUP('entries and results'!M497,$H$3:$K$30018,2,FALSE)","v":" "},{"$f":"VLOOKUP('entries and results'!M497,$H$3:$K$30018,3,FALSE)","v":" "},{"$f":"VLOOKUP('entries and results'!M497,$H$3:$K$30018,4,FALSE)","v":" "}," ","00:00",null,null,null,null,null,null,null,null,null,null,null,null,null,null,null,null,null,null,null,null,null,null,null,null,null,null,null,null,null,null,null,null,null,null,null,null,null,null,null,null,null,null,null,"00:00",495,0,"0000000","00","00","00"]
["SA02171","Stewartry AC","1995-12-16","Jacqueline Pringle","SA02171","Under 15",".",496,{"$f":"VLOOKUP('entries and results'!G498,$A$3:$E$30018,4,FALSE)","v":" "},{"$f":"VLOOKUP('entries and results'!G498,$A$3:$F$30018,6,FALSE)","v":" "},{"$f":"VLOOKUP('entries and results'!G498,$A$3:$E$30018,2,FALSE)","v":" "},496,".",{"$f":"VLOOKUP('entries and results'!M498,$H$3:$K$30018,2,FALSE)","v":" "},{"$f":"VLOOKUP('entries and results'!M498,$H$3:$K$30018,3,FALSE)","v":" "},{"$f":"VLOOKUP('entries and results'!M498,$H$3:$K$30018,4,FALSE)","v":" "}," ","00:00",null,null,null,null,null,null,null,null,null,null,null,null,null,null,null,null,null,null,null,null,null,null,null,null,null,null,null,null,null,null,null,null,null,null,null,null,null,null,null,null,null,null,null,"00:00",496,0,"0000000","00","00","00"]
["SA02175","Arbroath & District AC","1996-02-15","Ross Croall","SA02175","Under 15",".",497,{"$f":"VLOOKUP('entries and results'!G499,$A$3:$E$30018,4,FALSE)","v":" "},{"$f":"VLOOKUP('entries and results'!G499,$A$3:$F$30018,6,FALSE)","v":" "},{"$f":"VLOOKUP('entries and results'!G499,$A$3:$E$30018,2,FALSE)","v":" "},497,".",{"$f":"VLOOKUP('entries and results'!M499,$H$3:$K$30018,2,FALSE)","v":" "},{"$f":"VLOOKUP('entries and results'!M499,$H$3:$K$30018,3,FALSE)","v":" "},{"$f":"VLOOKUP('entries and results'!M499,$H$3:$K$30018,4,FALSE)","v":" "}," ","00:00",null,null,null,null,null,null,null,null,null,null,null,null,null,null,null,null,null,null,null,null,null,null,null,null,null,null,null,null,null,null,null,null,null,null,null,null,null,null,null,null,null,null,null,"00:00",497,0,"0000000","00","00","00"]
["SA02176","Arbroath & District AC","1995-09-06","Corey Feighan","SA02176","Under 15",".",498,{"$f":"VLOOKUP('entries and results'!G500,$A$3:$E$30018,4,FALSE)","v":" "},{"$f":"VLOOKUP('entries and results'!G500,$A$3:$F$30018,6,FALSE)","v":" "},{"$f":"VLOOKUP('entries and results'!G500,$A$3:$E$30018,2,FALSE)","v":" "},498,".",{"$f":"VLOOKUP('entries and results'!M500,$H$3:$K$30018,2,FALSE)","v":" "},{"$f":"VLOOKUP('entries and results'!M500,$H$3:$K$30018,3,FALSE)","v":" "},{"$f":"VLOOKUP('entries and results'!M500,$H$3:$K$30018,4,FALSE)","v":" "}," ","00:00",null,null,null,null,null,null,null,null,null,null,null,null,null,null,null,null,null,null,null,null,null,null,null,null,null,null,null,null,null,null,null,null,null,null,null,null,null,null,null,null,null,null,null,"00:00",498,0,"0000000","00","00","00"]
["SA02177","Arbroath & District AC","1992-04-02","Paul Feighan","SA02177","Senior",".",499,{"$f":"VLOOKUP('entries and results'!G501,$A$3:$E$30018,4,FALSE)","v":" "},{"$f":"VLOOKUP('entries and results'!G501,$A$3:$F$30018,6,FALSE)","v":" "},{"$f":"VLOOKUP('entries and results'!G501,$A$3:$E$30018,2,FALSE)","v":" "},499,".",{"$f":"VLOOKUP('entries and results'!M501,$H$3:$K$30018,2,FALSE)","v":" "},{"$f":"VLOOKUP('entries and results'!M501,$H$3:$K$30018,3,FALSE)","v":" "},{"$f":"VLOOKUP('entries and results'!M501,$H$3:$K$30018,4,FALSE)","v":" "}," ","00:00",null,null,null,null,null,null,null,null,null,null,null,null,null,null,null,null,null,null,null,null,null,null,null,null,null,null,null,null,null,null,null,null,null,null,null,null,null,null,null,null,null,null,null,"00:00",499,0,"0000000","00","00","00"]
["SA02187","Arbroath & District AC","1996-06-23","Ellen Robertson","SA02187","Under 15",".",500,{"$f":"VLOOKUP('entries and results'!G502,$A$3:$E$30018,4,FALSE)","v":" "},{"$f":"VLOOKUP('entries and results'!G502,$A$3:$F$30018,6,FALSE)","v":" "},{"$f":"VLOOKUP('entries and results'!G502,$A$3:$E$30018,2,FALSE)","v":" "},500,".",{"$f":"VLOOKUP('entries and results'!M502,$H$3:$K$30018,2,FALSE)","v":" "},{"$f":"VLOOKUP('entries and results'!M502,$H$3:$K$30018,3,FALSE)","v":" "},{"$f":"VLOOKUP('entries and results'!M502,$H$3:$K$30018,4,FALSE)","v":" "}," ","00:00",null,null,null,null,null,null,null,null,null,null,null,null,null,null,null,null,null,null,null,null,null,null,null,null,null,null,null,null,null,null,null,null,null,null,null,null,null,null,null,null,null,null,null,"00:00",500,0,"0000000","00","00","00"]
["SA02188","Arbroath & District AC","1996-04-16","Luke Shepherd","SA02188","Under 15",".",501,{"$f":"VLOOKUP('entries and results'!G503,$A$3:$E$30018,4,FALSE)","v":" "},{"$f":"VLOOKUP('entries and results'!G503,$A$3:$F$30018,6,FALSE)","v":" "},{"$f":"VLOOKUP('entries and results'!G503,$A$3:$E$30018,2,FALSE)","v":" "},501,".",{"$f":"VLOOKUP('entries and results'!M503,$H$3:$K$30018,2,FALSE)","v":" "},{"$f":"VLOOKUP('entries and results'!M503,$H$3:$K$30018,3,FALSE)","v":" "},{"$f":"VLOOKUP('entries and results'!M503,$H$3:$K$30018,4,FALSE)","v":" "}," ","00:00",null,null,null,null,null,null,null,null,null,null,null,null,null,null,null,null,null,null,null,null,null,null,null,null,null,null,null,null,null,null,null,null,null,null,null,null,null,null,null,null,null,null,null,"00:00",501,0,"0000000","00","00","00"]
["SA02195","Ayr Seaforth AAC","1993-05-18","Murray Beckwith","SA02195","Senior",".",502,{"$f":"VLOOKUP('entries and results'!G504,$A$3:$E$30018,4,FALSE)","v":" "},{"$f":"VLOOKUP('entries and results'!G504,$A$3:$F$30018,6,FALSE)","v":" "},{"$f":"VLOOKUP('entries and results'!G504,$A$3:$E$30018,2,FALSE)","v":" "},502,".",{"$f":"VLOOKUP('entries and results'!M504,$H$3:$K$30018,2,FALSE)","v":" "},{"$f":"VLOOKUP('entries and results'!M504,$H$3:$K$30018,3,FALSE)","v":" "},{"$f":"VLOOKUP('entries and results'!M504,$H$3:$K$30018,4,FALSE)","v":" "}," ","00:00",null,null,null,null,null,null,null,null,null,null,null,null,null,null,null,null,null,null,null,null,null,null,null,null,null,null,null,null,null,null,null,null,null,null,null,null,null,null,null,null,null,null,null,"00:00",502,0,"0000000","00","00","00"]
["SA02220","Unattached","1995-08-28","Rebecca McVeigh","SA02220","Under 17",".",503,{"$f":"VLOOKUP('entries and results'!G505,$A$3:$E$30018,4,FALSE)","v":" "},{"$f":"VLOOKUP('entries and results'!G505,$A$3:$F$30018,6,FALSE)","v":" "},{"$f":"VLOOKUP('entries and results'!G505,$A$3:$E$30018,2,FALSE)","v":" "},503,".",{"$f":"VLOOKUP('entries and results'!M505,$H$3:$K$30018,2,FALSE)","v":" "},{"$f":"VLOOKUP('entries and results'!M505,$H$3:$K$30018,3,FALSE)","v":" "},{"$f":"VLOOKUP('entries and results'!M505,$H$3:$K$30018,4,FALSE)","v":" "}," ","00:00",null,null,null,null,null,null,null,null,null,null,null,null,null,null,null,null,null,null,null,null,null,null,null,null,null,null,null,null,null,null,null,null,null,null,null,null,null,null,null,null,null,null,null,"00:00",503,0,"0000000","00","00","00"]
["SA02227","Ayr Seaforth AAC","1994-10-05","David Stenlake","SA02227","Under 17",".",504,{"$f":"VLOOKUP('entries and results'!G506,$A$3:$E$30018,4,FALSE)","v":" "},{"$f":"VLOOKUP('entries and results'!G506,$A$3:$F$30018,6,FALSE)","v":" "},{"$f":"VLOOKUP('entries and results'!G506,$A$3:$E$30018,2,FALSE)","v":" "},504,".",{"$f":"VLOOKUP('entries and results'!M506,$H$3:$K$30018,2,FALSE)","v":" "},{"$f":"VLOOKUP('entries and results'!M506,$H$3:$K$30018,3,FALSE)","v":" "},{"$f":"VLOOKUP('entries and results'!M506,$H$3:$K$30018,4,FALSE)","v":" "}," ","00:00",null,null,null,null,null,null,null,null,null,null,null,null,null,null,null,null,null,null,null,null,null,null,null,null,null,null,null,null,null,null,null,null,null,null,null,null,null,null,null,null,null,null,null,"00:00",504,0,"0000000","00","00","00"]
["SA02228","Ayr Seaforth AAC","1994-10-27","Olivia Thornton","SA02228","Under 17",".",505,{"$f":"VLOOKUP('entries and results'!G507,$A$3:$E$30018,4,FALSE)","v":" "},{"$f":"VLOOKUP('entries and results'!G507,$A$3:$F$30018,6,FALSE)","v":" "},{"$f":"VLOOKUP('entries and results'!G507,$A$3:$E$30018,2,FALSE)","v":" "},505,".",{"$f":"VLOOKUP('entries and results'!M507,$H$3:$K$30018,2,FALSE)","v":" "},{"$f":"VLOOKUP('entries and results'!M507,$H$3:$K$30018,3,FALSE)","v":" "},{"$f":"VLOOKUP('entries and results'!M507,$H$3:$K$30018,4,FALSE)","v":" "}," ","00:00",null,null,null,null,null,null,null,null,null,null,null,null,null,null,null,null,null,null,null,null,null,null,null,null,null,null,null,null,null,null,null,null,null,null,null,null,null,null,null,null,null,null,null,"00:00",505,0,"0000000","00","00","00"]
["SA02241","Banchory Stonehaven AC","1992-07-10","Daniel Wright","SA02241","Senior",".",506,{"$f":"VLOOKUP('entries and results'!G508,$A$3:$E$30018,4,FALSE)","v":" "},{"$f":"VLOOKUP('entries and results'!G508,$A$3:$F$30018,6,FALSE)","v":" "},{"$f":"VLOOKUP('entries and results'!G508,$A$3:$E$30018,2,FALSE)","v":" "},506,".",{"$f":"VLOOKUP('entries and results'!M508,$H$3:$K$30018,2,FALSE)","v":" "},{"$f":"VLOOKUP('entries and results'!M508,$H$3:$K$30018,3,FALSE)","v":" "},{"$f":"VLOOKUP('entries and results'!M508,$H$3:$K$30018,4,FALSE)","v":" "}," ","00:00",null,null,null,null,null,null,null,null,null,null,null,null,null,null,null,null,null,null,null,null,null,null,null,null,null,null,null,null,null,null,null,null,null,null,null,null,null,null,null,null,null,null,null,"00:00",506,0,"0000000","00","00","00"]
["SA02243","Caithness AAC","1994-05-16","Leanne Eyers","SA02243","Under 17",".",507,{"$f":"VLOOKUP('entries and results'!G509,$A$3:$E$30018,4,FALSE)","v":" "},{"$f":"VLOOKUP('entries and results'!G509,$A$3:$F$30018,6,FALSE)","v":" "},{"$f":"VLOOKUP('entries and results'!G509,$A$3:$E$30018,2,FALSE)","v":" "},507,".",{"$f":"VLOOKUP('entries and results'!M509,$H$3:$K$30018,2,FALSE)","v":" "},{"$f":"VLOOKUP('entries and results'!M509,$H$3:$K$30018,3,FALSE)","v":" "},{"$f":"VLOOKUP('entries and results'!M509,$H$3:$K$30018,4,FALSE)","v":" "}," ","00:00",null,null,null,null,null,null,null,null,null,null,null,null,null,null,null,null,null,null,null,null,null,null,null,null,null,null,null,null,null,null,null,null,null,null,null,null,null,null,null,null,null,null,null,"00:00",507,0,"0000000","00","00","00"]
["SA02244","Caithness AAC","1995-11-17","Shannon Eyers","SA02244","Under 15",".",508,{"$f":"VLOOKUP('entries and results'!G510,$A$3:$E$30018,4,FALSE)","v":" "},{"$f":"VLOOKUP('entries and results'!G510,$A$3:$F$30018,6,FALSE)","v":" "},{"$f":"VLOOKUP('entries and results'!G510,$A$3:$E$30018,2,FALSE)","v":" "},508,".",{"$f":"VLOOKUP('entries and results'!M510,$H$3:$K$30018,2,FALSE)","v":" "},{"$f":"VLOOKUP('entries and results'!M510,$H$3:$K$30018,3,FALSE)","v":" "},{"$f":"VLOOKUP('entries and results'!M510,$H$3:$K$30018,4,FALSE)","v":" "}," ","00:00",null,null,null,null,null,null,null,null,null,null,null,null,null,null,null,null,null,null,null,null,null,null,null,null,null,null,null,null,null,null,null,null,null,null,null,null,null,null,null,null,null,null,null,"00:00",508,0,"0000000","00","00","00"]
["SA02249","Caithness AAC","1990-10-25","Graeme Taylor","SA02249","Senior",".",509,{"$f":"VLOOKUP('entries and results'!G511,$A$3:$E$30018,4,FALSE)","v":" "},{"$f":"VLOOKUP('entries and results'!G511,$A$3:$F$30018,6,FALSE)","v":" "},{"$f":"VLOOKUP('entries and results'!G511,$A$3:$E$30018,2,FALSE)","v":" "},509,".",{"$f":"VLOOKUP('entries and results'!M511,$H$3:$K$30018,2,FALSE)","v":" "},{"$f":"VLOOKUP('entries and results'!M511,$H$3:$K$30018,3,FALSE)","v":" "},{"$f":"VLOOKUP('entries and results'!M511,$H$3:$K$30018,4,FALSE)","v":" "}," ","00:00",null,null,null,null,null,null,null,null,null,null,null,null,null,null,null,null,null,null,null,null,null,null,null,null,null,null,null,null,null,null,null,null,null,null,null,null,null,null,null,null,null,null,null,"00:00",509,0,"0000000","00","00","00"]
["SA02254","Carnegie Harriers","1964-09-11","Andrew James","SA02254","Vet",".",510,{"$f":"VLOOKUP('entries and results'!G512,$A$3:$E$30018,4,FALSE)","v":" "},{"$f":"VLOOKUP('entries and results'!G512,$A$3:$F$30018,6,FALSE)","v":" "},{"$f":"VLOOKUP('entries and results'!G512,$A$3:$E$30018,2,FALSE)","v":" "},510,".",{"$f":"VLOOKUP('entries and results'!M512,$H$3:$K$30018,2,FALSE)","v":" "},{"$f":"VLOOKUP('entries and results'!M512,$H$3:$K$30018,3,FALSE)","v":" "},{"$f":"VLOOKUP('entries and results'!M512,$H$3:$K$30018,4,FALSE)","v":" "}," ","00:00",null,null,null,null,null,null,null,null,null,null,null,null,null,null,null,null,null,null,null,null,null,null,null,null,null,null,null,null,null,null,null,null,null,null,null,null,null,null,null,null,null,null,null,"00:00",510,0,"0000000","00","00","00"]
["SA02257","Montrose & District AC","1990-01-25","Jade McDonald","SA02257","Senior",".",511,{"$f":"VLOOKUP('entries and results'!G513,$A$3:$E$30018,4,FALSE)","v":" "},{"$f":"VLOOKUP('entries and results'!G513,$A$3:$F$30018,6,FALSE)","v":" "},{"$f":"VLOOKUP('entries and results'!G513,$A$3:$E$30018,2,FALSE)","v":" "},511,".",{"$f":"VLOOKUP('entries and results'!M513,$H$3:$K$30018,2,FALSE)","v":" "},{"$f":"VLOOKUP('entries and results'!M513,$H$3:$K$30018,3,FALSE)","v":" "},{"$f":"VLOOKUP('entries and results'!M513,$H$3:$K$30018,4,FALSE)","v":" "}," ","00:00",null,null,null,null,null,null,null,null,null,null,null,null,null,null,null,null,null,null,null,null,null,null,null,null,null,null,null,null,null,null,null,null,null,null,null,null,null,null,null,null,null,null,null,"00:00",511,0,"0000000","00","00","00"]
["SA02258","Central AC","1995-09-22","Aimee Bilsland","SA02258","Under 15",".",512,{"$f":"VLOOKUP('entries and results'!G514,$A$3:$E$30018,4,FALSE)","v":" "},{"$f":"VLOOKUP('entries and results'!G514,$A$3:$F$30018,6,FALSE)","v":" "},{"$f":"VLOOKUP('entries and results'!G514,$A$3:$E$30018,2,FALSE)","v":" "},512,".",{"$f":"VLOOKUP('entries and results'!M514,$H$3:$K$30018,2,FALSE)","v":" "},{"$f":"VLOOKUP('entries and results'!M514,$H$3:$K$30018,3,FALSE)","v":" "},{"$f":"VLOOKUP('entries and results'!M514,$H$3:$K$30018,4,FALSE)","v":" "}," ","00:00",null,null,null,null,null,null,null,null,null,null,null,null,null,null,null,null,null,null,null,null,null,null,null,null,null,null,null,null,null,null,null,null,null,null,null,null,null,null,null,null,null,null,null,"00:00",512,0,"0000000","00","00","00"]
["SA02259","Central AC","1989-12-13","Daniel Carruthers","SA02259","Senior",".",513,{"$f":"VLOOKUP('entries and results'!G515,$A$3:$E$30018,4,FALSE)","v":" "},{"$f":"VLOOKUP('entries and results'!G515,$A$3:$F$30018,6,FALSE)","v":" "},{"$f":"VLOOKUP('entries and results'!G515,$A$3:$E$30018,2,FALSE)","v":" "},513,".",{"$f":"VLOOKUP('entries and results'!M515,$H$3:$K$30018,2,FALSE)","v":" "},{"$f":"VLOOKUP('entries and results'!M515,$H$3:$K$30018,3,FALSE)","v":" "},{"$f":"VLOOKUP('entries and results'!M515,$H$3:$K$30018,4,FALSE)","v":" "}," ","00:00",null,null,null,null,null,null,null,null,null,null,null,null,null,null,null,null,null,null,null,null,null,null,null,null,null,null,null,null,null,null,null,null,null,null,null,null,null,null,null,null,null,null,null,"00:00",513,{"$f":"SUMIF($H$3:$H$601,$BK515,$Q$3:$Q$601)","v":0},"0000000","00","00","00"]
["SA02261","Central AC","1994-10-14","Alexander Coubrough","SA02261","Under 17",".",514,{"$f":"VLOOKUP('entries and results'!G516,$A$3:$E$30018,4,FALSE)","v":" "},{"$f":"VLOOKUP('entries and results'!G516,$A$3:$F$30018,6,FALSE)","v":" "},{"$f":"VLOOKUP('entries and results'!G516,$A$3:$E$30018,2,FALSE)","v":" "},514,".",{"$f":"VLOOKUP('entries and results'!M516,$H$3:$K$30018,2,FALSE)","v":" "},{"$f":"VLOOKUP('entries and results'!M516,$H$3:$K$30018,3,FALSE)","v":" "},{"$f":"VLOOKUP('entries and results'!M516,$H$3:$K$30018,4,FALSE)","v":" "}," ",{"$f":"IF($H516=\"\",\" \",(LOOKUP($H516,$BK$3:$BK$1601,$BJ$3:$BJ$1601)))","v":"00:00"},null,null,null,null,null,null,null,null,null,null,null,null,null,null,null,null,null,null,null,null,null,null,null,null,null,null,null,null,null,null,null,null,null,null,null,null,null,null,null,null,null,null,null,"00:00",514,0,"0000000","00","00","00"]
["SA02270","Central AC","1993-11-24","Adam Innes","SA02270","Under 17",".",515,{"$f":"VLOOKUP('entries and results'!G517,$A$3:$E$30018,4,FALSE)","v":" "},{"$f":"VLOOKUP('entries and results'!G517,$A$3:$F$30018,6,FALSE)","v":" "},{"$f":"VLOOKUP('entries and results'!G517,$A$3:$E$30018,2,FALSE)","v":" "},515,".",{"$f":"VLOOKUP('entries and results'!M517,$H$3:$K$30018,2,FALSE)","v":" "},{"$f":"VLOOKUP('entries and results'!M517,$H$3:$K$30018,3,FALSE)","v":" "},{"$f":"VLOOKUP('entries and results'!M517,$H$3:$K$30018,4,FALSE)","v":" "}," ","00:00",null,null,null,null,null,null,null,null,null,null,null,null,null,null,null,null,null,null,null,null,null,null,null,null,null,null,null,null,null,null,null,null,null,null,null,null,null,null,null,null,null,null,null,"00:00",515,0,"0000000","00","00","00"]
["SA02273","Central AC","1995-12-28","Carrick McLelland","SA02273","Under 15",".",516,{"$f":"VLOOKUP('entries and results'!G518,$A$3:$E$30018,4,FALSE)","v":" "},{"$f":"VLOOKUP('entries and results'!G518,$A$3:$F$30018,6,FALSE)","v":" "},{"$f":"VLOOKUP('entries and results'!G518,$A$3:$E$30018,2,FALSE)","v":" "},516,".",{"$f":"VLOOKUP('entries and results'!M518,$H$3:$K$30018,2,FALSE)","v":" "},{"$f":"VLOOKUP('entries and results'!M518,$H$3:$K$30018,3,FALSE)","v":" "},{"$f":"VLOOKUP('entries and results'!M518,$H$3:$K$30018,4,FALSE)","v":" "}," ","00:00",null,null,null,null,null,null,null,null,null,null,null,null,null,null,null,null,null,null,null,null,null,null,null,null,null,null,null,null,null,null,null,null,null,null,null,null,null,null,null,null,null,null,null,{"$f":"CONCATENATE(BO518,\":\",BP518)","v":"00:00"},516,0,{"$f":"CONCATENATE($BG$2,$BL518)","v":"0000000"},{"$f":"MID(RIGHT($BM518,6),1,2)","v":"00"},{"$f":"MID(RIGHT($BM518,6),3,2)","v":"00"},{"$f":"MID(RIGHT($BM518,6),5,2)","v":"00"}]
["SA02286","Edinburgh AC","1997-03-25","Heide Biberbach-Laidlaw","SA02286","Under 15",".",517,{"$f":"VLOOKUP('entries and results'!G519,$A$3:$E$30018,4,FALSE)","v":" "},{"$f":"VLOOKUP('entries and results'!G519,$A$3:$F$30018,6,FALSE)","v":" "},{"$f":"VLOOKUP('entries and results'!G519,$A$3:$E$30018,2,FALSE)","v":" "},517,".",{"$f":"VLOOKUP('entries and results'!M519,$H$3:$K$30018,2,FALSE)","v":" "},{"$f":"VLOOKUP('entries and results'!M519,$H$3:$K$30018,3,FALSE)","v":" "},{"$f":"VLOOKUP('entries and results'!M519,$H$3:$K$30018,4,FALSE)","v":" "}," ","00:00",null,null,null,null,null,null,null,null,null,null,null,null,null,null,null,null,null,null,null,null,null,null,null,null,null,null,null,null,null,null,null,null,null,null,null,null,null,null,null,null,null,null,null,"00:00",517,0,"0000000","00","00","00"]
["SA02300","Edinburgh AC","1995-04-29","Neil McBlane","SA02300","Under 17",".",518,{"$f":"VLOOKUP('entries and results'!G520,$A$3:$E$30018,4,FALSE)","v":" "},{"$f":"VLOOKUP('entries and results'!G520,$A$3:$F$30018,6,FALSE)","v":" "},{"$f":"VLOOKUP('entries and results'!G520,$A$3:$E$30018,2,FALSE)","v":" "},518,".",{"$f":"VLOOKUP('entries and results'!M520,$H$3:$K$30018,2,FALSE)","v":" "},{"$f":"VLOOKUP('entries and results'!M520,$H$3:$K$30018,3,FALSE)","v":" "},{"$f":"VLOOKUP('entries and results'!M520,$H$3:$K$30018,4,FALSE)","v":" "}," ","00:00",null,null,null,null,null,null,null,null,null,null,null,null,null,null,null,null,null,null,null,null,null,null,null,null,null,null,null,null,null,null,null,null,null,null,null,null,null,null,null,null,null,null,null,"00:00",518,0,"0000000","00","00","00"]
["SA02302","Edinburgh AC","1996-09-19","Rosie McCaskey","SA02302","Under 15",".",519,{"$f":"VLOOKUP('entries and results'!G521,$A$3:$E$30018,4,FALSE)","v":" "},{"$f":"VLOOKUP('entries and results'!G521,$A$3:$F$30018,6,FALSE)","v":" "},{"$f":"VLOOKUP('entries and results'!G521,$A$3:$E$30018,2,FALSE)","v":" "},519,".",{"$f":"VLOOKUP('entries and results'!M521,$H$3:$K$30018,2,FALSE)","v":" "},{"$f":"VLOOKUP('entries and results'!M521,$H$3:$K$30018,3,FALSE)","v":" "},{"$f":"VLOOKUP('entries and results'!M521,$H$3:$K$30018,4,FALSE)","v":" "}," ","00:00",null,null,null,null,null,null,null,null,null,null,null,null,null,null,null,null,null,null,null,null,null,null,null,null,null,null,null,null,null,null,null,null,null,null,null,null,null,null,null,null,null,null,null,"00:00",519,0,"0000000","00","00","00"]
["SA02309","Edinburgh AC","1994-04-24","Laura Robertson","SA02309","Under 17",".",520,{"$f":"VLOOKUP('entries and results'!G522,$A$3:$E$30018,4,FALSE)","v":" "},{"$f":"VLOOKUP('entries and results'!G522,$A$3:$F$30018,6,FALSE)","v":" "},{"$f":"VLOOKUP('entries and results'!G522,$A$3:$E$30018,2,FALSE)","v":" "},520,".",{"$f":"VLOOKUP('entries and results'!M522,$H$3:$K$30018,2,FALSE)","v":" "},{"$f":"VLOOKUP('entries and results'!M522,$H$3:$K$30018,3,FALSE)","v":" "},{"$f":"VLOOKUP('entries and results'!M522,$H$3:$K$30018,4,FALSE)","v":" "}," ","00:00",null,null,null,null,null,null,null,null,null,null,null,null,null,null,null,null,null,null,null,null,null,null,null,null,null,null,null,null,null,null,null,null,null,null,null,null,null,null,null,null,null,null,null,"00:00",520,0,"0000000","00","00","00"]
["SA02315","Edinburgh AC","1997-03-27","Luca Vita","SA02315","Under 15",".",521,{"$f":"VLOOKUP('entries and results'!G523,$A$3:$E$30018,4,FALSE)","v":" "},{"$f":"VLOOKUP('entries and results'!G523,$A$3:$F$30018,6,FALSE)","v":" "},{"$f":"VLOOKUP('entries and results'!G523,$A$3:$E$30018,2,FALSE)","v":" "},521,".",{"$f":"VLOOKUP('entries and results'!M523,$H$3:$K$30018,2,FALSE)","v":" "},{"$f":"VLOOKUP('entries and results'!M523,$H$3:$K$30018,3,FALSE)","v":" "},{"$f":"VLOOKUP('entries and results'!M523,$H$3:$K$30018,4,FALSE)","v":" "}," ","00:00",null,null,null,null,null,null,null,null,null,null,null,null,null,null,null,null,null,null,null,null,null,null,null,null,null,null,null,null,null,null,null,null,null,null,null,null,null,null,null,null,null,null,null,"00:00",521,0,"0000000","00","00","00"]
["SA02317","Edinburgh AC","1992-11-10","Sarah Watters","SA02317","Senior",".",522,{"$f":"VLOOKUP('entries and results'!G524,$A$3:$E$30018,4,FALSE)","v":" "},{"$f":"VLOOKUP('entries and results'!G524,$A$3:$F$30018,6,FALSE)","v":" "},{"$f":"VLOOKUP('entries and results'!G524,$A$3:$E$30018,2,FALSE)","v":" "},522,".",{"$f":"VLOOKUP('entries and results'!M524,$H$3:$K$30018,2,FALSE)","v":" "},{"$f":"VLOOKUP('entries and results'!M524,$H$3:$K$30018,3,FALSE)","v":" "},{"$f":"VLOOKUP('entries and results'!M524,$H$3:$K$30018,4,FALSE)","v":" "}," ","00:00",null,null,null,null,null,null,null,null,null,null,null,null,null,null,null,null,null,null,null,null,null,null,null,null,null,null,null,null,null,null,null,null,null,null,null,null,null,null,null,null,null,null,null,"00:00",522,0,"0000000","00","00","00"]
["SA02337","Corstorphine AAC","1996-12-10","Shona McNab","SA02337","Under 15",".",523,{"$f":"VLOOKUP('entries and results'!G525,$A$3:$E$30018,4,FALSE)","v":" "},{"$f":"VLOOKUP('entries and results'!G525,$A$3:$F$30018,6,FALSE)","v":" "},{"$f":"VLOOKUP('entries and results'!G525,$A$3:$E$30018,2,FALSE)","v":" "},523,".",{"$f":"VLOOKUP('entries and results'!M525,$H$3:$K$30018,2,FALSE)","v":" "},{"$f":"VLOOKUP('entries and results'!M525,$H$3:$K$30018,3,FALSE)","v":" "},{"$f":"VLOOKUP('entries and results'!M525,$H$3:$K$30018,4,FALSE)","v":" "}," ","00:00",null,null,null,null,null,null,null,null,null,null,null,null,null,null,null,null,null,null,null,null,null,null,null,null,null,null,null,null,null,null,null,null,null,null,null,null,null,null,null,null,null,null,null,"00:00",523,0,"0000000","00","00","00"]
["SA02344","Corstorphine AAC","1996-05-19","Lorna Perks","SA02344","Under 15",".",524,{"$f":"VLOOKUP('entries and results'!G526,$A$3:$E$30018,4,FALSE)","v":" "},{"$f":"VLOOKUP('entries and results'!G526,$A$3:$F$30018,6,FALSE)","v":" "},{"$f":"VLOOKUP('entries and results'!G526,$A$3:$E$30018,2,FALSE)","v":" "},524,".",{"$f":"VLOOKUP('entries and results'!M526,$H$3:$K$30018,2,FALSE)","v":" "},{"$f":"VLOOKUP('entries and results'!M526,$H$3:$K$30018,3,FALSE)","v":" "},{"$f":"VLOOKUP('entries and results'!M526,$H$3:$K$30018,4,FALSE)","v":" "}," ","00:00",null,null,null,null,null,null,null,null,null,null,null,null,null,null,null,null,null,null,null,null,null,null,null,null,null,null,null,null,null,null,null,null,null,null,null,null,null,null,null,null,null,null,null,"00:00",524,0,"0000000","00","00","00"]
["SA02346","Corstorphine AAC","1996-10-11","Gavin Reid","SA02346","Under 15",".",525,{"$f":"VLOOKUP('entries and results'!G527,$A$3:$E$30018,4,FALSE)","v":" "},{"$f":"VLOOKUP('entries and results'!G527,$A$3:$F$30018,6,FALSE)","v":" "},{"$f":"VLOOKUP('entries and results'!G527,$A$3:$E$30018,2,FALSE)","v":" "},525,".",{"$f":"VLOOKUP('entries and results'!M527,$H$3:$K$30018,2,FALSE)","v":" "},{"$f":"VLOOKUP('entries and results'!M527,$H$3:$K$30018,3,FALSE)","v":" "},{"$f":"VLOOKUP('entries and results'!M527,$H$3:$K$30018,4,FALSE)","v":" "}," ","00:00",null,null,null,null,null,null,null,null,null,null,null,null,null,null,null,null,null,null,null,null,null,null,null,null,null,null,null,null,null,null,null,null,null,null,null,null,null,null,null,null,null,null,null,"00:00",525,0,"0000000","00","00","00"]
["SA02347","Corstorphine AAC","1997-01-31","Amber Robertson","SA02347","Under 15",".",526,{"$f":"VLOOKUP('entries and results'!G528,$A$3:$E$30018,4,FALSE)","v":" "},{"$f":"VLOOKUP('entries and results'!G528,$A$3:$F$30018,6,FALSE)","v":" "},{"$f":"VLOOKUP('entries and results'!G528,$A$3:$E$30018,2,FALSE)","v":" "},526,".",{"$f":"VLOOKUP('entries and results'!M528,$H$3:$K$30018,2,FALSE)","v":" "},{"$f":"VLOOKUP('entries and results'!M528,$H$3:$K$30018,3,FALSE)","v":" "},{"$f":"VLOOKUP('entries and results'!M528,$H$3:$K$30018,4,FALSE)","v":" "}," ","00:00",null,null,null,null,null,null,null,null,null,null,null,null,null,null,null,null,null,null,null,null,null,null,null,null,null,null,null,null,null,null,null,null,null,null,null,null,null,null,null,null,null,null,null,"00:00",526,0,"0000000","00","00","00"]
["SA02351","Corstorphine AAC","1997-01-18","Alexander Wilkie","SA02351","Under 15",".",527,{"$f":"VLOOKUP('entries and results'!G529,$A$3:$E$30018,4,FALSE)","v":" "},{"$f":"VLOOKUP('entries and results'!G529,$A$3:$F$30018,6,FALSE)","v":" "},{"$f":"VLOOKUP('entries and results'!G529,$A$3:$E$30018,2,FALSE)","v":" "},527,".",{"$f":"VLOOKUP('entries and results'!M529,$H$3:$K$30018,2,FALSE)","v":" "},{"$f":"VLOOKUP('entries and results'!M529,$H$3:$K$30018,3,FALSE)","v":" "},{"$f":"VLOOKUP('entries and results'!M529,$H$3:$K$30018,4,FALSE)","v":" "}," ","00:00",null,null,null,null,null,null,null,null,null,null,null,null,null,null,null,null,null,null,null,null,null,null,null,null,null,null,null,null,null,null,null,null,null,null,null,null,null,null,null,null,null,null,null,"00:00",527,0,"0000000","00","00","00"]
["SA02352","Dunbar Running Club","1995-02-19","Luke Baker","SA02352","Under 17",".",528,{"$f":"VLOOKUP('entries and results'!G530,$A$3:$E$30018,4,FALSE)","v":" "},{"$f":"VLOOKUP('entries and results'!G530,$A$3:$F$30018,6,FALSE)","v":" "},{"$f":"VLOOKUP('entries and results'!G530,$A$3:$E$30018,2,FALSE)","v":" "},528,".",{"$f":"VLOOKUP('entries and results'!M530,$H$3:$K$30018,2,FALSE)","v":" "},{"$f":"VLOOKUP('entries and results'!M530,$H$3:$K$30018,3,FALSE)","v":" "},{"$f":"VLOOKUP('entries and results'!M530,$H$3:$K$30018,4,FALSE)","v":" "}," ","00:00",null,null,null,null,null,null,null,null,null,null,null,null,null,null,null,null,null,null,null,null,null,null,null,null,null,null,null,null,null,null,null,null,null,null,null,null,null,null,null,null,null,null,null,"00:00",528,0,"0000000","00","00","00"]
["SA02358","Dunbar Running Club","1995-10-22","Jack Learmonth","SA02358","Under 15",".",529,{"$f":"VLOOKUP('entries and results'!G531,$A$3:$E$30018,4,FALSE)","v":" "},{"$f":"VLOOKUP('entries and results'!G531,$A$3:$F$30018,6,FALSE)","v":" "},{"$f":"VLOOKUP('entries and results'!G531,$A$3:$E$30018,2,FALSE)","v":" "},529,".",{"$f":"VLOOKUP('entries and results'!M531,$H$3:$K$30018,2,FALSE)","v":" "},{"$f":"VLOOKUP('entries and results'!M531,$H$3:$K$30018,3,FALSE)","v":" "},{"$f":"VLOOKUP('entries and results'!M531,$H$3:$K$30018,4,FALSE)","v":" "}," ","00:00",null,null,null,null,null,null,null,null,null,null,null,null,null,null,null,null,null,null,null,null,null,null,null,null,null,null,null,null,null,null,null,null,null,null,null,null,null,null,null,null,null,null,null,"00:00",529,0,"0000000","00","00","00"]
["SA02362","Dunbar Running Club","1996-06-24","Katriona Proudfoot","SA02362","Under 15",".",530,{"$f":"VLOOKUP('entries and results'!G532,$A$3:$E$30018,4,FALSE)","v":" "},{"$f":"VLOOKUP('entries and results'!G532,$A$3:$F$30018,6,FALSE)","v":" "},{"$f":"VLOOKUP('entries and results'!G532,$A$3:$E$30018,2,FALSE)","v":" "},530,".",{"$f":"VLOOKUP('entries and results'!M532,$H$3:$K$30018,2,FALSE)","v":" "},{"$f":"VLOOKUP('entries and results'!M532,$H$3:$K$30018,3,FALSE)","v":" "},{"$f":"VLOOKUP('entries and results'!M532,$H$3:$K$30018,4,FALSE)","v":" "}," ","00:00",null,null,null,null,null,null,null,null,null,null,null,null,null,null,null,null,null,null,null,null,null,null,null,null,null,null,null,null,null,null,null,null,null,null,null,null,null,null,null,null,null,null,null,"00:00",530,0,"0000000","00","00","00"]
["SA02364","Dunbar Running Club","1994-12-08","Cory Smith","SA02364","Under 17",".",531,{"$f":"VLOOKUP('entries and results'!G533,$A$3:$E$30018,4,FALSE)","v":" "},{"$f":"VLOOKUP('entries and results'!G533,$A$3:$F$30018,6,FALSE)","v":" "},{"$f":"VLOOKUP('entries and results'!G533,$A$3:$E$30018,2,FALSE)","v":" "},531,".",{"$f":"VLOOKUP('entries and results'!M533,$H$3:$K$30018,2,FALSE)","v":" "},{"$f":"VLOOKUP('entries and results'!M533,$H$3:$K$30018,3,FALSE)","v":" "},{"$f":"VLOOKUP('entries and results'!M533,$H$3:$K$30018,4,FALSE)","v":" "}," ","00:00",null,null,null,null,null,null,null,null,null,null,null,null,null,null,null,null,null,null,null,null,null,null,null,null,null,null,null,null,null,null,null,null,null,null,null,null,null,null,null,null,null,null,null,"00:00",531,0,"0000000","00","00","00"]
["SA02369","Dundee Hawkhill Harriers","1994-07-18","Amy Barton","SA02369","Under 17",".",532,{"$f":"VLOOKUP('entries and results'!G534,$A$3:$E$30018,4,FALSE)","v":" "},{"$f":"VLOOKUP('entries and results'!G534,$A$3:$F$30018,6,FALSE)","v":" "},{"$f":"VLOOKUP('entries and results'!G534,$A$3:$E$30018,2,FALSE)","v":" "},532,".",{"$f":"VLOOKUP('entries and results'!M534,$H$3:$K$30018,2,FALSE)","v":" "},{"$f":"VLOOKUP('entries and results'!M534,$H$3:$K$30018,3,FALSE)","v":" "},{"$f":"VLOOKUP('entries and results'!M534,$H$3:$K$30018,4,FALSE)","v":" "}," ","00:00",null,null,null,null,null,null,null,null,null,null,null,null,null,null,null,null,null,null,null,null,null,null,null,null,null,null,null,null,null,null,null,null,null,null,null,null,null,null,null,null,null,null,null,"00:00",532,0,"0000000","00","00","00"]
["SA02378","Dunfermline & West Fife AC","1997-02-21","Callum Gosse","SA02378","Under 15",".",533,{"$f":"VLOOKUP('entries and results'!G535,$A$3:$E$30018,4,FALSE)","v":" "},{"$f":"VLOOKUP('entries and results'!G535,$A$3:$F$30018,6,FALSE)","v":" "},{"$f":"VLOOKUP('entries and results'!G535,$A$3:$E$30018,2,FALSE)","v":" "},533,".",{"$f":"VLOOKUP('entries and results'!M535,$H$3:$K$30018,2,FALSE)","v":" "},{"$f":"VLOOKUP('entries and results'!M535,$H$3:$K$30018,3,FALSE)","v":" "},{"$f":"VLOOKUP('entries and results'!M535,$H$3:$K$30018,4,FALSE)","v":" "}," ","00:00",null,null,null,null,null,null,null,null,null,null,null,null,null,null,null,null,null,null,null,null,null,null,null,null,null,null,null,null,null,null,null,null,null,null,null,null,null,null,null,null,null,null,null,"00:00",533,0,"0000000","00","00","00"]
["SA02379","Dunfermline & West Fife AC","1997-02-21","Fraser Gosse","SA02379","Under 15",".",534,{"$f":"VLOOKUP('entries and results'!G536,$A$3:$E$30018,4,FALSE)","v":" "},{"$f":"VLOOKUP('entries and results'!G536,$A$3:$F$30018,6,FALSE)","v":" "},{"$f":"VLOOKUP('entries and results'!G536,$A$3:$E$30018,2,FALSE)","v":" "},534,".",{"$f":"VLOOKUP('entries and results'!M536,$H$3:$K$30018,2,FALSE)","v":" "},{"$f":"VLOOKUP('entries and results'!M536,$H$3:$K$30018,3,FALSE)","v":" "},{"$f":"VLOOKUP('entries and results'!M536,$H$3:$K$30018,4,FALSE)","v":" "}," ","00:00",null,null,null,null,null,null,null,null,null,null,null,null,null,null,null,null,null,null,null,null,null,null,null,null,null,null,null,null,null,null,null,null,null,null,null,null,null,null,null,null,null,null,null,"00:00",534,0,"0000000","00","00","00"]
["SA02384","East Cheshire & Tameside A.C.","1993-09-01","Kirsten McAslan","SA02384","Under 17",".",535,{"$f":"VLOOKUP('entries and results'!G537,$A$3:$E$30018,4,FALSE)","v":" "},{"$f":"VLOOKUP('entries and results'!G537,$A$3:$F$30018,6,FALSE)","v":" "},{"$f":"VLOOKUP('entries and results'!G537,$A$3:$E$30018,2,FALSE)","v":" "},535,".",{"$f":"VLOOKUP('entries and results'!M537,$H$3:$K$30018,2,FALSE)","v":" "},{"$f":"VLOOKUP('entries and results'!M537,$H$3:$K$30018,3,FALSE)","v":" "},{"$f":"VLOOKUP('entries and results'!M537,$H$3:$K$30018,4,FALSE)","v":" "}," ","00:00",null,null,null,null,null,null,null,null,null,null,null,null,null,null,null,null,null,null,null,null,null,null,null,null,null,null,null,null,null,null,null,null,null,null,null,null,null,null,null,null,null,null,null,"00:00",535,0,"0000000","00","00","00"]
["SA02386","East Kilbride A.C.","1991-05-28","Catriona Chapman","SA02386","Senior",".",536,{"$f":"VLOOKUP('entries and results'!G538,$A$3:$E$30018,4,FALSE)","v":" "},{"$f":"VLOOKUP('entries and results'!G538,$A$3:$F$30018,6,FALSE)","v":" "},{"$f":"VLOOKUP('entries and results'!G538,$A$3:$E$30018,2,FALSE)","v":" "},536,".",{"$f":"VLOOKUP('entries and results'!M538,$H$3:$K$30018,2,FALSE)","v":" "},{"$f":"VLOOKUP('entries and results'!M538,$H$3:$K$30018,3,FALSE)","v":" "},{"$f":"VLOOKUP('entries and results'!M538,$H$3:$K$30018,4,FALSE)","v":" "}," ","00:00",null,null,null,null,null,null,null,null,null,null,null,null,null,null,null,null,null,null,null,null,null,null,null,null,null,null,null,null,null,null,null,null,null,null,null,null,null,null,null,null,null,null,null,"00:00",536,0,"0000000","00","00","00"]
["SA02389","East Kilbride A.C.","1993-06-28","Zoe Haddow","SA02389","Senior",".",537,{"$f":"VLOOKUP('entries and results'!G539,$A$3:$E$30018,4,FALSE)","v":" "},{"$f":"VLOOKUP('entries and results'!G539,$A$3:$F$30018,6,FALSE)","v":" "},{"$f":"VLOOKUP('entries and results'!G539,$A$3:$E$30018,2,FALSE)","v":" "},537,".",{"$f":"VLOOKUP('entries and results'!M539,$H$3:$K$30018,2,FALSE)","v":" "},{"$f":"VLOOKUP('entries and results'!M539,$H$3:$K$30018,3,FALSE)","v":" "},{"$f":"VLOOKUP('entries and results'!M539,$H$3:$K$30018,4,FALSE)","v":" "}," ","00:00",null,null,null,null,null,null,null,null,null,null,null,null,null,null,null,null,null,null,null,null,null,null,null,null,null,null,null,null,null,null,null,null,null,null,null,null,null,null,null,null,null,null,null,"00:00",537,0,"0000000","00","00","00"]
["SA02395","East Kilbride A.C.","1993-10-27","Laura McLaughlan","SA02395","Under 17",".",538,{"$f":"VLOOKUP('entries and results'!G540,$A$3:$E$30018,4,FALSE)","v":" "},{"$f":"VLOOKUP('entries and results'!G540,$A$3:$F$30018,6,FALSE)","v":" "},{"$f":"VLOOKUP('entries and results'!G540,$A$3:$E$30018,2,FALSE)","v":" "},538,".",{"$f":"VLOOKUP('entries and results'!M540,$H$3:$K$30018,2,FALSE)","v":" "},{"$f":"VLOOKUP('entries and results'!M540,$H$3:$K$30018,3,FALSE)","v":" "},{"$f":"VLOOKUP('entries and results'!M540,$H$3:$K$30018,4,FALSE)","v":" "}," ","00:00",null,null,null,null,null,null,null,null,null,null,null,null,null,null,null,null,null,null,null,null,null,null,null,null,null,null,null,null,null,null,null,null,null,null,null,null,null,null,null,null,null,null,null,"00:00",538,0,"0000000","00","00","00"]
["SA02403","East Kilbride A.C.","1996-10-30","Robyn Wright","SA02403","Under 15",".",539,{"$f":"VLOOKUP('entries and results'!G541,$A$3:$E$30018,4,FALSE)","v":" "},{"$f":"VLOOKUP('entries and results'!G541,$A$3:$F$30018,6,FALSE)","v":" "},{"$f":"VLOOKUP('entries and results'!G541,$A$3:$E$30018,2,FALSE)","v":" "},539,".",{"$f":"VLOOKUP('entries and results'!M541,$H$3:$K$30018,2,FALSE)","v":" "},{"$f":"VLOOKUP('entries and results'!M541,$H$3:$K$30018,3,FALSE)","v":" "},{"$f":"VLOOKUP('entries and results'!M541,$H$3:$K$30018,4,FALSE)","v":" "}," ","00:00",null,null,null,null,null,null,null,null,null,null,null,null,null,null,null,null,null,null,null,null,null,null,null,null,null,null,null,null,null,null,null,null,null,null,null,null,null,null,null,null,null,null,null,"00:00",539,0,"0000000","00","00","00"]
["SA02405","Edinburgh AC","1993-04-12","Jennifer Arnot","SA02405","Senior",".",540,{"$f":"VLOOKUP('entries and results'!G542,$A$3:$E$30018,4,FALSE)","v":" "},{"$f":"VLOOKUP('entries and results'!G542,$A$3:$F$30018,6,FALSE)","v":" "},{"$f":"VLOOKUP('entries and results'!G542,$A$3:$E$30018,2,FALSE)","v":" "},540,".",{"$f":"VLOOKUP('entries and results'!M542,$H$3:$K$30018,2,FALSE)","v":" "},{"$f":"VLOOKUP('entries and results'!M542,$H$3:$K$30018,3,FALSE)","v":" "},{"$f":"VLOOKUP('entries and results'!M542,$H$3:$K$30018,4,FALSE)","v":" "}," ","00:00",null,null,null,null,null,null,null,null,null,null,null,null,null,null,null,null,null,null,null,null,null,null,null,null,null,null,null,null,null,null,null,null,null,null,null,null,null,null,null,null,null,null,null,"00:00",540,0,"0000000","00","00","00"]
["SA02407","Edinburgh AC","1993-07-17","Fiona Cleat","SA02407","Senior",".",541,{"$f":"VLOOKUP('entries and results'!G543,$A$3:$E$30018,4,FALSE)","v":" "},{"$f":"VLOOKUP('entries and results'!G543,$A$3:$F$30018,6,FALSE)","v":" "},{"$f":"VLOOKUP('entries and results'!G543,$A$3:$E$30018,2,FALSE)","v":" "},541,".",{"$f":"VLOOKUP('entries and results'!M543,$H$3:$K$30018,2,FALSE)","v":" "},{"$f":"VLOOKUP('entries and results'!M543,$H$3:$K$30018,3,FALSE)","v":" "},{"$f":"VLOOKUP('entries and results'!M543,$H$3:$K$30018,4,FALSE)","v":" "}," ","00:00",null,null,null,null,null,null,null,null,null,null,null,null,null,null,null,null,null,null,null,null,null,null,null,null,null,null,null,null,null,null,null,null,null,null,null,null,null,null,null,null,null,null,null,"00:00",541,0,"0000000","00","00","00"]
["SA02414","Edinburgh AC","1995-10-15","Anna Hyde","SA02414","Under 15",".",542,{"$f":"VLOOKUP('entries and results'!G544,$A$3:$E$30018,4,FALSE)","v":" "},{"$f":"VLOOKUP('entries and results'!G544,$A$3:$F$30018,6,FALSE)","v":" "},{"$f":"VLOOKUP('entries and results'!G544,$A$3:$E$30018,2,FALSE)","v":" "},542,".",{"$f":"VLOOKUP('entries and results'!M544,$H$3:$K$30018,2,FALSE)","v":" "},{"$f":"VLOOKUP('entries and results'!M544,$H$3:$K$30018,3,FALSE)","v":" "},{"$f":"VLOOKUP('entries and results'!M544,$H$3:$K$30018,4,FALSE)","v":" "}," ","00:00",null,null,null,null,null,null,null,null,null,null,null,null,null,null,null,null,null,null,null,null,null,null,null,null,null,null,null,null,null,null,null,null,null,null,null,null,null,null,null,null,null,null,null,"00:00",542,0,"0000000","00","00","00"]
["SA02428","Edinburgh AC","1996-10-03","Katie Robertson","SA02428","Under 15",".",543,{"$f":"VLOOKUP('entries and results'!G545,$A$3:$E$30018,4,FALSE)","v":" "},{"$f":"VLOOKUP('entries and results'!G545,$A$3:$F$30018,6,FALSE)","v":" "},{"$f":"VLOOKUP('entries and results'!G545,$A$3:$E$30018,2,FALSE)","v":" "},543,".",{"$f":"VLOOKUP('entries and results'!M545,$H$3:$K$30018,2,FALSE)","v":" "},{"$f":"VLOOKUP('entries and results'!M545,$H$3:$K$30018,3,FALSE)","v":" "},{"$f":"VLOOKUP('entries and results'!M545,$H$3:$K$30018,4,FALSE)","v":" "}," ","00:00",null,null,null,null,null,null,null,null,null,null,null,null,null,null,null,null,null,null,null,null,null,null,null,null,null,null,null,null,null,null,null,null,null,null,null,null,null,null,null,null,null,null,null,"00:00",543,0,"0000000","00","00","00"]
["SA02429","Edinburgh AC","1995-04-12","Rachel Robertson","SA02429","Under 17",".",544,{"$f":"VLOOKUP('entries and results'!G546,$A$3:$E$30018,4,FALSE)","v":" "},{"$f":"VLOOKUP('entries and results'!G546,$A$3:$F$30018,6,FALSE)","v":" "},{"$f":"VLOOKUP('entries and results'!G546,$A$3:$E$30018,2,FALSE)","v":" "},544,".",{"$f":"VLOOKUP('entries and results'!M546,$H$3:$K$30018,2,FALSE)","v":" "},{"$f":"VLOOKUP('entries and results'!M546,$H$3:$K$30018,3,FALSE)","v":" "},{"$f":"VLOOKUP('entries and results'!M546,$H$3:$K$30018,4,FALSE)","v":" "}," ","00:00",null,null,null,null,null,null,null,null,null,null,null,null,null,null,null,null,null,null,null,null,null,null,null,null,null,null,null,null,null,null,null,null,null,null,null,null,null,null,null,null,null,null,null,"00:00",544,0,"0000000","00","00","00"]
["SA02434","Ellon AAC","1995-05-25","Hannah Armstrong","SA02434","Under 17",".",545,{"$f":"VLOOKUP('entries and results'!G547,$A$3:$E$30018,4,FALSE)","v":" "},{"$f":"VLOOKUP('entries and results'!G547,$A$3:$F$30018,6,FALSE)","v":" "},{"$f":"VLOOKUP('entries and results'!G547,$A$3:$E$30018,2,FALSE)","v":" "},545,".",{"$f":"VLOOKUP('entries and results'!M547,$H$3:$K$30018,2,FALSE)","v":" "},{"$f":"VLOOKUP('entries and results'!M547,$H$3:$K$30018,3,FALSE)","v":" "},{"$f":"VLOOKUP('entries and results'!M547,$H$3:$K$30018,4,FALSE)","v":" "}," ","00:00",null,null,null,null,null,null,null,null,null,null,null,null,null,null,null,null,null,null,null,null,null,null,null,null,null,null,null,null,null,null,null,null,null,null,null,null,null,null,null,null,null,null,null,"00:00",545,0,"0000000","00","00","00"]
["SA02435","Ellon AAC","1993-09-04","Katie Armstrong","SA02435","Under 17",".",546,{"$f":"VLOOKUP('entries and results'!G548,$A$3:$E$30018,4,FALSE)","v":" "},{"$f":"VLOOKUP('entries and results'!G548,$A$3:$F$30018,6,FALSE)","v":" "},{"$f":"VLOOKUP('entries and results'!G548,$A$3:$E$30018,2,FALSE)","v":" "},546,".",{"$f":"VLOOKUP('entries and results'!M548,$H$3:$K$30018,2,FALSE)","v":" "},{"$f":"VLOOKUP('entries and results'!M548,$H$3:$K$30018,3,FALSE)","v":" "},{"$f":"VLOOKUP('entries and results'!M548,$H$3:$K$30018,4,FALSE)","v":" "}," ","00:00",null,null,null,null,null,null,null,null,null,null,null,null,null,null,null,null,null,null,null,null,null,null,null,null,null,null,null,null,null,null,null,null,null,null,null,null,null,null,null,null,null,null,null,"00:00",546,0,"0000000","00","00","00"]
["SA02436","Ellon AAC","1996-03-15","Robert J Bugden","SA02436","Under 15",".",547,{"$f":"VLOOKUP('entries and results'!G549,$A$3:$E$30018,4,FALSE)","v":" "},{"$f":"VLOOKUP('entries and results'!G549,$A$3:$F$30018,6,FALSE)","v":" "},{"$f":"VLOOKUP('entries and results'!G549,$A$3:$E$30018,2,FALSE)","v":" "},547,".",{"$f":"VLOOKUP('entries and results'!M549,$H$3:$K$30018,2,FALSE)","v":" "},{"$f":"VLOOKUP('entries and results'!M549,$H$3:$K$30018,3,FALSE)","v":" "},{"$f":"VLOOKUP('entries and results'!M549,$H$3:$K$30018,4,FALSE)","v":" "}," ","00:00",null,null,null,null,null,null,null,null,null,null,null,null,null,null,null,null,null,null,null,null,null,null,null,null,null,null,null,null,null,null,null,null,null,null,null,null,null,null,null,null,null,null,null,"00:00",547,0,"0000000","00","00","00"]
["SA02440","Aberdeen AAC","1994-03-10","Lisa Humphreys","SA02440","Under 17",".",548,{"$f":"VLOOKUP('entries and results'!G550,$A$3:$E$30018,4,FALSE)","v":" "},{"$f":"VLOOKUP('entries and results'!G550,$A$3:$F$30018,6,FALSE)","v":" "},{"$f":"VLOOKUP('entries and results'!G550,$A$3:$E$30018,2,FALSE)","v":" "},548,".",{"$f":"VLOOKUP('entries and results'!M550,$H$3:$K$30018,2,FALSE)","v":" "},{"$f":"VLOOKUP('entries and results'!M550,$H$3:$K$30018,3,FALSE)","v":" "},{"$f":"VLOOKUP('entries and results'!M550,$H$3:$K$30018,4,FALSE)","v":" "}," ","00:00",null,null,null,null,null,null,null,null,null,null,null,null,null,null,null,null,null,null,null,null,null,null,null,null,null,null,null,null,null,null,null,null,null,null,null,null,null,null,null,null,null,null,null,"00:00",548,0,"0000000","00","00","00"]
["SA02441","Ellon AAC","1995-04-18","Joshua Kenyon","SA02441","Under 17",".",549,{"$f":"VLOOKUP('entries and results'!G551,$A$3:$E$30018,4,FALSE)","v":" "},{"$f":"VLOOKUP('entries and results'!G551,$A$3:$F$30018,6,FALSE)","v":" "},{"$f":"VLOOKUP('entries and results'!G551,$A$3:$E$30018,2,FALSE)","v":" "},549,".",{"$f":"VLOOKUP('entries and results'!M551,$H$3:$K$30018,2,FALSE)","v":" "},{"$f":"VLOOKUP('entries and results'!M551,$H$3:$K$30018,3,FALSE)","v":" "},{"$f":"VLOOKUP('entries and results'!M551,$H$3:$K$30018,4,FALSE)","v":" "}," ","00:00",null,null,null,null,null,null,null,null,null,null,null,null,null,null,null,null,null,null,null,null,null,null,null,null,null,null,null,null,null,null,null,null,null,null,null,null,null,null,null,null,null,null,null,"00:00",549,0,"0000000","00","00","00"]
["SA02446","Ellon AAC","1995-07-20","Sarah Murphy","SA02446","Under 17",".",550,{"$f":"VLOOKUP('entries and results'!G552,$A$3:$E$30018,4,FALSE)","v":" "},{"$f":"VLOOKUP('entries and results'!G552,$A$3:$F$30018,6,FALSE)","v":" "},{"$f":"VLOOKUP('entries and results'!G552,$A$3:$E$30018,2,FALSE)","v":" "},550,".",{"$f":"VLOOKUP('entries and results'!M552,$H$3:$K$30018,2,FALSE)","v":" "},{"$f":"VLOOKUP('entries and results'!M552,$H$3:$K$30018,3,FALSE)","v":" "},{"$f":"VLOOKUP('entries and results'!M552,$H$3:$K$30018,4,FALSE)","v":" "}," ","00:00",null,null,null,null,null,null,null,null,null,null,null,null,null,null,null,null,null,null,null,null,null,null,null,null,null,null,null,null,null,null,null,null,null,null,null,null,null,null,null,null,null,null,null,"00:00",550,0,"0000000","00","00","00"]
["SA02447","Aberdeen AAC","1996-07-12","Liam Rae","SA02447","Under 15",".",551,{"$f":"VLOOKUP('entries and results'!G553,$A$3:$E$30018,4,FALSE)","v":" "},{"$f":"VLOOKUP('entries and results'!G553,$A$3:$F$30018,6,FALSE)","v":" "},{"$f":"VLOOKUP('entries and results'!G553,$A$3:$E$30018,2,FALSE)","v":" "},551,".",{"$f":"VLOOKUP('entries and results'!M553,$H$3:$K$30018,2,FALSE)","v":" "},{"$f":"VLOOKUP('entries and results'!M553,$H$3:$K$30018,3,FALSE)","v":" "},{"$f":"VLOOKUP('entries and results'!M553,$H$3:$K$30018,4,FALSE)","v":" "}," ","00:00",null,null,null,null,null,null,null,null,null,null,null,null,null,null,null,null,null,null,null,null,null,null,null,null,null,null,null,null,null,null,null,null,null,null,null,null,null,null,null,null,null,null,null,"00:00",551,0,"0000000","00","00","00"]
["SA02453","Falkirk Victoria Harriers","1996-09-17","Ciaran Wright","SA02453","Under 15",".",552,{"$f":"VLOOKUP('entries and results'!G554,$A$3:$E$30018,4,FALSE)","v":" "},{"$f":"VLOOKUP('entries and results'!G554,$A$3:$F$30018,6,FALSE)","v":" "},{"$f":"VLOOKUP('entries and results'!G554,$A$3:$E$30018,2,FALSE)","v":" "},552,".",{"$f":"VLOOKUP('entries and results'!M554,$H$3:$K$30018,2,FALSE)","v":" "},{"$f":"VLOOKUP('entries and results'!M554,$H$3:$K$30018,3,FALSE)","v":" "},{"$f":"VLOOKUP('entries and results'!M554,$H$3:$K$30018,4,FALSE)","v":" "}," ","00:00",null,null,null,null,null,null,null,null,null,null,null,null,null,null,null,null,null,null,null,null,null,null,null,null,null,null,null,null,null,null,null,null,null,null,null,null,null,null,null,null,null,null,null,"00:00",552,0,"0000000","00","00","00"]
["SA02464","Falkirk Victoria Harriers","1993-02-07","Amy Hope","SA02464","Senior",".",553,{"$f":"VLOOKUP('entries and results'!G555,$A$3:$E$30018,4,FALSE)","v":" "},{"$f":"VLOOKUP('entries and results'!G555,$A$3:$F$30018,6,FALSE)","v":" "},{"$f":"VLOOKUP('entries and results'!G555,$A$3:$E$30018,2,FALSE)","v":" "},553,".",{"$f":"VLOOKUP('entries and results'!M555,$H$3:$K$30018,2,FALSE)","v":" "},{"$f":"VLOOKUP('entries and results'!M555,$H$3:$K$30018,3,FALSE)","v":" "},{"$f":"VLOOKUP('entries and results'!M555,$H$3:$K$30018,4,FALSE)","v":" "}," ","00:00",null,null,null,null,null,null,null,null,null,null,null,null,null,null,null,null,null,null,null,null,null,null,null,null,null,null,null,null,null,null,null,null,null,null,null,null,null,null,null,null,null,null,null,"00:00",553,0,"0000000","00","00","00"]
["SA02467","Falkirk Victoria Harriers","1994-05-23","Jemma Learmonth","SA02467","Under 17",".",554,{"$f":"VLOOKUP('entries and results'!G556,$A$3:$E$30018,4,FALSE)","v":" "},{"$f":"VLOOKUP('entries and results'!G556,$A$3:$F$30018,6,FALSE)","v":" "},{"$f":"VLOOKUP('entries and results'!G556,$A$3:$E$30018,2,FALSE)","v":" "},554,".",{"$f":"VLOOKUP('entries and results'!M556,$H$3:$K$30018,2,FALSE)","v":" "},{"$f":"VLOOKUP('entries and results'!M556,$H$3:$K$30018,3,FALSE)","v":" "},{"$f":"VLOOKUP('entries and results'!M556,$H$3:$K$30018,4,FALSE)","v":" "}," ","00:00",null,null,null,null,null,null,null,null,null,null,null,null,null,null,null,null,null,null,null,null,null,null,null,null,null,null,null,null,null,null,null,null,null,null,null,null,null,null,null,null,null,null,null,"00:00",554,0,"0000000","00","00","00"]
["SA02471","Falkirk Victoria Harriers","1994-06-12","Jacqueline Plain","SA02471","Under 17",".",555,{"$f":"VLOOKUP('entries and results'!G557,$A$3:$E$30018,4,FALSE)","v":" "},{"$f":"VLOOKUP('entries and results'!G557,$A$3:$F$30018,6,FALSE)","v":" "},{"$f":"VLOOKUP('entries and results'!G557,$A$3:$E$30018,2,FALSE)","v":" "},555,".",{"$f":"VLOOKUP('entries and results'!M557,$H$3:$K$30018,2,FALSE)","v":" "},{"$f":"VLOOKUP('entries and results'!M557,$H$3:$K$30018,3,FALSE)","v":" "},{"$f":"VLOOKUP('entries and results'!M557,$H$3:$K$30018,4,FALSE)","v":" "}," ","00:00",null,null,null,null,null,null,null,null,null,null,null,null,null,null,null,null,null,null,null,null,null,null,null,null,null,null,null,null,null,null,null,null,null,null,null,null,null,null,null,null,null,null,null,"00:00",555,0,"0000000","00","00","00"]
["SA02473","Falkirk Victoria Harriers","1991-05-02","Ryan Scott","SA02473","Senior",".",556,{"$f":"VLOOKUP('entries and results'!G558,$A$3:$E$30018,4,FALSE)","v":" "},{"$f":"VLOOKUP('entries and results'!G558,$A$3:$F$30018,6,FALSE)","v":" "},{"$f":"VLOOKUP('entries and results'!G558,$A$3:$E$30018,2,FALSE)","v":" "},556,".",{"$f":"VLOOKUP('entries and results'!M558,$H$3:$K$30018,2,FALSE)","v":" "},{"$f":"VLOOKUP('entries and results'!M558,$H$3:$K$30018,3,FALSE)","v":" "},{"$f":"VLOOKUP('entries and results'!M558,$H$3:$K$30018,4,FALSE)","v":" "}," ","00:00",null,null,null,null,null,null,null,null,null,null,null,null,null,null,null,null,null,null,null,null,null,null,null,null,null,null,null,null,null,null,null,null,null,null,null,null,null,null,null,null,null,null,null,"00:00",556,0,"0000000","00","00","00"]
["SA02474","Falkirk Victoria Harriers","1993-05-19","Kieran Skelton","SA02474","Senior",".",557,{"$f":"VLOOKUP('entries and results'!G559,$A$3:$E$30018,4,FALSE)","v":" "},{"$f":"VLOOKUP('entries and results'!G559,$A$3:$F$30018,6,FALSE)","v":" "},{"$f":"VLOOKUP('entries and results'!G559,$A$3:$E$30018,2,FALSE)","v":" "},557,".",{"$f":"VLOOKUP('entries and results'!M559,$H$3:$K$30018,2,FALSE)","v":" "},{"$f":"VLOOKUP('entries and results'!M559,$H$3:$K$30018,3,FALSE)","v":" "},{"$f":"VLOOKUP('entries and results'!M559,$H$3:$K$30018,4,FALSE)","v":" "}," ","00:00",null,null,null,null,null,null,null,null,null,null,null,null,null,null,null,null,null,null,null,null,null,null,null,null,null,null,null,null,null,null,null,null,null,null,null,null,null,null,null,null,null,null,null,"00:00",557,0,"0000000","00","00","00"]
["SA02483","Fife AC","1992-06-01","Adam Delargy","SA02483","Senior",".",558,{"$f":"VLOOKUP('entries and results'!G560,$A$3:$E$30018,4,FALSE)","v":" "},{"$f":"VLOOKUP('entries and results'!G560,$A$3:$F$30018,6,FALSE)","v":" "},{"$f":"VLOOKUP('entries and results'!G560,$A$3:$E$30018,2,FALSE)","v":" "},558,".",{"$f":"VLOOKUP('entries and results'!M560,$H$3:$K$30018,2,FALSE)","v":" "},{"$f":"VLOOKUP('entries and results'!M560,$H$3:$K$30018,3,FALSE)","v":" "},{"$f":"VLOOKUP('entries and results'!M560,$H$3:$K$30018,4,FALSE)","v":" "}," ","00:00",null,null,null,null,null,null,null,null,null,null,null,null,null,null,null,null,null,null,null,null,null,null,null,null,null,null,null,null,null,null,null,null,null,null,null,null,null,null,null,null,null,null,null,"00:00",558,0,"0000000","00","00","00"]
["SA02484","Fife AC","1993-10-12","Judith Delargy","SA02484","Under 17",".",559,{"$f":"VLOOKUP('entries and results'!G561,$A$3:$E$30018,4,FALSE)","v":" "},{"$f":"VLOOKUP('entries and results'!G561,$A$3:$F$30018,6,FALSE)","v":" "},{"$f":"VLOOKUP('entries and results'!G561,$A$3:$E$30018,2,FALSE)","v":" "},559,".",{"$f":"VLOOKUP('entries and results'!M561,$H$3:$K$30018,2,FALSE)","v":" "},{"$f":"VLOOKUP('entries and results'!M561,$H$3:$K$30018,3,FALSE)","v":" "},{"$f":"VLOOKUP('entries and results'!M561,$H$3:$K$30018,4,FALSE)","v":" "}," ","00:00",null,null,null,null,null,null,null,null,null,null,null,null,null,null,null,null,null,null,null,null,null,null,null,null,null,null,null,null,null,null,null,null,null,null,null,null,null,null,null,null,null,null,null,"00:00",559,0,"0000000","00","00","00"]
["SA02488","Fife AC","1993-03-16","Kirsty Hamilton","SA02488","Senior",".",560,{"$f":"VLOOKUP('entries and results'!G562,$A$3:$E$30018,4,FALSE)","v":" "},{"$f":"VLOOKUP('entries and results'!G562,$A$3:$F$30018,6,FALSE)","v":" "},{"$f":"VLOOKUP('entries and results'!G562,$A$3:$E$30018,2,FALSE)","v":" "},560,".",{"$f":"VLOOKUP('entries and results'!M562,$H$3:$K$30018,2,FALSE)","v":" "},{"$f":"VLOOKUP('entries and results'!M562,$H$3:$K$30018,3,FALSE)","v":" "},{"$f":"VLOOKUP('entries and results'!M562,$H$3:$K$30018,4,FALSE)","v":" "}," ","00:00",null,null,null,null,null,null,null,null,null,null,null,null,null,null,null,null,null,null,null,null,null,null,null,null,null,null,null,null,null,null,null,null,null,null,null,null,null,null,null,null,null,null,null,"00:00",560,0,"0000000","00","00","00"]
["SA02490","Fife AC","1992-12-11","Liam Hutson","SA02490","Senior",".",561,{"$f":"VLOOKUP('entries and results'!G563,$A$3:$E$30018,4,FALSE)","v":" "},{"$f":"VLOOKUP('entries and results'!G563,$A$3:$F$30018,6,FALSE)","v":" "},{"$f":"VLOOKUP('entries and results'!G563,$A$3:$E$30018,2,FALSE)","v":" "},561,".",{"$f":"VLOOKUP('entries and results'!M563,$H$3:$K$30018,2,FALSE)","v":" "},{"$f":"VLOOKUP('entries and results'!M563,$H$3:$K$30018,3,FALSE)","v":" "},{"$f":"VLOOKUP('entries and results'!M563,$H$3:$K$30018,4,FALSE)","v":" "}," ","00:00",null,null,null,null,null,null,null,null,null,null,null,null,null,null,null,null,null,null,null,null,null,null,null,null,null,null,null,null,null,null,null,null,null,null,null,null,null,null,null,null,null,null,null,"00:00",561,0,"0000000","00","00","00"]
["SA02497","Fife AC","1995-09-01","Stephanie Pennycook","SA02497","Under 15",".",562,{"$f":"VLOOKUP('entries and results'!G564,$A$3:$E$30018,4,FALSE)","v":" "},{"$f":"VLOOKUP('entries and results'!G564,$A$3:$F$30018,6,FALSE)","v":" "},{"$f":"VLOOKUP('entries and results'!G564,$A$3:$E$30018,2,FALSE)","v":" "},562,".",{"$f":"VLOOKUP('entries and results'!M564,$H$3:$K$30018,2,FALSE)","v":" "},{"$f":"VLOOKUP('entries and results'!M564,$H$3:$K$30018,3,FALSE)","v":" "},{"$f":"VLOOKUP('entries and results'!M564,$H$3:$K$30018,4,FALSE)","v":" "}," ","00:00",null,null,null,null,null,null,null,null,null,null,null,null,null,null,null,null,null,null,null,null,null,null,null,null,null,null,null,null,null,null,null,null,null,null,null,null,null,null,null,null,null,null,null,"00:00",562,0,"0000000","00","00","00"]
["SA02498","Fife AC","1996-08-16","Jamie Ritchie","SA02498","Under 15",".",563,{"$f":"VLOOKUP('entries and results'!G565,$A$3:$E$30018,4,FALSE)","v":" "},{"$f":"VLOOKUP('entries and results'!G565,$A$3:$F$30018,6,FALSE)","v":" "},{"$f":"VLOOKUP('entries and results'!G565,$A$3:$E$30018,2,FALSE)","v":" "},563,".",{"$f":"VLOOKUP('entries and results'!M565,$H$3:$K$30018,2,FALSE)","v":" "},{"$f":"VLOOKUP('entries and results'!M565,$H$3:$K$30018,3,FALSE)","v":" "},{"$f":"VLOOKUP('entries and results'!M565,$H$3:$K$30018,4,FALSE)","v":" "}," ","00:00",null,null,null,null,null,null,null,null,null,null,null,null,null,null,null,null,null,null,null,null,null,null,null,null,null,null,null,null,null,null,null,null,null,null,null,null,null,null,null,null,null,null,null,"00:00",".",0,"0000000","00","00","00"]
["SA02499","Fife AC","1997-09-30","Matthew Robb","SA02499","Under 13",".",564,{"$f":"VLOOKUP('entries and results'!G566,$A$3:$E$30018,4,FALSE)","v":" "},{"$f":"VLOOKUP('entries and results'!G566,$A$3:$F$30018,6,FALSE)","v":" "},{"$f":"VLOOKUP('entries and results'!G566,$A$3:$E$30018,2,FALSE)","v":" "},564,".",{"$f":"VLOOKUP('entries and results'!M566,$H$3:$K$30018,2,FALSE)","v":" "},{"$f":"VLOOKUP('entries and results'!M566,$H$3:$K$30018,3,FALSE)","v":" "},{"$f":"VLOOKUP('entries and results'!M566,$H$3:$K$30018,4,FALSE)","v":" "}," ","00:00",null,null,null,null,null,null,null,null,null,null,null,null,null,null,null,null,null,null,null,null,null,null,null,null,null,null,null,null,null,null,null,null,null,null,null,null,null,null,null,null,null,null,null,"00:00",564,0,"0000000","00","00","00"]
["SA02502","Garioch Road Runners","1989-06-12","Duncan Leel","SA02502","Senior",".",565,{"$f":"VLOOKUP('entries and results'!G567,$A$3:$E$30018,4,FALSE)","v":" "},{"$f":"VLOOKUP('entries and results'!G567,$A$3:$F$30018,6,FALSE)","v":" "},{"$f":"VLOOKUP('entries and results'!G567,$A$3:$E$30018,2,FALSE)","v":" "},565,".",{"$f":"VLOOKUP('entries and results'!M567,$H$3:$K$30018,2,FALSE)","v":" "},{"$f":"VLOOKUP('entries and results'!M567,$H$3:$K$30018,3,FALSE)","v":" "},{"$f":"VLOOKUP('entries and results'!M567,$H$3:$K$30018,4,FALSE)","v":" "}," ","00:00",null,null,null,null,null,null,null,null,null,null,null,null,null,null,null,null,null,null,null,null,null,null,null,null,null,null,null,null,null,null,null,null,null,null,null,null,null,null,null,null,null,null,null,"00:00",565,0,"0000000","00","00","00"]
["SA02506","Garscube Harriers","1994-12-16","James Ross","SA02506","Under 17",".",566,{"$f":"VLOOKUP('entries and results'!G568,$A$3:$E$30018,4,FALSE)","v":" "},{"$f":"VLOOKUP('entries and results'!G568,$A$3:$F$30018,6,FALSE)","v":" "},{"$f":"VLOOKUP('entries and results'!G568,$A$3:$E$30018,2,FALSE)","v":" "},566,".",{"$f":"VLOOKUP('entries and results'!M568,$H$3:$K$30018,2,FALSE)","v":" "},{"$f":"VLOOKUP('entries and results'!M568,$H$3:$K$30018,3,FALSE)","v":" "},{"$f":"VLOOKUP('entries and results'!M568,$H$3:$K$30018,4,FALSE)","v":" "}," ","00:00",null,null,null,null,null,null,null,null,null,null,null,null,null,null,null,null,null,null,null,null,null,null,null,null,null,null,null,null,null,null,null,null,null,null,null,null,null,null,null,null,null,null,null,"00:00",566,0,"0000000","00","00","00"]
["SA02507","George Heriots School","1993-05-06","William Johnstone","SA02507","Senior",".",567,{"$f":"VLOOKUP('entries and results'!G569,$A$3:$E$30018,4,FALSE)","v":" "},{"$f":"VLOOKUP('entries and results'!G569,$A$3:$F$30018,6,FALSE)","v":" "},{"$f":"VLOOKUP('entries and results'!G569,$A$3:$E$30018,2,FALSE)","v":" "},567,".",{"$f":"VLOOKUP('entries and results'!M569,$H$3:$K$30018,2,FALSE)","v":" "},{"$f":"VLOOKUP('entries and results'!M569,$H$3:$K$30018,3,FALSE)","v":" "},{"$f":"VLOOKUP('entries and results'!M569,$H$3:$K$30018,4,FALSE)","v":" "}," ","00:00",null,null,null,null,null,null,null,null,null,null,null,null,null,null,null,null,null,null,null,null,null,null,null,null,null,null,null,null,null,null,null,null,null,null,null,null,null,null,null,null,null,null,null,"00:00",567,0,"0000000","00","00","00"]
["SA02513","Giffnock North AAC","1995-10-25","Douglas Britton","SA02513","Under 15",".",568,{"$f":"VLOOKUP('entries and results'!G570,$A$3:$E$30018,4,FALSE)","v":" "},{"$f":"VLOOKUP('entries and results'!G570,$A$3:$F$30018,6,FALSE)","v":" "},{"$f":"VLOOKUP('entries and results'!G570,$A$3:$E$30018,2,FALSE)","v":" "},568,".",{"$f":"VLOOKUP('entries and results'!M570,$H$3:$K$30018,2,FALSE)","v":" "},{"$f":"VLOOKUP('entries and results'!M570,$H$3:$K$30018,3,FALSE)","v":" "},{"$f":"VLOOKUP('entries and results'!M570,$H$3:$K$30018,4,FALSE)","v":" "}," ","00:00",null,null,null,null,null,null,null,null,null,null,null,null,null,null,null,null,null,null,null,null,null,null,null,null,null,null,null,null,null,null,null,null,null,null,null,null,null,null,null,null,null,null,null,"00:00",568,0,"0000000","00","00","00"]
["SA02518","Giffnock North AAC","1995-10-16","Calum Firth","SA02518","Under 15",".",569,{"$f":"VLOOKUP('entries and results'!G571,$A$3:$E$30018,4,FALSE)","v":" "},{"$f":"VLOOKUP('entries and results'!G571,$A$3:$F$30018,6,FALSE)","v":" "},{"$f":"VLOOKUP('entries and results'!G571,$A$3:$E$30018,2,FALSE)","v":" "},569,".",{"$f":"VLOOKUP('entries and results'!M571,$H$3:$K$30018,2,FALSE)","v":" "},{"$f":"VLOOKUP('entries and results'!M571,$H$3:$K$30018,3,FALSE)","v":" "},{"$f":"VLOOKUP('entries and results'!M571,$H$3:$K$30018,4,FALSE)","v":" "}," ","00:00",null,null,null,null,null,null,null,null,null,null,null,null,null,null,null,null,null,null,null,null,null,null,null,null,null,null,null,null,null,null,null,null,null,null,null,null,null,null,null,null,null,null,null,"00:00",569,0,"0000000","00","00","00"]
["SA02520","Giffnock North AAC","1993-01-26","Martin Fishwick","SA02520","Senior",".",570,{"$f":"VLOOKUP('entries and results'!G572,$A$3:$E$30018,4,FALSE)","v":" "},{"$f":"VLOOKUP('entries and results'!G572,$A$3:$F$30018,6,FALSE)","v":" "},{"$f":"VLOOKUP('entries and results'!G572,$A$3:$E$30018,2,FALSE)","v":" "},570,".",{"$f":"VLOOKUP('entries and results'!M572,$H$3:$K$30018,2,FALSE)","v":" "},{"$f":"VLOOKUP('entries and results'!M572,$H$3:$K$30018,3,FALSE)","v":" "},{"$f":"VLOOKUP('entries and results'!M572,$H$3:$K$30018,4,FALSE)","v":" "}," ","00:00",null,null,null,null,null,null,null,null,null,null,null,null,null,null,null,null,null,null,null,null,null,null,null,null,null,null,null,null,null,null,null,null,null,null,null,null,null,null,null,null,null,null,null,"00:00",570,0,"0000000","00","00","00"]
["SA02531","Giffnock North AAC","1995-12-16","Selena Jackson","SA02531","Under 15",".",571,{"$f":"VLOOKUP('entries and results'!G573,$A$3:$E$30018,4,FALSE)","v":" "},{"$f":"VLOOKUP('entries and results'!G573,$A$3:$F$30018,6,FALSE)","v":" "},{"$f":"VLOOKUP('entries and results'!G573,$A$3:$E$30018,2,FALSE)","v":" "},571,".",{"$f":"VLOOKUP('entries and results'!M573,$H$3:$K$30018,2,FALSE)","v":" "},{"$f":"VLOOKUP('entries and results'!M573,$H$3:$K$30018,3,FALSE)","v":" "},{"$f":"VLOOKUP('entries and results'!M573,$H$3:$K$30018,4,FALSE)","v":" "}," ","00:00",null,null,null,null,null,null,null,null,null,null,null,null,null,null,null,null,null,null,null,null,null,null,null,null,null,null,null,null,null,null,null,null,null,null,null,null,null,null,null,null,null,null,null,"00:00",571,0,"0000000","00","00","00"]
["SA02533","Giffnock North AAC","1995-08-25","Jamie Lewis","SA02533","Under 17",".",572,{"$f":"VLOOKUP('entries and results'!G574,$A$3:$E$30018,4,FALSE)","v":" "},{"$f":"VLOOKUP('entries and results'!G574,$A$3:$F$30018,6,FALSE)","v":" "},{"$f":"VLOOKUP('entries and results'!G574,$A$3:$E$30018,2,FALSE)","v":" "},572,".",{"$f":"VLOOKUP('entries and results'!M574,$H$3:$K$30018,2,FALSE)","v":" "},{"$f":"VLOOKUP('entries and results'!M574,$H$3:$K$30018,3,FALSE)","v":" "},{"$f":"VLOOKUP('entries and results'!M574,$H$3:$K$30018,4,FALSE)","v":" "}," ","00:00",null,null,null,null,null,null,null,null,null,null,null,null,null,null,null,null,null,null,null,null,null,null,null,null,null,null,null,null,null,null,null,null,null,null,null,null,null,null,null,null,null,null,null,"00:00",572,0,"0000000","00","00","00"]
["SA02535","Giffnock North AAC","1995-07-07","Petrena Marshall","SA02535","Under 17",".",573,{"$f":"VLOOKUP('entries and results'!G575,$A$3:$E$30018,4,FALSE)","v":" "},{"$f":"VLOOKUP('entries and results'!G575,$A$3:$F$30018,6,FALSE)","v":" "},{"$f":"VLOOKUP('entries and results'!G575,$A$3:$E$30018,2,FALSE)","v":" "},573,".",{"$f":"VLOOKUP('entries and results'!M575,$H$3:$K$30018,2,FALSE)","v":" "},{"$f":"VLOOKUP('entries and results'!M575,$H$3:$K$30018,3,FALSE)","v":" "},{"$f":"VLOOKUP('entries and results'!M575,$H$3:$K$30018,4,FALSE)","v":" "}," ","00:00",null,null,null,null,null,null,null,null,null,null,null,null,null,null,null,null,null,null,null,null,null,null,null,null,null,null,null,null,null,null,null,null,null,null,null,null,null,null,null,null,null,null,null,"00:00",573,0,"0000000","00","00","00"]
["SA02537","Giffnock North AAC","1993-10-04","Grant Muir","SA02537","Under 17",".",574,{"$f":"VLOOKUP('entries and results'!G576,$A$3:$E$30018,4,FALSE)","v":" "},{"$f":"VLOOKUP('entries and results'!G576,$A$3:$F$30018,6,FALSE)","v":" "},{"$f":"VLOOKUP('entries and results'!G576,$A$3:$E$30018,2,FALSE)","v":" "},574,".",{"$f":"VLOOKUP('entries and results'!M576,$H$3:$K$30018,2,FALSE)","v":" "},{"$f":"VLOOKUP('entries and results'!M576,$H$3:$K$30018,3,FALSE)","v":" "},{"$f":"VLOOKUP('entries and results'!M576,$H$3:$K$30018,4,FALSE)","v":" "}," ","00:00",null,null,null,null,null,null,null,null,null,null,null,null,null,null,null,null,null,null,null,null,null,null,null,null,null,null,null,null,null,null,null,null,null,null,null,null,null,null,null,null,null,null,null,"00:00",574,0,"0000000","00","00","00"]
["SA02538","Giffnock North AAC","1994-05-13","Lucy Patrick","SA02538","Under 17",".",575,{"$f":"VLOOKUP('entries and results'!G577,$A$3:$E$30018,4,FALSE)","v":" "},{"$f":"VLOOKUP('entries and results'!G577,$A$3:$F$30018,6,FALSE)","v":" "},{"$f":"VLOOKUP('entries and results'!G577,$A$3:$E$30018,2,FALSE)","v":" "},575,".",{"$f":"VLOOKUP('entries and results'!M577,$H$3:$K$30018,2,FALSE)","v":" "},{"$f":"VLOOKUP('entries and results'!M577,$H$3:$K$30018,3,FALSE)","v":" "},{"$f":"VLOOKUP('entries and results'!M577,$H$3:$K$30018,4,FALSE)","v":" "}," ","00:00",null,null,null,null,null,null,null,null,null,null,null,null,null,null,null,null,null,null,null,null,null,null,null,null,null,null,null,null,null,null,null,null,null,null,null,null,null,null,null,null,null,null,null,"00:00",575,0,"0000000","00","00","00"]
["SA02539","Giffnock North AAC","1994-05-13","Rebecca Patrick","SA02539","Under 17",".",576,{"$f":"VLOOKUP('entries and results'!G578,$A$3:$E$30018,4,FALSE)","v":" "},{"$f":"VLOOKUP('entries and results'!G578,$A$3:$F$30018,6,FALSE)","v":" "},{"$f":"VLOOKUP('entries and results'!G578,$A$3:$E$30018,2,FALSE)","v":" "},576,".",{"$f":"VLOOKUP('entries and results'!M578,$H$3:$K$30018,2,FALSE)","v":" "},{"$f":"VLOOKUP('entries and results'!M578,$H$3:$K$30018,3,FALSE)","v":" "},{"$f":"VLOOKUP('entries and results'!M578,$H$3:$K$30018,4,FALSE)","v":" "}," ","00:00",null,null,null,null,null,null,null,null,null,null,null,null,null,null,null,null,null,null,null,null,null,null,null,null,null,null,null,null,null,null,null,null,null,null,null,null,null,null,null,null,null,null,null,"00:00",576,0,"0000000","00","00","00"]
["SA02540","Giffnock North AAC","1994-02-12","Andrew Spowart","SA02540","Under 17",".",577,{"$f":"VLOOKUP('entries and results'!G579,$A$3:$E$30018,4,FALSE)","v":" "},{"$f":"VLOOKUP('entries and results'!G579,$A$3:$F$30018,6,FALSE)","v":" "},{"$f":"VLOOKUP('entries and results'!G579,$A$3:$E$30018,2,FALSE)","v":" "},577,".",{"$f":"VLOOKUP('entries and results'!M579,$H$3:$K$30018,2,FALSE)","v":" "},{"$f":"VLOOKUP('entries and results'!M579,$H$3:$K$30018,3,FALSE)","v":" "},{"$f":"VLOOKUP('entries and results'!M579,$H$3:$K$30018,4,FALSE)","v":" "}," ","00:00",null,null,null,null,null,null,null,null,null,null,null,null,null,null,null,null,null,null,null,null,null,null,null,null,null,null,null,null,null,null,null,null,null,null,null,null,null,null,null,null,null,null,null,"00:00",577,{"$f":"SUMIF($H$3:$H$601,$BK579,$Q$3:$Q$601)","v":0},"0000000","00","00","00"]
["SA02547","Giffnock North AAC","1994-03-24","Fraser Walker","SA02547","Under 17",".",578,{"$f":"VLOOKUP('entries and results'!G580,$A$3:$E$30018,4,FALSE)","v":" "},{"$f":"VLOOKUP('entries and results'!G580,$A$3:$F$30018,6,FALSE)","v":" "},{"$f":"VLOOKUP('entries and results'!G580,$A$3:$E$30018,2,FALSE)","v":" "},578,".",{"$f":"VLOOKUP('entries and results'!M580,$H$3:$K$30018,2,FALSE)","v":" "},{"$f":"VLOOKUP('entries and results'!M580,$H$3:$K$30018,3,FALSE)","v":" "},{"$f":"VLOOKUP('entries and results'!M580,$H$3:$K$30018,4,FALSE)","v":" "}," ",{"$f":"IF($H580=\"\",\" \",(LOOKUP($H580,$BK$3:$BK$1601,$BJ$3:$BJ$1601)))","v":"00:00"},null,null,null,null,null,null,null,null,null,null,null,null,null,null,null,null,null,null,null,null,null,null,null,null,null,null,null,null,null,null,null,null,null,null,null,null,null,null,null,null,null,null,null,"00:00",578,0,"0000000","00","00","00"]
["SA02554","Greenock Glenpark Harriers","1997-11-16","Gregor Black","SA02554","Under 13",".",579,{"$f":"VLOOKUP('entries and results'!G581,$A$3:$E$30018,4,FALSE)","v":" "},{"$f":"VLOOKUP('entries and results'!G581,$A$3:$F$30018,6,FALSE)","v":" "},{"$f":"VLOOKUP('entries and results'!G581,$A$3:$E$30018,2,FALSE)","v":" "},579,".",{"$f":"VLOOKUP('entries and results'!M581,$H$3:$K$30018,2,FALSE)","v":" "},{"$f":"VLOOKUP('entries and results'!M581,$H$3:$K$30018,3,FALSE)","v":" "},{"$f":"VLOOKUP('entries and results'!M581,$H$3:$K$30018,4,FALSE)","v":" "}," ","00:00",null,null,null,null,null,null,null,null,null,null,null,null,null,null,null,null,null,null,null,null,null,null,null,null,null,null,null,null,null,null,null,null,null,null,null,null,null,null,null,null,null,null,null,"00:00",579,0,"0000000","00","00","00"]
["SA02558","Greenock Glenpark Harriers","1996-09-04","Jack Harrington","SA02558","Under 15",".",580,{"$f":"VLOOKUP('entries and results'!G582,$A$3:$E$30018,4,FALSE)","v":" "},{"$f":"VLOOKUP('entries and results'!G582,$A$3:$F$30018,6,FALSE)","v":" "},{"$f":"VLOOKUP('entries and results'!G582,$A$3:$E$30018,2,FALSE)","v":" "},580,".",{"$f":"VLOOKUP('entries and results'!M582,$H$3:$K$30018,2,FALSE)","v":" "},{"$f":"VLOOKUP('entries and results'!M582,$H$3:$K$30018,3,FALSE)","v":" "},{"$f":"VLOOKUP('entries and results'!M582,$H$3:$K$30018,4,FALSE)","v":" "}," ","00:00",null,null,null,null,null,null,null,null,null,null,null,null,null,null,null,null,null,null,null,null,null,null,null,null,null,null,null,null,null,null,null,null,null,null,null,null,null,null,null,null,null,null,null,{"$f":"CONCATENATE(BO582,\":\",BP582)","v":"00:00"},580,0,{"$f":"CONCATENATE($BG$2,$BL582)","v":"0000000"},{"$f":"MID(RIGHT($BM582,6),1,2)","v":"00"},{"$f":"MID(RIGHT($BM582,6),3,2)","v":"00"},{"$f":"MID(RIGHT($BM582,6),5,2)","v":"00"}]
["SA02560","Greenock Glenpark Harriers","1994-04-04","Adam McCormick","SA02560","Under 17",".",581,{"$f":"VLOOKUP('entries and results'!G583,$A$3:$E$30018,4,FALSE)","v":" "},{"$f":"VLOOKUP('entries and results'!G583,$A$3:$F$30018,6,FALSE)","v":" "},{"$f":"VLOOKUP('entries and results'!G583,$A$3:$E$30018,2,FALSE)","v":" "},581,".",{"$f":"VLOOKUP('entries and results'!M583,$H$3:$K$30018,2,FALSE)","v":" "},{"$f":"VLOOKUP('entries and results'!M583,$H$3:$K$30018,3,FALSE)","v":" "},{"$f":"VLOOKUP('entries and results'!M583,$H$3:$K$30018,4,FALSE)","v":" "}," ","00:00",null,null,null,null,null,null,null,null,null,null,null,null,null,null,null,null,null,null,null,null,null,null,null,null,null,null,null,null,null,null,null,null,null,null,null,null,null,null,null,null,null,null,null,"00:00",581,0,"0000000","00","00","00"]
["SA02565","Greenock Glenpark Harriers","1995-10-07","Gerard Smith","SA02565","Under 15",".",582,{"$f":"VLOOKUP('entries and results'!G584,$A$3:$E$30018,4,FALSE)","v":" "},{"$f":"VLOOKUP('entries and results'!G584,$A$3:$F$30018,6,FALSE)","v":" "},{"$f":"VLOOKUP('entries and results'!G584,$A$3:$E$30018,2,FALSE)","v":" "},582,".",{"$f":"VLOOKUP('entries and results'!M584,$H$3:$K$30018,2,FALSE)","v":" "},{"$f":"VLOOKUP('entries and results'!M584,$H$3:$K$30018,3,FALSE)","v":" "},{"$f":"VLOOKUP('entries and results'!M584,$H$3:$K$30018,4,FALSE)","v":" "}," ","00:00",null,null,null,null,null,null,null,null,null,null,null,null,null,null,null,null,null,null,null,null,null,null,null,null,null,null,null,null,null,null,null,null,null,null,null,null,null,null,null,null,null,null,null,"00:00",582,0,"0000000","00","00","00"]
["SA02578","Inverclyde AC","1992-01-07","Andrew Campbell","SA02578","Senior",".",583,{"$f":"VLOOKUP('entries and results'!G585,$A$3:$E$30018,4,FALSE)","v":" "},{"$f":"VLOOKUP('entries and results'!G585,$A$3:$F$30018,6,FALSE)","v":" "},{"$f":"VLOOKUP('entries and results'!G585,$A$3:$E$30018,2,FALSE)","v":" "},583,".",{"$f":"VLOOKUP('entries and results'!M585,$H$3:$K$30018,2,FALSE)","v":" "},{"$f":"VLOOKUP('entries and results'!M585,$H$3:$K$30018,3,FALSE)","v":" "},{"$f":"VLOOKUP('entries and results'!M585,$H$3:$K$30018,4,FALSE)","v":" "}," ","00:00",null,null,null,null,null,null,null,null,null,null,null,null,null,null,null,null,null,null,null,null,null,null,null,null,null,null,null,null,null,null,null,null,null,null,null,null,null,null,null,null,null,null,null,"00:00",583,0,"0000000","00","00","00"]
["SA02581","Kilbarchan AAC","1994-09-27","Sarah Glenny","SA02581","Under 17",".",584,{"$f":"VLOOKUP('entries and results'!G586,$A$3:$E$30018,4,FALSE)","v":" "},{"$f":"VLOOKUP('entries and results'!G586,$A$3:$F$30018,6,FALSE)","v":" "},{"$f":"VLOOKUP('entries and results'!G586,$A$3:$E$30018,2,FALSE)","v":" "},584,".",{"$f":"VLOOKUP('entries and results'!M586,$H$3:$K$30018,2,FALSE)","v":" "},{"$f":"VLOOKUP('entries and results'!M586,$H$3:$K$30018,3,FALSE)","v":" "},{"$f":"VLOOKUP('entries and results'!M586,$H$3:$K$30018,4,FALSE)","v":" "}," ","00:00",null,null,null,null,null,null,null,null,null,null,null,null,null,null,null,null,null,null,null,null,null,null,null,null,null,null,null,null,null,null,null,null,null,null,null,null,null,null,null,null,null,null,null,"00:00",584,0,"0000000","00","00","00"]
["SA02587","Inverclyde AC","1994-04-02","Emma Meechan","SA02587","Under 17",".",585,{"$f":"VLOOKUP('entries and results'!G587,$A$3:$E$30018,4,FALSE)","v":" "},{"$f":"VLOOKUP('entries and results'!G587,$A$3:$F$30018,6,FALSE)","v":" "},{"$f":"VLOOKUP('entries and results'!G587,$A$3:$E$30018,2,FALSE)","v":" "},585,".",{"$f":"VLOOKUP('entries and results'!M587,$H$3:$K$30018,2,FALSE)","v":" "},{"$f":"VLOOKUP('entries and results'!M587,$H$3:$K$30018,3,FALSE)","v":" "},{"$f":"VLOOKUP('entries and results'!M587,$H$3:$K$30018,4,FALSE)","v":" "}," ","00:00",null,null,null,null,null,null,null,null,null,null,null,null,null,null,null,null,null,null,null,null,null,null,null,null,null,null,null,null,null,null,null,null,null,null,null,null,null,null,null,null,null,null,null,"00:00",585,0,"0000000","00","00","00"]
["SA02590","Inverclyde AC","1992-08-19","Deborah Moore","SA02590","Senior",".",586,{"$f":"VLOOKUP('entries and results'!G588,$A$3:$E$30018,4,FALSE)","v":" "},{"$f":"VLOOKUP('entries and results'!G588,$A$3:$F$30018,6,FALSE)","v":" "},{"$f":"VLOOKUP('entries and results'!G588,$A$3:$E$30018,2,FALSE)","v":" "},586,".",{"$f":"VLOOKUP('entries and results'!M588,$H$3:$K$30018,2,FALSE)","v":" "},{"$f":"VLOOKUP('entries and results'!M588,$H$3:$K$30018,3,FALSE)","v":" "},{"$f":"VLOOKUP('entries and results'!M588,$H$3:$K$30018,4,FALSE)","v":" "}," ","00:00",null,null,null,null,null,null,null,null,null,null,null,null,null,null,null,null,null,null,null,null,null,null,null,null,null,null,null,null,null,null,null,null,null,null,null,null,null,null,null,null,null,null,null,"00:00",586,0,"0000000","00","00","00"]
["SA02591","Inverclyde AC","1995-03-05","Michael Mulholland","SA02591","Under 17",".",587,{"$f":"VLOOKUP('entries and results'!G589,$A$3:$E$30018,4,FALSE)","v":" "},{"$f":"VLOOKUP('entries and results'!G589,$A$3:$F$30018,6,FALSE)","v":" "},{"$f":"VLOOKUP('entries and results'!G589,$A$3:$E$30018,2,FALSE)","v":" "},587,".",{"$f":"VLOOKUP('entries and results'!M589,$H$3:$K$30018,2,FALSE)","v":" "},{"$f":"VLOOKUP('entries and results'!M589,$H$3:$K$30018,3,FALSE)","v":" "},{"$f":"VLOOKUP('entries and results'!M589,$H$3:$K$30018,4,FALSE)","v":" "}," ","00:00",null,null,null,null,null,null,null,null,null,null,null,null,null,null,null,null,null,null,null,null,null,null,null,null,null,null,null,null,null,null,null,null,null,null,null,null,null,null,null,null,null,null,null,"00:00",587,0,"0000000","00","00","00"]
["SA02592","Inverclyde AC","1994-10-07","Natalie O'Neill","SA02592","Under 17",".",588,{"$f":"VLOOKUP('entries and results'!G590,$A$3:$E$30018,4,FALSE)","v":" "},{"$f":"VLOOKUP('entries and results'!G590,$A$3:$F$30018,6,FALSE)","v":" "},{"$f":"VLOOKUP('entries and results'!G590,$A$3:$E$30018,2,FALSE)","v":" "},588,".",{"$f":"VLOOKUP('entries and results'!M590,$H$3:$K$30018,2,FALSE)","v":" "},{"$f":"VLOOKUP('entries and results'!M590,$H$3:$K$30018,3,FALSE)","v":" "},{"$f":"VLOOKUP('entries and results'!M590,$H$3:$K$30018,4,FALSE)","v":" "}," ","00:00",null,null,null,null,null,null,null,null,null,null,null,null,null,null,null,null,null,null,null,null,null,null,null,null,null,null,null,null,null,null,null,null,null,null,null,null,null,null,null,null,null,null,null,"00:00",588,0,"0000000","00","00","00"]
["SA02593","Inverclyde AC","1992-03-06","Emma Rice","SA02593","Senior",".",589,{"$f":"VLOOKUP('entries and results'!G591,$A$3:$E$30018,4,FALSE)","v":" "},{"$f":"VLOOKUP('entries and results'!G591,$A$3:$F$30018,6,FALSE)","v":" "},{"$f":"VLOOKUP('entries and results'!G591,$A$3:$E$30018,2,FALSE)","v":" "},589,".",{"$f":"VLOOKUP('entries and results'!M591,$H$3:$K$30018,2,FALSE)","v":" "},{"$f":"VLOOKUP('entries and results'!M591,$H$3:$K$30018,3,FALSE)","v":" "},{"$f":"VLOOKUP('entries and results'!M591,$H$3:$K$30018,4,FALSE)","v":" "}," ","00:00",null,null,null,null,null,null,null,null,null,null,null,null,null,null,null,null,null,null,null,null,null,null,null,null,null,null,null,null,null,null,null,null,null,null,null,null,null,null,null,null,null,null,null,"00:00",589,0,"0000000","00","00","00"]
["SA02599","Inverness Harriers AAC","1994-04-30","Craig Cameron","SA02599","Under 17",".",590,{"$f":"VLOOKUP('entries and results'!G592,$A$3:$E$30018,4,FALSE)","v":" "},{"$f":"VLOOKUP('entries and results'!G592,$A$3:$F$30018,6,FALSE)","v":" "},{"$f":"VLOOKUP('entries and results'!G592,$A$3:$E$30018,2,FALSE)","v":" "},590,".",{"$f":"VLOOKUP('entries and results'!M592,$H$3:$K$30018,2,FALSE)","v":" "},{"$f":"VLOOKUP('entries and results'!M592,$H$3:$K$30018,3,FALSE)","v":" "},{"$f":"VLOOKUP('entries and results'!M592,$H$3:$K$30018,4,FALSE)","v":" "}," ","00:00",null,null,null,null,null,null,null,null,null,null,null,null,null,null,null,null,null,null,null,null,null,null,null,null,null,null,null,null,null,null,null,null,null,null,null,null,null,null,null,null,null,null,null,"00:00",590,0,"0000000","00","00","00"]
["SA02600","Inverness Harriers AAC","1994-12-15","Craig Campbell","SA02600","Under 17",".",591,{"$f":"VLOOKUP('entries and results'!G593,$A$3:$E$30018,4,FALSE)","v":" "},{"$f":"VLOOKUP('entries and results'!G593,$A$3:$F$30018,6,FALSE)","v":" "},{"$f":"VLOOKUP('entries and results'!G593,$A$3:$E$30018,2,FALSE)","v":" "},591,".",{"$f":"VLOOKUP('entries and results'!M593,$H$3:$K$30018,2,FALSE)","v":" "},{"$f":"VLOOKUP('entries and results'!M593,$H$3:$K$30018,3,FALSE)","v":" "},{"$f":"VLOOKUP('entries and results'!M593,$H$3:$K$30018,4,FALSE)","v":" "}," ","00:00",null,null,null,null,null,null,null,null,null,null,null,null,null,null,null,null,null,null,null,null,null,null,null,null,null,null,null,null,null,null,null,null,null,null,null,null,null,null,null,null,null,null,null,"00:00",591,0,"0000000","00","00","00"]
["SA02602","Inverness Harriers AAC","1994-08-25","Charis Mair","SA02602","Under 17",".",592,{"$f":"VLOOKUP('entries and results'!G594,$A$3:$E$30018,4,FALSE)","v":" "},{"$f":"VLOOKUP('entries and results'!G594,$A$3:$F$30018,6,FALSE)","v":" "},{"$f":"VLOOKUP('entries and results'!G594,$A$3:$E$30018,2,FALSE)","v":" "},592,".",{"$f":"VLOOKUP('entries and results'!M594,$H$3:$K$30018,2,FALSE)","v":" "},{"$f":"VLOOKUP('entries and results'!M594,$H$3:$K$30018,3,FALSE)","v":" "},{"$f":"VLOOKUP('entries and results'!M594,$H$3:$K$30018,4,FALSE)","v":" "}," ","00:00",null,null,null,null,null,null,null,null,null,null,null,null,null,null,null,null,null,null,null,null,null,null,null,null,null,null,null,null,null,null,null,null,null,null,null,null,null,null,null,null,null,null,null,"00:00",592,0,"0000000","00","00","00"]
["SA02610","Edinburgh AC","1993-04-16","Lilian Gowans","SA02610","Senior",".",593,{"$f":"VLOOKUP('entries and results'!G595,$A$3:$E$30018,4,FALSE)","v":" "},{"$f":"VLOOKUP('entries and results'!G595,$A$3:$F$30018,6,FALSE)","v":" "},{"$f":"VLOOKUP('entries and results'!G595,$A$3:$E$30018,2,FALSE)","v":" "},593,".",{"$f":"VLOOKUP('entries and results'!M595,$H$3:$K$30018,2,FALSE)","v":" "},{"$f":"VLOOKUP('entries and results'!M595,$H$3:$K$30018,3,FALSE)","v":" "},{"$f":"VLOOKUP('entries and results'!M595,$H$3:$K$30018,4,FALSE)","v":" "}," ","00:00",null,null,null,null,null,null,null,null,null,null,null,null,null,null,null,null,null,null,null,null,null,null,null,null,null,null,null,null,null,null,null,null,null,null,null,null,null,null,null,null,null,null,null,"00:00",593,0,"0000000","00","00","00"]
["SA02614","Inverness Harriers AAC","1991-04-21","Alan Hunter","SA02614","Senior",".",594,{"$f":"VLOOKUP('entries and results'!G596,$A$3:$E$30018,4,FALSE)","v":" "},{"$f":"VLOOKUP('entries and results'!G596,$A$3:$F$30018,6,FALSE)","v":" "},{"$f":"VLOOKUP('entries and results'!G596,$A$3:$E$30018,2,FALSE)","v":" "},594,".",{"$f":"VLOOKUP('entries and results'!M596,$H$3:$K$30018,2,FALSE)","v":" "},{"$f":"VLOOKUP('entries and results'!M596,$H$3:$K$30018,3,FALSE)","v":" "},{"$f":"VLOOKUP('entries and results'!M596,$H$3:$K$30018,4,FALSE)","v":" "}," ","00:00",null,null,null,null,null,null,null,null,null,null,null,null,null,null,null,null,null,null,null,null,null,null,null,null,null,null,null,null,null,null,null,null,null,null,null,null,null,null,null,null,null,null,null,"00:00",594,0,"0000000","00","00","00"]
["SA02637","Inverness Harriers AAC","1995-08-02","Patrick Urquhart","SA02637","Under 17",".",595,{"$f":"VLOOKUP('entries and results'!G597,$A$3:$E$30018,4,FALSE)","v":" "},{"$f":"VLOOKUP('entries and results'!G597,$A$3:$F$30018,6,FALSE)","v":" "},{"$f":"VLOOKUP('entries and results'!G597,$A$3:$E$30018,2,FALSE)","v":" "},595,".",{"$f":"VLOOKUP('entries and results'!M597,$H$3:$K$30018,2,FALSE)","v":" "},{"$f":"VLOOKUP('entries and results'!M597,$H$3:$K$30018,3,FALSE)","v":" "},{"$f":"VLOOKUP('entries and results'!M597,$H$3:$K$30018,4,FALSE)","v":" "}," ","00:00",null,null,null,null,null,null,null,null,null,null,null,null,null,null,null,null,null,null,null,null,null,null,null,null,null,null,null,null,null,null,null,null,null,null,null,null,null,null,null,null,null,null,null,"00:00",595,0,"0000000","00","00","00"]
["SA02647","North Ayrshire AC","1996-02-16","Caitlin Lee","SA02647","Under 15",".",596,{"$f":"VLOOKUP('entries and results'!G598,$A$3:$E$30018,4,FALSE)","v":" "},{"$f":"VLOOKUP('entries and results'!G598,$A$3:$F$30018,6,FALSE)","v":" "},{"$f":"VLOOKUP('entries and results'!G598,$A$3:$E$30018,2,FALSE)","v":" "},596,".",{"$f":"VLOOKUP('entries and results'!M598,$H$3:$K$30018,2,FALSE)","v":" "},{"$f":"VLOOKUP('entries and results'!M598,$H$3:$K$30018,3,FALSE)","v":" "},{"$f":"VLOOKUP('entries and results'!M598,$H$3:$K$30018,4,FALSE)","v":" "}," ","00:00",null,null,null,null,null,null,null,null,null,null,null,null,null,null,null,null,null,null,null,null,null,null,null,null,null,null,null,null,null,null,null,null,null,null,null,null,null,null,null,null,null,null,null,"00:00",596,0,"0000000","00","00","00"]
["SA02651","Irvine AC","1995-11-14","Suzanne McManus","SA02651","Under 15",".",597,{"$f":"VLOOKUP('entries and results'!G599,$A$3:$E$30018,4,FALSE)","v":" "},{"$f":"VLOOKUP('entries and results'!G599,$A$3:$F$30018,6,FALSE)","v":" "},{"$f":"VLOOKUP('entries and results'!G599,$A$3:$E$30018,2,FALSE)","v":" "},597,".",{"$f":"VLOOKUP('entries and results'!M599,$H$3:$K$30018,2,FALSE)","v":" "},{"$f":"VLOOKUP('entries and results'!M599,$H$3:$K$30018,3,FALSE)","v":" "},{"$f":"VLOOKUP('entries and results'!M599,$H$3:$K$30018,4,FALSE)","v":" "}," ","00:00",null,null,null,null,null,null,null,null,null,null,null,null,null,null,null,null,null,null,null,null,null,null,null,null,null,null,null,null,null,null,null,null,null,null,null,null,null,null,null,null,null,null,null,"00:00",597,0,"0000000","00","00","00"]
["SA02656","Shettleston Harriers","1992-09-08","Lee Wilson","SA02656","Senior",".",598,{"$f":"VLOOKUP('entries and results'!G600,$A$3:$E$30018,4,FALSE)","v":" "},{"$f":"VLOOKUP('entries and results'!G600,$A$3:$F$30018,6,FALSE)","v":" "},{"$f":"VLOOKUP('entries and results'!G600,$A$3:$E$30018,2,FALSE)","v":" "},598,".",{"$f":"VLOOKUP('entries and results'!M600,$H$3:$K$30018,2,FALSE)","v":" "},{"$f":"VLOOKUP('entries and results'!M600,$H$3:$K$30018,3,FALSE)","v":" "},{"$f":"VLOOKUP('entries and results'!M600,$H$3:$K$30018,4,FALSE)","v":" "}," ","00:00",null,null,null,null,null,null,null,null,null,null,null,null,null,null,null,null,null,null,null,null,null,null,null,null,null,null,null,null,null,null,null,null,null,null,null,null,null,null,null,null,null,null,null,"00:00",598,0,"0000000","00","00","00"]
["SA02658","Kilmarnock H&AC","1996-10-28","Lorne Kerr","SA02658","Under 15",".",599,{"$f":"VLOOKUP('entries and results'!G601,$A$3:$E$30018,4,FALSE)","v":" "},{"$f":"VLOOKUP('entries and results'!G601,$A$3:$F$30018,6,FALSE)","v":" "},{"$f":"VLOOKUP('entries and results'!G601,$A$3:$E$30018,2,FALSE)","v":" "},599,".",{"$f":"VLOOKUP('entries and results'!M601,$H$3:$K$30018,2,FALSE)","v":" "},{"$f":"VLOOKUP('entries and results'!M601,$H$3:$K$30018,3,FALSE)","v":" "},{"$f":"VLOOKUP('entries and results'!M601,$H$3:$K$30018,4,FALSE)","v":" "}," ","00:00",null,null,null,null,null,null,null,null,null,null,null,null,null,null,null,null,null,null,null,null,null,null,null,null,null,null,null,null,null,null,null,null,null,null,null,null,null,null,null,null,null,null,null,"00:00",599,0,"0000000","00","00","00"]
["SA02659","Kilmarnock H&AC","1994-11-23","Laura Reilly","SA02659","Under 17",".",600,{"$f":"VLOOKUP('entries and results'!G602,$A$3:$E$30018,4,FALSE)","v":" "},{"$f":"VLOOKUP('entries and results'!G602,$A$3:$F$30018,6,FALSE)","v":" "},{"$f":"VLOOKUP('entries and results'!G602,$A$3:$E$30018,2,FALSE)","v":" "},600,".",{"$f":"VLOOKUP('entries and results'!M602,$H$3:$K$30018,2,FALSE)","v":" "},{"$f":"VLOOKUP('entries and results'!M602,$H$3:$K$30018,3,FALSE)","v":" "},{"$f":"VLOOKUP('entries and results'!M602,$H$3:$K$30018,4,FALSE)","v":" "}," ","00:00",null,null,null,null,null,null,null,null,null,null,null,null,null,null,null,null,null,null,null,null,null,null,null,null,null,null,null,null,null,null,null,null,null,null,null,null,null,null,null,null,null,null,null,"00:00",600,0,"0000000","00","00","00"]
["SA02660","Kilmarnock H&AC","1997-02-28","Taylor Ross","SA02660","Under 15",".",601,{"$f":"VLOOKUP('entries and results'!G603,$A$3:$E$30018,4,FALSE)","v":" "},{"$f":"VLOOKUP('entries and results'!G603,$A$3:$F$30018,6,FALSE)","v":" "},{"$f":"VLOOKUP('entries and results'!G603,$A$3:$E$30018,2,FALSE)","v":" "},601,".",{"$f":"VLOOKUP('entries and results'!M603,$H$3:$K$30018,2,FALSE)","v":" "},{"$f":"VLOOKUP('entries and results'!M603,$H$3:$K$30018,3,FALSE)","v":" "},{"$f":"VLOOKUP('entries and results'!M603,$H$3:$K$30018,4,FALSE)","v":" "}," ","00:00",null,null,null,null,null,null,null,null,null,null,null,null,null,null,null,null,null,null,null,null,null,null,null,null,null,null,null,null,null,null,null,null,null,null,null,null,null,null,null,null,null,null,null,"00:00",601,0,"0000000","00","00","00"]
["SA02666","Kilbarchan AAC","1996-08-27","Erin Campbell","SA02666","Under 15",".",602,{"$f":"VLOOKUP('entries and results'!G604,$A$3:$E$30018,4,FALSE)","v":" "},{"$f":"VLOOKUP('entries and results'!G604,$A$3:$F$30018,6,FALSE)","v":" "},{"$f":"VLOOKUP('entries and results'!G604,$A$3:$E$30018,2,FALSE)","v":" "},602,".",{"$f":"VLOOKUP('entries and results'!M604,$H$3:$K$30018,2,FALSE)","v":" "},{"$f":"VLOOKUP('entries and results'!M604,$H$3:$K$30018,3,FALSE)","v":" "},{"$f":"VLOOKUP('entries and results'!M604,$H$3:$K$30018,4,FALSE)","v":" "}," ","00:00",null,null,null,null,null,null,null,null,null,null,null,null,null,null,null,null,null,null,null,null,null,null,null,null,null,null,null,null,null,null,null,null,null,null,null,null,null,null,null,null,null,null,null,"00:00",602,0,"0000000","00","00","00"]
["SA02670","Kilbarchan AAC","1995-08-08","Jennifer Eadie","SA02670","Under 17",".",603,{"$f":"VLOOKUP('entries and results'!G605,$A$3:$E$30018,4,FALSE)","v":" "},{"$f":"VLOOKUP('entries and results'!G605,$A$3:$F$30018,6,FALSE)","v":" "},{"$f":"VLOOKUP('entries and results'!G605,$A$3:$E$30018,2,FALSE)","v":" "},603,".",{"$f":"VLOOKUP('entries and results'!M605,$H$3:$K$30018,2,FALSE)","v":" "},{"$f":"VLOOKUP('entries and results'!M605,$H$3:$K$30018,3,FALSE)","v":" "},{"$f":"VLOOKUP('entries and results'!M605,$H$3:$K$30018,4,FALSE)","v":" "}," ","00:00",null,null,null,null,null,null,null,null,null,null,null,null,null,null,null,null,null,null,null,null,null,null,null,null,null,null,null,null,null,null,null,null,null,null,null,null,null,null,null,null,null,null,null,"00:00",603,0,"0000000","00","00","00"]
["SA02672","Kilbarchan AAC","1991-11-11","Stephen Fleming","SA02672","Senior",".",604,{"$f":"VLOOKUP('entries and results'!G606,$A$3:$E$30018,4,FALSE)","v":" "},{"$f":"VLOOKUP('entries and results'!G606,$A$3:$F$30018,6,FALSE)","v":" "},{"$f":"VLOOKUP('entries and results'!G606,$A$3:$E$30018,2,FALSE)","v":" "},604,".",{"$f":"VLOOKUP('entries and results'!M606,$H$3:$K$30018,2,FALSE)","v":" "},{"$f":"VLOOKUP('entries and results'!M606,$H$3:$K$30018,3,FALSE)","v":" "},{"$f":"VLOOKUP('entries and results'!M606,$H$3:$K$30018,4,FALSE)","v":" "}," ","00:00",null,null,null,null,null,null,null,null,null,null,null,null,null,null,null,null,null,null,null,null,null,null,null,null,null,null,null,null,null,null,null,null,null,null,null,null,null,null,null,null,null,null,null,"00:00",604,0,"0000000","00","00","00"]
["SA02673","Kilbarchan AAC","1993-09-06","Jennifer Frew","SA02673","Under 17",".",605,{"$f":"VLOOKUP('entries and results'!G607,$A$3:$E$30018,4,FALSE)","v":" "},{"$f":"VLOOKUP('entries and results'!G607,$A$3:$F$30018,6,FALSE)","v":" "},{"$f":"VLOOKUP('entries and results'!G607,$A$3:$E$30018,2,FALSE)","v":" "},605,".",{"$f":"VLOOKUP('entries and results'!M607,$H$3:$K$30018,2,FALSE)","v":" "},{"$f":"VLOOKUP('entries and results'!M607,$H$3:$K$30018,3,FALSE)","v":" "},{"$f":"VLOOKUP('entries and results'!M607,$H$3:$K$30018,4,FALSE)","v":" "}," ","00:00",null,null,null,null,null,null,null,null,null,null,null,null,null,null,null,null,null,null,null,null,null,null,null,null,null,null,null,null,null,null,null,null,null,null,null,null,null,null,null,null,null,null,null,"00:00",605,0,"0000000","00","00","00"]
["SA02679","Kilbarchan AAC","1994-11-15","Ross Heggie","SA02679","Under 17",".",606,{"$f":"VLOOKUP('entries and results'!G608,$A$3:$E$30018,4,FALSE)","v":" "},{"$f":"VLOOKUP('entries and results'!G608,$A$3:$F$30018,6,FALSE)","v":" "},{"$f":"VLOOKUP('entries and results'!G608,$A$3:$E$30018,2,FALSE)","v":" "},606,".",{"$f":"VLOOKUP('entries and results'!M608,$H$3:$K$30018,2,FALSE)","v":" "},{"$f":"VLOOKUP('entries and results'!M608,$H$3:$K$30018,3,FALSE)","v":" "},{"$f":"VLOOKUP('entries and results'!M608,$H$3:$K$30018,4,FALSE)","v":" "}," ","00:00",null,null,null,null,null,null,null,null,null,null,null,null,null,null,null,null,null,null,null,null,null,null,null,null,null,null,null,null,null,null,null,null,null,null,null,null,null,null,null,null,null,null,null,"00:00",606,0,"0000000","00","00","00"]
["SA02682","Kilbarchan AAC","1996-02-08","Kerry Keegan","SA02682","Under 15",".",607,{"$f":"VLOOKUP('entries and results'!G609,$A$3:$E$30018,4,FALSE)","v":" "},{"$f":"VLOOKUP('entries and results'!G609,$A$3:$F$30018,6,FALSE)","v":" "},{"$f":"VLOOKUP('entries and results'!G609,$A$3:$E$30018,2,FALSE)","v":" "},607,".",{"$f":"VLOOKUP('entries and results'!M609,$H$3:$K$30018,2,FALSE)","v":" "},{"$f":"VLOOKUP('entries and results'!M609,$H$3:$K$30018,3,FALSE)","v":" "},{"$f":"VLOOKUP('entries and results'!M609,$H$3:$K$30018,4,FALSE)","v":" "}," ","00:00",null,null,null,null,null,null,null,null,null,null,null,null,null,null,null,null,null,null,null,null,null,null,null,null,null,null,null,null,null,null,null,null,null,null,null,null,null,null,null,null,null,null,null,"00:00",607,0,"0000000","00","00","00"]
["SA02687","Kilbarchan AAC","1996-02-02","Nicholas Love","SA02687","Under 15",".",608,{"$f":"VLOOKUP('entries and results'!G610,$A$3:$E$30018,4,FALSE)","v":" "},{"$f":"VLOOKUP('entries and results'!G610,$A$3:$F$30018,6,FALSE)","v":" "},{"$f":"VLOOKUP('entries and results'!G610,$A$3:$E$30018,2,FALSE)","v":" "},608,".",{"$f":"VLOOKUP('entries and results'!M610,$H$3:$K$30018,2,FALSE)","v":" "},{"$f":"VLOOKUP('entries and results'!M610,$H$3:$K$30018,3,FALSE)","v":" "},{"$f":"VLOOKUP('entries and results'!M610,$H$3:$K$30018,4,FALSE)","v":" "}," ","00:00",null,null,null,null,null,null,null,null,null,null,null,null,null,null,null,null,null,null,null,null,null,null,null,null,null,null,null,null,null,null,null,null,null,null,null,null,null,null,null,null,null,null,null,"00:00",608,0,"0000000","00","00","00"]
["SA02694","Kilbarchan AAC","1993-12-11","Calum MacLeod","SA02694","Under 17",".",609,{"$f":"VLOOKUP('entries and results'!G611,$A$3:$E$30018,4,FALSE)","v":" "},{"$f":"VLOOKUP('entries and results'!G611,$A$3:$F$30018,6,FALSE)","v":" "},{"$f":"VLOOKUP('entries and results'!G611,$A$3:$E$30018,2,FALSE)","v":" "},609,".",{"$f":"VLOOKUP('entries and results'!M611,$H$3:$K$30018,2,FALSE)","v":" "},{"$f":"VLOOKUP('entries and results'!M611,$H$3:$K$30018,3,FALSE)","v":" "},{"$f":"VLOOKUP('entries and results'!M611,$H$3:$K$30018,4,FALSE)","v":" "}," ","00:00",null,null,null,null,null,null,null,null,null,null,null,null,null,null,null,null,null,null,null,null,null,null,null,null,null,null,null,null,null,null,null,null,null,null,null,null,null,null,null,null,null,null,null,"00:00",609,0,"0000000","00","00","00"]
["SA02696","Kilbarchan AAC","1993-08-01","Emily McQuade","SA02696","Senior",".",610,{"$f":"VLOOKUP('entries and results'!G612,$A$3:$E$30018,4,FALSE)","v":" "},{"$f":"VLOOKUP('entries and results'!G612,$A$3:$F$30018,6,FALSE)","v":" "},{"$f":"VLOOKUP('entries and results'!G612,$A$3:$E$30018,2,FALSE)","v":" "},610,".",{"$f":"VLOOKUP('entries and results'!M612,$H$3:$K$30018,2,FALSE)","v":" "},{"$f":"VLOOKUP('entries and results'!M612,$H$3:$K$30018,3,FALSE)","v":" "},{"$f":"VLOOKUP('entries and results'!M612,$H$3:$K$30018,4,FALSE)","v":" "}," ","00:00",null,null,null,null,null,null,null,null,null,null,null,null,null,null,null,null,null,null,null,null,null,null,null,null,null,null,null,null,null,null,null,null,null,null,null,null,null,null,null,null,null,null,null,"00:00",610,0,"0000000","00","00","00"]
["SA02698","Kilbarchan AAC","1993-10-20","Andrew Quinn","SA02698","Under 17",".",611,{"$f":"VLOOKUP('entries and results'!G613,$A$3:$E$30018,4,FALSE)","v":" "},{"$f":"VLOOKUP('entries and results'!G613,$A$3:$F$30018,6,FALSE)","v":" "},{"$f":"VLOOKUP('entries and results'!G613,$A$3:$E$30018,2,FALSE)","v":" "},611,".",{"$f":"VLOOKUP('entries and results'!M613,$H$3:$K$30018,2,FALSE)","v":" "},{"$f":"VLOOKUP('entries and results'!M613,$H$3:$K$30018,3,FALSE)","v":" "},{"$f":"VLOOKUP('entries and results'!M613,$H$3:$K$30018,4,FALSE)","v":" "}," ","00:00",null,null,null,null,null,null,null,null,null,null,null,null,null,null,null,null,null,null,null,null,null,null,null,null,null,null,null,null,null,null,null,null,null,null,null,null,null,null,null,null,null,null,null,"00:00",611,0,"0000000","00","00","00"]
["SA02699","Kilbarchan AAC","1993-09-18","James Quinn","SA02699","Under 17",".",612,{"$f":"VLOOKUP('entries and results'!G614,$A$3:$E$30018,4,FALSE)","v":" "},{"$f":"VLOOKUP('entries and results'!G614,$A$3:$F$30018,6,FALSE)","v":" "},{"$f":"VLOOKUP('entries and results'!G614,$A$3:$E$30018,2,FALSE)","v":" "},612,".",{"$f":"VLOOKUP('entries and results'!M614,$H$3:$K$30018,2,FALSE)","v":" "},{"$f":"VLOOKUP('entries and results'!M614,$H$3:$K$30018,3,FALSE)","v":" "},{"$f":"VLOOKUP('entries and results'!M614,$H$3:$K$30018,4,FALSE)","v":" "}," ","00:00",null,null,null,null,null,null,null,null,null,null,null,null,null,null,null,null,null,null,null,null,null,null,null,null,null,null,null,null,null,null,null,null,null,null,null,null,null,null,null,null,null,null,null,"00:00",612,0,"0000000","00","00","00"]
["SA02701","Kilbarchan AAC","1993-09-15","Hazel Ross","SA02701","Under 17",".",613,{"$f":"VLOOKUP('entries and results'!G615,$A$3:$E$30018,4,FALSE)","v":" "},{"$f":"VLOOKUP('entries and results'!G615,$A$3:$F$30018,6,FALSE)","v":" "},{"$f":"VLOOKUP('entries and results'!G615,$A$3:$E$30018,2,FALSE)","v":" "},613,".",{"$f":"VLOOKUP('entries and results'!M615,$H$3:$K$30018,2,FALSE)","v":" "},{"$f":"VLOOKUP('entries and results'!M615,$H$3:$K$30018,3,FALSE)","v":" "},{"$f":"VLOOKUP('entries and results'!M615,$H$3:$K$30018,4,FALSE)","v":" "}," ","00:00",null,null,null,null,null,null,null,null,null,null,null,null,null,null,null,null,null,null,null,null,null,null,null,null,null,null,null,null,null,null,null,null,null,null,null,null,null,null,null,null,null,null,null,"00:00",613,0,"0000000","00","00","00"]
["SA02702","Kilbarchan AAC","1991-09-14","Heather Ross","SA02702","Senior",".",614,{"$f":"VLOOKUP('entries and results'!G616,$A$3:$E$30018,4,FALSE)","v":" "},{"$f":"VLOOKUP('entries and results'!G616,$A$3:$F$30018,6,FALSE)","v":" "},{"$f":"VLOOKUP('entries and results'!G616,$A$3:$E$30018,2,FALSE)","v":" "},614,".",{"$f":"VLOOKUP('entries and results'!M616,$H$3:$K$30018,2,FALSE)","v":" "},{"$f":"VLOOKUP('entries and results'!M616,$H$3:$K$30018,3,FALSE)","v":" "},{"$f":"VLOOKUP('entries and results'!M616,$H$3:$K$30018,4,FALSE)","v":" "}," ","00:00",null,null,null,null,null,null,null,null,null,null,null,null,null,null,null,null,null,null,null,null,null,null,null,null,null,null,null,null,null,null,null,null,null,null,null,null,null,null,null,null,null,null,null,"00:00",614,0,"0000000","00","00","00"]
["SA02704","Kilbarchan AAC","1993-06-10","Charlotte Walker","SA02704","Senior",".",615,{"$f":"VLOOKUP('entries and results'!G617,$A$3:$E$30018,4,FALSE)","v":" "},{"$f":"VLOOKUP('entries and results'!G617,$A$3:$F$30018,6,FALSE)","v":" "},{"$f":"VLOOKUP('entries and results'!G617,$A$3:$E$30018,2,FALSE)","v":" "},615,".",{"$f":"VLOOKUP('entries and results'!M617,$H$3:$K$30018,2,FALSE)","v":" "},{"$f":"VLOOKUP('entries and results'!M617,$H$3:$K$30018,3,FALSE)","v":" "},{"$f":"VLOOKUP('entries and results'!M617,$H$3:$K$30018,4,FALSE)","v":" "}," ","00:00",null,null,null,null,null,null,null,null,null,null,null,null,null,null,null,null,null,null,null,null,null,null,null,null,null,null,null,null,null,null,null,null,null,null,null,null,null,null,null,null,null,null,null,"00:00",615,0,"0000000","00","00","00"]
["SA02711","VP-Glasgow AC","1995-10-17","Lewis Boyle","SA02711","Under 15",".",616,{"$f":"VLOOKUP('entries and results'!G618,$A$3:$E$30018,4,FALSE)","v":" "},{"$f":"VLOOKUP('entries and results'!G618,$A$3:$F$30018,6,FALSE)","v":" "},{"$f":"VLOOKUP('entries and results'!G618,$A$3:$E$30018,2,FALSE)","v":" "},616,".",{"$f":"VLOOKUP('entries and results'!M618,$H$3:$K$30018,2,FALSE)","v":" "},{"$f":"VLOOKUP('entries and results'!M618,$H$3:$K$30018,3,FALSE)","v":" "},{"$f":"VLOOKUP('entries and results'!M618,$H$3:$K$30018,4,FALSE)","v":" "}," ","00:00",null,null,null,null,null,null,null,null,null,null,null,null,null,null,null,null,null,null,null,null,null,null,null,null,null,null,null,null,null,null,null,null,null,null,null,null,null,null,null,null,null,null,null,"00:00",616,0,"0000000","00","00","00"]
["SA02712","Kirkintilloch Olympians","1995-05-28","Clare Brown","SA02712","Under 17",".",617,{"$f":"VLOOKUP('entries and results'!G619,$A$3:$E$30018,4,FALSE)","v":" "},{"$f":"VLOOKUP('entries and results'!G619,$A$3:$F$30018,6,FALSE)","v":" "},{"$f":"VLOOKUP('entries and results'!G619,$A$3:$E$30018,2,FALSE)","v":" "},617,".",{"$f":"VLOOKUP('entries and results'!M619,$H$3:$K$30018,2,FALSE)","v":" "},{"$f":"VLOOKUP('entries and results'!M619,$H$3:$K$30018,3,FALSE)","v":" "},{"$f":"VLOOKUP('entries and results'!M619,$H$3:$K$30018,4,FALSE)","v":" "}," ","00:00",null,null,null,null,null,null,null,null,null,null,null,null,null,null,null,null,null,null,null,null,null,null,null,null,null,null,null,null,null,null,null,null,null,null,null,null,null,null,null,null,null,null,null,"00:00",617,0,"0000000","00","00","00"]
["SA02715","Kirkintilloch Olympians","1997-05-22","Fraser Connal","SA02715","Under 15",".",618,{"$f":"VLOOKUP('entries and results'!G620,$A$3:$E$30018,4,FALSE)","v":" "},{"$f":"VLOOKUP('entries and results'!G620,$A$3:$F$30018,6,FALSE)","v":" "},{"$f":"VLOOKUP('entries and results'!G620,$A$3:$E$30018,2,FALSE)","v":" "},618,".",{"$f":"VLOOKUP('entries and results'!M620,$H$3:$K$30018,2,FALSE)","v":" "},{"$f":"VLOOKUP('entries and results'!M620,$H$3:$K$30018,3,FALSE)","v":" "},{"$f":"VLOOKUP('entries and results'!M620,$H$3:$K$30018,4,FALSE)","v":" "}," ","00:00",null,null,null,null,null,null,null,null,null,null,null,null,null,null,null,null,null,null,null,null,null,null,null,null,null,null,null,null,null,null,null,null,null,null,null,null,null,null,null,null,null,null,null,"00:00",618,0,"0000000","00","00","00"]
["SA02720","Kirkintilloch Olympians","1994-12-20","Rachel Hayes","SA02720","Under 17",".",619,{"$f":"VLOOKUP('entries and results'!G621,$A$3:$E$30018,4,FALSE)","v":" "},{"$f":"VLOOKUP('entries and results'!G621,$A$3:$F$30018,6,FALSE)","v":" "},{"$f":"VLOOKUP('entries and results'!G621,$A$3:$E$30018,2,FALSE)","v":" "},619,".",{"$f":"VLOOKUP('entries and results'!M621,$H$3:$K$30018,2,FALSE)","v":" "},{"$f":"VLOOKUP('entries and results'!M621,$H$3:$K$30018,3,FALSE)","v":" "},{"$f":"VLOOKUP('entries and results'!M621,$H$3:$K$30018,4,FALSE)","v":" "}," ","00:00",null,null,null,null,null,null,null,null,null,null,null,null,null,null,null,null,null,null,null,null,null,null,null,null,null,null,null,null,null,null,null,null,null,null,null,null,null,null,null,null,null,null,null,"00:00",619,0,"0000000","00","00","00"]
["SA02726","Kirkintilloch Olympians","1995-07-03","Kayleigh McCallum","SA02726","Under 17",".",620,{"$f":"VLOOKUP('entries and results'!G622,$A$3:$E$30018,4,FALSE)","v":" "},{"$f":"VLOOKUP('entries and results'!G622,$A$3:$F$30018,6,FALSE)","v":" "},{"$f":"VLOOKUP('entries and results'!G622,$A$3:$E$30018,2,FALSE)","v":" "},620,".",{"$f":"VLOOKUP('entries and results'!M622,$H$3:$K$30018,2,FALSE)","v":" "},{"$f":"VLOOKUP('entries and results'!M622,$H$3:$K$30018,3,FALSE)","v":" "},{"$f":"VLOOKUP('entries and results'!M622,$H$3:$K$30018,4,FALSE)","v":" "}," ","00:00",null,null,null,null,null,null,null,null,null,null,null,null,null,null,null,null,null,null,null,null,null,null,null,null,null,null,null,null,null,null,null,null,null,null,null,null,null,null,null,null,null,null,null,"00:00",620,0,"0000000","00","00","00"]
["SA02727","Kirkintilloch Olympians","1995-05-09","Andrew McCormack","SA02727","Under 17",".",621,{"$f":"VLOOKUP('entries and results'!G623,$A$3:$E$30018,4,FALSE)","v":" "},{"$f":"VLOOKUP('entries and results'!G623,$A$3:$F$30018,6,FALSE)","v":" "},{"$f":"VLOOKUP('entries and results'!G623,$A$3:$E$30018,2,FALSE)","v":" "},621,".",{"$f":"VLOOKUP('entries and results'!M623,$H$3:$K$30018,2,FALSE)","v":" "},{"$f":"VLOOKUP('entries and results'!M623,$H$3:$K$30018,3,FALSE)","v":" "},{"$f":"VLOOKUP('entries and results'!M623,$H$3:$K$30018,4,FALSE)","v":" "}," ","00:00",null,null,null,null,null,null,null,null,null,null,null,null,null,null,null,null,null,null,null,null,null,null,null,null,null,null,null,null,null,null,null,null,null,null,null,null,null,null,null,null,null,null,null,"00:00",621,0,"0000000","00","00","00"]
["SA02739","Shettleston Harriers","1995-03-05","Sarah Winters","SA02739","Under 17",".",622,{"$f":"VLOOKUP('entries and results'!G624,$A$3:$E$30018,4,FALSE)","v":" "},{"$f":"VLOOKUP('entries and results'!G624,$A$3:$F$30018,6,FALSE)","v":" "},{"$f":"VLOOKUP('entries and results'!G624,$A$3:$E$30018,2,FALSE)","v":" "},622,".",{"$f":"VLOOKUP('entries and results'!M624,$H$3:$K$30018,2,FALSE)","v":" "},{"$f":"VLOOKUP('entries and results'!M624,$H$3:$K$30018,3,FALSE)","v":" "},{"$f":"VLOOKUP('entries and results'!M624,$H$3:$K$30018,4,FALSE)","v":" "}," ","00:00",null,null,null,null,null,null,null,null,null,null,null,null,null,null,null,null,null,null,null,null,null,null,null,null,null,null,null,null,null,null,null,null,null,null,null,null,null,null,null,null,null,null,null,"00:00",622,0,"0000000","00","00","00"]
["SA02740","Shettleston Harriers","1995-03-05","Stella Winters","SA02740","Under 17",".",623,{"$f":"VLOOKUP('entries and results'!G625,$A$3:$E$30018,4,FALSE)","v":" "},{"$f":"VLOOKUP('entries and results'!G625,$A$3:$F$30018,6,FALSE)","v":" "},{"$f":"VLOOKUP('entries and results'!G625,$A$3:$E$30018,2,FALSE)","v":" "},623,".",{"$f":"VLOOKUP('entries and results'!M625,$H$3:$K$30018,2,FALSE)","v":" "},{"$f":"VLOOKUP('entries and results'!M625,$H$3:$K$30018,3,FALSE)","v":" "},{"$f":"VLOOKUP('entries and results'!M625,$H$3:$K$30018,4,FALSE)","v":" "}," ","00:00",null,null,null,null,null,null,null,null,null,null,null,null,null,null,null,null,null,null,null,null,null,null,null,null,null,null,null,null,null,null,null,null,null,null,null,null,null,null,null,null,null,null,null,"00:00",623,0,"0000000","00","00","00"]
["SA02742","Larkhall YMCA Harriers","1994-10-30","John Lees","SA02742","Under 17",".",624,{"$f":"VLOOKUP('entries and results'!G626,$A$3:$E$30018,4,FALSE)","v":" "},{"$f":"VLOOKUP('entries and results'!G626,$A$3:$F$30018,6,FALSE)","v":" "},{"$f":"VLOOKUP('entries and results'!G626,$A$3:$E$30018,2,FALSE)","v":" "},624,".",{"$f":"VLOOKUP('entries and results'!M626,$H$3:$K$30018,2,FALSE)","v":" "},{"$f":"VLOOKUP('entries and results'!M626,$H$3:$K$30018,3,FALSE)","v":" "},{"$f":"VLOOKUP('entries and results'!M626,$H$3:$K$30018,4,FALSE)","v":" "}," ","00:00",null,null,null,null,null,null,null,null,null,null,null,null,null,null,null,null,null,null,null,null,null,null,null,null,null,null,null,null,null,null,null,null,null,null,null,null,null,null,null,null,null,null,null,"00:00",624,0,"0000000","00","00","00"]
["SA02743","VP-Glasgow AC","1993-10-14","Miller McIntosh","SA02743","Under 17",".",625,{"$f":"VLOOKUP('entries and results'!G627,$A$3:$E$30018,4,FALSE)","v":" "},{"$f":"VLOOKUP('entries and results'!G627,$A$3:$F$30018,6,FALSE)","v":" "},{"$f":"VLOOKUP('entries and results'!G627,$A$3:$E$30018,2,FALSE)","v":" "},625,".",{"$f":"VLOOKUP('entries and results'!M627,$H$3:$K$30018,2,FALSE)","v":" "},{"$f":"VLOOKUP('entries and results'!M627,$H$3:$K$30018,3,FALSE)","v":" "},{"$f":"VLOOKUP('entries and results'!M627,$H$3:$K$30018,4,FALSE)","v":" "}," ","00:00",null,null,null,null,null,null,null,null,null,null,null,null,null,null,null,null,null,null,null,null,null,null,null,null,null,null,null,null,null,null,null,null,null,null,null,null,null,null,null,null,null,null,null,"00:00",625,0,"0000000","00","00","00"]
["SA02744","VP-Glasgow AC","1993-10-14","Thomas McIntosh","SA02744","Under 17",".",626,{"$f":"VLOOKUP('entries and results'!G628,$A$3:$E$30018,4,FALSE)","v":" "},{"$f":"VLOOKUP('entries and results'!G628,$A$3:$F$30018,6,FALSE)","v":" "},{"$f":"VLOOKUP('entries and results'!G628,$A$3:$E$30018,2,FALSE)","v":" "},626,".",{"$f":"VLOOKUP('entries and results'!M628,$H$3:$K$30018,2,FALSE)","v":" "},{"$f":"VLOOKUP('entries and results'!M628,$H$3:$K$30018,3,FALSE)","v":" "},{"$f":"VLOOKUP('entries and results'!M628,$H$3:$K$30018,4,FALSE)","v":" "}," ","00:00",null,null,null,null,null,null,null,null,null,null,null,null,null,null,null,null,null,null,null,null,null,null,null,null,null,null,null,null,null,null,null,null,null,null,null,null,null,null,null,null,null,null,null,"00:00",626,0,"0000000","00","00","00"]
["SA02749","Lasswade AAC","1994-06-05","Ashley Boak","SA02749","Under 17",".",627,{"$f":"VLOOKUP('entries and results'!G629,$A$3:$E$30018,4,FALSE)","v":" "},{"$f":"VLOOKUP('entries and results'!G629,$A$3:$F$30018,6,FALSE)","v":" "},{"$f":"VLOOKUP('entries and results'!G629,$A$3:$E$30018,2,FALSE)","v":" "},627,".",{"$f":"VLOOKUP('entries and results'!M629,$H$3:$K$30018,2,FALSE)","v":" "},{"$f":"VLOOKUP('entries and results'!M629,$H$3:$K$30018,3,FALSE)","v":" "},{"$f":"VLOOKUP('entries and results'!M629,$H$3:$K$30018,4,FALSE)","v":" "}," ","00:00",null,null,null,null,null,null,null,null,null,null,null,null,null,null,null,null,null,null,null,null,null,null,null,null,null,null,null,null,null,null,null,null,null,null,null,null,null,null,null,null,null,null,null,"00:00",627,0,"0000000","00","00","00"]
["SA02751","Lasswade AAC","1995-05-04","Lauren Buchan","SA02751","Under 17",".",628,{"$f":"VLOOKUP('entries and results'!G630,$A$3:$E$30018,4,FALSE)","v":" "},{"$f":"VLOOKUP('entries and results'!G630,$A$3:$F$30018,6,FALSE)","v":" "},{"$f":"VLOOKUP('entries and results'!G630,$A$3:$E$30018,2,FALSE)","v":" "},628,".",{"$f":"VLOOKUP('entries and results'!M630,$H$3:$K$30018,2,FALSE)","v":" "},{"$f":"VLOOKUP('entries and results'!M630,$H$3:$K$30018,3,FALSE)","v":" "},{"$f":"VLOOKUP('entries and results'!M630,$H$3:$K$30018,4,FALSE)","v":" "}," ","00:00",null,null,null,null,null,null,null,null,null,null,null,null,null,null,null,null,null,null,null,null,null,null,null,null,null,null,null,null,null,null,null,null,null,null,null,null,null,null,null,null,null,null,null,"00:00",628,0,"0000000","00","00","00"]
["SA02753","Lasswade AAC","1994-04-01","Charles Carstairs","SA02753","Under 17",".",629,{"$f":"VLOOKUP('entries and results'!G631,$A$3:$E$30018,4,FALSE)","v":" "},{"$f":"VLOOKUP('entries and results'!G631,$A$3:$F$30018,6,FALSE)","v":" "},{"$f":"VLOOKUP('entries and results'!G631,$A$3:$E$30018,2,FALSE)","v":" "},629,".",{"$f":"VLOOKUP('entries and results'!M631,$H$3:$K$30018,2,FALSE)","v":" "},{"$f":"VLOOKUP('entries and results'!M631,$H$3:$K$30018,3,FALSE)","v":" "},{"$f":"VLOOKUP('entries and results'!M631,$H$3:$K$30018,4,FALSE)","v":" "}," ","00:00",null,null,null,null,null,null,null,null,null,null,null,null,null,null,null,null,null,null,null,null,null,null,null,null,null,null,null,null,null,null,null,null,null,null,null,null,null,null,null,null,null,null,null,"00:00",629,0,"0000000","00","00","00"]
["SA02761","Lasswade AAC","1994-01-05","Rachael Fairley","SA02761","Under 17",".",630,{"$f":"VLOOKUP('entries and results'!G632,$A$3:$E$30018,4,FALSE)","v":" "},{"$f":"VLOOKUP('entries and results'!G632,$A$3:$F$30018,6,FALSE)","v":" "},{"$f":"VLOOKUP('entries and results'!G632,$A$3:$E$30018,2,FALSE)","v":" "},630,".",{"$f":"VLOOKUP('entries and results'!M632,$H$3:$K$30018,2,FALSE)","v":" "},{"$f":"VLOOKUP('entries and results'!M632,$H$3:$K$30018,3,FALSE)","v":" "},{"$f":"VLOOKUP('entries and results'!M632,$H$3:$K$30018,4,FALSE)","v":" "}," ","00:00",null,null,null,null,null,null,null,null,null,null,null,null,null,null,null,null,null,null,null,null,null,null,null,null,null,null,null,null,null,null,null,null,null,null,null,null,null,null,null,null,null,null,null,"00:00",630,0,"0000000","00","00","00"]
["SA02771","Lasswade AAC","1995-12-10","Amy Smith","SA02771","Under 15",".",631,{"$f":"VLOOKUP('entries and results'!G633,$A$3:$E$30018,4,FALSE)","v":" "},{"$f":"VLOOKUP('entries and results'!G633,$A$3:$F$30018,6,FALSE)","v":" "},{"$f":"VLOOKUP('entries and results'!G633,$A$3:$E$30018,2,FALSE)","v":" "},631,".",{"$f":"VLOOKUP('entries and results'!M633,$H$3:$K$30018,2,FALSE)","v":" "},{"$f":"VLOOKUP('entries and results'!M633,$H$3:$K$30018,3,FALSE)","v":" "},{"$f":"VLOOKUP('entries and results'!M633,$H$3:$K$30018,4,FALSE)","v":" "}," ","00:00",null,null,null,null,null,null,null,null,null,null,null,null,null,null,null,null,null,null,null,null,null,null,null,null,null,null,null,null,null,null,null,null,null,null,null,null,null,null,null,null,null,null,null,"00:00",631,0,"0000000","00","00","00"]
["SA02775","Shettleston Harriers","1996-04-03","Ashleigh Anderson","SA02775","Under 15",".",632,{"$f":"VLOOKUP('entries and results'!G634,$A$3:$E$30018,4,FALSE)","v":" "},{"$f":"VLOOKUP('entries and results'!G634,$A$3:$F$30018,6,FALSE)","v":" "},{"$f":"VLOOKUP('entries and results'!G634,$A$3:$E$30018,2,FALSE)","v":" "},632,".",{"$f":"VLOOKUP('entries and results'!M634,$H$3:$K$30018,2,FALSE)","v":" "},{"$f":"VLOOKUP('entries and results'!M634,$H$3:$K$30018,3,FALSE)","v":" "},{"$f":"VLOOKUP('entries and results'!M634,$H$3:$K$30018,4,FALSE)","v":" "}," ","00:00",null,null,null,null,null,null,null,null,null,null,null,null,null,null,null,null,null,null,null,null,null,null,null,null,null,null,null,null,null,null,null,null,null,null,null,null,null,null,null,null,null,null,null,"00:00",632,0,"0000000","00","00","00"]
["SA02780","Law & District AAC","1993-12-05","Chelcie Dalziel","SA02780","Under 17",".",633,{"$f":"VLOOKUP('entries and results'!G635,$A$3:$E$30018,4,FALSE)","v":" "},{"$f":"VLOOKUP('entries and results'!G635,$A$3:$F$30018,6,FALSE)","v":" "},{"$f":"VLOOKUP('entries and results'!G635,$A$3:$E$30018,2,FALSE)","v":" "},633,".",{"$f":"VLOOKUP('entries and results'!M635,$H$3:$K$30018,2,FALSE)","v":" "},{"$f":"VLOOKUP('entries and results'!M635,$H$3:$K$30018,3,FALSE)","v":" "},{"$f":"VLOOKUP('entries and results'!M635,$H$3:$K$30018,4,FALSE)","v":" "}," ","00:00",null,null,null,null,null,null,null,null,null,null,null,null,null,null,null,null,null,null,null,null,null,null,null,null,null,null,null,null,null,null,null,null,null,null,null,null,null,null,null,null,null,null,null,"00:00",633,0,"0000000","00","00","00"]
["SA02792","Law & District AAC","1993-04-24","Emily Meek","SA02792","Senior",".",634,{"$f":"VLOOKUP('entries and results'!G636,$A$3:$E$30018,4,FALSE)","v":" "},{"$f":"VLOOKUP('entries and results'!G636,$A$3:$F$30018,6,FALSE)","v":" "},{"$f":"VLOOKUP('entries and results'!G636,$A$3:$E$30018,2,FALSE)","v":" "},634,".",{"$f":"VLOOKUP('entries and results'!M636,$H$3:$K$30018,2,FALSE)","v":" "},{"$f":"VLOOKUP('entries and results'!M636,$H$3:$K$30018,3,FALSE)","v":" "},{"$f":"VLOOKUP('entries and results'!M636,$H$3:$K$30018,4,FALSE)","v":" "}," ","00:00",null,null,null,null,null,null,null,null,null,null,null,null,null,null,null,null,null,null,null,null,null,null,null,null,null,null,null,null,null,null,null,null,null,null,null,null,null,null,null,null,null,null,null,"00:00",634,0,"0000000","00","00","00"]
["SA02801","Law & District AAC","1995-03-16","Samantha Stevenson","SA02801","Under 17",".",635,{"$f":"VLOOKUP('entries and results'!G637,$A$3:$E$30018,4,FALSE)","v":" "},{"$f":"VLOOKUP('entries and results'!G637,$A$3:$F$30018,6,FALSE)","v":" "},{"$f":"VLOOKUP('entries and results'!G637,$A$3:$E$30018,2,FALSE)","v":" "},635,".",{"$f":"VLOOKUP('entries and results'!M637,$H$3:$K$30018,2,FALSE)","v":" "},{"$f":"VLOOKUP('entries and results'!M637,$H$3:$K$30018,3,FALSE)","v":" "},{"$f":"VLOOKUP('entries and results'!M637,$H$3:$K$30018,4,FALSE)","v":" "}," ","00:00",null,null,null,null,null,null,null,null,null,null,null,null,null,null,null,null,null,null,null,null,null,null,null,null,null,null,null,null,null,null,null,null,null,null,null,null,null,null,null,null,null,null,null,"00:00",635,0,"0000000","00","00","00"]
["SA02803","Law & District AAC","1995-10-10","Emma Watson","SA02803","Under 15",".",636,{"$f":"VLOOKUP('entries and results'!G638,$A$3:$E$30018,4,FALSE)","v":" "},{"$f":"VLOOKUP('entries and results'!G638,$A$3:$F$30018,6,FALSE)","v":" "},{"$f":"VLOOKUP('entries and results'!G638,$A$3:$E$30018,2,FALSE)","v":" "},636,".",{"$f":"VLOOKUP('entries and results'!M638,$H$3:$K$30018,2,FALSE)","v":" "},{"$f":"VLOOKUP('entries and results'!M638,$H$3:$K$30018,3,FALSE)","v":" "},{"$f":"VLOOKUP('entries and results'!M638,$H$3:$K$30018,4,FALSE)","v":" "}," ","00:00",null,null,null,null,null,null,null,null,null,null,null,null,null,null,null,null,null,null,null,null,null,null,null,null,null,null,null,null,null,null,null,null,null,null,null,null,null,null,null,null,null,null,null,"00:00",636,0,"0000000","00","00","00"]
["SA02821","Livingston & District AAC","1994-07-11","Nicola Grierson","SA02821","Under 17",".",637,{"$f":"VLOOKUP('entries and results'!G639,$A$3:$E$30018,4,FALSE)","v":" "},{"$f":"VLOOKUP('entries and results'!G639,$A$3:$F$30018,6,FALSE)","v":" "},{"$f":"VLOOKUP('entries and results'!G639,$A$3:$E$30018,2,FALSE)","v":" "},637,".",{"$f":"VLOOKUP('entries and results'!M639,$H$3:$K$30018,2,FALSE)","v":" "},{"$f":"VLOOKUP('entries and results'!M639,$H$3:$K$30018,3,FALSE)","v":" "},{"$f":"VLOOKUP('entries and results'!M639,$H$3:$K$30018,4,FALSE)","v":" "}," ","00:00",null,null,null,null,null,null,null,null,null,null,null,null,null,null,null,null,null,null,null,null,null,null,null,null,null,null,null,null,null,null,null,null,null,null,null,null,null,null,null,null,null,null,null,"00:00",637,0,"0000000","00","00","00"]
["SA02822","Livingston & District AAC","1991-10-08","Sharon Grierson","SA02822","Senior",".",638,{"$f":"VLOOKUP('entries and results'!G640,$A$3:$E$30018,4,FALSE)","v":" "},{"$f":"VLOOKUP('entries and results'!G640,$A$3:$F$30018,6,FALSE)","v":" "},{"$f":"VLOOKUP('entries and results'!G640,$A$3:$E$30018,2,FALSE)","v":" "},638,".",{"$f":"VLOOKUP('entries and results'!M640,$H$3:$K$30018,2,FALSE)","v":" "},{"$f":"VLOOKUP('entries and results'!M640,$H$3:$K$30018,3,FALSE)","v":" "},{"$f":"VLOOKUP('entries and results'!M640,$H$3:$K$30018,4,FALSE)","v":" "}," ","00:00",null,null,null,null,null,null,null,null,null,null,null,null,null,null,null,null,null,null,null,null,null,null,null,null,null,null,null,null,null,null,null,null,null,null,null,null,null,null,null,null,null,null,null,"00:00",638,0,"0000000","00","00","00"]
["SA02830","Livingston & District AAC","1992-07-28","Sam Matheson","SA02830","Senior",".",639,{"$f":"VLOOKUP('entries and results'!G641,$A$3:$E$30018,4,FALSE)","v":" "},{"$f":"VLOOKUP('entries and results'!G641,$A$3:$F$30018,6,FALSE)","v":" "},{"$f":"VLOOKUP('entries and results'!G641,$A$3:$E$30018,2,FALSE)","v":" "},639,".",{"$f":"VLOOKUP('entries and results'!M641,$H$3:$K$30018,2,FALSE)","v":" "},{"$f":"VLOOKUP('entries and results'!M641,$H$3:$K$30018,3,FALSE)","v":" "},{"$f":"VLOOKUP('entries and results'!M641,$H$3:$K$30018,4,FALSE)","v":" "}," ","00:00",null,null,null,null,null,null,null,null,null,null,null,null,null,null,null,null,null,null,null,null,null,null,null,null,null,null,null,null,null,null,null,null,null,null,null,null,null,null,null,null,null,null,null,"00:00",639,0,"0000000","00","00","00"]
["SA02841","Livingston & District AAC","1995-01-23","Blair Wood","SA02841","Under 17",".",640,{"$f":"VLOOKUP('entries and results'!G642,$A$3:$E$30018,4,FALSE)","v":" "},{"$f":"VLOOKUP('entries and results'!G642,$A$3:$F$30018,6,FALSE)","v":" "},{"$f":"VLOOKUP('entries and results'!G642,$A$3:$E$30018,2,FALSE)","v":" "},640,".",{"$f":"VLOOKUP('entries and results'!M642,$H$3:$K$30018,2,FALSE)","v":" "},{"$f":"VLOOKUP('entries and results'!M642,$H$3:$K$30018,3,FALSE)","v":" "},{"$f":"VLOOKUP('entries and results'!M642,$H$3:$K$30018,4,FALSE)","v":" "}," ","00:00",null,null,null,null,null,null,null,null,null,null,null,null,null,null,null,null,null,null,null,null,null,null,null,null,null,null,null,null,null,null,null,null,null,null,null,null,null,null,null,null,null,null,null,"00:00",640,0,"0000000","00","00","00"]
["SA02842","Unattached","1993-06-08","Jonathan Wood","SA02842","Senior",".",641,{"$f":"VLOOKUP('entries and results'!G643,$A$3:$E$30018,4,FALSE)","v":" "},{"$f":"VLOOKUP('entries and results'!G643,$A$3:$F$30018,6,FALSE)","v":" "},{"$f":"VLOOKUP('entries and results'!G643,$A$3:$E$30018,2,FALSE)","v":" "},641,".",{"$f":"VLOOKUP('entries and results'!M643,$H$3:$K$30018,2,FALSE)","v":" "},{"$f":"VLOOKUP('entries and results'!M643,$H$3:$K$30018,3,FALSE)","v":" "},{"$f":"VLOOKUP('entries and results'!M643,$H$3:$K$30018,4,FALSE)","v":" "}," ","00:00",null,null,null,null,null,null,null,null,null,null,null,null,null,null,null,null,null,null,null,null,null,null,null,null,null,null,null,null,null,null,null,null,null,null,null,null,null,null,null,null,null,null,null,"00:00",641,{"$f":"SUMIF($H$3:$H$601,$BK643,$Q$3:$Q$601)","v":0},"0000000","00","00","00"]
["SA02848","Lothian Running Club","1996-10-20","Lauren Arbuckle","SA02848","Under 15",".",642,{"$f":"VLOOKUP('entries and results'!G644,$A$3:$E$30018,4,FALSE)","v":" "},{"$f":"VLOOKUP('entries and results'!G644,$A$3:$F$30018,6,FALSE)","v":" "},{"$f":"VLOOKUP('entries and results'!G644,$A$3:$E$30018,2,FALSE)","v":" "},642,".",{"$f":"VLOOKUP('entries and results'!M644,$H$3:$K$30018,2,FALSE)","v":" "},{"$f":"VLOOKUP('entries and results'!M644,$H$3:$K$30018,3,FALSE)","v":" "},{"$f":"VLOOKUP('entries and results'!M644,$H$3:$K$30018,4,FALSE)","v":" "}," ",{"$f":"IF($H644=\"\",\" \",(LOOKUP($H644,$BK$3:$BK$1601,$BJ$3:$BJ$1601)))","v":"00:00"},null,null,null,null,null,null,null,null,null,null,null,null,null,null,null,null,null,null,null,null,null,null,null,null,null,null,null,null,null,null,null,null,null,null,null,null,null,null,null,null,null,null,null,"00:00",642,0,"0000000","00","00","00"]
["SA02852","Unattached","1976-04-15","John Lamont","SA02852","Senior",".",643,{"$f":"VLOOKUP('entries and results'!G645,$A$3:$E$30018,4,FALSE)","v":" "},{"$f":"VLOOKUP('entries and results'!G645,$A$3:$F$30018,6,FALSE)","v":" "},{"$f":"VLOOKUP('entries and results'!G645,$A$3:$E$30018,2,FALSE)","v":" "},643,".",{"$f":"VLOOKUP('entries and results'!M645,$H$3:$K$30018,2,FALSE)","v":" "},{"$f":"VLOOKUP('entries and results'!M645,$H$3:$K$30018,3,FALSE)","v":" "},{"$f":"VLOOKUP('entries and results'!M645,$H$3:$K$30018,4,FALSE)","v":" "}," ","00:00",null,null,null,null,null,null,null,null,null,null,null,null,null,null,null,null,null,null,null,null,null,null,null,null,null,null,null,null,null,null,null,null,null,null,null,null,null,null,null,null,null,null,null,"00:00",643,0,"0000000","00","00","00"]
["SA02854","Montrose & District AC","1995-08-09","Benjamin Collins","SA02854","Under 17",".",644,{"$f":"VLOOKUP('entries and results'!G646,$A$3:$E$30018,4,FALSE)","v":" "},{"$f":"VLOOKUP('entries and results'!G646,$A$3:$F$30018,6,FALSE)","v":" "},{"$f":"VLOOKUP('entries and results'!G646,$A$3:$E$30018,2,FALSE)","v":" "},644,".",{"$f":"VLOOKUP('entries and results'!M646,$H$3:$K$30018,2,FALSE)","v":" "},{"$f":"VLOOKUP('entries and results'!M646,$H$3:$K$30018,3,FALSE)","v":" "},{"$f":"VLOOKUP('entries and results'!M646,$H$3:$K$30018,4,FALSE)","v":" "}," ","00:00",null,null,null,null,null,null,null,null,null,null,null,null,null,null,null,null,null,null,null,null,null,null,null,null,null,null,null,null,null,null,null,null,null,null,null,null,null,null,null,null,null,null,null,{"$f":"CONCATENATE(BO646,\":\",BP646)","v":"00:00"},644,0,{"$f":"CONCATENATE($BG$2,$BL646)","v":"0000000"},{"$f":"MID(RIGHT($BM646,6),1,2)","v":"00"},{"$f":"MID(RIGHT($BM646,6),3,2)","v":"00"},{"$f":"MID(RIGHT($BM646,6),5,2)","v":"00"}]
["SA02861","Montrose & District AC","1994-07-07","Stuart Turner","SA02861","Under 17",".",645,{"$f":"VLOOKUP('entries and results'!G647,$A$3:$E$30018,4,FALSE)","v":" "},{"$f":"VLOOKUP('entries and results'!G647,$A$3:$F$30018,6,FALSE)","v":" "},{"$f":"VLOOKUP('entries and results'!G647,$A$3:$E$30018,2,FALSE)","v":" "},645,".",{"$f":"VLOOKUP('entries and results'!M647,$H$3:$K$30018,2,FALSE)","v":" "},{"$f":"VLOOKUP('entries and results'!M647,$H$3:$K$30018,3,FALSE)","v":" "},{"$f":"VLOOKUP('entries and results'!M647,$H$3:$K$30018,4,FALSE)","v":" "}," ","00:00",null,null,null,null,null,null,null,null,null,null,null,null,null,null,null,null,null,null,null,null,null,null,null,null,null,null,null,null,null,null,null,null,null,null,null,null,null,null,null,null,null,null,null,"00:00",645,0,"0000000","00","00","00"]
["SA02863","Moorfoot Runners","1996-05-16","Isla Donaldson","SA02863","Under 15",".",646,{"$f":"VLOOKUP('entries and results'!G648,$A$3:$E$30018,4,FALSE)","v":" "},{"$f":"VLOOKUP('entries and results'!G648,$A$3:$F$30018,6,FALSE)","v":" "},{"$f":"VLOOKUP('entries and results'!G648,$A$3:$E$30018,2,FALSE)","v":" "},646,".",{"$f":"VLOOKUP('entries and results'!M648,$H$3:$K$30018,2,FALSE)","v":" "},{"$f":"VLOOKUP('entries and results'!M648,$H$3:$K$30018,3,FALSE)","v":" "},{"$f":"VLOOKUP('entries and results'!M648,$H$3:$K$30018,4,FALSE)","v":" "}," ","00:00",null,null,null,null,null,null,null,null,null,null,null,null,null,null,null,null,null,null,null,null,null,null,null,null,null,null,null,null,null,null,null,null,null,null,null,null,null,null,null,null,null,null,null,"00:00",646,0,"0000000","00","00","00"]
["SA02868","Moray Road Runners","1992-10-28","Donald Shand","SA02868","Senior",".",647,{"$f":"VLOOKUP('entries and results'!G649,$A$3:$E$30018,4,FALSE)","v":" "},{"$f":"VLOOKUP('entries and results'!G649,$A$3:$F$30018,6,FALSE)","v":" "},{"$f":"VLOOKUP('entries and results'!G649,$A$3:$E$30018,2,FALSE)","v":" "},647,".",{"$f":"VLOOKUP('entries and results'!M649,$H$3:$K$30018,2,FALSE)","v":" "},{"$f":"VLOOKUP('entries and results'!M649,$H$3:$K$30018,3,FALSE)","v":" "},{"$f":"VLOOKUP('entries and results'!M649,$H$3:$K$30018,4,FALSE)","v":" "}," ","00:00",null,null,null,null,null,null,null,null,null,null,null,null,null,null,null,null,null,null,null,null,null,null,null,null,null,null,null,null,null,null,null,null,null,null,null,null,null,null,null,null,null,null,null,"00:00",647,0,"0000000","00","00","00"]
["SA02872","Edinburgh AC","1997-04-16","Georgina Loudon","SA02872","Under 15",".",648,{"$f":"VLOOKUP('entries and results'!G650,$A$3:$E$30018,4,FALSE)","v":" "},{"$f":"VLOOKUP('entries and results'!G650,$A$3:$F$30018,6,FALSE)","v":" "},{"$f":"VLOOKUP('entries and results'!G650,$A$3:$E$30018,2,FALSE)","v":" "},648,".",{"$f":"VLOOKUP('entries and results'!M650,$H$3:$K$30018,2,FALSE)","v":" "},{"$f":"VLOOKUP('entries and results'!M650,$H$3:$K$30018,3,FALSE)","v":" "},{"$f":"VLOOKUP('entries and results'!M650,$H$3:$K$30018,4,FALSE)","v":" "}," ","00:00",null,null,null,null,null,null,null,null,null,null,null,null,null,null,null,null,null,null,null,null,null,null,null,null,null,null,null,null,null,null,null,null,null,null,null,null,null,null,null,null,null,null,null,"00:00",648,0,"0000000","00","00","00"]
["SA02893","Nairn Area AAC","1997-01-27","Michael McLean","SA02893","Under 15",".",649,{"$f":"VLOOKUP('entries and results'!G651,$A$3:$E$30018,4,FALSE)","v":" "},{"$f":"VLOOKUP('entries and results'!G651,$A$3:$F$30018,6,FALSE)","v":" "},{"$f":"VLOOKUP('entries and results'!G651,$A$3:$E$30018,2,FALSE)","v":" "},649,".",{"$f":"VLOOKUP('entries and results'!M651,$H$3:$K$30018,2,FALSE)","v":" "},{"$f":"VLOOKUP('entries and results'!M651,$H$3:$K$30018,3,FALSE)","v":" "},{"$f":"VLOOKUP('entries and results'!M651,$H$3:$K$30018,4,FALSE)","v":" "}," ","00:00",null,null,null,null,null,null,null,null,null,null,null,null,null,null,null,null,null,null,null,null,null,null,null,null,null,null,null,null,null,null,null,null,null,null,null,null,null,null,null,null,null,null,null,"00:00",649,0,"0000000","00","00","00"]
["SA02898","Nairn Area AAC","1993-03-18","Lewis Sutherland","SA02898","Senior",".",650,{"$f":"VLOOKUP('entries and results'!G652,$A$3:$E$30018,4,FALSE)","v":" "},{"$f":"VLOOKUP('entries and results'!G652,$A$3:$F$30018,6,FALSE)","v":" "},{"$f":"VLOOKUP('entries and results'!G652,$A$3:$E$30018,2,FALSE)","v":" "},650,".",{"$f":"VLOOKUP('entries and results'!M652,$H$3:$K$30018,2,FALSE)","v":" "},{"$f":"VLOOKUP('entries and results'!M652,$H$3:$K$30018,3,FALSE)","v":" "},{"$f":"VLOOKUP('entries and results'!M652,$H$3:$K$30018,4,FALSE)","v":" "}," ","00:00",null,null,null,null,null,null,null,null,null,null,null,null,null,null,null,null,null,null,null,null,null,null,null,null,null,null,null,null,null,null,null,null,null,null,null,null,null,null,null,null,null,null,null,"00:00",650,0,"0000000","00","00","00"]
["SA02903","Nairn Area AAC","1994-05-24","Heather Winfield","SA02903","Under 17",".",651,{"$f":"VLOOKUP('entries and results'!G653,$A$3:$E$30018,4,FALSE)","v":" "},{"$f":"VLOOKUP('entries and results'!G653,$A$3:$F$30018,6,FALSE)","v":" "},{"$f":"VLOOKUP('entries and results'!G653,$A$3:$E$30018,2,FALSE)","v":" "},651,".",{"$f":"VLOOKUP('entries and results'!M653,$H$3:$K$30018,2,FALSE)","v":" "},{"$f":"VLOOKUP('entries and results'!M653,$H$3:$K$30018,3,FALSE)","v":" "},{"$f":"VLOOKUP('entries and results'!M653,$H$3:$K$30018,4,FALSE)","v":" "}," ","00:00",null,null,null,null,null,null,null,null,null,null,null,null,null,null,null,null,null,null,null,null,null,null,null,null,null,null,null,null,null,null,null,null,null,null,null,null,null,null,null,null,null,null,null,"00:00",651,0,"0000000","00","00","00"]
["SA02910","Nithsdale AC","1996-10-14","Anna Graham","SA02910","Under 15",".",652,{"$f":"VLOOKUP('entries and results'!G654,$A$3:$E$30018,4,FALSE)","v":" "},{"$f":"VLOOKUP('entries and results'!G654,$A$3:$F$30018,6,FALSE)","v":" "},{"$f":"VLOOKUP('entries and results'!G654,$A$3:$E$30018,2,FALSE)","v":" "},652,".",{"$f":"VLOOKUP('entries and results'!M654,$H$3:$K$30018,2,FALSE)","v":" "},{"$f":"VLOOKUP('entries and results'!M654,$H$3:$K$30018,3,FALSE)","v":" "},{"$f":"VLOOKUP('entries and results'!M654,$H$3:$K$30018,4,FALSE)","v":" "}," ","00:00",null,null,null,null,null,null,null,null,null,null,null,null,null,null,null,null,null,null,null,null,null,null,null,null,null,null,null,null,null,null,null,null,null,null,null,null,null,null,null,null,null,null,null,"00:00",652,0,"0000000","00","00","00"]
["SA02919","Nithsdale AC","1994-10-15","Scott McKinney","SA02919","Under 17",".",653,{"$f":"VLOOKUP('entries and results'!G655,$A$3:$E$30018,4,FALSE)","v":" "},{"$f":"VLOOKUP('entries and results'!G655,$A$3:$F$30018,6,FALSE)","v":" "},{"$f":"VLOOKUP('entries and results'!G655,$A$3:$E$30018,2,FALSE)","v":" "},653,".",{"$f":"VLOOKUP('entries and results'!M655,$H$3:$K$30018,2,FALSE)","v":" "},{"$f":"VLOOKUP('entries and results'!M655,$H$3:$K$30018,3,FALSE)","v":" "},{"$f":"VLOOKUP('entries and results'!M655,$H$3:$K$30018,4,FALSE)","v":" "}," ","00:00",null,null,null,null,null,null,null,null,null,null,null,null,null,null,null,null,null,null,null,null,null,null,null,null,null,null,null,null,null,null,null,null,null,null,null,null,null,null,null,null,null,null,null,"00:00",653,0,"0000000","00","00","00"]
["SA02920","Nithsdale AC","1992-07-22","Kyle McLellan","SA02920","Senior",".",654,{"$f":"VLOOKUP('entries and results'!G656,$A$3:$E$30018,4,FALSE)","v":" "},{"$f":"VLOOKUP('entries and results'!G656,$A$3:$F$30018,6,FALSE)","v":" "},{"$f":"VLOOKUP('entries and results'!G656,$A$3:$E$30018,2,FALSE)","v":" "},654,".",{"$f":"VLOOKUP('entries and results'!M656,$H$3:$K$30018,2,FALSE)","v":" "},{"$f":"VLOOKUP('entries and results'!M656,$H$3:$K$30018,3,FALSE)","v":" "},{"$f":"VLOOKUP('entries and results'!M656,$H$3:$K$30018,4,FALSE)","v":" "}," ","00:00",null,null,null,null,null,null,null,null,null,null,null,null,null,null,null,null,null,null,null,null,null,null,null,null,null,null,null,null,null,null,null,null,null,null,null,null,null,null,null,null,null,null,null,"00:00",654,0,"0000000","00","00","00"]
["SA02921","Nithsdale AC","1992-07-22","Ronan McLellan","SA02921","Senior",".",655,{"$f":"VLOOKUP('entries and results'!G657,$A$3:$E$30018,4,FALSE)","v":" "},{"$f":"VLOOKUP('entries and results'!G657,$A$3:$F$30018,6,FALSE)","v":" "},{"$f":"VLOOKUP('entries and results'!G657,$A$3:$E$30018,2,FALSE)","v":" "},655,".",{"$f":"VLOOKUP('entries and results'!M657,$H$3:$K$30018,2,FALSE)","v":" "},{"$f":"VLOOKUP('entries and results'!M657,$H$3:$K$30018,3,FALSE)","v":" "},{"$f":"VLOOKUP('entries and results'!M657,$H$3:$K$30018,4,FALSE)","v":" "}," ","00:00",null,null,null,null,null,null,null,null,null,null,null,null,null,null,null,null,null,null,null,null,null,null,null,null,null,null,null,null,null,null,null,null,null,null,null,null,null,null,null,null,null,null,null,"00:00",655,0,"0000000","00","00","00"]
["SA02926","Nithsdale AC","1992-06-27","Richard Stonehouse","SA02926","Senior",".",656,{"$f":"VLOOKUP('entries and results'!G658,$A$3:$E$30018,4,FALSE)","v":" "},{"$f":"VLOOKUP('entries and results'!G658,$A$3:$F$30018,6,FALSE)","v":" "},{"$f":"VLOOKUP('entries and results'!G658,$A$3:$E$30018,2,FALSE)","v":" "},656,".",{"$f":"VLOOKUP('entries and results'!M658,$H$3:$K$30018,2,FALSE)","v":" "},{"$f":"VLOOKUP('entries and results'!M658,$H$3:$K$30018,3,FALSE)","v":" "},{"$f":"VLOOKUP('entries and results'!M658,$H$3:$K$30018,4,FALSE)","v":" "}," ","00:00",null,null,null,null,null,null,null,null,null,null,null,null,null,null,null,null,null,null,null,null,null,null,null,null,null,null,null,null,null,null,null,null,null,null,null,null,null,null,null,null,null,null,null,"00:00",656,0,"0000000","00","00","00"]
["SA02927","Nithsdale AC","1994-10-13","Glen Watson","SA02927","Under 17",".",657,{"$f":"VLOOKUP('entries and results'!G659,$A$3:$E$30018,4,FALSE)","v":" "},{"$f":"VLOOKUP('entries and results'!G659,$A$3:$F$30018,6,FALSE)","v":" "},{"$f":"VLOOKUP('entries and results'!G659,$A$3:$E$30018,2,FALSE)","v":" "},657,".",{"$f":"VLOOKUP('entries and results'!M659,$H$3:$K$30018,2,FALSE)","v":" "},{"$f":"VLOOKUP('entries and results'!M659,$H$3:$K$30018,3,FALSE)","v":" "},{"$f":"VLOOKUP('entries and results'!M659,$H$3:$K$30018,4,FALSE)","v":" "}," ","00:00",null,null,null,null,null,null,null,null,null,null,null,null,null,null,null,null,null,null,null,null,null,null,null,null,null,null,null,null,null,null,null,null,null,null,null,null,null,null,null,null,null,null,null,"00:00",657,0,"0000000","00","00","00"]
["SA02933","North Uist AAC","1995-02-24","Ewen Campbell","SA02933","Under 17",".",658,{"$f":"VLOOKUP('entries and results'!G660,$A$3:$E$30018,4,FALSE)","v":" "},{"$f":"VLOOKUP('entries and results'!G660,$A$3:$F$30018,6,FALSE)","v":" "},{"$f":"VLOOKUP('entries and results'!G660,$A$3:$E$30018,2,FALSE)","v":" "},658,".",{"$f":"VLOOKUP('entries and results'!M660,$H$3:$K$30018,2,FALSE)","v":" "},{"$f":"VLOOKUP('entries and results'!M660,$H$3:$K$30018,3,FALSE)","v":" "},{"$f":"VLOOKUP('entries and results'!M660,$H$3:$K$30018,4,FALSE)","v":" "}," ","00:00",null,null,null,null,null,null,null,null,null,null,null,null,null,null,null,null,null,null,null,null,null,null,null,null,null,null,null,null,null,null,null,null,null,null,null,null,null,null,null,null,null,null,null,{"$f":"CONCATENATE(BO660,\":\",BP660)","v":"00:00"},658,0,"0000000","00","00","00"]
["SA02936","North Uist AAC","1994-10-10","Nadine Froughi","SA02936","Under 17",".",659,{"$f":"VLOOKUP('entries and results'!G661,$A$3:$E$30018,4,FALSE)","v":" "},{"$f":"VLOOKUP('entries and results'!G661,$A$3:$F$30018,6,FALSE)","v":" "},{"$f":"VLOOKUP('entries and results'!G661,$A$3:$E$30018,2,FALSE)","v":" "},659,".",{"$f":"VLOOKUP('entries and results'!M661,$H$3:$K$30018,2,FALSE)","v":" "},{"$f":"VLOOKUP('entries and results'!M661,$H$3:$K$30018,3,FALSE)","v":" "},{"$f":"VLOOKUP('entries and results'!M661,$H$3:$K$30018,4,FALSE)","v":" "}," ","00:00",null,null,null,null,null,null,null,null,null,null,null,null,null,null,null,null,null,null,null,null,null,null,null,null,null,null,null,null,null,null,null,null,null,null,null,null,null,null,null,null,null,null,null,"00:00",659,0,"0000000","00","00","00"]
["SA02938","North Uist AAC","1994-01-18","Allan Gordon","SA02938","Under 17",".",660,{"$f":"VLOOKUP('entries and results'!G662,$A$3:$E$30018,4,FALSE)","v":" "},{"$f":"VLOOKUP('entries and results'!G662,$A$3:$F$30018,6,FALSE)","v":" "},{"$f":"VLOOKUP('entries and results'!G662,$A$3:$E$30018,2,FALSE)","v":" "},660,".",{"$f":"VLOOKUP('entries and results'!M662,$H$3:$K$30018,2,FALSE)","v":" "},{"$f":"VLOOKUP('entries and results'!M662,$H$3:$K$30018,3,FALSE)","v":" "},{"$f":"VLOOKUP('entries and results'!M662,$H$3:$K$30018,4,FALSE)","v":" "}," ","00:00",null,null,null,null,null,null,null,null,null,null,null,null,null,null,null,null,null,null,null,null,null,null,null,null,null,null,null,null,null,null,null,null,null,null,null,null,null,null,null,null,null,null,null,"00:00",660,0,"0000000","00","00","00"]
["SA02940","North Uist AAC","1994-11-24","Eilidh Johnson","SA02940","Under 17",".",661,{"$f":"VLOOKUP('entries and results'!G663,$A$3:$E$30018,4,FALSE)","v":" "},{"$f":"VLOOKUP('entries and results'!G663,$A$3:$F$30018,6,FALSE)","v":" "},{"$f":"VLOOKUP('entries and results'!G663,$A$3:$E$30018,2,FALSE)","v":" "},661,".",{"$f":"VLOOKUP('entries and results'!M663,$H$3:$K$30018,2,FALSE)","v":" "},{"$f":"VLOOKUP('entries and results'!M663,$H$3:$K$30018,3,FALSE)","v":" "},{"$f":"VLOOKUP('entries and results'!M663,$H$3:$K$30018,4,FALSE)","v":" "}," ","00:00",null,null,null,null,null,null,null,null,null,null,null,null,null,null,null,null,null,null,null,null,null,null,null,null,null,null,null,null,null,null,null,null,null,null,null,null,null,null,null,null,null,null,null,"00:00",661,0,"0000000","00","00","00"]
["SA02945","North Uist AAC","1995-05-22","Kathleen MacDonald","SA02945","Under 17",".",662,{"$f":"VLOOKUP('entries and results'!G664,$A$3:$E$30018,4,FALSE)","v":" "},{"$f":"VLOOKUP('entries and results'!G664,$A$3:$F$30018,6,FALSE)","v":" "},{"$f":"VLOOKUP('entries and results'!G664,$A$3:$E$30018,2,FALSE)","v":" "},662,".",{"$f":"VLOOKUP('entries and results'!M664,$H$3:$K$30018,2,FALSE)","v":" "},{"$f":"VLOOKUP('entries and results'!M664,$H$3:$K$30018,3,FALSE)","v":" "},{"$f":"VLOOKUP('entries and results'!M664,$H$3:$K$30018,4,FALSE)","v":" "}," ","00:00",null,null,null,null,null,null,null,null,null,null,null,null,null,null,null,null,null,null,null,null,null,null,null,null,null,null,null,null,null,null,null,null,null,null,null,null,null,null,null,null,null,null,null,"00:00",662,0,"0000000","00","00","00"]
["SA02954","North Uist AAC","1994-12-22","Carl Macphee","SA02954","Under 17",".",663,{"$f":"VLOOKUP('entries and results'!G665,$A$3:$E$30018,4,FALSE)","v":" "},{"$f":"VLOOKUP('entries and results'!G665,$A$3:$F$30018,6,FALSE)","v":" "},{"$f":"VLOOKUP('entries and results'!G665,$A$3:$E$30018,2,FALSE)","v":" "},663,".",{"$f":"VLOOKUP('entries and results'!M665,$H$3:$K$30018,2,FALSE)","v":" "},{"$f":"VLOOKUP('entries and results'!M665,$H$3:$K$30018,3,FALSE)","v":" "},{"$f":"VLOOKUP('entries and results'!M665,$H$3:$K$30018,4,FALSE)","v":" "}," ","00:00",null,null,null,null,null,null,null,null,null,null,null,null,null,null,null,null,null,null,null,null,null,null,null,null,null,null,null,null,null,null,null,null,null,null,null,null,null,null,null,null,null,null,null,"00:00",663,0,"0000000","00","00","00"]
["SA02960","North Uist AAC","1994-04-10","James Stewart","SA02960","Under 17",".",664,{"$f":"VLOOKUP('entries and results'!G666,$A$3:$E$30018,4,FALSE)","v":" "},{"$f":"VLOOKUP('entries and results'!G666,$A$3:$F$30018,6,FALSE)","v":" "},{"$f":"VLOOKUP('entries and results'!G666,$A$3:$E$30018,2,FALSE)","v":" "},664,".",{"$f":"VLOOKUP('entries and results'!M666,$H$3:$K$30018,2,FALSE)","v":" "},{"$f":"VLOOKUP('entries and results'!M666,$H$3:$K$30018,3,FALSE)","v":" "},{"$f":"VLOOKUP('entries and results'!M666,$H$3:$K$30018,4,FALSE)","v":" "}," ","00:00",null,null,null,null,null,null,null,null,null,null,null,null,null,null,null,null,null,null,null,null,null,null,null,null,null,null,null,null,null,null,null,null,null,null,null,null,null,null,null,null,null,null,null,"00:00",664,0,"0000000","00","00","00"]
["SA02961","North Uist AAC","1993-04-21","Nikita Thompson","SA02961","Senior",".",665,{"$f":"VLOOKUP('entries and results'!G667,$A$3:$E$30018,4,FALSE)","v":" "},{"$f":"VLOOKUP('entries and results'!G667,$A$3:$F$30018,6,FALSE)","v":" "},{"$f":"VLOOKUP('entries and results'!G667,$A$3:$E$30018,2,FALSE)","v":" "},665,".",{"$f":"VLOOKUP('entries and results'!M667,$H$3:$K$30018,2,FALSE)","v":" "},{"$f":"VLOOKUP('entries and results'!M667,$H$3:$K$30018,3,FALSE)","v":" "},{"$f":"VLOOKUP('entries and results'!M667,$H$3:$K$30018,4,FALSE)","v":" "}," ","00:00",null,null,null,null,null,null,null,null,null,null,null,null,null,null,null,null,null,null,null,null,null,null,null,null,null,null,null,null,null,null,null,null,null,null,null,null,null,null,null,null,null,null,null,"00:00",665,0,"0000000","00","00","00"]
["SA02964","Orkney AC","1993-10-06","Jamie Firth","SA02964","Under 17",".",666,{"$f":"VLOOKUP('entries and results'!G668,$A$3:$E$30018,4,FALSE)","v":" "},{"$f":"VLOOKUP('entries and results'!G668,$A$3:$F$30018,6,FALSE)","v":" "},{"$f":"VLOOKUP('entries and results'!G668,$A$3:$E$30018,2,FALSE)","v":" "},666,".",{"$f":"VLOOKUP('entries and results'!M668,$H$3:$K$30018,2,FALSE)","v":" "},{"$f":"VLOOKUP('entries and results'!M668,$H$3:$K$30018,3,FALSE)","v":" "},{"$f":"VLOOKUP('entries and results'!M668,$H$3:$K$30018,4,FALSE)","v":" "}," ","00:00",null,null,null,null,null,null,null,null,null,null,null,null,null,null,null,null,null,null,null,null,null,null,null,null,null,null,null,null,null,null,null,null,null,null,null,null,null,null,null,null,null,null,null,"00:00",666,0,"0000000","00","00","00"]
["SA02966","Orkney AC","1993-01-26","Carolynn Leslie","SA02966","Senior",".",667,{"$f":"VLOOKUP('entries and results'!G669,$A$3:$E$30018,4,FALSE)","v":" "},{"$f":"VLOOKUP('entries and results'!G669,$A$3:$F$30018,6,FALSE)","v":" "},{"$f":"VLOOKUP('entries and results'!G669,$A$3:$E$30018,2,FALSE)","v":" "},667,".",{"$f":"VLOOKUP('entries and results'!M669,$H$3:$K$30018,2,FALSE)","v":" "},{"$f":"VLOOKUP('entries and results'!M669,$H$3:$K$30018,3,FALSE)","v":" "},{"$f":"VLOOKUP('entries and results'!M669,$H$3:$K$30018,4,FALSE)","v":" "}," ","00:00",null,null,null,null,null,null,null,null,null,null,null,null,null,null,null,null,null,null,null,null,null,null,null,null,null,null,null,null,null,null,null,null,null,null,null,null,null,null,null,null,null,null,null,"00:00",667,0,"0000000","00","00","00"]
["SA02967","Orkney AC","1995-04-11","Rhian MacKay","SA02967","Under 17",".",668,{"$f":"VLOOKUP('entries and results'!G670,$A$3:$E$30018,4,FALSE)","v":" "},{"$f":"VLOOKUP('entries and results'!G670,$A$3:$F$30018,6,FALSE)","v":" "},{"$f":"VLOOKUP('entries and results'!G670,$A$3:$E$30018,2,FALSE)","v":" "},668,".",{"$f":"VLOOKUP('entries and results'!M670,$H$3:$K$30018,2,FALSE)","v":" "},{"$f":"VLOOKUP('entries and results'!M670,$H$3:$K$30018,3,FALSE)","v":" "},{"$f":"VLOOKUP('entries and results'!M670,$H$3:$K$30018,4,FALSE)","v":" "}," ","00:00",null,null,null,null,null,null,null,null,null,null,null,null,null,null,null,null,null,null,null,null,null,null,null,null,null,null,null,null,null,null,null,null,null,null,null,null,null,null,null,null,null,null,null,{"$f":"CONCATENATE(BO670,\":\",BP670)","v":"00:00"},668,0,"0000000","00","00","00"]
["SA02972","Orkney AC","1991-09-24","Callum Stevenson","SA02972","Senior",".",669,{"$f":"VLOOKUP('entries and results'!G671,$A$3:$E$30018,4,FALSE)","v":" "},{"$f":"VLOOKUP('entries and results'!G671,$A$3:$F$30018,6,FALSE)","v":" "},{"$f":"VLOOKUP('entries and results'!G671,$A$3:$E$30018,2,FALSE)","v":" "},669,".",{"$f":"VLOOKUP('entries and results'!M671,$H$3:$K$30018,2,FALSE)","v":" "},{"$f":"VLOOKUP('entries and results'!M671,$H$3:$K$30018,3,FALSE)","v":" "},{"$f":"VLOOKUP('entries and results'!M671,$H$3:$K$30018,4,FALSE)","v":" "}," ","00:00",null,null,null,null,null,null,null,null,null,null,null,null,null,null,null,null,null,null,null,null,null,null,null,null,null,null,null,null,null,null,null,null,null,null,null,null,null,null,null,null,null,null,null,"00:00",669,0,"0000000","00","00","00"]
["SA02974","Orkney AC","1991-11-04","Claire Wilson","SA02974","Senior",".",670,{"$f":"VLOOKUP('entries and results'!G672,$A$3:$E$30018,4,FALSE)","v":" "},{"$f":"VLOOKUP('entries and results'!G672,$A$3:$F$30018,6,FALSE)","v":" "},{"$f":"VLOOKUP('entries and results'!G672,$A$3:$E$30018,2,FALSE)","v":" "},670,".",{"$f":"VLOOKUP('entries and results'!M672,$H$3:$K$30018,2,FALSE)","v":" "},{"$f":"VLOOKUP('entries and results'!M672,$H$3:$K$30018,3,FALSE)","v":" "},{"$f":"VLOOKUP('entries and results'!M672,$H$3:$K$30018,4,FALSE)","v":" "}," ","00:00",null,null,null,null,null,null,null,null,null,null,null,null,null,null,null,null,null,null,null,null,null,null,null,null,null,null,null,null,null,null,null,null,null,null,null,null,null,null,null,null,null,null,null,"00:00",670,0,"0000000","00","00","00"]
["SA02975","Perth Strathtay Harriers","1992-01-17","Cara Anderson","SA02975","Senior",".",671,{"$f":"VLOOKUP('entries and results'!G673,$A$3:$E$30018,4,FALSE)","v":" "},{"$f":"VLOOKUP('entries and results'!G673,$A$3:$F$30018,6,FALSE)","v":" "},{"$f":"VLOOKUP('entries and results'!G673,$A$3:$E$30018,2,FALSE)","v":" "},671,".",{"$f":"VLOOKUP('entries and results'!M673,$H$3:$K$30018,2,FALSE)","v":" "},{"$f":"VLOOKUP('entries and results'!M673,$H$3:$K$30018,3,FALSE)","v":" "},{"$f":"VLOOKUP('entries and results'!M673,$H$3:$K$30018,4,FALSE)","v":" "}," ","00:00",null,null,null,null,null,null,null,null,null,null,null,null,null,null,null,null,null,null,null,null,null,null,null,null,null,null,null,null,null,null,null,null,null,null,null,null,null,null,null,null,null,null,null,"00:00",671,0,"0000000","00","00","00"]
["SA02978","Perth Strathtay Harriers","1996-04-05","Dean Byrne","SA02978","Under 15",".",672,{"$f":"VLOOKUP('entries and results'!G674,$A$3:$E$30018,4,FALSE)","v":" "},{"$f":"VLOOKUP('entries and results'!G674,$A$3:$F$30018,6,FALSE)","v":" "},{"$f":"VLOOKUP('entries and results'!G674,$A$3:$E$30018,2,FALSE)","v":" "},672,".",{"$f":"VLOOKUP('entries and results'!M674,$H$3:$K$30018,2,FALSE)","v":" "},{"$f":"VLOOKUP('entries and results'!M674,$H$3:$K$30018,3,FALSE)","v":" "},{"$f":"VLOOKUP('entries and results'!M674,$H$3:$K$30018,4,FALSE)","v":" "}," ","00:00",null,null,null,null,null,null,null,null,null,null,null,null,null,null,null,null,null,null,null,null,null,null,null,null,null,null,null,null,null,null,null,null,null,null,null,null,null,null,null,null,null,null,null,"00:00",672,0,"0000000","00","00","00"]
["SA02983","Perth Strathtay Harriers","1994-09-28","Alex Jardine","SA02983","Under 17",".",673,{"$f":"VLOOKUP('entries and results'!G675,$A$3:$E$30018,4,FALSE)","v":" "},{"$f":"VLOOKUP('entries and results'!G675,$A$3:$F$30018,6,FALSE)","v":" "},{"$f":"VLOOKUP('entries and results'!G675,$A$3:$E$30018,2,FALSE)","v":" "},673,".",{"$f":"VLOOKUP('entries and results'!M675,$H$3:$K$30018,2,FALSE)","v":" "},{"$f":"VLOOKUP('entries and results'!M675,$H$3:$K$30018,3,FALSE)","v":" "},{"$f":"VLOOKUP('entries and results'!M675,$H$3:$K$30018,4,FALSE)","v":" "}," ","00:00",null,null,null,null,null,null,null,null,null,null,null,null,null,null,null,null,null,null,null,null,null,null,null,null,null,null,null,null,null,null,null,null,null,null,null,null,null,null,null,null,null,null,null,"00:00",673,{"$f":"SUMIF($H$3:$H$601,$BK675,$Q$3:$Q$601)","v":0},"0000000","00","00","00"]
["SA02990","Perth Strathtay Harriers","1994-10-04","Sarah McLaren","SA02990","Under 17",".",674,{"$f":"VLOOKUP('entries and results'!G676,$A$3:$E$30018,4,FALSE)","v":" "},{"$f":"VLOOKUP('entries and results'!G676,$A$3:$F$30018,6,FALSE)","v":" "},{"$f":"VLOOKUP('entries and results'!G676,$A$3:$E$30018,2,FALSE)","v":" "},674,".",{"$f":"VLOOKUP('entries and results'!M676,$H$3:$K$30018,2,FALSE)","v":" "},{"$f":"VLOOKUP('entries and results'!M676,$H$3:$K$30018,3,FALSE)","v":" "},{"$f":"VLOOKUP('entries and results'!M676,$H$3:$K$30018,4,FALSE)","v":" "}," ","00:00",null,null,null,null,null,null,null,null,null,null,null,null,null,null,null,null,null,null,null,null,null,null,null,null,null,null,null,null,null,null,null,null,null,null,null,null,null,null,null,null,null,null,null,"00:00",674,0,"0000000","00","00","00"]
["SA02992","Central AC","1992-09-22","Craig Ritchie","SA02992","Senior",".",675,{"$f":"VLOOKUP('entries and results'!G677,$A$3:$E$30018,4,FALSE)","v":" "},{"$f":"VLOOKUP('entries and results'!G677,$A$3:$F$30018,6,FALSE)","v":" "},{"$f":"VLOOKUP('entries and results'!G677,$A$3:$E$30018,2,FALSE)","v":" "},675,".",{"$f":"VLOOKUP('entries and results'!M677,$H$3:$K$30018,2,FALSE)","v":" "},{"$f":"VLOOKUP('entries and results'!M677,$H$3:$K$30018,3,FALSE)","v":" "},{"$f":"VLOOKUP('entries and results'!M677,$H$3:$K$30018,4,FALSE)","v":" "}," ","00:00",null,null,null,null,null,null,null,null,null,null,null,null,null,null,null,null,null,null,null,null,null,null,null,null,null,null,null,null,null,null,null,null,null,null,null,null,null,null,null,null,null,null,null,"00:00",675,0,"0000000","00","00","00"]
["SA03002","Edinburgh AC","1994-06-01","Bethanie Finlayson","SA03002","Under 17",".",676,{"$f":"VLOOKUP('entries and results'!G678,$A$3:$E$30018,4,FALSE)","v":" "},{"$f":"VLOOKUP('entries and results'!G678,$A$3:$F$30018,6,FALSE)","v":" "},{"$f":"VLOOKUP('entries and results'!G678,$A$3:$E$30018,2,FALSE)","v":" "},676,".",{"$f":"VLOOKUP('entries and results'!M678,$H$3:$K$30018,2,FALSE)","v":" "},{"$f":"VLOOKUP('entries and results'!M678,$H$3:$K$30018,3,FALSE)","v":" "},{"$f":"VLOOKUP('entries and results'!M678,$H$3:$K$30018,4,FALSE)","v":" "}," ","00:00",null,null,null,null,null,null,null,null,null,null,null,null,null,null,null,null,null,null,null,null,null,null,null,null,null,null,null,null,null,null,null,null,null,null,null,null,null,null,null,null,null,null,null,"00:00",676,0,{"$f":"CONCATENATE($BG$2,$BL678)","v":"0000000"},{"$f":"MID(RIGHT($BM678,6),1,2)","v":"00"},{"$f":"MID(RIGHT($BM678,6),3,2)","v":"00"},{"$f":"MID(RIGHT($BM678,6),5,2)","v":"00"}]
["SA03007","Pitreavie AAC","1995-02-10","Lewis Hunter","SA03007","Under 17",".",677,{"$f":"VLOOKUP('entries and results'!G679,$A$3:$E$30018,4,FALSE)","v":" "},{"$f":"VLOOKUP('entries and results'!G679,$A$3:$F$30018,6,FALSE)","v":" "},{"$f":"VLOOKUP('entries and results'!G679,$A$3:$E$30018,2,FALSE)","v":" "},677,".",{"$f":"VLOOKUP('entries and results'!M679,$H$3:$K$30018,2,FALSE)","v":" "},{"$f":"VLOOKUP('entries and results'!M679,$H$3:$K$30018,3,FALSE)","v":" "},{"$f":"VLOOKUP('entries and results'!M679,$H$3:$K$30018,4,FALSE)","v":" "}," ","00:00",null,null,null,null,null,null,null,null,null,null,null,null,null,null,null,null,null,null,null,null,null,null,null,null,null,null,null,null,null,null,null,null,null,null,null,null,null,null,null,null,null,null,null,"00:00",677,0,"0000000","00","00","00"]
["SA03010","Pitreavie AAC","1994-06-09","Luke Kelly","SA03010","Under 17",".",678,{"$f":"VLOOKUP('entries and results'!G680,$A$3:$E$30018,4,FALSE)","v":" "},{"$f":"VLOOKUP('entries and results'!G680,$A$3:$F$30018,6,FALSE)","v":" "},{"$f":"VLOOKUP('entries and results'!G680,$A$3:$E$30018,2,FALSE)","v":" "},678,".",{"$f":"VLOOKUP('entries and results'!M680,$H$3:$K$30018,2,FALSE)","v":" "},{"$f":"VLOOKUP('entries and results'!M680,$H$3:$K$30018,3,FALSE)","v":" "},{"$f":"VLOOKUP('entries and results'!M680,$H$3:$K$30018,4,FALSE)","v":" "}," ","00:00",null,null,null,null,null,null,null,null,null,null,null,null,null,null,null,null,null,null,null,null,null,null,null,null,null,null,null,null,null,null,null,null,null,null,null,null,null,null,null,null,null,null,null,"00:00",678,0,"0000000","00","00","00"]
["SA03013","Pitreavie AAC","1993-06-17","Lisa Mcalpine","SA03013","Senior",".",679,{"$f":"VLOOKUP('entries and results'!G681,$A$3:$E$30018,4,FALSE)","v":" "},{"$f":"VLOOKUP('entries and results'!G681,$A$3:$F$30018,6,FALSE)","v":" "},{"$f":"VLOOKUP('entries and results'!G681,$A$3:$E$30018,2,FALSE)","v":" "},679,".",{"$f":"VLOOKUP('entries and results'!M681,$H$3:$K$30018,2,FALSE)","v":" "},{"$f":"VLOOKUP('entries and results'!M681,$H$3:$K$30018,3,FALSE)","v":" "},{"$f":"VLOOKUP('entries and results'!M681,$H$3:$K$30018,4,FALSE)","v":" "}," ","00:00",null,null,null,null,null,null,null,null,null,null,null,null,null,null,null,null,null,null,null,null,null,null,null,null,null,null,null,null,null,null,null,null,null,null,null,null,null,null,null,null,null,null,null,"00:00",679,0,"0000000","00","00","00"]
["SA03016","Pitreavie AAC","1994-04-25","Joseph Millar","SA03016","Under 17",".",680,{"$f":"VLOOKUP('entries and results'!G682,$A$3:$E$30018,4,FALSE)","v":" "},{"$f":"VLOOKUP('entries and results'!G682,$A$3:$F$30018,6,FALSE)","v":" "},{"$f":"VLOOKUP('entries and results'!G682,$A$3:$E$30018,2,FALSE)","v":" "},680,".",{"$f":"VLOOKUP('entries and results'!M682,$H$3:$K$30018,2,FALSE)","v":" "},{"$f":"VLOOKUP('entries and results'!M682,$H$3:$K$30018,3,FALSE)","v":" "},{"$f":"VLOOKUP('entries and results'!M682,$H$3:$K$30018,4,FALSE)","v":" "}," ","00:00",null,null,null,null,null,null,null,null,null,null,null,null,null,null,null,null,null,null,null,null,null,null,null,null,null,null,null,null,null,null,null,null,null,null,null,null,null,null,null,null,null,null,null,"00:00",680,0,"0000000","00","00","00"]
["SA03029","Portobello Running Club","1962-03-24","Sandra Murray","SA03029","Vet",".",681,{"$f":"VLOOKUP('entries and results'!G683,$A$3:$E$30018,4,FALSE)","v":" "},{"$f":"VLOOKUP('entries and results'!G683,$A$3:$F$30018,6,FALSE)","v":" "},{"$f":"VLOOKUP('entries and results'!G683,$A$3:$E$30018,2,FALSE)","v":" "},681,".",{"$f":"VLOOKUP('entries and results'!M683,$H$3:$K$30018,2,FALSE)","v":" "},{"$f":"VLOOKUP('entries and results'!M683,$H$3:$K$30018,3,FALSE)","v":" "},{"$f":"VLOOKUP('entries and results'!M683,$H$3:$K$30018,4,FALSE)","v":" "}," ","00:00",null,null,null,null,null,null,null,null,null,null,null,null,null,null,null,null,null,null,null,null,null,null,null,null,null,null,null,null,null,null,null,null,null,null,null,null,null,null,null,null,null,null,null,"00:00",681,0,"0000000","00","00","00"]
["SA03032","Ron Hill Cambuslang Harriers","1993-09-26","Lucy Deeny","SA03032","Under 17",".",682,{"$f":"VLOOKUP('entries and results'!G684,$A$3:$E$30018,4,FALSE)","v":" "},{"$f":"VLOOKUP('entries and results'!G684,$A$3:$F$30018,6,FALSE)","v":" "},{"$f":"VLOOKUP('entries and results'!G684,$A$3:$E$30018,2,FALSE)","v":" "},682,".",{"$f":"VLOOKUP('entries and results'!M684,$H$3:$K$30018,2,FALSE)","v":" "},{"$f":"VLOOKUP('entries and results'!M684,$H$3:$K$30018,3,FALSE)","v":" "},{"$f":"VLOOKUP('entries and results'!M684,$H$3:$K$30018,4,FALSE)","v":" "}," ","00:00",null,null,null,null,null,null,null,null,null,null,null,null,null,null,null,null,null,null,null,null,null,null,null,null,null,null,null,null,null,null,null,null,null,null,null,null,null,null,null,null,null,null,null,"00:00",682,0,"0000000","00","00","00"]
["SA03045","East Sutherland AC","1992-05-04","Cara Fraser","SA03045","Senior",".",683,{"$f":"VLOOKUP('entries and results'!G685,$A$3:$E$30018,4,FALSE)","v":" "},{"$f":"VLOOKUP('entries and results'!G685,$A$3:$F$30018,6,FALSE)","v":" "},{"$f":"VLOOKUP('entries and results'!G685,$A$3:$E$30018,2,FALSE)","v":" "},683,".",{"$f":"VLOOKUP('entries and results'!M685,$H$3:$K$30018,2,FALSE)","v":" "},{"$f":"VLOOKUP('entries and results'!M685,$H$3:$K$30018,3,FALSE)","v":" "},{"$f":"VLOOKUP('entries and results'!M685,$H$3:$K$30018,4,FALSE)","v":" "}," ","00:00",null,null,null,null,null,null,null,null,null,null,null,null,null,null,null,null,null,null,null,null,null,null,null,null,null,null,null,null,null,null,null,null,null,null,null,null,null,null,null,null,null,null,null,"00:00",683,0,"0000000","00","00","00"]
["SA03058","Shettleston Harriers","1996-09-18","Ryan Flanagan","SA03058","Under 15",".",684,{"$f":"VLOOKUP('entries and results'!G686,$A$3:$E$30018,4,FALSE)","v":" "},{"$f":"VLOOKUP('entries and results'!G686,$A$3:$F$30018,6,FALSE)","v":" "},{"$f":"VLOOKUP('entries and results'!G686,$A$3:$E$30018,2,FALSE)","v":" "},684,".",{"$f":"VLOOKUP('entries and results'!M686,$H$3:$K$30018,2,FALSE)","v":" "},{"$f":"VLOOKUP('entries and results'!M686,$H$3:$K$30018,3,FALSE)","v":" "},{"$f":"VLOOKUP('entries and results'!M686,$H$3:$K$30018,4,FALSE)","v":" "}," ","00:00",null,null,null,null,null,null,null,null,null,null,null,null,null,null,null,null,null,null,null,null,null,null,null,null,null,null,null,null,null,null,null,null,null,null,null,null,null,null,null,null,null,null,null,"00:00",684,0,"0000000","00","00","00"]
["SA03067","Shettleston Harriers","1996-05-19","Nicole McCann","SA03067","Under 15",".",685,{"$f":"VLOOKUP('entries and results'!G687,$A$3:$E$30018,4,FALSE)","v":" "},{"$f":"VLOOKUP('entries and results'!G687,$A$3:$F$30018,6,FALSE)","v":" "},{"$f":"VLOOKUP('entries and results'!G687,$A$3:$E$30018,2,FALSE)","v":" "},685,".",{"$f":"VLOOKUP('entries and results'!M687,$H$3:$K$30018,2,FALSE)","v":" "},{"$f":"VLOOKUP('entries and results'!M687,$H$3:$K$30018,3,FALSE)","v":" "},{"$f":"VLOOKUP('entries and results'!M687,$H$3:$K$30018,4,FALSE)","v":" "}," ","00:00",null,null,null,null,null,null,null,null,null,null,null,null,null,null,null,null,null,null,null,null,null,null,null,null,null,null,null,null,null,null,null,null,null,null,null,null,null,null,null,null,null,null,null,"00:00",685,0,"0000000","00","00","00"]
["SA03071","Shettleston Harriers","1996-11-16","Murray McGiven","SA03071","Under 15",".",686,{"$f":"VLOOKUP('entries and results'!G688,$A$3:$E$30018,4,FALSE)","v":" "},{"$f":"VLOOKUP('entries and results'!G688,$A$3:$F$30018,6,FALSE)","v":" "},{"$f":"VLOOKUP('entries and results'!G688,$A$3:$E$30018,2,FALSE)","v":" "},686,".",{"$f":"VLOOKUP('entries and results'!M688,$H$3:$K$30018,2,FALSE)","v":" "},{"$f":"VLOOKUP('entries and results'!M688,$H$3:$K$30018,3,FALSE)","v":" "},{"$f":"VLOOKUP('entries and results'!M688,$H$3:$K$30018,4,FALSE)","v":" "}," ","00:00",null,null,null,null,null,null,null,null,null,null,null,null,null,null,null,null,null,null,null,null,null,null,null,null,null,null,null,null,null,null,null,null,null,null,null,null,null,null,null,null,null,null,null,"00:00",686,0,"0000000","00","00","00"]
["SA03074","Shettleston Harriers","1994-12-17","Amanda Monaghan","SA03074","Under 17",".",687,{"$f":"VLOOKUP('entries and results'!G689,$A$3:$E$30018,4,FALSE)","v":" "},{"$f":"VLOOKUP('entries and results'!G689,$A$3:$F$30018,6,FALSE)","v":" "},{"$f":"VLOOKUP('entries and results'!G689,$A$3:$E$30018,2,FALSE)","v":" "},687,".",{"$f":"VLOOKUP('entries and results'!M689,$H$3:$K$30018,2,FALSE)","v":" "},{"$f":"VLOOKUP('entries and results'!M689,$H$3:$K$30018,3,FALSE)","v":" "},{"$f":"VLOOKUP('entries and results'!M689,$H$3:$K$30018,4,FALSE)","v":" "}," ","00:00",null,null,null,null,null,null,null,null,null,null,null,null,null,null,null,null,null,null,null,null,null,null,null,null,null,null,null,null,null,null,null,null,null,null,null,null,null,null,null,null,null,null,null,"00:00",687,0,"0000000","00","00","00"]
["SA03081","Shettleston Harriers","1993-12-15","Nicky Stone","SA03081","Under 17",".",688,{"$f":"VLOOKUP('entries and results'!G690,$A$3:$E$30018,4,FALSE)","v":" "},{"$f":"VLOOKUP('entries and results'!G690,$A$3:$F$30018,6,FALSE)","v":" "},{"$f":"VLOOKUP('entries and results'!G690,$A$3:$E$30018,2,FALSE)","v":" "},688,".",{"$f":"VLOOKUP('entries and results'!M690,$H$3:$K$30018,2,FALSE)","v":" "},{"$f":"VLOOKUP('entries and results'!M690,$H$3:$K$30018,3,FALSE)","v":" "},{"$f":"VLOOKUP('entries and results'!M690,$H$3:$K$30018,4,FALSE)","v":" "}," ","00:00",null,null,null,null,null,null,null,null,null,null,null,null,null,null,null,null,null,null,null,null,null,null,null,null,null,null,null,null,null,null,null,null,null,null,null,null,null,null,null,null,null,null,null,"00:00",688,0,"0000000","00","00","00"]
["SA03082","Shettleston Harriers","1996-11-25","Andrew Taylor","SA03082","Under 15",".",689,{"$f":"VLOOKUP('entries and results'!G691,$A$3:$E$30018,4,FALSE)","v":" "},{"$f":"VLOOKUP('entries and results'!G691,$A$3:$F$30018,6,FALSE)","v":" "},{"$f":"VLOOKUP('entries and results'!G691,$A$3:$E$30018,2,FALSE)","v":" "},689,".",{"$f":"VLOOKUP('entries and results'!M691,$H$3:$K$30018,2,FALSE)","v":" "},{"$f":"VLOOKUP('entries and results'!M691,$H$3:$K$30018,3,FALSE)","v":" "},{"$f":"VLOOKUP('entries and results'!M691,$H$3:$K$30018,4,FALSE)","v":" "}," ","00:00",null,null,null,null,null,null,null,null,null,null,null,null,null,null,null,null,null,null,null,null,null,null,null,null,null,null,null,null,null,null,null,null,null,null,null,null,null,null,null,null,null,null,null,"00:00",689,0,"0000000","00","00","00"]
["SA03083","Shettleston Harriers","1993-10-22","David Taylor","SA03083","Under 17",".",690,{"$f":"VLOOKUP('entries and results'!G692,$A$3:$E$30018,4,FALSE)","v":" "},{"$f":"VLOOKUP('entries and results'!G692,$A$3:$F$30018,6,FALSE)","v":" "},{"$f":"VLOOKUP('entries and results'!G692,$A$3:$E$30018,2,FALSE)","v":" "},690,".",{"$f":"VLOOKUP('entries and results'!M692,$H$3:$K$30018,2,FALSE)","v":" "},{"$f":"VLOOKUP('entries and results'!M692,$H$3:$K$30018,3,FALSE)","v":" "},{"$f":"VLOOKUP('entries and results'!M692,$H$3:$K$30018,4,FALSE)","v":" "}," ","00:00",null,null,null,null,null,null,null,null,null,null,null,null,null,null,null,null,null,null,null,null,null,null,null,null,null,null,null,null,null,null,null,null,null,null,null,null,null,null,null,null,null,null,null,"00:00",690,0,"0000000","00","00","00"]
["SA03084","Shettleston Harriers","1995-10-06","Lisa Thomson","SA03084","Under 15",".",691,{"$f":"VLOOKUP('entries and results'!G693,$A$3:$E$30018,4,FALSE)","v":" "},{"$f":"VLOOKUP('entries and results'!G693,$A$3:$F$30018,6,FALSE)","v":" "},{"$f":"VLOOKUP('entries and results'!G693,$A$3:$E$30018,2,FALSE)","v":" "},691,".",{"$f":"VLOOKUP('entries and results'!M693,$H$3:$K$30018,2,FALSE)","v":" "},{"$f":"VLOOKUP('entries and results'!M693,$H$3:$K$30018,3,FALSE)","v":" "},{"$f":"VLOOKUP('entries and results'!M693,$H$3:$K$30018,4,FALSE)","v":" "}," ","00:00",null,null,null,null,null,null,null,null,null,null,null,null,null,null,null,null,null,null,null,null,null,null,null,null,null,null,null,null,null,null,null,null,null,null,null,null,null,null,null,null,null,null,null,"00:00",691,0,"0000000","00","00","00"]
["SA03091","Stewartry AC","1996-06-09","Kirsten Gair","SA03091","Under 15",".",692,{"$f":"VLOOKUP('entries and results'!G694,$A$3:$E$30018,4,FALSE)","v":" "},{"$f":"VLOOKUP('entries and results'!G694,$A$3:$F$30018,6,FALSE)","v":" "},{"$f":"VLOOKUP('entries and results'!G694,$A$3:$E$30018,2,FALSE)","v":" "},692,".",{"$f":"VLOOKUP('entries and results'!M694,$H$3:$K$30018,2,FALSE)","v":" "},{"$f":"VLOOKUP('entries and results'!M694,$H$3:$K$30018,3,FALSE)","v":" "},{"$f":"VLOOKUP('entries and results'!M694,$H$3:$K$30018,4,FALSE)","v":" "}," ","00:00",null,null,null,null,null,null,null,null,null,null,null,null,null,null,null,null,null,null,null,null,null,null,null,null,null,null,null,null,null,null,null,null,null,null,null,null,null,null,null,null,null,null,null,"00:00",692,0,"0000000","00","00","00"]
["SA03103","Stornoway Running & AC","1994-09-23","Rebecca Munro","SA03103","Under 17",".",693,{"$f":"VLOOKUP('entries and results'!G695,$A$3:$E$30018,4,FALSE)","v":" "},{"$f":"VLOOKUP('entries and results'!G695,$A$3:$F$30018,6,FALSE)","v":" "},{"$f":"VLOOKUP('entries and results'!G695,$A$3:$E$30018,2,FALSE)","v":" "},693,".",{"$f":"VLOOKUP('entries and results'!M695,$H$3:$K$30018,2,FALSE)","v":" "},{"$f":"VLOOKUP('entries and results'!M695,$H$3:$K$30018,3,FALSE)","v":" "},{"$f":"VLOOKUP('entries and results'!M695,$H$3:$K$30018,4,FALSE)","v":" "}," ","00:00",null,null,null,null,null,null,null,null,null,null,null,null,null,null,null,null,null,null,null,null,null,null,null,null,null,null,null,null,null,null,null,null,null,null,null,null,null,null,null,null,null,null,null,"00:00",693,0,"0000000","00","00","00"]
["SA03106","Stornoway Running & AC","1992-08-28","Pat Sattaphol","SA03106","Senior",".",694,{"$f":"VLOOKUP('entries and results'!G696,$A$3:$E$30018,4,FALSE)","v":" "},{"$f":"VLOOKUP('entries and results'!G696,$A$3:$F$30018,6,FALSE)","v":" "},{"$f":"VLOOKUP('entries and results'!G696,$A$3:$E$30018,2,FALSE)","v":" "},694,".",{"$f":"VLOOKUP('entries and results'!M696,$H$3:$K$30018,2,FALSE)","v":" "},{"$f":"VLOOKUP('entries and results'!M696,$H$3:$K$30018,3,FALSE)","v":" "},{"$f":"VLOOKUP('entries and results'!M696,$H$3:$K$30018,4,FALSE)","v":" "}," ","00:00",null,null,null,null,null,null,null,null,null,null,null,null,null,null,null,null,null,null,null,null,null,null,null,null,null,null,null,null,null,null,null,null,null,null,null,null,null,null,null,null,null,null,null,"00:00",694,0,"0000000","00","00","00"]
["SA03107","Stornoway Running & AC","1993-10-02","Josh Sinclair","SA03107","Under 17",".",695,{"$f":"VLOOKUP('entries and results'!G697,$A$3:$E$30018,4,FALSE)","v":" "},{"$f":"VLOOKUP('entries and results'!G697,$A$3:$F$30018,6,FALSE)","v":" "},{"$f":"VLOOKUP('entries and results'!G697,$A$3:$E$30018,2,FALSE)","v":" "},695,".",{"$f":"VLOOKUP('entries and results'!M697,$H$3:$K$30018,2,FALSE)","v":" "},{"$f":"VLOOKUP('entries and results'!M697,$H$3:$K$30018,3,FALSE)","v":" "},{"$f":"VLOOKUP('entries and results'!M697,$H$3:$K$30018,4,FALSE)","v":" "}," ","00:00",null,null,null,null,null,null,null,null,null,null,null,null,null,null,null,null,null,null,null,null,null,null,null,null,null,null,null,null,null,null,null,null,null,null,null,null,null,null,null,null,null,null,null,"00:00",695,0,"0000000","00","00","00"]
["SA03109","Tonbridge A.C.","1990-02-18","Samuel Bradley","SA03109","Senior",".",696,{"$f":"VLOOKUP('entries and results'!G698,$A$3:$E$30018,4,FALSE)","v":" "},{"$f":"VLOOKUP('entries and results'!G698,$A$3:$F$30018,6,FALSE)","v":" "},{"$f":"VLOOKUP('entries and results'!G698,$A$3:$E$30018,2,FALSE)","v":" "},696,".",{"$f":"VLOOKUP('entries and results'!M698,$H$3:$K$30018,2,FALSE)","v":" "},{"$f":"VLOOKUP('entries and results'!M698,$H$3:$K$30018,3,FALSE)","v":" "},{"$f":"VLOOKUP('entries and results'!M698,$H$3:$K$30018,4,FALSE)","v":" "}," ","00:00",null,null,null,null,null,null,null,null,null,null,null,null,null,null,null,null,null,null,null,null,null,null,null,null,null,null,null,null,null,null,null,null,null,null,null,null,null,null,null,null,null,null,null,"00:00",696,0,"0000000","00","00","00"]
["SA03152","Whitemoss AAC","1997-11-10","Brendan Owen","SA03152","Under 13",".",697,{"$f":"VLOOKUP('entries and results'!G699,$A$3:$E$30018,4,FALSE)","v":" "},{"$f":"VLOOKUP('entries and results'!G699,$A$3:$F$30018,6,FALSE)","v":" "},{"$f":"VLOOKUP('entries and results'!G699,$A$3:$E$30018,2,FALSE)","v":" "},697,".",{"$f":"VLOOKUP('entries and results'!M699,$H$3:$K$30018,2,FALSE)","v":" "},{"$f":"VLOOKUP('entries and results'!M699,$H$3:$K$30018,3,FALSE)","v":" "},{"$f":"VLOOKUP('entries and results'!M699,$H$3:$K$30018,4,FALSE)","v":" "}," ","00:00",null,null,null,null,null,null,null,null,null,null,null,null,null,null,null,null,null,null,null,null,null,null,null,null,null,null,null,null,null,null,null,null,null,null,null,null,null,null,null,null,null,null,null,"00:00",697,0,"0000000","00","00","00"]
["SA03155","Whitemoss AAC","1996-11-25","Calum Walker","SA03155","Under 15",".",698,{"$f":"VLOOKUP('entries and results'!G700,$A$3:$E$30018,4,FALSE)","v":" "},{"$f":"VLOOKUP('entries and results'!G700,$A$3:$F$30018,6,FALSE)","v":" "},{"$f":"VLOOKUP('entries and results'!G700,$A$3:$E$30018,2,FALSE)","v":" "},698,".",{"$f":"VLOOKUP('entries and results'!M700,$H$3:$K$30018,2,FALSE)","v":" "},{"$f":"VLOOKUP('entries and results'!M700,$H$3:$K$30018,3,FALSE)","v":" "},{"$f":"VLOOKUP('entries and results'!M700,$H$3:$K$30018,4,FALSE)","v":" "}," ","00:00",null,null,null,null,null,null,null,null,null,null,null,null,null,null,null,null,null,null,null,null,null,null,null,null,null,null,null,null,null,null,null,null,null,null,null,null,null,null,null,null,null,null,null,"00:00",698,0,"0000000","00","00","00"]
["SA03219","Fife AC","1995-10-08","Liam Sleigh","SA03219","Under 15",".",699,{"$f":"VLOOKUP('entries and results'!G701,$A$3:$E$30018,4,FALSE)","v":" "},{"$f":"VLOOKUP('entries and results'!G701,$A$3:$F$30018,6,FALSE)","v":" "},{"$f":"VLOOKUP('entries and results'!G701,$A$3:$E$30018,2,FALSE)","v":" "},699,".",{"$f":"VLOOKUP('entries and results'!M701,$H$3:$K$30018,2,FALSE)","v":" "},{"$f":"VLOOKUP('entries and results'!M701,$H$3:$K$30018,3,FALSE)","v":" "},{"$f":"VLOOKUP('entries and results'!M701,$H$3:$K$30018,4,FALSE)","v":" "}," ","00:00",null,null,null,null,null,null,null,null,null,null,null,null,null,null,null,null,null,null,null,null,null,null,null,null,null,null,null,null,null,null,null,null,null,null,null,null,null,null,null,null,null,null,null,"00:00",699,0,"0000000","00","00","00"]
["SA03338","Pitreavie AAC","1992-07-16","Robyn Binnington","SA03338","Senior",".",700,{"$f":"VLOOKUP('entries and results'!G702,$A$3:$E$30018,4,FALSE)","v":" "},{"$f":"VLOOKUP('entries and results'!G702,$A$3:$F$30018,6,FALSE)","v":" "},{"$f":"VLOOKUP('entries and results'!G702,$A$3:$E$30018,2,FALSE)","v":" "},700,".",{"$f":"VLOOKUP('entries and results'!M702,$H$3:$K$30018,2,FALSE)","v":" "},{"$f":"VLOOKUP('entries and results'!M702,$H$3:$K$30018,3,FALSE)","v":" "},{"$f":"VLOOKUP('entries and results'!M702,$H$3:$K$30018,4,FALSE)","v":" "}," ","00:00",null,null,null,null,null,null,null,null,null,null,null,null,null,null,null,null,null,null,null,null,null,null,null,null,null,null,null,null,null,null,null,null,null,null,null,null,null,null,null,null,null,null,null,"00:00",700,0,"0000000","00","00","00"]
["SA03339","George Heriots School","1992-03-03","Gordon Revolta","SA03339","Senior",".",701,{"$f":"VLOOKUP('entries and results'!G703,$A$3:$E$30018,4,FALSE)","v":" "},{"$f":"VLOOKUP('entries and results'!G703,$A$3:$F$30018,6,FALSE)","v":" "},{"$f":"VLOOKUP('entries and results'!G703,$A$3:$E$30018,2,FALSE)","v":" "},701,".",{"$f":"VLOOKUP('entries and results'!M703,$H$3:$K$30018,2,FALSE)","v":" "},{"$f":"VLOOKUP('entries and results'!M703,$H$3:$K$30018,3,FALSE)","v":" "},{"$f":"VLOOKUP('entries and results'!M703,$H$3:$K$30018,4,FALSE)","v":" "}," ","00:00",null,null,null,null,null,null,null,null,null,null,null,null,null,null,null,null,null,null,null,null,null,null,null,null,null,null,null,null,null,null,null,null,null,null,null,null,null,null,null,null,null,null,null,"00:00",701,0,"0000000","00","00","00"]
["SA03474","Giffnock North AAC","1994-09-09","Stephanie Fairfield","SA03474","Under 17",".",702,{"$f":"VLOOKUP('entries and results'!G704,$A$3:$E$30018,4,FALSE)","v":" "},{"$f":"VLOOKUP('entries and results'!G704,$A$3:$F$30018,6,FALSE)","v":" "},{"$f":"VLOOKUP('entries and results'!G704,$A$3:$E$30018,2,FALSE)","v":" "},702,".",{"$f":"VLOOKUP('entries and results'!M704,$H$3:$K$30018,2,FALSE)","v":" "},{"$f":"VLOOKUP('entries and results'!M704,$H$3:$K$30018,3,FALSE)","v":" "},{"$f":"VLOOKUP('entries and results'!M704,$H$3:$K$30018,4,FALSE)","v":" "}," ","00:00",null,null,null,null,null,null,null,null,null,null,null,null,null,null,null,null,null,null,null,null,null,null,null,null,null,null,null,null,null,null,null,null,null,null,null,null,null,null,null,null,null,null,null,"00:00",702,0,"0000000","00","00","00"]
["SA03512","Dundee Hawkhill Harriers","1995-06-09","Jamie Crowe","SA03512","Under 17",".",703,{"$f":"VLOOKUP('entries and results'!G705,$A$3:$E$30018,4,FALSE)","v":" "},{"$f":"VLOOKUP('entries and results'!G705,$A$3:$F$30018,6,FALSE)","v":" "},{"$f":"VLOOKUP('entries and results'!G705,$A$3:$E$30018,2,FALSE)","v":" "},703,".",{"$f":"VLOOKUP('entries and results'!M705,$H$3:$K$30018,2,FALSE)","v":" "},{"$f":"VLOOKUP('entries and results'!M705,$H$3:$K$30018,3,FALSE)","v":" "},{"$f":"VLOOKUP('entries and results'!M705,$H$3:$K$30018,4,FALSE)","v":" "}," ","00:00",null,null,null,null,null,null,null,null,null,null,null,null,null,null,null,null,null,null,null,null,null,null,null,null,null,null,null,null,null,null,null,null,null,null,null,null,null,null,null,null,null,null,null,"00:00",703,0,"0000000","00","00","00"]
["SA03517","Shettleston Harriers","1994-10-16","Danielle McConway","SA03517","Under 17",".",704,{"$f":"VLOOKUP('entries and results'!G706,$A$3:$E$30018,4,FALSE)","v":" "},{"$f":"VLOOKUP('entries and results'!G706,$A$3:$F$30018,6,FALSE)","v":" "},{"$f":"VLOOKUP('entries and results'!G706,$A$3:$E$30018,2,FALSE)","v":" "},704,".",{"$f":"VLOOKUP('entries and results'!M706,$H$3:$K$30018,2,FALSE)","v":" "},{"$f":"VLOOKUP('entries and results'!M706,$H$3:$K$30018,3,FALSE)","v":" "},{"$f":"VLOOKUP('entries and results'!M706,$H$3:$K$30018,4,FALSE)","v":" "}," ","00:00",null,null,null,null,null,null,null,null,null,null,null,null,null,null,null,null,null,null,null,null,null,null,null,null,null,null,null,null,null,null,null,null,null,null,null,null,null,null,null,null,null,null,null,"00:00",704,0,"0000000","00","00","00"]
["SA03667","Fife AC","1994-07-06","Halina Rees","SA03667","Under 17",".",705,{"$f":"VLOOKUP('entries and results'!G707,$A$3:$E$30018,4,FALSE)","v":" "},{"$f":"VLOOKUP('entries and results'!G707,$A$3:$F$30018,6,FALSE)","v":" "},{"$f":"VLOOKUP('entries and results'!G707,$A$3:$E$30018,2,FALSE)","v":" "},705,".",{"$f":"VLOOKUP('entries and results'!M707,$H$3:$K$30018,2,FALSE)","v":" "},{"$f":"VLOOKUP('entries and results'!M707,$H$3:$K$30018,3,FALSE)","v":" "},{"$f":"VLOOKUP('entries and results'!M707,$H$3:$K$30018,4,FALSE)","v":" "}," ","00:00",null,null,null,null,null,null,null,null,null,null,null,null,null,null,null,null,null,null,null,null,null,null,null,null,null,null,null,null,null,null,null,null,null,null,null,null,null,null,null,null,null,null,null,"00:00",705,{"$f":"SUMIF($H$3:$H$601,$BK707,$Q$3:$Q$601)","v":0},"0000000","00","00","00"]
["SA03743","Shettleston Harriers","1995-08-19","Brian Stuart","SA03743","Under 17",".",706,{"$f":"VLOOKUP('entries and results'!G708,$A$3:$E$30018,4,FALSE)","v":" "},{"$f":"VLOOKUP('entries and results'!G708,$A$3:$F$30018,6,FALSE)","v":" "},{"$f":"VLOOKUP('entries and results'!G708,$A$3:$E$30018,2,FALSE)","v":" "},706,".",{"$f":"VLOOKUP('entries and results'!M708,$H$3:$K$30018,2,FALSE)","v":" "},{"$f":"VLOOKUP('entries and results'!M708,$H$3:$K$30018,3,FALSE)","v":" "},{"$f":"VLOOKUP('entries and results'!M708,$H$3:$K$30018,4,FALSE)","v":" "}," ",{"$f":"IF($H708=\"\",\" \",(LOOKUP($H708,$BK$3:$BK$1601,$BJ$3:$BJ$1601)))","v":"00:00"},null,null,null,null,null,null,null,null,null,null,null,null,null,null,null,null,null,null,null,null,null,null,null,null,null,null,null,null,null,null,null,null,null,null,null,null,null,null,null,null,null,null,null,"00:00",706,0,"0000000","00","00","00"]
["SA03787","VP-Glasgow AC","1995-03-15","Michael Murray","SA03787","Under 17",".",707,{"$f":"VLOOKUP('entries and results'!G709,$A$3:$E$30018,4,FALSE)","v":" "},{"$f":"VLOOKUP('entries and results'!G709,$A$3:$F$30018,6,FALSE)","v":" "},{"$f":"VLOOKUP('entries and results'!G709,$A$3:$E$30018,2,FALSE)","v":" "},707,".",{"$f":"VLOOKUP('entries and results'!M709,$H$3:$K$30018,2,FALSE)","v":" "},{"$f":"VLOOKUP('entries and results'!M709,$H$3:$K$30018,3,FALSE)","v":" "},{"$f":"VLOOKUP('entries and results'!M709,$H$3:$K$30018,4,FALSE)","v":" "}," ","00:00",null,null,null,null,null,null,null,null,null,null,null,null,null,null,null,null,null,null,null,null,null,null,null,null,null,null,null,null,null,null,null,null,null,null,null,null,null,null,null,null,null,null,null,"00:00",707,0,"0000000","00","00","00"]
["SA03833","Kirkintilloch Olympians","1990-05-25","Adam Peters","SA03833","Senior",".",708,{"$f":"VLOOKUP('entries and results'!G710,$A$3:$E$30018,4,FALSE)","v":" "},{"$f":"VLOOKUP('entries and results'!G710,$A$3:$F$30018,6,FALSE)","v":" "},{"$f":"VLOOKUP('entries and results'!G710,$A$3:$E$30018,2,FALSE)","v":" "},708,".",{"$f":"VLOOKUP('entries and results'!M710,$H$3:$K$30018,2,FALSE)","v":" "},{"$f":"VLOOKUP('entries and results'!M710,$H$3:$K$30018,3,FALSE)","v":" "},{"$f":"VLOOKUP('entries and results'!M710,$H$3:$K$30018,4,FALSE)","v":" "}," ","00:00",null,null,null,null,null,null,null,null,null,null,null,null,null,null,null,null,null,null,null,null,null,null,null,null,null,null,null,null,null,null,null,null,null,null,null,null,null,null,null,null,null,null,null,"00:00",708,0,{"$f":"CONCATENATE($BG$2,$BL710)","v":"0000000"},{"$f":"MID(RIGHT($BM710,6),1,2)","v":"00"},{"$f":"MID(RIGHT($BM710,6),3,2)","v":"00"},{"$f":"MID(RIGHT($BM710,6),5,2)","v":"00"}]
["SA03872","Edinburgh AC","1993-01-14","Corey Hastings","SA03872","Senior",".",709,{"$f":"VLOOKUP('entries and results'!G711,$A$3:$E$30018,4,FALSE)","v":" "},{"$f":"VLOOKUP('entries and results'!G711,$A$3:$F$30018,6,FALSE)","v":" "},{"$f":"VLOOKUP('entries and results'!G711,$A$3:$E$30018,2,FALSE)","v":" "},709,".",{"$f":"VLOOKUP('entries and results'!M711,$H$3:$K$30018,2,FALSE)","v":" "},{"$f":"VLOOKUP('entries and results'!M711,$H$3:$K$30018,3,FALSE)","v":" "},{"$f":"VLOOKUP('entries and results'!M711,$H$3:$K$30018,4,FALSE)","v":" "}," ","00:00",null,null,null,null,null,null,null,null,null,null,null,null,null,null,null,null,null,null,null,null,null,null,null,null,null,null,null,null,null,null,null,null,null,null,null,null,null,null,null,null,null,null,null,"00:00",709,0,"0000000","00","00","00"]
["SA03979","Shettleston Harriers","1988-01-22","Thomas Fay","SA03979","Senior",".",710,{"$f":"VLOOKUP('entries and results'!G712,$A$3:$E$30018,4,FALSE)","v":" "},{"$f":"VLOOKUP('entries and results'!G712,$A$3:$F$30018,6,FALSE)","v":" "},{"$f":"VLOOKUP('entries and results'!G712,$A$3:$E$30018,2,FALSE)","v":" "},710,".",{"$f":"VLOOKUP('entries and results'!M712,$H$3:$K$30018,2,FALSE)","v":" "},{"$f":"VLOOKUP('entries and results'!M712,$H$3:$K$30018,3,FALSE)","v":" "},{"$f":"VLOOKUP('entries and results'!M712,$H$3:$K$30018,4,FALSE)","v":" "}," ","00:00",null,null,null,null,null,null,null,null,null,null,null,null,null,null,null,null,null,null,null,null,null,null,null,null,null,null,null,null,null,null,null,null,null,null,null,null,null,null,null,null,null,null,null,"00:00",710,0,"0000000","00","00","00"]
["SA04018","Dunbar Running Club","1993-06-22","Adam Redpath","SA04018","Senior",".",711,{"$f":"VLOOKUP('entries and results'!G713,$A$3:$E$30018,4,FALSE)","v":" "},{"$f":"VLOOKUP('entries and results'!G713,$A$3:$F$30018,6,FALSE)","v":" "},{"$f":"VLOOKUP('entries and results'!G713,$A$3:$E$30018,2,FALSE)","v":" "},711,".",{"$f":"VLOOKUP('entries and results'!M713,$H$3:$K$30018,2,FALSE)","v":" "},{"$f":"VLOOKUP('entries and results'!M713,$H$3:$K$30018,3,FALSE)","v":" "},{"$f":"VLOOKUP('entries and results'!M713,$H$3:$K$30018,4,FALSE)","v":" "}," ","00:00",null,null,null,null,null,null,null,null,null,null,null,null,null,null,null,null,null,null,null,null,null,null,null,null,null,null,null,null,null,null,null,null,null,null,null,null,null,null,null,null,null,null,null,"00:00",711,0,"0000000","00","00","00"]
["SA04026","Dundee Hawkhill Harriers","1993-12-23","Rebecca Johnstone","SA04026","Under 17",".",712,{"$f":"VLOOKUP('entries and results'!G714,$A$3:$E$30018,4,FALSE)","v":" "},{"$f":"VLOOKUP('entries and results'!G714,$A$3:$F$30018,6,FALSE)","v":" "},{"$f":"VLOOKUP('entries and results'!G714,$A$3:$E$30018,2,FALSE)","v":" "},712,".",{"$f":"VLOOKUP('entries and results'!M714,$H$3:$K$30018,2,FALSE)","v":" "},{"$f":"VLOOKUP('entries and results'!M714,$H$3:$K$30018,3,FALSE)","v":" "},{"$f":"VLOOKUP('entries and results'!M714,$H$3:$K$30018,4,FALSE)","v":" "}," ","00:00",null,null,null,null,null,null,null,null,null,null,null,null,null,null,null,null,null,null,null,null,null,null,null,null,null,null,null,null,null,null,null,null,null,null,null,null,null,null,null,null,null,null,null,"00:00",712,0,"0000000","00","00","00"]
["SA04027","Dundee Hawkhill Harriers","1990-07-29","Ryan Knight","SA04027","Senior",".",713,{"$f":"VLOOKUP('entries and results'!G715,$A$3:$E$30018,4,FALSE)","v":" "},{"$f":"VLOOKUP('entries and results'!G715,$A$3:$F$30018,6,FALSE)","v":" "},{"$f":"VLOOKUP('entries and results'!G715,$A$3:$E$30018,2,FALSE)","v":" "},713,".",{"$f":"VLOOKUP('entries and results'!M715,$H$3:$K$30018,2,FALSE)","v":" "},{"$f":"VLOOKUP('entries and results'!M715,$H$3:$K$30018,3,FALSE)","v":" "},{"$f":"VLOOKUP('entries and results'!M715,$H$3:$K$30018,4,FALSE)","v":" "}," ","00:00",null,null,null,null,null,null,null,null,null,null,null,null,null,null,null,null,null,null,null,null,null,null,null,null,null,null,null,null,null,null,null,null,null,null,null,null,null,null,null,null,null,null,null,"00:00",713,0,"0000000","00","00","00"]
["SA04036","Dunfermline & West Fife AC","1995-01-06","Jackie Chalmers","SA04036","Under 17",".",714,{"$f":"VLOOKUP('entries and results'!G716,$A$3:$E$30018,4,FALSE)","v":" "},{"$f":"VLOOKUP('entries and results'!G716,$A$3:$F$30018,6,FALSE)","v":" "},{"$f":"VLOOKUP('entries and results'!G716,$A$3:$E$30018,2,FALSE)","v":" "},714,".",{"$f":"VLOOKUP('entries and results'!M716,$H$3:$K$30018,2,FALSE)","v":" "},{"$f":"VLOOKUP('entries and results'!M716,$H$3:$K$30018,3,FALSE)","v":" "},{"$f":"VLOOKUP('entries and results'!M716,$H$3:$K$30018,4,FALSE)","v":" "}," ","00:00",null,null,null,null,null,null,null,null,null,null,null,null,null,null,null,null,null,null,null,null,null,null,null,null,null,null,null,null,null,null,null,null,null,null,null,null,null,null,null,null,null,null,null,"00:00",714,0,"0000000","00","00","00"]
["SA04055","Larkhall YMCA Harriers","1993-10-20","Frazer Dunnachie","SA04055","Under 17",".",715,{"$f":"VLOOKUP('entries and results'!G717,$A$3:$E$30018,4,FALSE)","v":" "},{"$f":"VLOOKUP('entries and results'!G717,$A$3:$F$30018,6,FALSE)","v":" "},{"$f":"VLOOKUP('entries and results'!G717,$A$3:$E$30018,2,FALSE)","v":" "},715,".",{"$f":"VLOOKUP('entries and results'!M717,$H$3:$K$30018,2,FALSE)","v":" "},{"$f":"VLOOKUP('entries and results'!M717,$H$3:$K$30018,3,FALSE)","v":" "},{"$f":"VLOOKUP('entries and results'!M717,$H$3:$K$30018,4,FALSE)","v":" "}," ","00:00",null,null,null,null,null,null,null,null,null,null,null,null,null,null,null,null,null,null,null,null,null,null,null,null,null,null,null,null,null,null,null,null,null,null,null,null,null,null,null,null,null,null,null,"00:00",715,0,"0000000","00","00","00"]
["SA04059","Arbroath & District AC","1994-10-04","Damien Murray","SA04059","Under 17",".",716,{"$f":"VLOOKUP('entries and results'!G718,$A$3:$E$30018,4,FALSE)","v":" "},{"$f":"VLOOKUP('entries and results'!G718,$A$3:$F$30018,6,FALSE)","v":" "},{"$f":"VLOOKUP('entries and results'!G718,$A$3:$E$30018,2,FALSE)","v":" "},716,".",{"$f":"VLOOKUP('entries and results'!M718,$H$3:$K$30018,2,FALSE)","v":" "},{"$f":"VLOOKUP('entries and results'!M718,$H$3:$K$30018,3,FALSE)","v":" "},{"$f":"VLOOKUP('entries and results'!M718,$H$3:$K$30018,4,FALSE)","v":" "}," ","00:00",null,null,null,null,null,null,null,null,null,null,null,null,null,null,null,null,null,null,null,null,null,null,null,null,null,null,null,null,null,null,null,null,null,null,null,null,null,null,null,null,null,null,null,"00:00",716,0,"0000000","00","00","00"]
["SA04092","Sale Harriers","1989-11-25","Gail Lippitt","SA04092","Senior",".",717,{"$f":"VLOOKUP('entries and results'!G719,$A$3:$E$30018,4,FALSE)","v":" "},{"$f":"VLOOKUP('entries and results'!G719,$A$3:$F$30018,6,FALSE)","v":" "},{"$f":"VLOOKUP('entries and results'!G719,$A$3:$E$30018,2,FALSE)","v":" "},717,".",{"$f":"VLOOKUP('entries and results'!M719,$H$3:$K$30018,2,FALSE)","v":" "},{"$f":"VLOOKUP('entries and results'!M719,$H$3:$K$30018,3,FALSE)","v":" "},{"$f":"VLOOKUP('entries and results'!M719,$H$3:$K$30018,4,FALSE)","v":" "}," ","00:00",null,null,null,null,null,null,null,null,null,null,null,null,null,null,null,null,null,null,null,null,null,null,null,null,null,null,null,null,null,null,null,null,null,null,null,null,null,null,null,null,null,null,null,"00:00",717,0,"0000000","00","00","00"]
["SA04107","Central AC","1991-02-15","Alexander Hendry","SA04107","Senior",".",718,{"$f":"VLOOKUP('entries and results'!G720,$A$3:$E$30018,4,FALSE)","v":" "},{"$f":"VLOOKUP('entries and results'!G720,$A$3:$F$30018,6,FALSE)","v":" "},{"$f":"VLOOKUP('entries and results'!G720,$A$3:$E$30018,2,FALSE)","v":" "},718,".",{"$f":"VLOOKUP('entries and results'!M720,$H$3:$K$30018,2,FALSE)","v":" "},{"$f":"VLOOKUP('entries and results'!M720,$H$3:$K$30018,3,FALSE)","v":" "},{"$f":"VLOOKUP('entries and results'!M720,$H$3:$K$30018,4,FALSE)","v":" "}," ","00:00",null,null,null,null,null,null,null,null,null,null,null,null,null,null,null,null,null,null,null,null,null,null,null,null,null,null,null,null,null,null,null,null,null,null,null,null,null,null,null,null,null,null,null,"00:00",718,0,"0000000","00","00","00"]
["SA04108","Central AC","1994-12-26","Amy Hendry","SA04108","Under 17",".",719,{"$f":"VLOOKUP('entries and results'!G721,$A$3:$E$30018,4,FALSE)","v":" "},{"$f":"VLOOKUP('entries and results'!G721,$A$3:$F$30018,6,FALSE)","v":" "},{"$f":"VLOOKUP('entries and results'!G721,$A$3:$E$30018,2,FALSE)","v":" "},719,".",{"$f":"VLOOKUP('entries and results'!M721,$H$3:$K$30018,2,FALSE)","v":" "},{"$f":"VLOOKUP('entries and results'!M721,$H$3:$K$30018,3,FALSE)","v":" "},{"$f":"VLOOKUP('entries and results'!M721,$H$3:$K$30018,4,FALSE)","v":" "}," ","00:00",null,null,null,null,null,null,null,null,null,null,null,null,null,null,null,null,null,null,null,null,null,null,null,null,null,null,null,null,null,null,null,null,null,null,null,null,null,null,null,null,null,null,null,"00:00",719,0,"0000000","00","00","00"]
["SA04111","Edinburgh AC","1996-02-26","Kyle Hogg","SA04111","Under 15",".",720,{"$f":"VLOOKUP('entries and results'!G722,$A$3:$E$30018,4,FALSE)","v":" "},{"$f":"VLOOKUP('entries and results'!G722,$A$3:$F$30018,6,FALSE)","v":" "},{"$f":"VLOOKUP('entries and results'!G722,$A$3:$E$30018,2,FALSE)","v":" "},720,".",{"$f":"VLOOKUP('entries and results'!M722,$H$3:$K$30018,2,FALSE)","v":" "},{"$f":"VLOOKUP('entries and results'!M722,$H$3:$K$30018,3,FALSE)","v":" "},{"$f":"VLOOKUP('entries and results'!M722,$H$3:$K$30018,4,FALSE)","v":" "}," ","00:00",null,null,null,null,null,null,null,null,null,null,null,null,null,null,null,null,null,null,null,null,null,null,null,null,null,null,null,null,null,null,null,null,null,null,null,null,null,null,null,null,null,null,null,"00:00",720,0,"0000000","00","00","00"]
["SA04112","Edinburgh AC","1990-11-28","Scott Hughson","SA04112","Senior",".",721,{"$f":"VLOOKUP('entries and results'!G723,$A$3:$E$30018,4,FALSE)","v":" "},{"$f":"VLOOKUP('entries and results'!G723,$A$3:$F$30018,6,FALSE)","v":" "},{"$f":"VLOOKUP('entries and results'!G723,$A$3:$E$30018,2,FALSE)","v":" "},721,".",{"$f":"VLOOKUP('entries and results'!M723,$H$3:$K$30018,2,FALSE)","v":" "},{"$f":"VLOOKUP('entries and results'!M723,$H$3:$K$30018,3,FALSE)","v":" "},{"$f":"VLOOKUP('entries and results'!M723,$H$3:$K$30018,4,FALSE)","v":" "}," ","00:00",null,null,null,null,null,null,null,null,null,null,null,null,null,null,null,null,null,null,null,null,null,null,null,null,null,null,null,null,null,null,null,null,null,null,null,null,null,null,null,null,null,null,null,"00:00",721,0,"0000000","00","00","00"]
["SA04122","Ellon AAC","1996-07-24","Aiden Peck","SA04122","Under 15",".",722,{"$f":"VLOOKUP('entries and results'!G724,$A$3:$E$30018,4,FALSE)","v":" "},{"$f":"VLOOKUP('entries and results'!G724,$A$3:$F$30018,6,FALSE)","v":" "},{"$f":"VLOOKUP('entries and results'!G724,$A$3:$E$30018,2,FALSE)","v":" "},722,".",{"$f":"VLOOKUP('entries and results'!M724,$H$3:$K$30018,2,FALSE)","v":" "},{"$f":"VLOOKUP('entries and results'!M724,$H$3:$K$30018,3,FALSE)","v":" "},{"$f":"VLOOKUP('entries and results'!M724,$H$3:$K$30018,4,FALSE)","v":" "}," ","00:00",null,null,null,null,null,null,null,null,null,null,null,null,null,null,null,null,null,null,null,null,null,null,null,null,null,null,null,null,null,null,null,null,null,null,null,null,null,null,null,null,null,null,null,"00:00",722,0,"0000000","00","00","00"]
["SA04126","Fife AC","1991-04-01","Karen Cairns","SA04126","Senior",".",723,{"$f":"VLOOKUP('entries and results'!G725,$A$3:$E$30018,4,FALSE)","v":" "},{"$f":"VLOOKUP('entries and results'!G725,$A$3:$F$30018,6,FALSE)","v":" "},{"$f":"VLOOKUP('entries and results'!G725,$A$3:$E$30018,2,FALSE)","v":" "},723,".",{"$f":"VLOOKUP('entries and results'!M725,$H$3:$K$30018,2,FALSE)","v":" "},{"$f":"VLOOKUP('entries and results'!M725,$H$3:$K$30018,3,FALSE)","v":" "},{"$f":"VLOOKUP('entries and results'!M725,$H$3:$K$30018,4,FALSE)","v":" "}," ","00:00",null,null,null,null,null,null,null,null,null,null,null,null,null,null,null,null,null,null,null,null,null,null,null,null,null,null,null,null,null,null,null,null,null,null,null,null,null,null,null,null,null,null,null,"00:00",723,0,"0000000","00","00","00"]
["SA04134","Gala Harriers","1993-04-08","Emily Douglas","SA04134","Senior",".",724,{"$f":"VLOOKUP('entries and results'!G726,$A$3:$E$30018,4,FALSE)","v":" "},{"$f":"VLOOKUP('entries and results'!G726,$A$3:$F$30018,6,FALSE)","v":" "},{"$f":"VLOOKUP('entries and results'!G726,$A$3:$E$30018,2,FALSE)","v":" "},724,".",{"$f":"VLOOKUP('entries and results'!M726,$H$3:$K$30018,2,FALSE)","v":" "},{"$f":"VLOOKUP('entries and results'!M726,$H$3:$K$30018,3,FALSE)","v":" "},{"$f":"VLOOKUP('entries and results'!M726,$H$3:$K$30018,4,FALSE)","v":" "}," ","00:00",null,null,null,null,null,null,null,null,null,null,null,null,null,null,null,null,null,null,null,null,null,null,null,null,null,null,null,null,null,null,null,null,null,null,null,null,null,null,null,null,null,null,null,"00:00",724,0,"0000000","00","00","00"]
["SA04137","North Ayrshire AC","1995-10-28","Iona Lennie","SA04137","Under 15",".",725,{"$f":"VLOOKUP('entries and results'!G727,$A$3:$E$30018,4,FALSE)","v":" "},{"$f":"VLOOKUP('entries and results'!G727,$A$3:$F$30018,6,FALSE)","v":" "},{"$f":"VLOOKUP('entries and results'!G727,$A$3:$E$30018,2,FALSE)","v":" "},725,".",{"$f":"VLOOKUP('entries and results'!M727,$H$3:$K$30018,2,FALSE)","v":" "},{"$f":"VLOOKUP('entries and results'!M727,$H$3:$K$30018,3,FALSE)","v":" "},{"$f":"VLOOKUP('entries and results'!M727,$H$3:$K$30018,4,FALSE)","v":" "}," ","00:00",null,null,null,null,null,null,null,null,null,null,null,null,null,null,null,null,null,null,null,null,null,null,null,null,null,null,null,null,null,null,null,null,null,null,null,null,null,null,null,null,null,null,null,"00:00",725,0,"0000000","00","00","00"]
["SA04140","Kilmarnock H&AC","1993-04-19","Nicole Hamilton","SA04140","Senior",".",726,{"$f":"VLOOKUP('entries and results'!G728,$A$3:$E$30018,4,FALSE)","v":" "},{"$f":"VLOOKUP('entries and results'!G728,$A$3:$F$30018,6,FALSE)","v":" "},{"$f":"VLOOKUP('entries and results'!G728,$A$3:$E$30018,2,FALSE)","v":" "},726,".",{"$f":"VLOOKUP('entries and results'!M728,$H$3:$K$30018,2,FALSE)","v":" "},{"$f":"VLOOKUP('entries and results'!M728,$H$3:$K$30018,3,FALSE)","v":" "},{"$f":"VLOOKUP('entries and results'!M728,$H$3:$K$30018,4,FALSE)","v":" "}," ","00:00",null,null,null,null,null,null,null,null,null,null,null,null,null,null,null,null,null,null,null,null,null,null,null,null,null,null,null,null,null,null,null,null,null,null,null,null,null,null,null,null,null,null,null,"00:00",726,0,"0000000","00","00","00"]
["SA04141","Kilmarnock H&AC","1994-07-19","Bethany Ross","SA04141","Under 17",".",727,{"$f":"VLOOKUP('entries and results'!G729,$A$3:$E$30018,4,FALSE)","v":" "},{"$f":"VLOOKUP('entries and results'!G729,$A$3:$F$30018,6,FALSE)","v":" "},{"$f":"VLOOKUP('entries and results'!G729,$A$3:$E$30018,2,FALSE)","v":" "},727,".",{"$f":"VLOOKUP('entries and results'!M729,$H$3:$K$30018,2,FALSE)","v":" "},{"$f":"VLOOKUP('entries and results'!M729,$H$3:$K$30018,3,FALSE)","v":" "},{"$f":"VLOOKUP('entries and results'!M729,$H$3:$K$30018,4,FALSE)","v":" "}," ","00:00",null,null,null,null,null,null,null,null,null,null,null,null,null,null,null,null,null,null,null,null,null,null,null,null,null,null,null,null,null,null,null,null,null,null,null,null,null,null,null,null,null,null,null,"00:00",727,0,"0000000","00","00","00"]
["SA04142","Kilbarchan AAC","1991-08-17","Mark Chisholm","SA04142","Senior",".",728,{"$f":"VLOOKUP('entries and results'!G730,$A$3:$E$30018,4,FALSE)","v":" "},{"$f":"VLOOKUP('entries and results'!G730,$A$3:$F$30018,6,FALSE)","v":" "},{"$f":"VLOOKUP('entries and results'!G730,$A$3:$E$30018,2,FALSE)","v":" "},728,".",{"$f":"VLOOKUP('entries and results'!M730,$H$3:$K$30018,2,FALSE)","v":" "},{"$f":"VLOOKUP('entries and results'!M730,$H$3:$K$30018,3,FALSE)","v":" "},{"$f":"VLOOKUP('entries and results'!M730,$H$3:$K$30018,4,FALSE)","v":" "}," ","00:00",null,null,null,null,null,null,null,null,null,null,null,null,null,null,null,null,null,null,null,null,null,null,null,null,null,null,null,null,null,null,null,null,null,null,null,null,null,null,null,null,null,null,null,"00:00",728,0,"0000000","00","00","00"]
["SA04184","West Dunbartonshire AC","1990-11-09","Mark Donohue","SA04184","Senior",".",729,{"$f":"VLOOKUP('entries and results'!G731,$A$3:$E$30018,4,FALSE)","v":" "},{"$f":"VLOOKUP('entries and results'!G731,$A$3:$F$30018,6,FALSE)","v":" "},{"$f":"VLOOKUP('entries and results'!G731,$A$3:$E$30018,2,FALSE)","v":" "},729,".",{"$f":"VLOOKUP('entries and results'!M731,$H$3:$K$30018,2,FALSE)","v":" "},{"$f":"VLOOKUP('entries and results'!M731,$H$3:$K$30018,3,FALSE)","v":" "},{"$f":"VLOOKUP('entries and results'!M731,$H$3:$K$30018,4,FALSE)","v":" "}," ","00:00",null,null,null,null,null,null,null,null,null,null,null,null,null,null,null,null,null,null,null,null,null,null,null,null,null,null,null,null,null,null,null,null,null,null,null,null,null,null,null,null,null,null,null,"00:00",729,0,"0000000","00","00","00"]
["SA04200","Airdrie Harriers","1995-03-01","Jamie Barclay","SA04200","Under 17",".",730,{"$f":"VLOOKUP('entries and results'!G732,$A$3:$E$30018,4,FALSE)","v":" "},{"$f":"VLOOKUP('entries and results'!G732,$A$3:$F$30018,6,FALSE)","v":" "},{"$f":"VLOOKUP('entries and results'!G732,$A$3:$E$30018,2,FALSE)","v":" "},730,".",{"$f":"VLOOKUP('entries and results'!M732,$H$3:$K$30018,2,FALSE)","v":" "},{"$f":"VLOOKUP('entries and results'!M732,$H$3:$K$30018,3,FALSE)","v":" "},{"$f":"VLOOKUP('entries and results'!M732,$H$3:$K$30018,4,FALSE)","v":" "}," ","00:00",null,null,null,null,null,null,null,null,null,null,null,null,null,null,null,null,null,null,null,null,null,null,null,null,null,null,null,null,null,null,null,null,null,null,null,null,null,null,null,null,null,null,null,"00:00",730,0,"0000000","00","00","00"]
["SA04207","Ayr Seaforth AAC","1995-08-14","Andrew Carter","SA04207","Under 17",".",731,{"$f":"VLOOKUP('entries and results'!G733,$A$3:$E$30018,4,FALSE)","v":" "},{"$f":"VLOOKUP('entries and results'!G733,$A$3:$F$30018,6,FALSE)","v":" "},{"$f":"VLOOKUP('entries and results'!G733,$A$3:$E$30018,2,FALSE)","v":" "},731,".",{"$f":"VLOOKUP('entries and results'!M733,$H$3:$K$30018,2,FALSE)","v":" "},{"$f":"VLOOKUP('entries and results'!M733,$H$3:$K$30018,3,FALSE)","v":" "},{"$f":"VLOOKUP('entries and results'!M733,$H$3:$K$30018,4,FALSE)","v":" "}," ","00:00",null,null,null,null,null,null,null,null,null,null,null,null,null,null,null,null,null,null,null,null,null,null,null,null,null,null,null,null,null,null,null,null,null,null,null,null,null,null,null,null,null,null,null,"00:00",731,0,"0000000","00","00","00"]
["SA04221","VP-Glasgow AC","1995-02-10","Johanna Brady","SA04221","Under 17",".",732,{"$f":"VLOOKUP('entries and results'!G734,$A$3:$E$30018,4,FALSE)","v":" "},{"$f":"VLOOKUP('entries and results'!G734,$A$3:$F$30018,6,FALSE)","v":" "},{"$f":"VLOOKUP('entries and results'!G734,$A$3:$E$30018,2,FALSE)","v":" "},732,".",{"$f":"VLOOKUP('entries and results'!M734,$H$3:$K$30018,2,FALSE)","v":" "},{"$f":"VLOOKUP('entries and results'!M734,$H$3:$K$30018,3,FALSE)","v":" "},{"$f":"VLOOKUP('entries and results'!M734,$H$3:$K$30018,4,FALSE)","v":" "}," ","00:00",null,null,null,null,null,null,null,null,null,null,null,null,null,null,null,null,null,null,null,null,null,null,null,null,null,null,null,null,null,null,null,null,null,null,null,null,null,null,null,null,null,null,null,{"$f":"CONCATENATE(BO734,\":\",BP734)","v":"00:00"},732,0,"0000000","00","00","00"]
["SA04223","VP-Glasgow AC","1995-01-20","Sarah Jamieson","SA04223","Under 17",".",733,{"$f":"VLOOKUP('entries and results'!G735,$A$3:$E$30018,4,FALSE)","v":" "},{"$f":"VLOOKUP('entries and results'!G735,$A$3:$F$30018,6,FALSE)","v":" "},{"$f":"VLOOKUP('entries and results'!G735,$A$3:$E$30018,2,FALSE)","v":" "},733,".",{"$f":"VLOOKUP('entries and results'!M735,$H$3:$K$30018,2,FALSE)","v":" "},{"$f":"VLOOKUP('entries and results'!M735,$H$3:$K$30018,3,FALSE)","v":" "},{"$f":"VLOOKUP('entries and results'!M735,$H$3:$K$30018,4,FALSE)","v":" "}," ","00:00",null,null,null,null,null,null,null,null,null,null,null,null,null,null,null,null,null,null,null,null,null,null,null,null,null,null,null,null,null,null,null,null,null,null,null,null,null,null,null,null,null,null,null,"00:00",733,0,"0000000","00","00","00"]
["SA04233","Dunbar Running Club","1993-08-19","Alex Noble","SA04233","Senior",".",734,{"$f":"VLOOKUP('entries and results'!G736,$A$3:$E$30018,4,FALSE)","v":" "},{"$f":"VLOOKUP('entries and results'!G736,$A$3:$F$30018,6,FALSE)","v":" "},{"$f":"VLOOKUP('entries and results'!G736,$A$3:$E$30018,2,FALSE)","v":" "},734,".",{"$f":"VLOOKUP('entries and results'!M736,$H$3:$K$30018,2,FALSE)","v":" "},{"$f":"VLOOKUP('entries and results'!M736,$H$3:$K$30018,3,FALSE)","v":" "},{"$f":"VLOOKUP('entries and results'!M736,$H$3:$K$30018,4,FALSE)","v":" "}," ","00:00",null,null,null,null,null,null,null,null,null,null,null,null,null,null,null,null,null,null,null,null,null,null,null,null,null,null,null,null,null,null,null,null,null,null,null,null,null,null,null,null,null,null,null,"00:00",734,0,"0000000","00","00","00"]
["SA04244","Dunfermline & West Fife AC","1991-11-01","Owen Miller","SA04244","Senior",".",735,{"$f":"VLOOKUP('entries and results'!G737,$A$3:$E$30018,4,FALSE)","v":" "},{"$f":"VLOOKUP('entries and results'!G737,$A$3:$F$30018,6,FALSE)","v":" "},{"$f":"VLOOKUP('entries and results'!G737,$A$3:$E$30018,2,FALSE)","v":" "},735,".",{"$f":"VLOOKUP('entries and results'!M737,$H$3:$K$30018,2,FALSE)","v":" "},{"$f":"VLOOKUP('entries and results'!M737,$H$3:$K$30018,3,FALSE)","v":" "},{"$f":"VLOOKUP('entries and results'!M737,$H$3:$K$30018,4,FALSE)","v":" "}," ","00:00",null,null,null,null,null,null,null,null,null,null,null,null,null,null,null,null,null,null,null,null,null,null,null,null,null,null,null,null,null,null,null,null,null,null,null,null,null,null,null,null,null,null,null,"00:00",735,0,"0000000","00","00","00"]
["SA04257","Edinburgh AC","1992-04-23","Emma Nuttall","SA04257","Senior",".",736,{"$f":"VLOOKUP('entries and results'!G738,$A$3:$E$30018,4,FALSE)","v":" "},{"$f":"VLOOKUP('entries and results'!G738,$A$3:$F$30018,6,FALSE)","v":" "},{"$f":"VLOOKUP('entries and results'!G738,$A$3:$E$30018,2,FALSE)","v":" "},736,".",{"$f":"VLOOKUP('entries and results'!M738,$H$3:$K$30018,2,FALSE)","v":" "},{"$f":"VLOOKUP('entries and results'!M738,$H$3:$K$30018,3,FALSE)","v":" "},{"$f":"VLOOKUP('entries and results'!M738,$H$3:$K$30018,4,FALSE)","v":" "}," ","00:00",null,null,null,null,null,null,null,null,null,null,null,null,null,null,null,null,null,null,null,null,null,null,null,null,null,null,null,null,null,null,null,null,null,null,null,null,null,null,null,null,null,null,null,"00:00",736,0,"0000000","00","00","00"]
["SA04260","Fife AC","1991-03-23","Ross Kilvington","SA04260","Senior",".",737,{"$f":"VLOOKUP('entries and results'!G739,$A$3:$E$30018,4,FALSE)","v":" "},{"$f":"VLOOKUP('entries and results'!G739,$A$3:$F$30018,6,FALSE)","v":" "},{"$f":"VLOOKUP('entries and results'!G739,$A$3:$E$30018,2,FALSE)","v":" "},737,".",{"$f":"VLOOKUP('entries and results'!M739,$H$3:$K$30018,2,FALSE)","v":" "},{"$f":"VLOOKUP('entries and results'!M739,$H$3:$K$30018,3,FALSE)","v":" "},{"$f":"VLOOKUP('entries and results'!M739,$H$3:$K$30018,4,FALSE)","v":" "}," ","00:00",null,null,null,null,null,null,null,null,null,null,null,null,null,null,null,null,null,null,null,null,null,null,null,null,null,null,null,null,null,null,null,null,null,null,null,null,null,null,null,null,null,null,null,"00:00",737,0,"0000000","00","00","00"]
["SA04263","Giffnock North AAC","1990-09-10","Daniel Carlin","SA04263","Senior",".",738,{"$f":"VLOOKUP('entries and results'!G740,$A$3:$E$30018,4,FALSE)","v":" "},{"$f":"VLOOKUP('entries and results'!G740,$A$3:$F$30018,6,FALSE)","v":" "},{"$f":"VLOOKUP('entries and results'!G740,$A$3:$E$30018,2,FALSE)","v":" "},738,".",{"$f":"VLOOKUP('entries and results'!M740,$H$3:$K$30018,2,FALSE)","v":" "},{"$f":"VLOOKUP('entries and results'!M740,$H$3:$K$30018,3,FALSE)","v":" "},{"$f":"VLOOKUP('entries and results'!M740,$H$3:$K$30018,4,FALSE)","v":" "}," ","00:00",null,null,null,null,null,null,null,null,null,null,null,null,null,null,null,null,null,null,null,null,null,null,null,null,null,null,null,null,null,null,null,null,null,null,null,null,null,null,null,null,null,null,null,"00:00",738,0,"0000000","00","00","00"]
["SA04274","Glasgow School of Sport","1994-02-27","Caitlin Vaughan","SA04274","Under 17",".",739,{"$f":"VLOOKUP('entries and results'!G741,$A$3:$E$30018,4,FALSE)","v":" "},{"$f":"VLOOKUP('entries and results'!G741,$A$3:$F$30018,6,FALSE)","v":" "},{"$f":"VLOOKUP('entries and results'!G741,$A$3:$E$30018,2,FALSE)","v":" "},739,".",{"$f":"VLOOKUP('entries and results'!M741,$H$3:$K$30018,2,FALSE)","v":" "},{"$f":"VLOOKUP('entries and results'!M741,$H$3:$K$30018,3,FALSE)","v":" "},{"$f":"VLOOKUP('entries and results'!M741,$H$3:$K$30018,4,FALSE)","v":" "}," ","00:00",null,null,null,null,null,null,null,null,null,null,null,null,null,null,null,null,null,null,null,null,null,null,null,null,null,null,null,null,null,null,null,null,null,null,null,null,null,null,null,null,null,null,null,"00:00",739,0,"0000000","00","00","00"]
["SA04276","Helensburgh AAC","1996-07-22","Ross Kennedy","SA04276","Under 15",".",740,{"$f":"VLOOKUP('entries and results'!G742,$A$3:$E$30018,4,FALSE)","v":" "},{"$f":"VLOOKUP('entries and results'!G742,$A$3:$F$30018,6,FALSE)","v":" "},{"$f":"VLOOKUP('entries and results'!G742,$A$3:$E$30018,2,FALSE)","v":" "},740,".",{"$f":"VLOOKUP('entries and results'!M742,$H$3:$K$30018,2,FALSE)","v":" "},{"$f":"VLOOKUP('entries and results'!M742,$H$3:$K$30018,3,FALSE)","v":" "},{"$f":"VLOOKUP('entries and results'!M742,$H$3:$K$30018,4,FALSE)","v":" "}," ","00:00",null,null,null,null,null,null,null,null,null,null,null,null,null,null,null,null,null,null,null,null,null,null,null,null,null,null,null,null,null,null,null,null,null,null,null,null,null,null,null,null,null,null,null,"00:00",740,0,"0000000","00","00","00"]
["SA04278","Inverness Harriers AAC","1993-08-18","Joshua Cartwright","SA04278","Senior",".",741,{"$f":"VLOOKUP('entries and results'!G743,$A$3:$E$30018,4,FALSE)","v":" "},{"$f":"VLOOKUP('entries and results'!G743,$A$3:$F$30018,6,FALSE)","v":" "},{"$f":"VLOOKUP('entries and results'!G743,$A$3:$E$30018,2,FALSE)","v":" "},741,".",{"$f":"VLOOKUP('entries and results'!M743,$H$3:$K$30018,2,FALSE)","v":" "},{"$f":"VLOOKUP('entries and results'!M743,$H$3:$K$30018,3,FALSE)","v":" "},{"$f":"VLOOKUP('entries and results'!M743,$H$3:$K$30018,4,FALSE)","v":" "}," ","00:00",null,null,null,null,null,null,null,null,null,null,null,null,null,null,null,null,null,null,null,null,null,null,null,null,null,null,null,null,null,null,null,null,null,null,null,null,null,null,null,null,null,null,null,"00:00",741,0,"0000000","00","00","00"]
["SA04283","VP-Glasgow AC","1991-04-02","Sarah Smith","SA04283","Senior",".",742,{"$f":"VLOOKUP('entries and results'!G744,$A$3:$E$30018,4,FALSE)","v":" "},{"$f":"VLOOKUP('entries and results'!G744,$A$3:$F$30018,6,FALSE)","v":" "},{"$f":"VLOOKUP('entries and results'!G744,$A$3:$E$30018,2,FALSE)","v":" "},742,".",{"$f":"VLOOKUP('entries and results'!M744,$H$3:$K$30018,2,FALSE)","v":" "},{"$f":"VLOOKUP('entries and results'!M744,$H$3:$K$30018,3,FALSE)","v":" "},{"$f":"VLOOKUP('entries and results'!M744,$H$3:$K$30018,4,FALSE)","v":" "}," ","00:00",null,null,null,null,null,null,null,null,null,null,null,null,null,null,null,null,null,null,null,null,null,null,null,null,null,null,null,null,null,null,null,null,null,null,null,null,null,null,null,null,null,null,null,"00:00",742,0,"0000000","00","00","00"]
["SA04285","Kilmarnock H&AC","1995-12-12","Angus Cochrane","SA04285","Under 15",".",743,{"$f":"VLOOKUP('entries and results'!G745,$A$3:$E$30018,4,FALSE)","v":" "},{"$f":"VLOOKUP('entries and results'!G745,$A$3:$F$30018,6,FALSE)","v":" "},{"$f":"VLOOKUP('entries and results'!G745,$A$3:$E$30018,2,FALSE)","v":" "},743,".",{"$f":"VLOOKUP('entries and results'!M745,$H$3:$K$30018,2,FALSE)","v":" "},{"$f":"VLOOKUP('entries and results'!M745,$H$3:$K$30018,3,FALSE)","v":" "},{"$f":"VLOOKUP('entries and results'!M745,$H$3:$K$30018,4,FALSE)","v":" "}," ","00:00",null,null,null,null,null,null,null,null,null,null,null,null,null,null,null,null,null,null,null,null,null,null,null,null,null,null,null,null,null,null,null,null,null,null,null,null,null,null,null,null,null,null,null,"00:00",743,0,"0000000","00","00","00"]
["SA04286","Kilmarnock H&AC","1993-05-31","Robert Cochrane","SA04286","Senior",".",744,{"$f":"VLOOKUP('entries and results'!G746,$A$3:$E$30018,4,FALSE)","v":" "},{"$f":"VLOOKUP('entries and results'!G746,$A$3:$F$30018,6,FALSE)","v":" "},{"$f":"VLOOKUP('entries and results'!G746,$A$3:$E$30018,2,FALSE)","v":" "},744,".",{"$f":"VLOOKUP('entries and results'!M746,$H$3:$K$30018,2,FALSE)","v":" "},{"$f":"VLOOKUP('entries and results'!M746,$H$3:$K$30018,3,FALSE)","v":" "},{"$f":"VLOOKUP('entries and results'!M746,$H$3:$K$30018,4,FALSE)","v":" "}," ","00:00",null,null,null,null,null,null,null,null,null,null,null,null,null,null,null,null,null,null,null,null,null,null,null,null,null,null,null,null,null,null,null,null,null,null,null,null,null,null,null,null,null,null,null,"00:00",744,0,"0000000","00","00","00"]
["SA04289","Kilmarnock H&AC","1995-10-03","Gemma McCutcheon","SA04289","Under 15",".",745,{"$f":"VLOOKUP('entries and results'!G747,$A$3:$E$30018,4,FALSE)","v":" "},{"$f":"VLOOKUP('entries and results'!G747,$A$3:$F$30018,6,FALSE)","v":" "},{"$f":"VLOOKUP('entries and results'!G747,$A$3:$E$30018,2,FALSE)","v":" "},745,".",{"$f":"VLOOKUP('entries and results'!M747,$H$3:$K$30018,2,FALSE)","v":" "},{"$f":"VLOOKUP('entries and results'!M747,$H$3:$K$30018,3,FALSE)","v":" "},{"$f":"VLOOKUP('entries and results'!M747,$H$3:$K$30018,4,FALSE)","v":" "}," ","00:00",null,null,null,null,null,null,null,null,null,null,null,null,null,null,null,null,null,null,null,null,null,null,null,null,null,null,null,null,null,null,null,null,null,null,null,null,null,null,null,null,null,null,null,"00:00",745,0,"0000000","00","00","00"]
["SA04292","Kilbarchan AAC","1993-03-22","Chloe Brines","SA04292","Senior",".",746,{"$f":"VLOOKUP('entries and results'!G748,$A$3:$E$30018,4,FALSE)","v":" "},{"$f":"VLOOKUP('entries and results'!G748,$A$3:$F$30018,6,FALSE)","v":" "},{"$f":"VLOOKUP('entries and results'!G748,$A$3:$E$30018,2,FALSE)","v":" "},746,".",{"$f":"VLOOKUP('entries and results'!M748,$H$3:$K$30018,2,FALSE)","v":" "},{"$f":"VLOOKUP('entries and results'!M748,$H$3:$K$30018,3,FALSE)","v":" "},{"$f":"VLOOKUP('entries and results'!M748,$H$3:$K$30018,4,FALSE)","v":" "}," ","00:00",null,null,null,null,null,null,null,null,null,null,null,null,null,null,null,null,null,null,null,null,null,null,null,null,null,null,null,null,null,null,null,null,null,null,null,null,null,null,null,null,null,null,null,"00:00",746,0,"0000000","00","00","00"]
["SA04297","Kilbarchan AAC","1994-05-25","Jack Lochans","SA04297","Under 17",".",747,{"$f":"VLOOKUP('entries and results'!G749,$A$3:$E$30018,4,FALSE)","v":" "},{"$f":"VLOOKUP('entries and results'!G749,$A$3:$F$30018,6,FALSE)","v":" "},{"$f":"VLOOKUP('entries and results'!G749,$A$3:$E$30018,2,FALSE)","v":" "},747,".",{"$f":"VLOOKUP('entries and results'!M749,$H$3:$K$30018,2,FALSE)","v":" "},{"$f":"VLOOKUP('entries and results'!M749,$H$3:$K$30018,3,FALSE)","v":" "},{"$f":"VLOOKUP('entries and results'!M749,$H$3:$K$30018,4,FALSE)","v":" "}," ","00:00",null,null,null,null,null,null,null,null,null,null,null,null,null,null,null,null,null,null,null,null,null,null,null,null,null,null,null,null,null,null,null,null,null,null,null,null,null,null,null,null,null,null,null,"00:00",747,0,"0000000","00","00","00"]
["SA04299","Kilbarchan AAC","1992-09-23","Thomas McDonald","SA04299","Senior",".",748,{"$f":"VLOOKUP('entries and results'!G750,$A$3:$E$30018,4,FALSE)","v":" "},{"$f":"VLOOKUP('entries and results'!G750,$A$3:$F$30018,6,FALSE)","v":" "},{"$f":"VLOOKUP('entries and results'!G750,$A$3:$E$30018,2,FALSE)","v":" "},748,".",{"$f":"VLOOKUP('entries and results'!M750,$H$3:$K$30018,2,FALSE)","v":" "},{"$f":"VLOOKUP('entries and results'!M750,$H$3:$K$30018,3,FALSE)","v":" "},{"$f":"VLOOKUP('entries and results'!M750,$H$3:$K$30018,4,FALSE)","v":" "}," ","00:00",null,null,null,null,null,null,null,null,null,null,null,null,null,null,null,null,null,null,null,null,null,null,null,null,null,null,null,null,null,null,null,null,null,null,null,null,null,null,null,null,null,null,null,"00:00",748,0,"0000000","00","00","00"]
["SA04311","Law & District AAC","1994-01-20","Daniel Grieve","SA04311","Under 17",".",749,{"$f":"VLOOKUP('entries and results'!G751,$A$3:$E$30018,4,FALSE)","v":" "},{"$f":"VLOOKUP('entries and results'!G751,$A$3:$F$30018,6,FALSE)","v":" "},{"$f":"VLOOKUP('entries and results'!G751,$A$3:$E$30018,2,FALSE)","v":" "},749,".",{"$f":"VLOOKUP('entries and results'!M751,$H$3:$K$30018,2,FALSE)","v":" "},{"$f":"VLOOKUP('entries and results'!M751,$H$3:$K$30018,3,FALSE)","v":" "},{"$f":"VLOOKUP('entries and results'!M751,$H$3:$K$30018,4,FALSE)","v":" "}," ","00:00",null,null,null,null,null,null,null,null,null,null,null,null,null,null,null,null,null,null,null,null,null,null,null,null,null,null,null,null,null,null,null,null,null,null,null,null,null,null,null,null,null,null,null,"00:00",749,0,"0000000","00","00","00"]
["SA04313","Law & District AAC","1993-01-17","Laura Livesey","SA04313","Senior",".",750,{"$f":"VLOOKUP('entries and results'!G752,$A$3:$E$30018,4,FALSE)","v":" "},{"$f":"VLOOKUP('entries and results'!G752,$A$3:$F$30018,6,FALSE)","v":" "},{"$f":"VLOOKUP('entries and results'!G752,$A$3:$E$30018,2,FALSE)","v":" "},750,".",{"$f":"VLOOKUP('entries and results'!M752,$H$3:$K$30018,2,FALSE)","v":" "},{"$f":"VLOOKUP('entries and results'!M752,$H$3:$K$30018,3,FALSE)","v":" "},{"$f":"VLOOKUP('entries and results'!M752,$H$3:$K$30018,4,FALSE)","v":" "}," ","00:00",null,null,null,null,null,null,null,null,null,null,null,null,null,null,null,null,null,null,null,null,null,null,null,null,null,null,null,null,null,null,null,null,null,null,null,null,null,null,null,null,null,null,null,"00:00",750,0,"0000000","00","00","00"]
["SA04314","Law & District AAC","1993-01-17","Lynn Livesey","SA04314","Senior",".",751,{"$f":"VLOOKUP('entries and results'!G753,$A$3:$E$30018,4,FALSE)","v":" "},{"$f":"VLOOKUP('entries and results'!G753,$A$3:$F$30018,6,FALSE)","v":" "},{"$f":"VLOOKUP('entries and results'!G753,$A$3:$E$30018,2,FALSE)","v":" "},751,".",{"$f":"VLOOKUP('entries and results'!M753,$H$3:$K$30018,2,FALSE)","v":" "},{"$f":"VLOOKUP('entries and results'!M753,$H$3:$K$30018,3,FALSE)","v":" "},{"$f":"VLOOKUP('entries and results'!M753,$H$3:$K$30018,4,FALSE)","v":" "}," ","00:00",null,null,null,null,null,null,null,null,null,null,null,null,null,null,null,null,null,null,null,null,null,null,null,null,null,null,null,null,null,null,null,null,null,null,null,null,null,null,null,null,null,null,null,"00:00",751,0,"0000000","00","00","00"]
["SA04327","Lasswade AAC","1995-10-11","Callum Clark","SA04327","Under 15",".",752,{"$f":"VLOOKUP('entries and results'!G754,$A$3:$E$30018,4,FALSE)","v":" "},{"$f":"VLOOKUP('entries and results'!G754,$A$3:$F$30018,6,FALSE)","v":" "},{"$f":"VLOOKUP('entries and results'!G754,$A$3:$E$30018,2,FALSE)","v":" "},752,".",{"$f":"VLOOKUP('entries and results'!M754,$H$3:$K$30018,2,FALSE)","v":" "},{"$f":"VLOOKUP('entries and results'!M754,$H$3:$K$30018,3,FALSE)","v":" "},{"$f":"VLOOKUP('entries and results'!M754,$H$3:$K$30018,4,FALSE)","v":" "}," ","00:00",null,null,null,null,null,null,null,null,null,null,null,null,null,null,null,null,null,null,null,null,null,null,null,null,null,null,null,null,null,null,null,null,null,null,null,null,null,null,null,null,null,null,null,"00:00",752,0,"0000000","00","00","00"]
["SA04331","Nithsdale AC","1996-05-21","Annabel Barr","SA04331","Under 15",".",753,{"$f":"VLOOKUP('entries and results'!G755,$A$3:$E$30018,4,FALSE)","v":" "},{"$f":"VLOOKUP('entries and results'!G755,$A$3:$F$30018,6,FALSE)","v":" "},{"$f":"VLOOKUP('entries and results'!G755,$A$3:$E$30018,2,FALSE)","v":" "},753,".",{"$f":"VLOOKUP('entries and results'!M755,$H$3:$K$30018,2,FALSE)","v":" "},{"$f":"VLOOKUP('entries and results'!M755,$H$3:$K$30018,3,FALSE)","v":" "},{"$f":"VLOOKUP('entries and results'!M755,$H$3:$K$30018,4,FALSE)","v":" "}," ","00:00",null,null,null,null,null,null,null,null,null,null,null,null,null,null,null,null,null,null,null,null,null,null,null,null,null,null,null,null,null,null,null,null,null,null,null,null,null,null,null,null,null,null,null,"00:00",753,0,"0000000","00","00","00"]
["SA04332","VP-Glasgow AC","1991-04-07","Kirsty Barr","SA04332","Senior",".",754,{"$f":"VLOOKUP('entries and results'!G756,$A$3:$E$30018,4,FALSE)","v":" "},{"$f":"VLOOKUP('entries and results'!G756,$A$3:$F$30018,6,FALSE)","v":" "},{"$f":"VLOOKUP('entries and results'!G756,$A$3:$E$30018,2,FALSE)","v":" "},754,".",{"$f":"VLOOKUP('entries and results'!M756,$H$3:$K$30018,2,FALSE)","v":" "},{"$f":"VLOOKUP('entries and results'!M756,$H$3:$K$30018,3,FALSE)","v":" "},{"$f":"VLOOKUP('entries and results'!M756,$H$3:$K$30018,4,FALSE)","v":" "}," ","00:00",null,null,null,null,null,null,null,null,null,null,null,null,null,null,null,null,null,null,null,null,null,null,null,null,null,null,null,null,null,null,null,null,null,null,null,null,null,null,null,null,null,null,null,"00:00",754,0,"0000000","00","00","00"]
["SA04333","Nithsdale AC","1994-05-25","Thomas Barr","SA04333","Under 17",".",755,{"$f":"VLOOKUP('entries and results'!G757,$A$3:$E$30018,4,FALSE)","v":" "},{"$f":"VLOOKUP('entries and results'!G757,$A$3:$F$30018,6,FALSE)","v":" "},{"$f":"VLOOKUP('entries and results'!G757,$A$3:$E$30018,2,FALSE)","v":" "},755,".",{"$f":"VLOOKUP('entries and results'!M757,$H$3:$K$30018,2,FALSE)","v":" "},{"$f":"VLOOKUP('entries and results'!M757,$H$3:$K$30018,3,FALSE)","v":" "},{"$f":"VLOOKUP('entries and results'!M757,$H$3:$K$30018,4,FALSE)","v":" "}," ","00:00",null,null,null,null,null,null,null,null,null,null,null,null,null,null,null,null,null,null,null,null,null,null,null,null,null,null,null,null,null,null,null,null,null,null,null,null,null,null,null,null,null,null,null,"00:00",755,0,"0000000","00","00","00"]
["SA04339","Perth Strathtay Harriers","1995-07-20","Hilary Scott","SA04339","Under 17",".",756,{"$f":"VLOOKUP('entries and results'!G758,$A$3:$E$30018,4,FALSE)","v":" "},{"$f":"VLOOKUP('entries and results'!G758,$A$3:$F$30018,6,FALSE)","v":" "},{"$f":"VLOOKUP('entries and results'!G758,$A$3:$E$30018,2,FALSE)","v":" "},756,".",{"$f":"VLOOKUP('entries and results'!M758,$H$3:$K$30018,2,FALSE)","v":" "},{"$f":"VLOOKUP('entries and results'!M758,$H$3:$K$30018,3,FALSE)","v":" "},{"$f":"VLOOKUP('entries and results'!M758,$H$3:$K$30018,4,FALSE)","v":" "}," ","00:00",null,null,null,null,null,null,null,null,null,null,null,null,null,null,null,null,null,null,null,null,null,null,null,null,null,null,null,null,null,null,null,null,null,null,null,null,null,null,null,null,null,null,null,"00:00",756,0,"0000000","00","00","00"]
["SA04359","VP-Glasgow AC","1995-12-25","Eilidh McEvilly","SA04359","Under 15",".",757,{"$f":"VLOOKUP('entries and results'!G759,$A$3:$E$30018,4,FALSE)","v":" "},{"$f":"VLOOKUP('entries and results'!G759,$A$3:$F$30018,6,FALSE)","v":" "},{"$f":"VLOOKUP('entries and results'!G759,$A$3:$E$30018,2,FALSE)","v":" "},757,".",{"$f":"VLOOKUP('entries and results'!M759,$H$3:$K$30018,2,FALSE)","v":" "},{"$f":"VLOOKUP('entries and results'!M759,$H$3:$K$30018,3,FALSE)","v":" "},{"$f":"VLOOKUP('entries and results'!M759,$H$3:$K$30018,4,FALSE)","v":" "}," ","00:00",null,null,null,null,null,null,null,null,null,null,null,null,null,null,null,null,null,null,null,null,null,null,null,null,null,null,null,null,null,null,null,null,null,null,null,null,null,null,null,null,null,null,null,"00:00",757,0,"0000000","00","00","00"]
["SA04363","VP-Glasgow AC","1995-10-11","Steven Thistleton","SA04363","Under 15",".",758,{"$f":"VLOOKUP('entries and results'!G760,$A$3:$E$30018,4,FALSE)","v":" "},{"$f":"VLOOKUP('entries and results'!G760,$A$3:$F$30018,6,FALSE)","v":" "},{"$f":"VLOOKUP('entries and results'!G760,$A$3:$E$30018,2,FALSE)","v":" "},758,".",{"$f":"VLOOKUP('entries and results'!M760,$H$3:$K$30018,2,FALSE)","v":" "},{"$f":"VLOOKUP('entries and results'!M760,$H$3:$K$30018,3,FALSE)","v":" "},{"$f":"VLOOKUP('entries and results'!M760,$H$3:$K$30018,4,FALSE)","v":" "}," ","00:00",null,null,null,null,null,null,null,null,null,null,null,null,null,null,null,null,null,null,null,null,null,null,null,null,null,null,null,null,null,null,null,null,null,null,null,null,null,null,null,null,null,null,null,"00:00",758,0,"0000000","00","00","00"]
["SA04366","Whitemoss AAC","1994-09-17","Elena McKinlay","SA04366","Under 17",".",759,{"$f":"VLOOKUP('entries and results'!G761,$A$3:$E$30018,4,FALSE)","v":" "},{"$f":"VLOOKUP('entries and results'!G761,$A$3:$F$30018,6,FALSE)","v":" "},{"$f":"VLOOKUP('entries and results'!G761,$A$3:$E$30018,2,FALSE)","v":" "},759,".",{"$f":"VLOOKUP('entries and results'!M761,$H$3:$K$30018,2,FALSE)","v":" "},{"$f":"VLOOKUP('entries and results'!M761,$H$3:$K$30018,3,FALSE)","v":" "},{"$f":"VLOOKUP('entries and results'!M761,$H$3:$K$30018,4,FALSE)","v":" "}," ","00:00",null,null,null,null,null,null,null,null,null,null,null,null,null,null,null,null,null,null,null,null,null,null,null,null,null,null,null,null,null,null,null,null,null,null,null,null,null,null,null,null,null,null,null,"00:00",759,0,"0000000","00","00","00"]
["SA04370","City of Stoke","1991-01-07","Alice Lennox","SA04370","Senior",".",760,{"$f":"VLOOKUP('entries and results'!G762,$A$3:$E$30018,4,FALSE)","v":" "},{"$f":"VLOOKUP('entries and results'!G762,$A$3:$F$30018,6,FALSE)","v":" "},{"$f":"VLOOKUP('entries and results'!G762,$A$3:$E$30018,2,FALSE)","v":" "},760,".",{"$f":"VLOOKUP('entries and results'!M762,$H$3:$K$30018,2,FALSE)","v":" "},{"$f":"VLOOKUP('entries and results'!M762,$H$3:$K$30018,3,FALSE)","v":" "},{"$f":"VLOOKUP('entries and results'!M762,$H$3:$K$30018,4,FALSE)","v":" "}," ","00:00",null,null,null,null,null,null,null,null,null,null,null,null,null,null,null,null,null,null,null,null,null,null,null,null,null,null,null,null,null,null,null,null,null,null,null,null,null,null,null,null,null,null,null,"00:00",760,0,"0000000","00","00","00"]
["SA04374","Ayr Seaforth AAC","1995-05-15","James Gaffney","SA04374","Under 17",".",761,{"$f":"VLOOKUP('entries and results'!G763,$A$3:$E$30018,4,FALSE)","v":" "},{"$f":"VLOOKUP('entries and results'!G763,$A$3:$F$30018,6,FALSE)","v":" "},{"$f":"VLOOKUP('entries and results'!G763,$A$3:$E$30018,2,FALSE)","v":" "},761,".",{"$f":"VLOOKUP('entries and results'!M763,$H$3:$K$30018,2,FALSE)","v":" "},{"$f":"VLOOKUP('entries and results'!M763,$H$3:$K$30018,3,FALSE)","v":" "},{"$f":"VLOOKUP('entries and results'!M763,$H$3:$K$30018,4,FALSE)","v":" "}," ","00:00",null,null,null,null,null,null,null,null,null,null,null,null,null,null,null,null,null,null,null,null,null,null,null,null,null,null,null,null,null,null,null,null,null,null,null,null,null,null,null,null,null,null,null,"00:00",761,0,"0000000","00","00","00"]
["SA04375","Ayr Seaforth AAC","1995-11-11","Caitlin Gillon","SA04375","Under 15",".",762,{"$f":"VLOOKUP('entries and results'!G764,$A$3:$E$30018,4,FALSE)","v":" "},{"$f":"VLOOKUP('entries and results'!G764,$A$3:$F$30018,6,FALSE)","v":" "},{"$f":"VLOOKUP('entries and results'!G764,$A$3:$E$30018,2,FALSE)","v":" "},762,".",{"$f":"VLOOKUP('entries and results'!M764,$H$3:$K$30018,2,FALSE)","v":" "},{"$f":"VLOOKUP('entries and results'!M764,$H$3:$K$30018,3,FALSE)","v":" "},{"$f":"VLOOKUP('entries and results'!M764,$H$3:$K$30018,4,FALSE)","v":" "}," ","00:00",null,null,null,null,null,null,null,null,null,null,null,null,null,null,null,null,null,null,null,null,null,null,null,null,null,null,null,null,null,null,null,null,null,null,null,null,null,null,null,null,null,null,null,"00:00",762,0,"0000000","00","00","00"]
["SA04378","Ayr Seaforth AAC","1993-08-30","Rachel Hunter","SA04378","Senior",".",763,{"$f":"VLOOKUP('entries and results'!G765,$A$3:$E$30018,4,FALSE)","v":" "},{"$f":"VLOOKUP('entries and results'!G765,$A$3:$F$30018,6,FALSE)","v":" "},{"$f":"VLOOKUP('entries and results'!G765,$A$3:$E$30018,2,FALSE)","v":" "},763,".",{"$f":"VLOOKUP('entries and results'!M765,$H$3:$K$30018,2,FALSE)","v":" "},{"$f":"VLOOKUP('entries and results'!M765,$H$3:$K$30018,3,FALSE)","v":" "},{"$f":"VLOOKUP('entries and results'!M765,$H$3:$K$30018,4,FALSE)","v":" "}," ","00:00",null,null,null,null,null,null,null,null,null,null,null,null,null,null,null,null,null,null,null,null,null,null,null,null,null,null,null,null,null,null,null,null,null,null,null,null,null,null,null,null,null,null,null,"00:00",763,0,"0000000","00","00","00"]
["SA04379","Ayr Seaforth AAC","1994-05-10","Hazel Jamieson","SA04379","Under 17",".",764,{"$f":"VLOOKUP('entries and results'!G766,$A$3:$E$30018,4,FALSE)","v":" "},{"$f":"VLOOKUP('entries and results'!G766,$A$3:$F$30018,6,FALSE)","v":" "},{"$f":"VLOOKUP('entries and results'!G766,$A$3:$E$30018,2,FALSE)","v":" "},764,".",{"$f":"VLOOKUP('entries and results'!M766,$H$3:$K$30018,2,FALSE)","v":" "},{"$f":"VLOOKUP('entries and results'!M766,$H$3:$K$30018,3,FALSE)","v":" "},{"$f":"VLOOKUP('entries and results'!M766,$H$3:$K$30018,4,FALSE)","v":" "}," ","00:00",null,null,null,null,null,null,null,null,null,null,null,null,null,null,null,null,null,null,null,null,null,null,null,null,null,null,null,null,null,null,null,null,null,null,null,null,null,null,null,null,null,null,null,"00:00",764,0,"0000000","00","00","00"]
["SA04381","Ayr Seaforth AAC","1992-02-12","Claire Taylor","SA04381","Senior",".",765,{"$f":"VLOOKUP('entries and results'!G767,$A$3:$E$30018,4,FALSE)","v":" "},{"$f":"VLOOKUP('entries and results'!G767,$A$3:$F$30018,6,FALSE)","v":" "},{"$f":"VLOOKUP('entries and results'!G767,$A$3:$E$30018,2,FALSE)","v":" "},765,".",{"$f":"VLOOKUP('entries and results'!M767,$H$3:$K$30018,2,FALSE)","v":" "},{"$f":"VLOOKUP('entries and results'!M767,$H$3:$K$30018,3,FALSE)","v":" "},{"$f":"VLOOKUP('entries and results'!M767,$H$3:$K$30018,4,FALSE)","v":" "}," ","00:00",null,null,null,null,null,null,null,null,null,null,null,null,null,null,null,null,null,null,null,null,null,null,null,null,null,null,null,null,null,null,null,null,null,null,null,null,null,null,null,null,null,null,null,"00:00",765,0,"0000000","00","00","00"]
["SA04383",null,"1994-03-21","Richard Campbell","SA04383","Under 17",".",766,{"$f":"VLOOKUP('entries and results'!G768,$A$3:$E$30018,4,FALSE)","v":" "},{"$f":"VLOOKUP('entries and results'!G768,$A$3:$F$30018,6,FALSE)","v":" "},{"$f":"VLOOKUP('entries and results'!G768,$A$3:$E$30018,2,FALSE)","v":" "},766,".",{"$f":"VLOOKUP('entries and results'!M768,$H$3:$K$30018,2,FALSE)","v":" "},{"$f":"VLOOKUP('entries and results'!M768,$H$3:$K$30018,3,FALSE)","v":" "},{"$f":"VLOOKUP('entries and results'!M768,$H$3:$K$30018,4,FALSE)","v":" "}," ","00:00",null,null,null,null,null,null,null,null,null,null,null,null,null,null,null,null,null,null,null,null,null,null,null,null,null,null,null,null,null,null,null,null,null,null,null,null,null,null,null,null,null,null,null,"00:00",766,0,"0000000","00","00","00"]
["SA04385","Calderglen Harriers","1994-06-11","Daniel Mullen","SA04385","Under 17",".",767,{"$f":"VLOOKUP('entries and results'!G769,$A$3:$E$30018,4,FALSE)","v":" "},{"$f":"VLOOKUP('entries and results'!G769,$A$3:$F$30018,6,FALSE)","v":" "},{"$f":"VLOOKUP('entries and results'!G769,$A$3:$E$30018,2,FALSE)","v":" "},767,".",{"$f":"VLOOKUP('entries and results'!M769,$H$3:$K$30018,2,FALSE)","v":" "},{"$f":"VLOOKUP('entries and results'!M769,$H$3:$K$30018,3,FALSE)","v":" "},{"$f":"VLOOKUP('entries and results'!M769,$H$3:$K$30018,4,FALSE)","v":" "}," ","00:00",null,null,null,null,null,null,null,null,null,null,null,null,null,null,null,null,null,null,null,null,null,null,null,null,null,null,null,null,null,null,null,null,null,null,null,null,null,null,null,null,null,null,null,"00:00",767,0,"0000000","00","00","00"]
["SA04386","Calderglen Harriers","1997-03-08","Paul Mullen","SA04386","Under 15",".",768,{"$f":"VLOOKUP('entries and results'!G770,$A$3:$E$30018,4,FALSE)","v":" "},{"$f":"VLOOKUP('entries and results'!G770,$A$3:$F$30018,6,FALSE)","v":" "},{"$f":"VLOOKUP('entries and results'!G770,$A$3:$E$30018,2,FALSE)","v":" "},768,".",{"$f":"VLOOKUP('entries and results'!M770,$H$3:$K$30018,2,FALSE)","v":" "},{"$f":"VLOOKUP('entries and results'!M770,$H$3:$K$30018,3,FALSE)","v":" "},{"$f":"VLOOKUP('entries and results'!M770,$H$3:$K$30018,4,FALSE)","v":" "}," ","00:00",null,null,null,null,null,null,null,null,null,null,null,null,null,null,null,null,null,null,null,null,null,null,null,null,null,null,null,null,null,null,null,null,null,null,null,null,null,null,null,null,null,null,null,"00:00",768,0,"0000000","00","00","00"]
["SA04387","Giffnock North AAC","1993-11-19","Ewan Murray","SA04387","Under 17",".",769,{"$f":"VLOOKUP('entries and results'!G771,$A$3:$E$30018,4,FALSE)","v":" "},{"$f":"VLOOKUP('entries and results'!G771,$A$3:$F$30018,6,FALSE)","v":" "},{"$f":"VLOOKUP('entries and results'!G771,$A$3:$E$30018,2,FALSE)","v":" "},769,".",{"$f":"VLOOKUP('entries and results'!M771,$H$3:$K$30018,2,FALSE)","v":" "},{"$f":"VLOOKUP('entries and results'!M771,$H$3:$K$30018,3,FALSE)","v":" "},{"$f":"VLOOKUP('entries and results'!M771,$H$3:$K$30018,4,FALSE)","v":" "}," ","00:00",null,null,null,null,null,null,null,null,null,null,null,null,null,null,null,null,null,null,null,null,null,null,null,null,null,null,null,null,null,null,null,null,null,null,null,null,null,null,null,null,null,null,null,"00:00",769,{"$f":"SUMIF($H$3:$H$601,$BK771,$Q$3:$Q$601)","v":0},"0000000","00","00","00"]
["SA04396","Central AC","1990-05-28","Scott McDonald","SA04396","Senior",".",770,{"$f":"VLOOKUP('entries and results'!G772,$A$3:$E$30018,4,FALSE)","v":" "},{"$f":"VLOOKUP('entries and results'!G772,$A$3:$F$30018,6,FALSE)","v":" "},{"$f":"VLOOKUP('entries and results'!G772,$A$3:$E$30018,2,FALSE)","v":" "},770,".",{"$f":"VLOOKUP('entries and results'!M772,$H$3:$K$30018,2,FALSE)","v":" "},{"$f":"VLOOKUP('entries and results'!M772,$H$3:$K$30018,3,FALSE)","v":" "},{"$f":"VLOOKUP('entries and results'!M772,$H$3:$K$30018,4,FALSE)","v":" "}," ",{"$f":"IF($H772=\"\",\" \",(LOOKUP($H772,$BK$3:$BK$1601,$BJ$3:$BJ$1601)))","v":"00:00"},null,null,null,null,null,null,null,null,null,null,null,null,null,null,null,null,null,null,null,null,null,null,null,null,null,null,null,null,null,null,null,null,null,null,null,null,null,null,null,null,null,null,null,"00:00",770,0,"0000000","00","00","00"]
["SA04399","East Kilbride A.C.","1996-03-16","Ross Maxwell","SA04399","Under 15",".",771,{"$f":"VLOOKUP('entries and results'!G773,$A$3:$E$30018,4,FALSE)","v":" "},{"$f":"VLOOKUP('entries and results'!G773,$A$3:$F$30018,6,FALSE)","v":" "},{"$f":"VLOOKUP('entries and results'!G773,$A$3:$E$30018,2,FALSE)","v":" "},771,".",{"$f":"VLOOKUP('entries and results'!M773,$H$3:$K$30018,2,FALSE)","v":" "},{"$f":"VLOOKUP('entries and results'!M773,$H$3:$K$30018,3,FALSE)","v":" "},{"$f":"VLOOKUP('entries and results'!M773,$H$3:$K$30018,4,FALSE)","v":" "}," ","00:00",null,null,null,null,null,null,null,null,null,null,null,null,null,null,null,null,null,null,null,null,null,null,null,null,null,null,null,null,null,null,null,null,null,null,null,null,null,null,null,null,null,null,null,"00:00",771,0,"0000000","00","00","00"]
["SA04402","Edinburgh AC","1989-06-28","Louise McLelland","SA04402","Senior",".",772,{"$f":"VLOOKUP('entries and results'!G774,$A$3:$E$30018,4,FALSE)","v":" "},{"$f":"VLOOKUP('entries and results'!G774,$A$3:$F$30018,6,FALSE)","v":" "},{"$f":"VLOOKUP('entries and results'!G774,$A$3:$E$30018,2,FALSE)","v":" "},772,".",{"$f":"VLOOKUP('entries and results'!M774,$H$3:$K$30018,2,FALSE)","v":" "},{"$f":"VLOOKUP('entries and results'!M774,$H$3:$K$30018,3,FALSE)","v":" "},{"$f":"VLOOKUP('entries and results'!M774,$H$3:$K$30018,4,FALSE)","v":" "}," ","00:00",null,null,null,null,null,null,null,null,null,null,null,null,null,null,null,null,null,null,null,null,null,null,null,null,null,null,null,null,null,null,null,null,null,null,null,null,null,null,null,null,null,null,null,"00:00",772,0,{"$f":"CONCATENATE($BG$2,$BL774)","v":"0000000"},{"$f":"MID(RIGHT($BM774,6),1,2)","v":"00"},{"$f":"MID(RIGHT($BM774,6),3,2)","v":"00"},{"$f":"MID(RIGHT($BM774,6),5,2)","v":"00"}]
["SA04407","Fife AC","1994-05-25","Grace Collison-Owen","SA04407","Under 17",".",773,{"$f":"VLOOKUP('entries and results'!G775,$A$3:$E$30018,4,FALSE)","v":" "},{"$f":"VLOOKUP('entries and results'!G775,$A$3:$F$30018,6,FALSE)","v":" "},{"$f":"VLOOKUP('entries and results'!G775,$A$3:$E$30018,2,FALSE)","v":" "},773,".",{"$f":"VLOOKUP('entries and results'!M775,$H$3:$K$30018,2,FALSE)","v":" "},{"$f":"VLOOKUP('entries and results'!M775,$H$3:$K$30018,3,FALSE)","v":" "},{"$f":"VLOOKUP('entries and results'!M775,$H$3:$K$30018,4,FALSE)","v":" "}," ","00:00",null,null,null,null,null,null,null,null,null,null,null,null,null,null,null,null,null,null,null,null,null,null,null,null,null,null,null,null,null,null,null,null,null,null,null,null,null,null,null,null,null,null,null,"00:00",773,0,"0000000","00","00","00"]
["SA04408","Fife AC","1994-05-25","Olivia Collison-Owen","SA04408","Under 17",".",774,{"$f":"VLOOKUP('entries and results'!G776,$A$3:$E$30018,4,FALSE)","v":" "},{"$f":"VLOOKUP('entries and results'!G776,$A$3:$F$30018,6,FALSE)","v":" "},{"$f":"VLOOKUP('entries and results'!G776,$A$3:$E$30018,2,FALSE)","v":" "},774,".",{"$f":"VLOOKUP('entries and results'!M776,$H$3:$K$30018,2,FALSE)","v":" "},{"$f":"VLOOKUP('entries and results'!M776,$H$3:$K$30018,3,FALSE)","v":" "},{"$f":"VLOOKUP('entries and results'!M776,$H$3:$K$30018,4,FALSE)","v":" "}," ","00:00",null,null,null,null,null,null,null,null,null,null,null,null,null,null,null,null,null,null,null,null,null,null,null,null,null,null,null,null,null,null,null,null,null,null,null,null,null,null,null,null,null,null,null,"00:00",774,0,"0000000","00","00","00"]
["SA04409","Fife AC","1993-12-14","Ryan McIntosh","SA04409","Under 17",".",775,{"$f":"VLOOKUP('entries and results'!G777,$A$3:$E$30018,4,FALSE)","v":" "},{"$f":"VLOOKUP('entries and results'!G777,$A$3:$F$30018,6,FALSE)","v":" "},{"$f":"VLOOKUP('entries and results'!G777,$A$3:$E$30018,2,FALSE)","v":" "},775,".",{"$f":"VLOOKUP('entries and results'!M777,$H$3:$K$30018,2,FALSE)","v":" "},{"$f":"VLOOKUP('entries and results'!M777,$H$3:$K$30018,3,FALSE)","v":" "},{"$f":"VLOOKUP('entries and results'!M777,$H$3:$K$30018,4,FALSE)","v":" "}," ","00:00",null,null,null,null,null,null,null,null,null,null,null,null,null,null,null,null,null,null,null,null,null,null,null,null,null,null,null,null,null,null,null,null,null,null,null,null,null,null,null,null,null,null,null,"00:00",775,0,"0000000","00","00","00"]
["SA04421","Giffnock North AAC","1992-06-10","Claire McAuley","SA04421","Senior",".",776,{"$f":"VLOOKUP('entries and results'!G778,$A$3:$E$30018,4,FALSE)","v":" "},{"$f":"VLOOKUP('entries and results'!G778,$A$3:$F$30018,6,FALSE)","v":" "},{"$f":"VLOOKUP('entries and results'!G778,$A$3:$E$30018,2,FALSE)","v":" "},776,".",{"$f":"VLOOKUP('entries and results'!M778,$H$3:$K$30018,2,FALSE)","v":" "},{"$f":"VLOOKUP('entries and results'!M778,$H$3:$K$30018,3,FALSE)","v":" "},{"$f":"VLOOKUP('entries and results'!M778,$H$3:$K$30018,4,FALSE)","v":" "}," ","00:00",null,null,null,null,null,null,null,null,null,null,null,null,null,null,null,null,null,null,null,null,null,null,null,null,null,null,null,null,null,null,null,null,null,null,null,null,null,null,null,null,null,null,null,"00:00",776,0,"0000000","00","00","00"]
["SA04422","Giffnock North AAC","1995-11-10","Amy McLachlan","SA04422","Under 15",".",777,{"$f":"VLOOKUP('entries and results'!G779,$A$3:$E$30018,4,FALSE)","v":" "},{"$f":"VLOOKUP('entries and results'!G779,$A$3:$F$30018,6,FALSE)","v":" "},{"$f":"VLOOKUP('entries and results'!G779,$A$3:$E$30018,2,FALSE)","v":" "},777,".",{"$f":"VLOOKUP('entries and results'!M779,$H$3:$K$30018,2,FALSE)","v":" "},{"$f":"VLOOKUP('entries and results'!M779,$H$3:$K$30018,3,FALSE)","v":" "},{"$f":"VLOOKUP('entries and results'!M779,$H$3:$K$30018,4,FALSE)","v":" "}," ","00:00",null,null,null,null,null,null,null,null,null,null,null,null,null,null,null,null,null,null,null,null,null,null,null,null,null,null,null,null,null,null,null,null,null,null,null,null,null,null,null,null,null,null,null,"00:00",777,0,"0000000","00","00","00"]
["SA04433","Kilmarnock H&AC","1993-02-27","Lois Shankland","SA04433","Senior",".",778,{"$f":"VLOOKUP('entries and results'!G780,$A$3:$E$30018,4,FALSE)","v":" "},{"$f":"VLOOKUP('entries and results'!G780,$A$3:$F$30018,6,FALSE)","v":" "},{"$f":"VLOOKUP('entries and results'!G780,$A$3:$E$30018,2,FALSE)","v":" "},778,".",{"$f":"VLOOKUP('entries and results'!M780,$H$3:$K$30018,2,FALSE)","v":" "},{"$f":"VLOOKUP('entries and results'!M780,$H$3:$K$30018,3,FALSE)","v":" "},{"$f":"VLOOKUP('entries and results'!M780,$H$3:$K$30018,4,FALSE)","v":" "}," ","00:00",null,null,null,null,null,null,null,null,null,null,null,null,null,null,null,null,null,null,null,null,null,null,null,null,null,null,null,null,null,null,null,null,null,null,null,null,null,null,null,null,null,null,null,"00:00",778,0,"0000000","00","00","00"]
["SA04435","Kilmarnock H&AC","1995-03-01","Roy Shankland","SA04435","Under 17",".",779,{"$f":"VLOOKUP('entries and results'!G781,$A$3:$E$30018,4,FALSE)","v":" "},{"$f":"VLOOKUP('entries and results'!G781,$A$3:$F$30018,6,FALSE)","v":" "},{"$f":"VLOOKUP('entries and results'!G781,$A$3:$E$30018,2,FALSE)","v":" "},779,".",{"$f":"VLOOKUP('entries and results'!M781,$H$3:$K$30018,2,FALSE)","v":" "},{"$f":"VLOOKUP('entries and results'!M781,$H$3:$K$30018,3,FALSE)","v":" "},{"$f":"VLOOKUP('entries and results'!M781,$H$3:$K$30018,4,FALSE)","v":" "}," ","00:00",null,null,null,null,null,null,null,null,null,null,null,null,null,null,null,null,null,null,null,null,null,null,null,null,null,null,null,null,null,null,null,null,null,null,null,null,null,null,null,null,null,null,null,"00:00",779,0,"0000000","00","00","00"]
["SA04436","Kilmarnock H&AC","1996-06-28","Fern Wales","SA04436","Under 15",".",780,{"$f":"VLOOKUP('entries and results'!G782,$A$3:$E$30018,4,FALSE)","v":" "},{"$f":"VLOOKUP('entries and results'!G782,$A$3:$F$30018,6,FALSE)","v":" "},{"$f":"VLOOKUP('entries and results'!G782,$A$3:$E$30018,2,FALSE)","v":" "},780,".",{"$f":"VLOOKUP('entries and results'!M782,$H$3:$K$30018,2,FALSE)","v":" "},{"$f":"VLOOKUP('entries and results'!M782,$H$3:$K$30018,3,FALSE)","v":" "},{"$f":"VLOOKUP('entries and results'!M782,$H$3:$K$30018,4,FALSE)","v":" "}," ","00:00",null,null,null,null,null,null,null,null,null,null,null,null,null,null,null,null,null,null,null,null,null,null,null,null,null,null,null,null,null,null,null,null,null,null,null,null,null,null,null,null,null,null,null,"00:00",780,0,"0000000","00","00","00"]
["SA04437","Kilmarnock H&AC","1990-04-20","Cameron Wilson","SA04437","Senior",".",781,{"$f":"VLOOKUP('entries and results'!G783,$A$3:$E$30018,4,FALSE)","v":" "},{"$f":"VLOOKUP('entries and results'!G783,$A$3:$F$30018,6,FALSE)","v":" "},{"$f":"VLOOKUP('entries and results'!G783,$A$3:$E$30018,2,FALSE)","v":" "},781,".",{"$f":"VLOOKUP('entries and results'!M783,$H$3:$K$30018,2,FALSE)","v":" "},{"$f":"VLOOKUP('entries and results'!M783,$H$3:$K$30018,3,FALSE)","v":" "},{"$f":"VLOOKUP('entries and results'!M783,$H$3:$K$30018,4,FALSE)","v":" "}," ","00:00",null,null,null,null,null,null,null,null,null,null,null,null,null,null,null,null,null,null,null,null,null,null,null,null,null,null,null,null,null,null,null,null,null,null,null,null,null,null,null,null,null,null,null,"00:00",781,0,"0000000","00","00","00"]
["SA04439","Kilbarchan AAC","1993-12-02","Nicole Caulfield","SA04439","Under 17",".",782,{"$f":"VLOOKUP('entries and results'!G784,$A$3:$E$30018,4,FALSE)","v":" "},{"$f":"VLOOKUP('entries and results'!G784,$A$3:$F$30018,6,FALSE)","v":" "},{"$f":"VLOOKUP('entries and results'!G784,$A$3:$E$30018,2,FALSE)","v":" "},782,".",{"$f":"VLOOKUP('entries and results'!M784,$H$3:$K$30018,2,FALSE)","v":" "},{"$f":"VLOOKUP('entries and results'!M784,$H$3:$K$30018,3,FALSE)","v":" "},{"$f":"VLOOKUP('entries and results'!M784,$H$3:$K$30018,4,FALSE)","v":" "}," ","00:00",null,null,null,null,null,null,null,null,null,null,null,null,null,null,null,null,null,null,null,null,null,null,null,null,null,null,null,null,null,null,null,null,null,null,null,null,null,null,null,null,null,null,null,"00:00",782,0,"0000000","00","00","00"]
["SA04445","Kilbarchan AAC","1994-05-23","Katie McAlpine","SA04445","Under 17",".",783,{"$f":"VLOOKUP('entries and results'!G785,$A$3:$E$30018,4,FALSE)","v":" "},{"$f":"VLOOKUP('entries and results'!G785,$A$3:$F$30018,6,FALSE)","v":" "},{"$f":"VLOOKUP('entries and results'!G785,$A$3:$E$30018,2,FALSE)","v":" "},783,".",{"$f":"VLOOKUP('entries and results'!M785,$H$3:$K$30018,2,FALSE)","v":" "},{"$f":"VLOOKUP('entries and results'!M785,$H$3:$K$30018,3,FALSE)","v":" "},{"$f":"VLOOKUP('entries and results'!M785,$H$3:$K$30018,4,FALSE)","v":" "}," ","00:00",null,null,null,null,null,null,null,null,null,null,null,null,null,null,null,null,null,null,null,null,null,null,null,null,null,null,null,null,null,null,null,null,null,null,null,null,null,null,null,null,null,null,null,"00:00",783,0,"0000000","00","00","00"]
["SA04458","Livingston & District AAC","1991-11-06","Amanda Campbell","SA04458","Senior",".",784,{"$f":"VLOOKUP('entries and results'!G786,$A$3:$E$30018,4,FALSE)","v":" "},{"$f":"VLOOKUP('entries and results'!G786,$A$3:$F$30018,6,FALSE)","v":" "},{"$f":"VLOOKUP('entries and results'!G786,$A$3:$E$30018,2,FALSE)","v":" "},784,".",{"$f":"VLOOKUP('entries and results'!M786,$H$3:$K$30018,2,FALSE)","v":" "},{"$f":"VLOOKUP('entries and results'!M786,$H$3:$K$30018,3,FALSE)","v":" "},{"$f":"VLOOKUP('entries and results'!M786,$H$3:$K$30018,4,FALSE)","v":" "}," ","00:00",null,null,null,null,null,null,null,null,null,null,null,null,null,null,null,null,null,null,null,null,null,null,null,null,null,null,null,null,null,null,null,null,null,null,null,null,null,null,null,null,null,null,null,"00:00",784,0,"0000000","00","00","00"]
["SA04464","Perth Strathtay Harriers","1996-05-08","lorna MacLarty","SA04464","Under 15",".",785,{"$f":"VLOOKUP('entries and results'!G787,$A$3:$E$30018,4,FALSE)","v":" "},{"$f":"VLOOKUP('entries and results'!G787,$A$3:$F$30018,6,FALSE)","v":" "},{"$f":"VLOOKUP('entries and results'!G787,$A$3:$E$30018,2,FALSE)","v":" "},785,".",{"$f":"VLOOKUP('entries and results'!M787,$H$3:$K$30018,2,FALSE)","v":" "},{"$f":"VLOOKUP('entries and results'!M787,$H$3:$K$30018,3,FALSE)","v":" "},{"$f":"VLOOKUP('entries and results'!M787,$H$3:$K$30018,4,FALSE)","v":" "}," ","00:00",null,null,null,null,null,null,null,null,null,null,null,null,null,null,null,null,null,null,null,null,null,null,null,null,null,null,null,null,null,null,null,null,null,null,null,null,null,null,null,null,null,null,null,"00:00",785,0,"0000000","00","00","00"]
["SA04465","Ron Hill Cambuslang Harriers","1994-08-17","Mairi Brown","SA04465","Under 17",".",786,{"$f":"VLOOKUP('entries and results'!G788,$A$3:$E$30018,4,FALSE)","v":" "},{"$f":"VLOOKUP('entries and results'!G788,$A$3:$F$30018,6,FALSE)","v":" "},{"$f":"VLOOKUP('entries and results'!G788,$A$3:$E$30018,2,FALSE)","v":" "},786,".",{"$f":"VLOOKUP('entries and results'!M788,$H$3:$K$30018,2,FALSE)","v":" "},{"$f":"VLOOKUP('entries and results'!M788,$H$3:$K$30018,3,FALSE)","v":" "},{"$f":"VLOOKUP('entries and results'!M788,$H$3:$K$30018,4,FALSE)","v":" "}," ","00:00",null,null,null,null,null,null,null,null,null,null,null,null,null,null,null,null,null,null,null,null,null,null,null,null,null,null,null,null,null,null,null,null,null,null,null,null,null,null,null,null,null,null,null,"00:00",786,0,"0000000","00","00","00"]
["SA04467","Ron Hill Cambuslang Harriers","1991-12-03","Andrew Coulter","SA04467","Senior",".",787,{"$f":"VLOOKUP('entries and results'!G789,$A$3:$E$30018,4,FALSE)","v":" "},{"$f":"VLOOKUP('entries and results'!G789,$A$3:$F$30018,6,FALSE)","v":" "},{"$f":"VLOOKUP('entries and results'!G789,$A$3:$E$30018,2,FALSE)","v":" "},787,".",{"$f":"VLOOKUP('entries and results'!M789,$H$3:$K$30018,2,FALSE)","v":" "},{"$f":"VLOOKUP('entries and results'!M789,$H$3:$K$30018,3,FALSE)","v":" "},{"$f":"VLOOKUP('entries and results'!M789,$H$3:$K$30018,4,FALSE)","v":" "}," ","00:00",null,null,null,null,null,null,null,null,null,null,null,null,null,null,null,null,null,null,null,null,null,null,null,null,null,null,null,null,null,null,null,null,null,null,null,null,null,null,null,null,null,null,null,"00:00",787,0,"0000000","00","00","00"]
["SA04472","Ron Hill Cambuslang Harriers","1993-04-11","Jack Hamilton","SA04472","Senior",".",788,{"$f":"VLOOKUP('entries and results'!G790,$A$3:$E$30018,4,FALSE)","v":" "},{"$f":"VLOOKUP('entries and results'!G790,$A$3:$F$30018,6,FALSE)","v":" "},{"$f":"VLOOKUP('entries and results'!G790,$A$3:$E$30018,2,FALSE)","v":" "},788,".",{"$f":"VLOOKUP('entries and results'!M790,$H$3:$K$30018,2,FALSE)","v":" "},{"$f":"VLOOKUP('entries and results'!M790,$H$3:$K$30018,3,FALSE)","v":" "},{"$f":"VLOOKUP('entries and results'!M790,$H$3:$K$30018,4,FALSE)","v":" "}," ","00:00",null,null,null,null,null,null,null,null,null,null,null,null,null,null,null,null,null,null,null,null,null,null,null,null,null,null,null,null,null,null,null,null,null,null,null,null,null,null,null,null,null,null,null,"00:00",788,0,"0000000","00","00","00"]
["SA04482","Shettleston Harriers","1993-07-28","Andrew Dearie","SA04482","Senior",".",789,{"$f":"VLOOKUP('entries and results'!G791,$A$3:$E$30018,4,FALSE)","v":" "},{"$f":"VLOOKUP('entries and results'!G791,$A$3:$F$30018,6,FALSE)","v":" "},{"$f":"VLOOKUP('entries and results'!G791,$A$3:$E$30018,2,FALSE)","v":" "},789,".",{"$f":"VLOOKUP('entries and results'!M791,$H$3:$K$30018,2,FALSE)","v":" "},{"$f":"VLOOKUP('entries and results'!M791,$H$3:$K$30018,3,FALSE)","v":" "},{"$f":"VLOOKUP('entries and results'!M791,$H$3:$K$30018,4,FALSE)","v":" "}," ","00:00",null,null,null,null,null,null,null,null,null,null,null,null,null,null,null,null,null,null,null,null,null,null,null,null,null,null,null,null,null,null,null,null,null,null,null,null,null,null,null,null,null,null,null,"00:00",789,0,"0000000","00","00","00"]
["SA04484","Stornoway Running & AC","1993-10-03","Robert Jones","SA04484","Under 17",".",790,{"$f":"VLOOKUP('entries and results'!G792,$A$3:$E$30018,4,FALSE)","v":" "},{"$f":"VLOOKUP('entries and results'!G792,$A$3:$F$30018,6,FALSE)","v":" "},{"$f":"VLOOKUP('entries and results'!G792,$A$3:$E$30018,2,FALSE)","v":" "},790,".",{"$f":"VLOOKUP('entries and results'!M792,$H$3:$K$30018,2,FALSE)","v":" "},{"$f":"VLOOKUP('entries and results'!M792,$H$3:$K$30018,3,FALSE)","v":" "},{"$f":"VLOOKUP('entries and results'!M792,$H$3:$K$30018,4,FALSE)","v":" "}," ","00:00",null,null,null,null,null,null,null,null,null,null,null,null,null,null,null,null,null,null,null,null,null,null,null,null,null,null,null,null,null,null,null,null,null,null,null,null,null,null,null,null,null,null,null,"00:00",790,0,"0000000","00","00","00"]
["SA04487","VP-Glasgow AC","1995-12-04","Fraser Barbour","SA04487","Under 15",".",791,{"$f":"VLOOKUP('entries and results'!G793,$A$3:$E$30018,4,FALSE)","v":" "},{"$f":"VLOOKUP('entries and results'!G793,$A$3:$F$30018,6,FALSE)","v":" "},{"$f":"VLOOKUP('entries and results'!G793,$A$3:$E$30018,2,FALSE)","v":" "},791,".",{"$f":"VLOOKUP('entries and results'!M793,$H$3:$K$30018,2,FALSE)","v":" "},{"$f":"VLOOKUP('entries and results'!M793,$H$3:$K$30018,3,FALSE)","v":" "},{"$f":"VLOOKUP('entries and results'!M793,$H$3:$K$30018,4,FALSE)","v":" "}," ","00:00",null,null,null,null,null,null,null,null,null,null,null,null,null,null,null,null,null,null,null,null,null,null,null,null,null,null,null,null,null,null,null,null,null,null,null,null,null,null,null,null,null,null,null,"00:00",791,0,"0000000","00","00","00"]
["SA04490","VP-Glasgow AC","1992-10-04","Abby Marshall","SA04490","Senior",".",792,{"$f":"VLOOKUP('entries and results'!G794,$A$3:$E$30018,4,FALSE)","v":" "},{"$f":"VLOOKUP('entries and results'!G794,$A$3:$F$30018,6,FALSE)","v":" "},{"$f":"VLOOKUP('entries and results'!G794,$A$3:$E$30018,2,FALSE)","v":" "},792,".",{"$f":"VLOOKUP('entries and results'!M794,$H$3:$K$30018,2,FALSE)","v":" "},{"$f":"VLOOKUP('entries and results'!M794,$H$3:$K$30018,3,FALSE)","v":" "},{"$f":"VLOOKUP('entries and results'!M794,$H$3:$K$30018,4,FALSE)","v":" "}," ","00:00",null,null,null,null,null,null,null,null,null,null,null,null,null,null,null,null,null,null,null,null,null,null,null,null,null,null,null,null,null,null,null,null,null,null,null,null,null,null,null,null,null,null,null,"00:00",792,0,"0000000","00","00","00"]
["SA04493","VP-Glasgow AC","1996-07-19","Iona Wilson","SA04493","Under 15",".",793,{"$f":"VLOOKUP('entries and results'!G795,$A$3:$E$30018,4,FALSE)","v":" "},{"$f":"VLOOKUP('entries and results'!G795,$A$3:$F$30018,6,FALSE)","v":" "},{"$f":"VLOOKUP('entries and results'!G795,$A$3:$E$30018,2,FALSE)","v":" "},793,".",{"$f":"VLOOKUP('entries and results'!M795,$H$3:$K$30018,2,FALSE)","v":" "},{"$f":"VLOOKUP('entries and results'!M795,$H$3:$K$30018,3,FALSE)","v":" "},{"$f":"VLOOKUP('entries and results'!M795,$H$3:$K$30018,4,FALSE)","v":" "}," ","00:00",null,null,null,null,null,null,null,null,null,null,null,null,null,null,null,null,null,null,null,null,null,null,null,null,null,null,null,null,null,null,null,null,null,null,null,null,null,null,null,null,null,null,null,"00:00",793,0,"0000000","00","00","00"]
["SA04500","Whitemoss AAC","1994-02-07","Euan Walker","SA04500","Under 17",".",794,{"$f":"VLOOKUP('entries and results'!G796,$A$3:$E$30018,4,FALSE)","v":" "},{"$f":"VLOOKUP('entries and results'!G796,$A$3:$F$30018,6,FALSE)","v":" "},{"$f":"VLOOKUP('entries and results'!G796,$A$3:$E$30018,2,FALSE)","v":" "},794,".",{"$f":"VLOOKUP('entries and results'!M796,$H$3:$K$30018,2,FALSE)","v":" "},{"$f":"VLOOKUP('entries and results'!M796,$H$3:$K$30018,3,FALSE)","v":" "},{"$f":"VLOOKUP('entries and results'!M796,$H$3:$K$30018,4,FALSE)","v":" "}," ","00:00",null,null,null,null,null,null,null,null,null,null,null,null,null,null,null,null,null,null,null,null,null,null,null,null,null,null,null,null,null,null,null,null,null,null,null,null,null,null,null,null,null,null,null,"00:00",794,0,"0000000","00","00","00"]
["SA04504","Aberdeen AAC","1991-04-02","Rory Leslie","SA04504","Senior",".",795,{"$f":"VLOOKUP('entries and results'!G797,$A$3:$E$30018,4,FALSE)","v":" "},{"$f":"VLOOKUP('entries and results'!G797,$A$3:$F$30018,6,FALSE)","v":" "},{"$f":"VLOOKUP('entries and results'!G797,$A$3:$E$30018,2,FALSE)","v":" "},795,".",{"$f":"VLOOKUP('entries and results'!M797,$H$3:$K$30018,2,FALSE)","v":" "},{"$f":"VLOOKUP('entries and results'!M797,$H$3:$K$30018,3,FALSE)","v":" "},{"$f":"VLOOKUP('entries and results'!M797,$H$3:$K$30018,4,FALSE)","v":" "}," ","00:00",null,null,null,null,null,null,null,null,null,null,null,null,null,null,null,null,null,null,null,null,null,null,null,null,null,null,null,null,null,null,null,null,null,null,null,null,null,null,null,null,null,null,null,"00:00",795,0,"0000000","00","00","00"]
["SA04506","Ayr Seaforth AAC","1996-09-11","Alice Arnold","SA04506","Under 15",".",796,{"$f":"VLOOKUP('entries and results'!G798,$A$3:$E$30018,4,FALSE)","v":" "},{"$f":"VLOOKUP('entries and results'!G798,$A$3:$F$30018,6,FALSE)","v":" "},{"$f":"VLOOKUP('entries and results'!G798,$A$3:$E$30018,2,FALSE)","v":" "},796,".",{"$f":"VLOOKUP('entries and results'!M798,$H$3:$K$30018,2,FALSE)","v":" "},{"$f":"VLOOKUP('entries and results'!M798,$H$3:$K$30018,3,FALSE)","v":" "},{"$f":"VLOOKUP('entries and results'!M798,$H$3:$K$30018,4,FALSE)","v":" "}," ","00:00",null,null,null,null,null,null,null,null,null,null,null,null,null,null,null,null,null,null,null,null,null,null,null,null,null,null,null,null,null,null,null,null,null,null,null,null,null,null,null,null,null,null,null,{"$f":"CONCATENATE(BO798,\":\",BP798)","v":"00:00"},796,0,"0000000","00","00","00"]
["SA04507","Ayr Seaforth AAC","1994-02-13","Katie Sprang","SA04507","Under 17",".",797,{"$f":"VLOOKUP('entries and results'!G799,$A$3:$E$30018,4,FALSE)","v":" "},{"$f":"VLOOKUP('entries and results'!G799,$A$3:$F$30018,6,FALSE)","v":" "},{"$f":"VLOOKUP('entries and results'!G799,$A$3:$E$30018,2,FALSE)","v":" "},797,".",{"$f":"VLOOKUP('entries and results'!M799,$H$3:$K$30018,2,FALSE)","v":" "},{"$f":"VLOOKUP('entries and results'!M799,$H$3:$K$30018,3,FALSE)","v":" "},{"$f":"VLOOKUP('entries and results'!M799,$H$3:$K$30018,4,FALSE)","v":" "}," ","00:00",null,null,null,null,null,null,null,null,null,null,null,null,null,null,null,null,null,null,null,null,null,null,null,null,null,null,null,null,null,null,null,null,null,null,null,null,null,null,null,null,null,null,null,"00:00",797,0,"0000000","00","00","00"]
["SA04508","Banchory Stonehaven AC","1994-10-14","Kathryn Christie","SA04508","Under 17",".",798,{"$f":"VLOOKUP('entries and results'!G800,$A$3:$E$30018,4,FALSE)","v":" "},{"$f":"VLOOKUP('entries and results'!G800,$A$3:$F$30018,6,FALSE)","v":" "},{"$f":"VLOOKUP('entries and results'!G800,$A$3:$E$30018,2,FALSE)","v":" "},798,".",{"$f":"VLOOKUP('entries and results'!M800,$H$3:$K$30018,2,FALSE)","v":" "},{"$f":"VLOOKUP('entries and results'!M800,$H$3:$K$30018,3,FALSE)","v":" "},{"$f":"VLOOKUP('entries and results'!M800,$H$3:$K$30018,4,FALSE)","v":" "}," ","00:00",null,null,null,null,null,null,null,null,null,null,null,null,null,null,null,null,null,null,null,null,null,null,null,null,null,null,null,null,null,null,null,null,null,null,null,null,null,null,null,null,null,null,null,"00:00",798,0,"0000000","00","00","00"]
["SA04510","Banchory Stonehaven AC","1992-05-22","Marlies Nicolai","SA04510","Senior",".",799,{"$f":"VLOOKUP('entries and results'!G801,$A$3:$E$30018,4,FALSE)","v":" "},{"$f":"VLOOKUP('entries and results'!G801,$A$3:$F$30018,6,FALSE)","v":" "},{"$f":"VLOOKUP('entries and results'!G801,$A$3:$E$30018,2,FALSE)","v":" "},799,".",{"$f":"VLOOKUP('entries and results'!M801,$H$3:$K$30018,2,FALSE)","v":" "},{"$f":"VLOOKUP('entries and results'!M801,$H$3:$K$30018,3,FALSE)","v":" "},{"$f":"VLOOKUP('entries and results'!M801,$H$3:$K$30018,4,FALSE)","v":" "}," ","00:00",null,null,null,null,null,null,null,null,null,null,null,null,null,null,null,null,null,null,null,null,null,null,null,null,null,null,null,null,null,null,null,null,null,null,null,null,null,null,null,null,null,null,null,"00:00",799,0,"0000000","00","00","00"]
["SA04517","VP-Glasgow AC","1995-09-10","Mhairi Patience","SA04517","Under 15",".",800,{"$f":"VLOOKUP('entries and results'!G802,$A$3:$E$30018,4,FALSE)","v":" "},{"$f":"VLOOKUP('entries and results'!G802,$A$3:$F$30018,6,FALSE)","v":" "},{"$f":"VLOOKUP('entries and results'!G802,$A$3:$E$30018,2,FALSE)","v":" "},800,".",{"$f":"VLOOKUP('entries and results'!M802,$H$3:$K$30018,2,FALSE)","v":" "},{"$f":"VLOOKUP('entries and results'!M802,$H$3:$K$30018,3,FALSE)","v":" "},{"$f":"VLOOKUP('entries and results'!M802,$H$3:$K$30018,4,FALSE)","v":" "}," ","00:00",null,null,null,null,null,null,null,null,null,null,null,null,null,null,null,null,null,null,null,null,null,null,null,null,null,null,null,null,null,null,null,null,null,null,null,null,null,null,null,null,null,null,null,"00:00",800,0,"0000000","00","00","00"]
["SA04522","Clydesdale Harriers","1992-10-16","Cameron McLeod","SA04522","Senior",".",801,{"$f":"VLOOKUP('entries and results'!G803,$A$3:$E$30018,4,FALSE)","v":" "},{"$f":"VLOOKUP('entries and results'!G803,$A$3:$F$30018,6,FALSE)","v":" "},{"$f":"VLOOKUP('entries and results'!G803,$A$3:$E$30018,2,FALSE)","v":" "},801,".",{"$f":"VLOOKUP('entries and results'!M803,$H$3:$K$30018,2,FALSE)","v":" "},{"$f":"VLOOKUP('entries and results'!M803,$H$3:$K$30018,3,FALSE)","v":" "},{"$f":"VLOOKUP('entries and results'!M803,$H$3:$K$30018,4,FALSE)","v":" "}," ","00:00",null,null,null,null,null,null,null,null,null,null,null,null,null,null,null,null,null,null,null,null,null,null,null,null,null,null,null,null,null,null,null,null,null,null,null,null,null,null,null,null,null,null,null,"00:00",801,0,"0000000","00","00","00"]
["SA04527","Edinburgh AC","1995-12-14","Rosanna Stewart","SA04527","Under 15",".",802,{"$f":"VLOOKUP('entries and results'!G804,$A$3:$E$30018,4,FALSE)","v":" "},{"$f":"VLOOKUP('entries and results'!G804,$A$3:$F$30018,6,FALSE)","v":" "},{"$f":"VLOOKUP('entries and results'!G804,$A$3:$E$30018,2,FALSE)","v":" "},802,".",{"$f":"VLOOKUP('entries and results'!M804,$H$3:$K$30018,2,FALSE)","v":" "},{"$f":"VLOOKUP('entries and results'!M804,$H$3:$K$30018,3,FALSE)","v":" "},{"$f":"VLOOKUP('entries and results'!M804,$H$3:$K$30018,4,FALSE)","v":" "}," ","00:00",null,null,null,null,null,null,null,null,null,null,null,null,null,null,null,null,null,null,null,null,null,null,null,null,null,null,null,null,null,null,null,null,null,null,null,null,null,null,null,null,null,null,null,"00:00",802,0,"0000000","00","00","00"]
["SA04528","Edinburgh AC","1992-03-27","Fiona Trew","SA04528","Senior",".",803,{"$f":"VLOOKUP('entries and results'!G805,$A$3:$E$30018,4,FALSE)","v":" "},{"$f":"VLOOKUP('entries and results'!G805,$A$3:$F$30018,6,FALSE)","v":" "},{"$f":"VLOOKUP('entries and results'!G805,$A$3:$E$30018,2,FALSE)","v":" "},803,".",{"$f":"VLOOKUP('entries and results'!M805,$H$3:$K$30018,2,FALSE)","v":" "},{"$f":"VLOOKUP('entries and results'!M805,$H$3:$K$30018,3,FALSE)","v":" "},{"$f":"VLOOKUP('entries and results'!M805,$H$3:$K$30018,4,FALSE)","v":" "}," ","00:00",null,null,null,null,null,null,null,null,null,null,null,null,null,null,null,null,null,null,null,null,null,null,null,null,null,null,null,null,null,null,null,null,null,null,null,null,null,null,null,null,null,null,null,"00:00",803,0,"0000000","00","00","00"]
["SA04534","Falkirk Victoria Harriers","1995-06-09","Euan McCallum","SA04534","Under 17",".",804,{"$f":"VLOOKUP('entries and results'!G806,$A$3:$E$30018,4,FALSE)","v":" "},{"$f":"VLOOKUP('entries and results'!G806,$A$3:$F$30018,6,FALSE)","v":" "},{"$f":"VLOOKUP('entries and results'!G806,$A$3:$E$30018,2,FALSE)","v":" "},804,".",{"$f":"VLOOKUP('entries and results'!M806,$H$3:$K$30018,2,FALSE)","v":" "},{"$f":"VLOOKUP('entries and results'!M806,$H$3:$K$30018,3,FALSE)","v":" "},{"$f":"VLOOKUP('entries and results'!M806,$H$3:$K$30018,4,FALSE)","v":" "}," ","00:00",null,null,null,null,null,null,null,null,null,null,null,null,null,null,null,null,null,null,null,null,null,null,null,null,null,null,null,null,null,null,null,null,null,null,null,null,null,null,null,null,null,null,null,"00:00",804,0,"0000000","00","00","00"]
["SA04555","Giffnock North AAC","1993-01-29","Roisin Howat","SA04555","Senior",".",805,{"$f":"VLOOKUP('entries and results'!G807,$A$3:$E$30018,4,FALSE)","v":" "},{"$f":"VLOOKUP('entries and results'!G807,$A$3:$F$30018,6,FALSE)","v":" "},{"$f":"VLOOKUP('entries and results'!G807,$A$3:$E$30018,2,FALSE)","v":" "},805,".",{"$f":"VLOOKUP('entries and results'!M807,$H$3:$K$30018,2,FALSE)","v":" "},{"$f":"VLOOKUP('entries and results'!M807,$H$3:$K$30018,3,FALSE)","v":" "},{"$f":"VLOOKUP('entries and results'!M807,$H$3:$K$30018,4,FALSE)","v":" "}," ","00:00",null,null,null,null,null,null,null,null,null,null,null,null,null,null,null,null,null,null,null,null,null,null,null,null,null,null,null,null,null,null,null,null,null,null,null,null,null,null,null,null,null,null,null,"00:00",805,0,"0000000","00","00","00"]
["SA04559","Giffnock North AAC","1991-09-25","Claire MacDonald","SA04559","Senior",".",806,{"$f":"VLOOKUP('entries and results'!G808,$A$3:$E$30018,4,FALSE)","v":" "},{"$f":"VLOOKUP('entries and results'!G808,$A$3:$F$30018,6,FALSE)","v":" "},{"$f":"VLOOKUP('entries and results'!G808,$A$3:$E$30018,2,FALSE)","v":" "},806,".",{"$f":"VLOOKUP('entries and results'!M808,$H$3:$K$30018,2,FALSE)","v":" "},{"$f":"VLOOKUP('entries and results'!M808,$H$3:$K$30018,3,FALSE)","v":" "},{"$f":"VLOOKUP('entries and results'!M808,$H$3:$K$30018,4,FALSE)","v":" "}," ","00:00",null,null,null,null,null,null,null,null,null,null,null,null,null,null,null,null,null,null,null,null,null,null,null,null,null,null,null,null,null,null,null,null,null,null,null,null,null,null,null,null,null,null,null,"00:00",806,0,"0000000","00","00","00"]
["SA04563","Giffnock North AAC","1994-10-22","Jennifer McLellan","SA04563","Under 17",".",807,{"$f":"VLOOKUP('entries and results'!G809,$A$3:$E$30018,4,FALSE)","v":" "},{"$f":"VLOOKUP('entries and results'!G809,$A$3:$F$30018,6,FALSE)","v":" "},{"$f":"VLOOKUP('entries and results'!G809,$A$3:$E$30018,2,FALSE)","v":" "},807,".",{"$f":"VLOOKUP('entries and results'!M809,$H$3:$K$30018,2,FALSE)","v":" "},{"$f":"VLOOKUP('entries and results'!M809,$H$3:$K$30018,3,FALSE)","v":" "},{"$f":"VLOOKUP('entries and results'!M809,$H$3:$K$30018,4,FALSE)","v":" "}," ","00:00",null,null,null,null,null,null,null,null,null,null,null,null,null,null,null,null,null,null,null,null,null,null,null,null,null,null,null,null,null,null,null,null,null,null,null,null,null,null,null,null,null,null,null,"00:00",807,0,"0000000","00","00","00"]
["SA04565","Giffnock North AAC","1992-07-10","Andrew Russell","SA04565","Senior",".",808,{"$f":"VLOOKUP('entries and results'!G810,$A$3:$E$30018,4,FALSE)","v":" "},{"$f":"VLOOKUP('entries and results'!G810,$A$3:$F$30018,6,FALSE)","v":" "},{"$f":"VLOOKUP('entries and results'!G810,$A$3:$E$30018,2,FALSE)","v":" "},808,".",{"$f":"VLOOKUP('entries and results'!M810,$H$3:$K$30018,2,FALSE)","v":" "},{"$f":"VLOOKUP('entries and results'!M810,$H$3:$K$30018,3,FALSE)","v":" "},{"$f":"VLOOKUP('entries and results'!M810,$H$3:$K$30018,4,FALSE)","v":" "}," ","00:00",null,null,null,null,null,null,null,null,null,null,null,null,null,null,null,null,null,null,null,null,null,null,null,null,null,null,null,null,null,null,null,null,null,null,null,null,null,null,null,null,null,null,null,"00:00",808,0,"0000000","00","00","00"]
["SA04580","Helensburgh AAC","1996-10-29","Josephine Lynch","SA04580","Under 15",".",809,{"$f":"VLOOKUP('entries and results'!G811,$A$3:$E$30018,4,FALSE)","v":" "},{"$f":"VLOOKUP('entries and results'!G811,$A$3:$F$30018,6,FALSE)","v":" "},{"$f":"VLOOKUP('entries and results'!G811,$A$3:$E$30018,2,FALSE)","v":" "},809,".",{"$f":"VLOOKUP('entries and results'!M811,$H$3:$K$30018,2,FALSE)","v":" "},{"$f":"VLOOKUP('entries and results'!M811,$H$3:$K$30018,3,FALSE)","v":" "},{"$f":"VLOOKUP('entries and results'!M811,$H$3:$K$30018,4,FALSE)","v":" "}," ","00:00",null,null,null,null,null,null,null,null,null,null,null,null,null,null,null,null,null,null,null,null,null,null,null,null,null,null,null,null,null,null,null,null,null,null,null,null,null,null,null,null,null,null,null,"00:00",809,0,"0000000","00","00","00"]
["SA04583","Helensburgh AAC","1995-10-26","Calum Wilson","SA04583","Under 15",".",810,{"$f":"VLOOKUP('entries and results'!G812,$A$3:$E$30018,4,FALSE)","v":" "},{"$f":"VLOOKUP('entries and results'!G812,$A$3:$F$30018,6,FALSE)","v":" "},{"$f":"VLOOKUP('entries and results'!G812,$A$3:$E$30018,2,FALSE)","v":" "},810,".",{"$f":"VLOOKUP('entries and results'!M812,$H$3:$K$30018,2,FALSE)","v":" "},{"$f":"VLOOKUP('entries and results'!M812,$H$3:$K$30018,3,FALSE)","v":" "},{"$f":"VLOOKUP('entries and results'!M812,$H$3:$K$30018,4,FALSE)","v":" "}," ","00:00",null,null,null,null,null,null,null,null,null,null,null,null,null,null,null,null,null,null,null,null,null,null,null,null,null,null,null,null,null,null,null,null,null,null,null,null,null,null,null,null,null,null,null,"00:00",810,0,"0000000","00","00","00"]
["SA04591","Kirkintilloch Olympians","1996-12-30","Aidan Kane","SA04591","Under 15",".",811,{"$f":"VLOOKUP('entries and results'!G813,$A$3:$E$30018,4,FALSE)","v":" "},{"$f":"VLOOKUP('entries and results'!G813,$A$3:$F$30018,6,FALSE)","v":" "},{"$f":"VLOOKUP('entries and results'!G813,$A$3:$E$30018,2,FALSE)","v":" "},811,".",{"$f":"VLOOKUP('entries and results'!M813,$H$3:$K$30018,2,FALSE)","v":" "},{"$f":"VLOOKUP('entries and results'!M813,$H$3:$K$30018,3,FALSE)","v":" "},{"$f":"VLOOKUP('entries and results'!M813,$H$3:$K$30018,4,FALSE)","v":" "}," ","00:00",null,null,null,null,null,null,null,null,null,null,null,null,null,null,null,null,null,null,null,null,null,null,null,null,null,null,null,null,null,null,null,null,null,null,null,null,null,null,null,null,null,null,null,"00:00",811,0,"0000000","00","00","00"]
["SA04597","VP-Glasgow AC","1994-09-01","Eilidh McHugh","SA04597","Under 17",".",812,{"$f":"VLOOKUP('entries and results'!G814,$A$3:$E$30018,4,FALSE)","v":" "},{"$f":"VLOOKUP('entries and results'!G814,$A$3:$F$30018,6,FALSE)","v":" "},{"$f":"VLOOKUP('entries and results'!G814,$A$3:$E$30018,2,FALSE)","v":" "},812,".",{"$f":"VLOOKUP('entries and results'!M814,$H$3:$K$30018,2,FALSE)","v":" "},{"$f":"VLOOKUP('entries and results'!M814,$H$3:$K$30018,3,FALSE)","v":" "},{"$f":"VLOOKUP('entries and results'!M814,$H$3:$K$30018,4,FALSE)","v":" "}," ","00:00",null,null,null,null,null,null,null,null,null,null,null,null,null,null,null,null,null,null,null,null,null,null,null,null,null,null,null,null,null,null,null,null,null,null,null,null,null,null,null,null,null,null,null,"00:00",812,0,"0000000","00","00","00"]
["SA04600","Lasswade AAC","1996-04-28","Ross Henderson","SA04600","Under 15",".",813,{"$f":"VLOOKUP('entries and results'!G815,$A$3:$E$30018,4,FALSE)","v":" "},{"$f":"VLOOKUP('entries and results'!G815,$A$3:$F$30018,6,FALSE)","v":" "},{"$f":"VLOOKUP('entries and results'!G815,$A$3:$E$30018,2,FALSE)","v":" "},813,".",{"$f":"VLOOKUP('entries and results'!M815,$H$3:$K$30018,2,FALSE)","v":" "},{"$f":"VLOOKUP('entries and results'!M815,$H$3:$K$30018,3,FALSE)","v":" "},{"$f":"VLOOKUP('entries and results'!M815,$H$3:$K$30018,4,FALSE)","v":" "}," ","00:00",null,null,null,null,null,null,null,null,null,null,null,null,null,null,null,null,null,null,null,null,null,null,null,null,null,null,null,null,null,null,null,null,null,null,null,null,null,null,null,null,null,null,null,"00:00",813,0,"0000000","00","00","00"]
["SA04614","North Uist AAC","1991-02-09","Eleanor MacDonald","SA04614","Senior",".",814,{"$f":"VLOOKUP('entries and results'!G816,$A$3:$E$30018,4,FALSE)","v":" "},{"$f":"VLOOKUP('entries and results'!G816,$A$3:$F$30018,6,FALSE)","v":" "},{"$f":"VLOOKUP('entries and results'!G816,$A$3:$E$30018,2,FALSE)","v":" "},814,".",{"$f":"VLOOKUP('entries and results'!M816,$H$3:$K$30018,2,FALSE)","v":" "},{"$f":"VLOOKUP('entries and results'!M816,$H$3:$K$30018,3,FALSE)","v":" "},{"$f":"VLOOKUP('entries and results'!M816,$H$3:$K$30018,4,FALSE)","v":" "}," ","00:00",null,null,null,null,null,null,null,null,null,null,null,null,null,null,null,null,null,null,null,null,null,null,null,null,null,null,null,null,null,null,null,null,null,null,null,null,null,null,null,null,null,null,null,"00:00",814,0,"0000000","00","00","00"]
["SA04615","North Uist AAC","1993-04-21","Fraser MacDonald","SA04615","Senior",".",815,{"$f":"VLOOKUP('entries and results'!G817,$A$3:$E$30018,4,FALSE)","v":" "},{"$f":"VLOOKUP('entries and results'!G817,$A$3:$F$30018,6,FALSE)","v":" "},{"$f":"VLOOKUP('entries and results'!G817,$A$3:$E$30018,2,FALSE)","v":" "},815,".",{"$f":"VLOOKUP('entries and results'!M817,$H$3:$K$30018,2,FALSE)","v":" "},{"$f":"VLOOKUP('entries and results'!M817,$H$3:$K$30018,3,FALSE)","v":" "},{"$f":"VLOOKUP('entries and results'!M817,$H$3:$K$30018,4,FALSE)","v":" "}," ","00:00",null,null,null,null,null,null,null,null,null,null,null,null,null,null,null,null,null,null,null,null,null,null,null,null,null,null,null,null,null,null,null,null,null,null,null,null,null,null,null,null,null,null,null,"00:00",815,0,"0000000","00","00","00"]
["SA04617","Pitreavie AAC","1993-12-15","Kathryn Pennel","SA04617","Under 17",".",816,{"$f":"VLOOKUP('entries and results'!G818,$A$3:$E$30018,4,FALSE)","v":" "},{"$f":"VLOOKUP('entries and results'!G818,$A$3:$F$30018,6,FALSE)","v":" "},{"$f":"VLOOKUP('entries and results'!G818,$A$3:$E$30018,2,FALSE)","v":" "},816,".",{"$f":"VLOOKUP('entries and results'!M818,$H$3:$K$30018,2,FALSE)","v":" "},{"$f":"VLOOKUP('entries and results'!M818,$H$3:$K$30018,3,FALSE)","v":" "},{"$f":"VLOOKUP('entries and results'!M818,$H$3:$K$30018,4,FALSE)","v":" "}," ","00:00",null,null,null,null,null,null,null,null,null,null,null,null,null,null,null,null,null,null,null,null,null,null,null,null,null,null,null,null,null,null,null,null,null,null,null,null,null,null,null,null,null,null,null,"00:00",816,0,"0000000","00","00","00"]
["SA04618","Pitreavie AAC","1996-10-09","Katey Turner","SA04618","Under 15",".",817,{"$f":"VLOOKUP('entries and results'!G819,$A$3:$E$30018,4,FALSE)","v":" "},{"$f":"VLOOKUP('entries and results'!G819,$A$3:$F$30018,6,FALSE)","v":" "},{"$f":"VLOOKUP('entries and results'!G819,$A$3:$E$30018,2,FALSE)","v":" "},817,".",{"$f":"VLOOKUP('entries and results'!M819,$H$3:$K$30018,2,FALSE)","v":" "},{"$f":"VLOOKUP('entries and results'!M819,$H$3:$K$30018,3,FALSE)","v":" "},{"$f":"VLOOKUP('entries and results'!M819,$H$3:$K$30018,4,FALSE)","v":" "}," ","00:00",null,null,null,null,null,null,null,null,null,null,null,null,null,null,null,null,null,null,null,null,null,null,null,null,null,null,null,null,null,null,null,null,null,null,null,null,null,null,null,null,null,null,null,"00:00",817,0,"0000000","00","00","00"]
["SA04637","Whitemoss AAC","1996-02-03","Meghan Owen","SA04637","Under 15",".",818,{"$f":"VLOOKUP('entries and results'!G820,$A$3:$E$30018,4,FALSE)","v":" "},{"$f":"VLOOKUP('entries and results'!G820,$A$3:$F$30018,6,FALSE)","v":" "},{"$f":"VLOOKUP('entries and results'!G820,$A$3:$E$30018,2,FALSE)","v":" "},818,".",{"$f":"VLOOKUP('entries and results'!M820,$H$3:$K$30018,2,FALSE)","v":" "},{"$f":"VLOOKUP('entries and results'!M820,$H$3:$K$30018,3,FALSE)","v":" "},{"$f":"VLOOKUP('entries and results'!M820,$H$3:$K$30018,4,FALSE)","v":" "}," ","00:00",null,null,null,null,null,null,null,null,null,null,null,null,null,null,null,null,null,null,null,null,null,null,null,null,null,null,null,null,null,null,null,null,null,null,null,null,null,null,null,null,null,null,null,"00:00",818,0,"0000000","00","00","00"]
["SA04639","Stornoway Running & AC","1995-01-05","Kristina MacKenzie","SA04639","Under 17",".",819,{"$f":"VLOOKUP('entries and results'!G821,$A$3:$E$30018,4,FALSE)","v":" "},{"$f":"VLOOKUP('entries and results'!G821,$A$3:$F$30018,6,FALSE)","v":" "},{"$f":"VLOOKUP('entries and results'!G821,$A$3:$E$30018,2,FALSE)","v":" "},819,".",{"$f":"VLOOKUP('entries and results'!M821,$H$3:$K$30018,2,FALSE)","v":" "},{"$f":"VLOOKUP('entries and results'!M821,$H$3:$K$30018,3,FALSE)","v":" "},{"$f":"VLOOKUP('entries and results'!M821,$H$3:$K$30018,4,FALSE)","v":" "}," ","00:00",null,null,null,null,null,null,null,null,null,null,null,null,null,null,null,null,null,null,null,null,null,null,null,null,null,null,null,null,null,null,null,null,null,null,null,null,null,null,null,null,null,null,null,"00:00",819,0,"0000000","00","00","00"]
["SA04649","Airdrie Harriers","1995-10-11","Siobhan Hanlon","SA04649","Under 15",".",820,{"$f":"VLOOKUP('entries and results'!G822,$A$3:$E$30018,4,FALSE)","v":" "},{"$f":"VLOOKUP('entries and results'!G822,$A$3:$F$30018,6,FALSE)","v":" "},{"$f":"VLOOKUP('entries and results'!G822,$A$3:$E$30018,2,FALSE)","v":" "},820,".",{"$f":"VLOOKUP('entries and results'!M822,$H$3:$K$30018,2,FALSE)","v":" "},{"$f":"VLOOKUP('entries and results'!M822,$H$3:$K$30018,3,FALSE)","v":" "},{"$f":"VLOOKUP('entries and results'!M822,$H$3:$K$30018,4,FALSE)","v":" "}," ","00:00",null,null,null,null,null,null,null,null,null,null,null,null,null,null,null,null,null,null,null,null,null,null,null,null,null,null,null,null,null,null,null,null,null,null,null,null,null,null,null,null,null,null,null,"00:00",820,0,"0000000","00","00","00"]
["SA04650","Airdrie Harriers","1995-12-14","Drew Howie","SA04650","Under 15",".",821,{"$f":"VLOOKUP('entries and results'!G823,$A$3:$E$30018,4,FALSE)","v":" "},{"$f":"VLOOKUP('entries and results'!G823,$A$3:$F$30018,6,FALSE)","v":" "},{"$f":"VLOOKUP('entries and results'!G823,$A$3:$E$30018,2,FALSE)","v":" "},821,".",{"$f":"VLOOKUP('entries and results'!M823,$H$3:$K$30018,2,FALSE)","v":" "},{"$f":"VLOOKUP('entries and results'!M823,$H$3:$K$30018,3,FALSE)","v":" "},{"$f":"VLOOKUP('entries and results'!M823,$H$3:$K$30018,4,FALSE)","v":" "}," ","00:00",null,null,null,null,null,null,null,null,null,null,null,null,null,null,null,null,null,null,null,null,null,null,null,null,null,null,null,null,null,null,null,null,null,null,null,null,null,null,null,null,null,null,null,"00:00",821,0,"0000000","00","00","00"]
["SA04654","North Ayrshire AC","1993-09-10","Michael Jenks","SA04654","Under 17",".",822,{"$f":"VLOOKUP('entries and results'!G824,$A$3:$E$30018,4,FALSE)","v":" "},{"$f":"VLOOKUP('entries and results'!G824,$A$3:$F$30018,6,FALSE)","v":" "},{"$f":"VLOOKUP('entries and results'!G824,$A$3:$E$30018,2,FALSE)","v":" "},822,".",{"$f":"VLOOKUP('entries and results'!M824,$H$3:$K$30018,2,FALSE)","v":" "},{"$f":"VLOOKUP('entries and results'!M824,$H$3:$K$30018,3,FALSE)","v":" "},{"$f":"VLOOKUP('entries and results'!M824,$H$3:$K$30018,4,FALSE)","v":" "}," ","00:00",null,null,null,null,null,null,null,null,null,null,null,null,null,null,null,null,null,null,null,null,null,null,null,null,null,null,null,null,null,null,null,null,null,null,null,null,null,null,null,null,null,null,null,"00:00",822,0,"0000000","00","00","00"]
["SA04655","Arran Runners","1993-02-05","Cameron Paul","SA04655","Senior",".",823,{"$f":"VLOOKUP('entries and results'!G825,$A$3:$E$30018,4,FALSE)","v":" "},{"$f":"VLOOKUP('entries and results'!G825,$A$3:$F$30018,6,FALSE)","v":" "},{"$f":"VLOOKUP('entries and results'!G825,$A$3:$E$30018,2,FALSE)","v":" "},823,".",{"$f":"VLOOKUP('entries and results'!M825,$H$3:$K$30018,2,FALSE)","v":" "},{"$f":"VLOOKUP('entries and results'!M825,$H$3:$K$30018,3,FALSE)","v":" "},{"$f":"VLOOKUP('entries and results'!M825,$H$3:$K$30018,4,FALSE)","v":" "}," ","00:00",null,null,null,null,null,null,null,null,null,null,null,null,null,null,null,null,null,null,null,null,null,null,null,null,null,null,null,null,null,null,null,null,null,null,null,null,null,null,null,null,null,null,null,"00:00",823,0,"0000000","00","00","00"]
["SA04658","Ayr Seaforth AAC","1996-05-31","Carolyn Harvey","SA04658","Under 15",".",824,{"$f":"VLOOKUP('entries and results'!G826,$A$3:$E$30018,4,FALSE)","v":" "},{"$f":"VLOOKUP('entries and results'!G826,$A$3:$F$30018,6,FALSE)","v":" "},{"$f":"VLOOKUP('entries and results'!G826,$A$3:$E$30018,2,FALSE)","v":" "},824,".",{"$f":"VLOOKUP('entries and results'!M826,$H$3:$K$30018,2,FALSE)","v":" "},{"$f":"VLOOKUP('entries and results'!M826,$H$3:$K$30018,3,FALSE)","v":" "},{"$f":"VLOOKUP('entries and results'!M826,$H$3:$K$30018,4,FALSE)","v":" "}," ","00:00",null,null,null,null,null,null,null,null,null,null,null,null,null,null,null,null,null,null,null,null,null,null,null,null,null,null,null,null,null,null,null,null,null,null,null,null,null,null,null,null,null,null,null,"00:00",824,0,"0000000","00","00","00"]
["SA04665","Central AC","1996-09-27","Kathryn Gillespie","SA04665","Under 15",".",825,{"$f":"VLOOKUP('entries and results'!G827,$A$3:$E$30018,4,FALSE)","v":" "},{"$f":"VLOOKUP('entries and results'!G827,$A$3:$F$30018,6,FALSE)","v":" "},{"$f":"VLOOKUP('entries and results'!G827,$A$3:$E$30018,2,FALSE)","v":" "},825,".",{"$f":"VLOOKUP('entries and results'!M827,$H$3:$K$30018,2,FALSE)","v":" "},{"$f":"VLOOKUP('entries and results'!M827,$H$3:$K$30018,3,FALSE)","v":" "},{"$f":"VLOOKUP('entries and results'!M827,$H$3:$K$30018,4,FALSE)","v":" "}," ","00:00",null,null,null,null,null,null,null,null,null,null,null,null,null,null,null,null,null,null,null,null,null,null,null,null,null,null,null,null,null,null,null,null,null,null,null,null,null,null,null,null,null,null,null,"00:00",825,0,"0000000","00","00","00"]
["SA04666","Central AC","1992-12-27","Scott Green","SA04666","Senior",".",826,{"$f":"VLOOKUP('entries and results'!G828,$A$3:$E$30018,4,FALSE)","v":" "},{"$f":"VLOOKUP('entries and results'!G828,$A$3:$F$30018,6,FALSE)","v":" "},{"$f":"VLOOKUP('entries and results'!G828,$A$3:$E$30018,2,FALSE)","v":" "},826,".",{"$f":"VLOOKUP('entries and results'!M828,$H$3:$K$30018,2,FALSE)","v":" "},{"$f":"VLOOKUP('entries and results'!M828,$H$3:$K$30018,3,FALSE)","v":" "},{"$f":"VLOOKUP('entries and results'!M828,$H$3:$K$30018,4,FALSE)","v":" "}," ","00:00",null,null,null,null,null,null,null,null,null,null,null,null,null,null,null,null,null,null,null,null,null,null,null,null,null,null,null,null,null,null,null,null,null,null,null,null,null,null,null,null,null,null,null,"00:00",826,0,"0000000","00","00","00"]
["SA04669","Edinburgh AC","1995-12-01","Ben Black","SA04669","Under 15",".",827,{"$f":"VLOOKUP('entries and results'!G829,$A$3:$E$30018,4,FALSE)","v":" "},{"$f":"VLOOKUP('entries and results'!G829,$A$3:$F$30018,6,FALSE)","v":" "},{"$f":"VLOOKUP('entries and results'!G829,$A$3:$E$30018,2,FALSE)","v":" "},827,".",{"$f":"VLOOKUP('entries and results'!M829,$H$3:$K$30018,2,FALSE)","v":" "},{"$f":"VLOOKUP('entries and results'!M829,$H$3:$K$30018,3,FALSE)","v":" "},{"$f":"VLOOKUP('entries and results'!M829,$H$3:$K$30018,4,FALSE)","v":" "}," ","00:00",null,null,null,null,null,null,null,null,null,null,null,null,null,null,null,null,null,null,null,null,null,null,null,null,null,null,null,null,null,null,null,null,null,null,null,null,null,null,null,null,null,null,null,"00:00",827,0,"0000000","00","00","00"]
["SA04671","Edinburgh AC","1994-03-31","Peter Cameron","SA04671","Under 17",".",828,{"$f":"VLOOKUP('entries and results'!G830,$A$3:$E$30018,4,FALSE)","v":" "},{"$f":"VLOOKUP('entries and results'!G830,$A$3:$F$30018,6,FALSE)","v":" "},{"$f":"VLOOKUP('entries and results'!G830,$A$3:$E$30018,2,FALSE)","v":" "},828,".",{"$f":"VLOOKUP('entries and results'!M830,$H$3:$K$30018,2,FALSE)","v":" "},{"$f":"VLOOKUP('entries and results'!M830,$H$3:$K$30018,3,FALSE)","v":" "},{"$f":"VLOOKUP('entries and results'!M830,$H$3:$K$30018,4,FALSE)","v":" "}," ","00:00",null,null,null,null,null,null,null,null,null,null,null,null,null,null,null,null,null,null,null,null,null,null,null,null,null,null,null,null,null,null,null,null,null,null,null,null,null,null,null,null,null,null,null,"00:00",828,0,"0000000","00","00","00"]
["SA04677","Edinburgh AC","1996-04-10","Kirsty McKean","SA04677","Under 15",".",829,{"$f":"VLOOKUP('entries and results'!G831,$A$3:$E$30018,4,FALSE)","v":" "},{"$f":"VLOOKUP('entries and results'!G831,$A$3:$F$30018,6,FALSE)","v":" "},{"$f":"VLOOKUP('entries and results'!G831,$A$3:$E$30018,2,FALSE)","v":" "},829,".",{"$f":"VLOOKUP('entries and results'!M831,$H$3:$K$30018,2,FALSE)","v":" "},{"$f":"VLOOKUP('entries and results'!M831,$H$3:$K$30018,3,FALSE)","v":" "},{"$f":"VLOOKUP('entries and results'!M831,$H$3:$K$30018,4,FALSE)","v":" "}," ","00:00",null,null,null,null,null,null,null,null,null,null,null,null,null,null,null,null,null,null,null,null,null,null,null,null,null,null,null,null,null,null,null,null,null,null,null,null,null,null,null,null,null,null,null,"00:00",829,0,"0000000","00","00","00"]
["SA04686","Clydesdale Harriers","1995-08-01","Tony Dolan","SA04686","Under 17",".",830,{"$f":"VLOOKUP('entries and results'!G832,$A$3:$E$30018,4,FALSE)","v":" "},{"$f":"VLOOKUP('entries and results'!G832,$A$3:$F$30018,6,FALSE)","v":" "},{"$f":"VLOOKUP('entries and results'!G832,$A$3:$E$30018,2,FALSE)","v":" "},830,".",{"$f":"VLOOKUP('entries and results'!M832,$H$3:$K$30018,2,FALSE)","v":" "},{"$f":"VLOOKUP('entries and results'!M832,$H$3:$K$30018,3,FALSE)","v":" "},{"$f":"VLOOKUP('entries and results'!M832,$H$3:$K$30018,4,FALSE)","v":" "}," ","00:00",null,null,null,null,null,null,null,null,null,null,null,null,null,null,null,null,null,null,null,null,null,null,null,null,null,null,null,null,null,null,null,null,null,null,null,null,null,null,null,null,null,null,null,"00:00",830,0,"0000000","00","00","00"]
["SA04692","Cumbernauld AAC","1995-08-06","Kirsty Bell","SA04692","Under 17",".",831,{"$f":"VLOOKUP('entries and results'!G833,$A$3:$E$30018,4,FALSE)","v":" "},{"$f":"VLOOKUP('entries and results'!G833,$A$3:$F$30018,6,FALSE)","v":" "},{"$f":"VLOOKUP('entries and results'!G833,$A$3:$E$30018,2,FALSE)","v":" "},831,".",{"$f":"VLOOKUP('entries and results'!M833,$H$3:$K$30018,2,FALSE)","v":" "},{"$f":"VLOOKUP('entries and results'!M833,$H$3:$K$30018,3,FALSE)","v":" "},{"$f":"VLOOKUP('entries and results'!M833,$H$3:$K$30018,4,FALSE)","v":" "}," ","00:00",null,null,null,null,null,null,null,null,null,null,null,null,null,null,null,null,null,null,null,null,null,null,null,null,null,null,null,null,null,null,null,null,null,null,null,null,null,null,null,null,null,null,null,"00:00",831,0,"0000000","00","00","00"]
["SA04708","East Kilbride A.C.","1997-01-08","Matthew Ashelby","SA04708","Under 15",".",832,{"$f":"VLOOKUP('entries and results'!G834,$A$3:$E$30018,4,FALSE)","v":" "},{"$f":"VLOOKUP('entries and results'!G834,$A$3:$F$30018,6,FALSE)","v":" "},{"$f":"VLOOKUP('entries and results'!G834,$A$3:$E$30018,2,FALSE)","v":" "},832,".",{"$f":"VLOOKUP('entries and results'!M834,$H$3:$K$30018,2,FALSE)","v":" "},{"$f":"VLOOKUP('entries and results'!M834,$H$3:$K$30018,3,FALSE)","v":" "},{"$f":"VLOOKUP('entries and results'!M834,$H$3:$K$30018,4,FALSE)","v":" "}," ","00:00",null,null,null,null,null,null,null,null,null,null,null,null,null,null,null,null,null,null,null,null,null,null,null,null,null,null,null,null,null,null,null,null,null,null,null,null,null,null,null,null,null,null,null,"00:00",832,0,"0000000","00","00","00"]
["SA04713","East Kilbride A.C.","1996-04-07","James Pearson","SA04713","Under 15",".",833,{"$f":"VLOOKUP('entries and results'!G835,$A$3:$E$30018,4,FALSE)","v":" "},{"$f":"VLOOKUP('entries and results'!G835,$A$3:$F$30018,6,FALSE)","v":" "},{"$f":"VLOOKUP('entries and results'!G835,$A$3:$E$30018,2,FALSE)","v":" "},833,".",{"$f":"VLOOKUP('entries and results'!M835,$H$3:$K$30018,2,FALSE)","v":" "},{"$f":"VLOOKUP('entries and results'!M835,$H$3:$K$30018,3,FALSE)","v":" "},{"$f":"VLOOKUP('entries and results'!M835,$H$3:$K$30018,4,FALSE)","v":" "}," ","00:00",null,null,null,null,null,null,null,null,null,null,null,null,null,null,null,null,null,null,null,null,null,null,null,null,null,null,null,null,null,null,null,null,null,null,null,null,null,null,null,null,null,null,null,"00:00",833,{"$f":"SUMIF($H$3:$H$601,$BK835,$Q$3:$Q$601)","v":0},"0000000","00","00","00"]
["SA04714","Edinburgh AC","1994-10-29","Caitlin Gray","SA04714","Under 17",".",834,{"$f":"VLOOKUP('entries and results'!G836,$A$3:$E$30018,4,FALSE)","v":" "},{"$f":"VLOOKUP('entries and results'!G836,$A$3:$F$30018,6,FALSE)","v":" "},{"$f":"VLOOKUP('entries and results'!G836,$A$3:$E$30018,2,FALSE)","v":" "},834,".",{"$f":"VLOOKUP('entries and results'!M836,$H$3:$K$30018,2,FALSE)","v":" "},{"$f":"VLOOKUP('entries and results'!M836,$H$3:$K$30018,3,FALSE)","v":" "},{"$f":"VLOOKUP('entries and results'!M836,$H$3:$K$30018,4,FALSE)","v":" "}," ",{"$f":"IF($H836=\"\",\" \",(LOOKUP($H836,$BK$3:$BK$1601,$BJ$3:$BJ$1601)))","v":"00:00"},null,null,null,null,null,null,null,null,null,null,null,null,null,null,null,null,null,null,null,null,null,null,null,null,null,null,null,null,null,null,null,null,null,null,null,null,null,null,null,null,null,null,null,"00:00",834,0,"0000000","00","00","00"]
["SA04715","Edinburgh AC","1996-07-24","Jaclyn Marshall","SA04715","Under 15",".",835,{"$f":"VLOOKUP('entries and results'!G837,$A$3:$E$30018,4,FALSE)","v":" "},{"$f":"VLOOKUP('entries and results'!G837,$A$3:$F$30018,6,FALSE)","v":" "},{"$f":"VLOOKUP('entries and results'!G837,$A$3:$E$30018,2,FALSE)","v":" "},835,".",{"$f":"VLOOKUP('entries and results'!M837,$H$3:$K$30018,2,FALSE)","v":" "},{"$f":"VLOOKUP('entries and results'!M837,$H$3:$K$30018,3,FALSE)","v":" "},{"$f":"VLOOKUP('entries and results'!M837,$H$3:$K$30018,4,FALSE)","v":" "}," ","00:00",null,null,null,null,null,null,null,null,null,null,null,null,null,null,null,null,null,null,null,null,null,null,null,null,null,null,null,null,null,null,null,null,null,null,null,null,null,null,null,null,null,null,null,"00:00",835,0,"0000000","00","00","00"]
["SA04716","Edinburgh AC","1996-07-24","Melissa Marshall","SA04716","Under 15",".",836,{"$f":"VLOOKUP('entries and results'!G838,$A$3:$E$30018,4,FALSE)","v":" "},{"$f":"VLOOKUP('entries and results'!G838,$A$3:$F$30018,6,FALSE)","v":" "},{"$f":"VLOOKUP('entries and results'!G838,$A$3:$E$30018,2,FALSE)","v":" "},836,".",{"$f":"VLOOKUP('entries and results'!M838,$H$3:$K$30018,2,FALSE)","v":" "},{"$f":"VLOOKUP('entries and results'!M838,$H$3:$K$30018,3,FALSE)","v":" "},{"$f":"VLOOKUP('entries and results'!M838,$H$3:$K$30018,4,FALSE)","v":" "}," ","00:00",null,null,null,null,null,null,null,null,null,null,null,null,null,null,null,null,null,null,null,null,null,null,null,null,null,null,null,null,null,null,null,null,null,null,null,null,null,null,null,null,null,null,null,"00:00",836,0,{"$f":"CONCATENATE($BG$2,$BL838)","v":"0000000"},{"$f":"MID(RIGHT($BM838,6),1,2)","v":"00"},{"$f":"MID(RIGHT($BM838,6),3,2)","v":"00"},{"$f":"MID(RIGHT($BM838,6),5,2)","v":"00"}]
["SA04718","Falkirk Victoria Harriers","1994-12-12","Jane Ainslie","SA04718","Under 17",".",837,{"$f":"VLOOKUP('entries and results'!G839,$A$3:$E$30018,4,FALSE)","v":" "},{"$f":"VLOOKUP('entries and results'!G839,$A$3:$F$30018,6,FALSE)","v":" "},{"$f":"VLOOKUP('entries and results'!G839,$A$3:$E$30018,2,FALSE)","v":" "},837,".",{"$f":"VLOOKUP('entries and results'!M839,$H$3:$K$30018,2,FALSE)","v":" "},{"$f":"VLOOKUP('entries and results'!M839,$H$3:$K$30018,3,FALSE)","v":" "},{"$f":"VLOOKUP('entries and results'!M839,$H$3:$K$30018,4,FALSE)","v":" "}," ","00:00",null,null,null,null,null,null,null,null,null,null,null,null,null,null,null,null,null,null,null,null,null,null,null,null,null,null,null,null,null,null,null,null,null,null,null,null,null,null,null,null,null,null,null,"00:00",837,0,"0000000","00","00","00"]
["SA04723","Falkirk Victoria Harriers","1996-06-17","Bradley McCabe","SA04723","Under 15",".",838,{"$f":"VLOOKUP('entries and results'!G840,$A$3:$E$30018,4,FALSE)","v":" "},{"$f":"VLOOKUP('entries and results'!G840,$A$3:$F$30018,6,FALSE)","v":" "},{"$f":"VLOOKUP('entries and results'!G840,$A$3:$E$30018,2,FALSE)","v":" "},838,".",{"$f":"VLOOKUP('entries and results'!M840,$H$3:$K$30018,2,FALSE)","v":" "},{"$f":"VLOOKUP('entries and results'!M840,$H$3:$K$30018,3,FALSE)","v":" "},{"$f":"VLOOKUP('entries and results'!M840,$H$3:$K$30018,4,FALSE)","v":" "}," ","00:00",null,null,null,null,null,null,null,null,null,null,null,null,null,null,null,null,null,null,null,null,null,null,null,null,null,null,null,null,null,null,null,null,null,null,null,null,null,null,null,null,null,null,null,"00:00",838,0,"0000000","00","00","00"]
["SA04726","Falkirk Victoria Harriers","1994-09-17","Ailsa Scott","SA04726","Under 17",".",839,{"$f":"VLOOKUP('entries and results'!G841,$A$3:$E$30018,4,FALSE)","v":" "},{"$f":"VLOOKUP('entries and results'!G841,$A$3:$F$30018,6,FALSE)","v":" "},{"$f":"VLOOKUP('entries and results'!G841,$A$3:$E$30018,2,FALSE)","v":" "},839,".",{"$f":"VLOOKUP('entries and results'!M841,$H$3:$K$30018,2,FALSE)","v":" "},{"$f":"VLOOKUP('entries and results'!M841,$H$3:$K$30018,3,FALSE)","v":" "},{"$f":"VLOOKUP('entries and results'!M841,$H$3:$K$30018,4,FALSE)","v":" "}," ","00:00",null,null,null,null,null,null,null,null,null,null,null,null,null,null,null,null,null,null,null,null,null,null,null,null,null,null,null,null,null,null,null,null,null,null,null,null,null,null,null,null,null,null,null,"00:00",839,0,"0000000","00","00","00"]
["SA04728","Falkirk Victoria Harriers","1995-01-28","Caitlin Thomson","SA04728","Under 17",".",840,{"$f":"VLOOKUP('entries and results'!G842,$A$3:$E$30018,4,FALSE)","v":" "},{"$f":"VLOOKUP('entries and results'!G842,$A$3:$F$30018,6,FALSE)","v":" "},{"$f":"VLOOKUP('entries and results'!G842,$A$3:$E$30018,2,FALSE)","v":" "},840,".",{"$f":"VLOOKUP('entries and results'!M842,$H$3:$K$30018,2,FALSE)","v":" "},{"$f":"VLOOKUP('entries and results'!M842,$H$3:$K$30018,3,FALSE)","v":" "},{"$f":"VLOOKUP('entries and results'!M842,$H$3:$K$30018,4,FALSE)","v":" "}," ","00:00",null,null,null,null,null,null,null,null,null,null,null,null,null,null,null,null,null,null,null,null,null,null,null,null,null,null,null,null,null,null,null,null,null,null,null,null,null,null,null,null,null,null,null,"00:00",840,0,"0000000","00","00","00"]
["SA04749","Shettleston Harriers","1994-05-20","Patrick O'Donnell","SA04749","Under 17",".",841,{"$f":"VLOOKUP('entries and results'!G843,$A$3:$E$30018,4,FALSE)","v":" "},{"$f":"VLOOKUP('entries and results'!G843,$A$3:$F$30018,6,FALSE)","v":" "},{"$f":"VLOOKUP('entries and results'!G843,$A$3:$E$30018,2,FALSE)","v":" "},841,".",{"$f":"VLOOKUP('entries and results'!M843,$H$3:$K$30018,2,FALSE)","v":" "},{"$f":"VLOOKUP('entries and results'!M843,$H$3:$K$30018,3,FALSE)","v":" "},{"$f":"VLOOKUP('entries and results'!M843,$H$3:$K$30018,4,FALSE)","v":" "}," ","00:00",null,null,null,null,null,null,null,null,null,null,null,null,null,null,null,null,null,null,null,null,null,null,null,null,null,null,null,null,null,null,null,null,null,null,null,null,null,null,null,null,null,null,null,"00:00",841,0,"0000000","00","00","00"]
["SA04767","Girvan AAC","1995-02-25","James McTaggart","SA04767","Under 17",".",842,{"$f":"VLOOKUP('entries and results'!G844,$A$3:$E$30018,4,FALSE)","v":" "},{"$f":"VLOOKUP('entries and results'!G844,$A$3:$F$30018,6,FALSE)","v":" "},{"$f":"VLOOKUP('entries and results'!G844,$A$3:$E$30018,2,FALSE)","v":" "},842,".",{"$f":"VLOOKUP('entries and results'!M844,$H$3:$K$30018,2,FALSE)","v":" "},{"$f":"VLOOKUP('entries and results'!M844,$H$3:$K$30018,3,FALSE)","v":" "},{"$f":"VLOOKUP('entries and results'!M844,$H$3:$K$30018,4,FALSE)","v":" "}," ","00:00",null,null,null,null,null,null,null,null,null,null,null,null,null,null,null,null,null,null,null,null,null,null,null,null,null,null,null,null,null,null,null,null,null,null,null,null,null,null,null,null,null,null,null,"00:00",842,0,"0000000","00","00","00"]
["SA04768","Ayr Seaforth AAC","1994-12-26","Andrew Murphy","SA04768","Under 17",".",843,{"$f":"VLOOKUP('entries and results'!G845,$A$3:$E$30018,4,FALSE)","v":" "},{"$f":"VLOOKUP('entries and results'!G845,$A$3:$F$30018,6,FALSE)","v":" "},{"$f":"VLOOKUP('entries and results'!G845,$A$3:$E$30018,2,FALSE)","v":" "},843,".",{"$f":"VLOOKUP('entries and results'!M845,$H$3:$K$30018,2,FALSE)","v":" "},{"$f":"VLOOKUP('entries and results'!M845,$H$3:$K$30018,3,FALSE)","v":" "},{"$f":"VLOOKUP('entries and results'!M845,$H$3:$K$30018,4,FALSE)","v":" "}," ","00:00",null,null,null,null,null,null,null,null,null,null,null,null,null,null,null,null,null,null,null,null,null,null,null,null,null,null,null,null,null,null,null,null,null,null,null,null,null,null,null,null,null,null,null,"00:00",843,0,"0000000","00","00","00"]
["SA04795","Kirkintilloch Olympians","1995-01-08","Callum Heirs","SA04795","Under 17",".",844,{"$f":"VLOOKUP('entries and results'!G846,$A$3:$E$30018,4,FALSE)","v":" "},{"$f":"VLOOKUP('entries and results'!G846,$A$3:$F$30018,6,FALSE)","v":" "},{"$f":"VLOOKUP('entries and results'!G846,$A$3:$E$30018,2,FALSE)","v":" "},844,".",{"$f":"VLOOKUP('entries and results'!M846,$H$3:$K$30018,2,FALSE)","v":" "},{"$f":"VLOOKUP('entries and results'!M846,$H$3:$K$30018,3,FALSE)","v":" "},{"$f":"VLOOKUP('entries and results'!M846,$H$3:$K$30018,4,FALSE)","v":" "}," ","00:00",null,null,null,null,null,null,null,null,null,null,null,null,null,null,null,null,null,null,null,null,null,null,null,null,null,null,null,null,null,null,null,null,null,null,null,null,null,null,null,null,null,null,null,"00:00",844,0,"0000000","00","00","00"]
["SA04800","VP-Glasgow AC","1995-10-31","Kieron Rafferty","SA04800","Under 15",".",845,{"$f":"VLOOKUP('entries and results'!G847,$A$3:$E$30018,4,FALSE)","v":" "},{"$f":"VLOOKUP('entries and results'!G847,$A$3:$F$30018,6,FALSE)","v":" "},{"$f":"VLOOKUP('entries and results'!G847,$A$3:$E$30018,2,FALSE)","v":" "},845,".",{"$f":"VLOOKUP('entries and results'!M847,$H$3:$K$30018,2,FALSE)","v":" "},{"$f":"VLOOKUP('entries and results'!M847,$H$3:$K$30018,3,FALSE)","v":" "},{"$f":"VLOOKUP('entries and results'!M847,$H$3:$K$30018,4,FALSE)","v":" "}," ","00:00",null,null,null,null,null,null,null,null,null,null,null,null,null,null,null,null,null,null,null,null,null,null,null,null,null,null,null,null,null,null,null,null,null,null,null,null,null,null,null,null,null,null,null,"00:00",845,0,"0000000","00","00","00"]
["SA04821","Edinburgh AC","1994-07-11","Jake Wightman","SA04821","Under 17",".",846,{"$f":"VLOOKUP('entries and results'!G848,$A$3:$E$30018,4,FALSE)","v":" "},{"$f":"VLOOKUP('entries and results'!G848,$A$3:$F$30018,6,FALSE)","v":" "},{"$f":"VLOOKUP('entries and results'!G848,$A$3:$E$30018,2,FALSE)","v":" "},846,".",{"$f":"VLOOKUP('entries and results'!M848,$H$3:$K$30018,2,FALSE)","v":" "},{"$f":"VLOOKUP('entries and results'!M848,$H$3:$K$30018,3,FALSE)","v":" "},{"$f":"VLOOKUP('entries and results'!M848,$H$3:$K$30018,4,FALSE)","v":" "}," ","00:00",null,null,null,null,null,null,null,null,null,null,null,null,null,null,null,null,null,null,null,null,null,null,null,null,null,null,null,null,null,null,null,null,null,null,null,null,null,null,null,null,null,null,null,"00:00",846,0,"0000000","00","00","00"]
["SA04822","Edinburgh AC","1994-07-11","Sam Wightman","SA04822","Under 17",".",847,{"$f":"VLOOKUP('entries and results'!G849,$A$3:$E$30018,4,FALSE)","v":" "},{"$f":"VLOOKUP('entries and results'!G849,$A$3:$F$30018,6,FALSE)","v":" "},{"$f":"VLOOKUP('entries and results'!G849,$A$3:$E$30018,2,FALSE)","v":" "},847,".",{"$f":"VLOOKUP('entries and results'!M849,$H$3:$K$30018,2,FALSE)","v":" "},{"$f":"VLOOKUP('entries and results'!M849,$H$3:$K$30018,3,FALSE)","v":" "},{"$f":"VLOOKUP('entries and results'!M849,$H$3:$K$30018,4,FALSE)","v":" "}," ","00:00",null,null,null,null,null,null,null,null,null,null,null,null,null,null,null,null,null,null,null,null,null,null,null,null,null,null,null,null,null,null,null,null,null,null,null,null,null,null,null,null,null,null,null,"00:00",847,0,"0000000","00","00","00"]
["SA04834","Perth Strathtay Harriers","1993-12-06","Peter Muirhead","SA04834","Under 17",".",848,{"$f":"VLOOKUP('entries and results'!G850,$A$3:$E$30018,4,FALSE)","v":" "},{"$f":"VLOOKUP('entries and results'!G850,$A$3:$F$30018,6,FALSE)","v":" "},{"$f":"VLOOKUP('entries and results'!G850,$A$3:$E$30018,2,FALSE)","v":" "},848,".",{"$f":"VLOOKUP('entries and results'!M850,$H$3:$K$30018,2,FALSE)","v":" "},{"$f":"VLOOKUP('entries and results'!M850,$H$3:$K$30018,3,FALSE)","v":" "},{"$f":"VLOOKUP('entries and results'!M850,$H$3:$K$30018,4,FALSE)","v":" "}," ","00:00",null,null,null,null,null,null,null,null,null,null,null,null,null,null,null,null,null,null,null,null,null,null,null,null,null,null,null,null,null,null,null,null,null,null,null,null,null,null,null,null,null,null,null,"00:00",848,0,"0000000","00","00","00"]
["SA04841","Pitreavie AAC","1992-07-03","Richard Le Good","SA04841","Senior",".",849,{"$f":"VLOOKUP('entries and results'!G851,$A$3:$E$30018,4,FALSE)","v":" "},{"$f":"VLOOKUP('entries and results'!G851,$A$3:$F$30018,6,FALSE)","v":" "},{"$f":"VLOOKUP('entries and results'!G851,$A$3:$E$30018,2,FALSE)","v":" "},849,".",{"$f":"VLOOKUP('entries and results'!M851,$H$3:$K$30018,2,FALSE)","v":" "},{"$f":"VLOOKUP('entries and results'!M851,$H$3:$K$30018,3,FALSE)","v":" "},{"$f":"VLOOKUP('entries and results'!M851,$H$3:$K$30018,4,FALSE)","v":" "}," ","00:00",null,null,null,null,null,null,null,null,null,null,null,null,null,null,null,null,null,null,null,null,null,null,null,null,null,null,null,null,null,null,null,null,null,null,null,null,null,null,null,null,null,null,null,"00:00",849,0,"0000000","00","00","00"]
["SA04844","Ron Hill Cambuslang Harriers","1992-10-19","Bobby Bristow","SA04844","Senior",".",850,{"$f":"VLOOKUP('entries and results'!G852,$A$3:$E$30018,4,FALSE)","v":" "},{"$f":"VLOOKUP('entries and results'!G852,$A$3:$F$30018,6,FALSE)","v":" "},{"$f":"VLOOKUP('entries and results'!G852,$A$3:$E$30018,2,FALSE)","v":" "},850,".",{"$f":"VLOOKUP('entries and results'!M852,$H$3:$K$30018,2,FALSE)","v":" "},{"$f":"VLOOKUP('entries and results'!M852,$H$3:$K$30018,3,FALSE)","v":" "},{"$f":"VLOOKUP('entries and results'!M852,$H$3:$K$30018,4,FALSE)","v":" "}," ","00:00",null,null,null,null,null,null,null,null,null,null,null,null,null,null,null,null,null,null,null,null,null,null,null,null,null,null,null,null,null,null,null,null,null,null,null,null,null,null,null,null,null,null,null,"00:00",850,0,"0000000","00","00","00"]
["SA04845","Shetland AAC","1993-11-08","Katie Bristow","SA04845","Under 17",".",851,{"$f":"VLOOKUP('entries and results'!G853,$A$3:$E$30018,4,FALSE)","v":" "},{"$f":"VLOOKUP('entries and results'!G853,$A$3:$F$30018,6,FALSE)","v":" "},{"$f":"VLOOKUP('entries and results'!G853,$A$3:$E$30018,2,FALSE)","v":" "},851,".",{"$f":"VLOOKUP('entries and results'!M853,$H$3:$K$30018,2,FALSE)","v":" "},{"$f":"VLOOKUP('entries and results'!M853,$H$3:$K$30018,3,FALSE)","v":" "},{"$f":"VLOOKUP('entries and results'!M853,$H$3:$K$30018,4,FALSE)","v":" "}," ","00:00",null,null,null,null,null,null,null,null,null,null,null,null,null,null,null,null,null,null,null,null,null,null,null,null,null,null,null,null,null,null,null,null,null,null,null,null,null,null,null,null,null,null,null,"00:00",851,0,"0000000","00","00","00"]
["SA04846","Shetland AAC","1993-07-14","Emma Leask","SA04846","Senior",".",852,{"$f":"VLOOKUP('entries and results'!G854,$A$3:$E$30018,4,FALSE)","v":" "},{"$f":"VLOOKUP('entries and results'!G854,$A$3:$F$30018,6,FALSE)","v":" "},{"$f":"VLOOKUP('entries and results'!G854,$A$3:$E$30018,2,FALSE)","v":" "},852,".",{"$f":"VLOOKUP('entries and results'!M854,$H$3:$K$30018,2,FALSE)","v":" "},{"$f":"VLOOKUP('entries and results'!M854,$H$3:$K$30018,3,FALSE)","v":" "},{"$f":"VLOOKUP('entries and results'!M854,$H$3:$K$30018,4,FALSE)","v":" "}," ","00:00",null,null,null,null,null,null,null,null,null,null,null,null,null,null,null,null,null,null,null,null,null,null,null,null,null,null,null,null,null,null,null,null,null,null,null,null,null,null,null,null,null,null,null,"00:00",852,0,"0000000","00","00","00"]
["SA04858","Stewartry AC","1994-08-30","Joanna Muir","SA04858","Under 17",".",853,{"$f":"VLOOKUP('entries and results'!G855,$A$3:$E$30018,4,FALSE)","v":" "},{"$f":"VLOOKUP('entries and results'!G855,$A$3:$F$30018,6,FALSE)","v":" "},{"$f":"VLOOKUP('entries and results'!G855,$A$3:$E$30018,2,FALSE)","v":" "},853,".",{"$f":"VLOOKUP('entries and results'!M855,$H$3:$K$30018,2,FALSE)","v":" "},{"$f":"VLOOKUP('entries and results'!M855,$H$3:$K$30018,3,FALSE)","v":" "},{"$f":"VLOOKUP('entries and results'!M855,$H$3:$K$30018,4,FALSE)","v":" "}," ","00:00",null,null,null,null,null,null,null,null,null,null,null,null,null,null,null,null,null,null,null,null,null,null,null,null,null,null,null,null,null,null,null,null,null,null,null,null,null,null,null,null,null,null,null,"00:00",853,0,"0000000","00","00","00"]
["SA04876","VP-Glasgow AC","1995-11-04","Robbie Pollock","SA04876","Under 15",".",854,{"$f":"VLOOKUP('entries and results'!G856,$A$3:$E$30018,4,FALSE)","v":" "},{"$f":"VLOOKUP('entries and results'!G856,$A$3:$F$30018,6,FALSE)","v":" "},{"$f":"VLOOKUP('entries and results'!G856,$A$3:$E$30018,2,FALSE)","v":" "},854,".",{"$f":"VLOOKUP('entries and results'!M856,$H$3:$K$30018,2,FALSE)","v":" "},{"$f":"VLOOKUP('entries and results'!M856,$H$3:$K$30018,3,FALSE)","v":" "},{"$f":"VLOOKUP('entries and results'!M856,$H$3:$K$30018,4,FALSE)","v":" "}," ","00:00",null,null,null,null,null,null,null,null,null,null,null,null,null,null,null,null,null,null,null,null,null,null,null,null,null,null,null,null,null,null,null,null,null,null,null,null,null,null,null,null,null,null,null,"00:00",854,0,"0000000","00","00","00"]
["SA04884","VP-Glasgow AC","1968-02-28","Allan Hamilton","SA04884","Vet",".",855,{"$f":"VLOOKUP('entries and results'!G857,$A$3:$E$30018,4,FALSE)","v":" "},{"$f":"VLOOKUP('entries and results'!G857,$A$3:$F$30018,6,FALSE)","v":" "},{"$f":"VLOOKUP('entries and results'!G857,$A$3:$E$30018,2,FALSE)","v":" "},855,".",{"$f":"VLOOKUP('entries and results'!M857,$H$3:$K$30018,2,FALSE)","v":" "},{"$f":"VLOOKUP('entries and results'!M857,$H$3:$K$30018,3,FALSE)","v":" "},{"$f":"VLOOKUP('entries and results'!M857,$H$3:$K$30018,4,FALSE)","v":" "}," ","00:00",null,null,null,null,null,null,null,null,null,null,null,null,null,null,null,null,null,null,null,null,null,null,null,null,null,null,null,null,null,null,null,null,null,null,null,null,null,null,null,null,null,null,null,"00:00",855,0,"0000000","00","00","00"]
["SA04887","Airdrie Harriers","1996-02-25","Ben McLean","SA04887","Under 15",".",856,{"$f":"VLOOKUP('entries and results'!G858,$A$3:$E$30018,4,FALSE)","v":" "},{"$f":"VLOOKUP('entries and results'!G858,$A$3:$F$30018,6,FALSE)","v":" "},{"$f":"VLOOKUP('entries and results'!G858,$A$3:$E$30018,2,FALSE)","v":" "},856,".",{"$f":"VLOOKUP('entries and results'!M858,$H$3:$K$30018,2,FALSE)","v":" "},{"$f":"VLOOKUP('entries and results'!M858,$H$3:$K$30018,3,FALSE)","v":" "},{"$f":"VLOOKUP('entries and results'!M858,$H$3:$K$30018,4,FALSE)","v":" "}," ","00:00",null,null,null,null,null,null,null,null,null,null,null,null,null,null,null,null,null,null,null,null,null,null,null,null,null,null,null,null,null,null,null,null,null,null,null,null,null,null,null,null,null,null,null,"00:00",856,0,"0000000","00","00","00"]
["SA04888","Ayr Seaforth AAC","1996-05-13","Dana Izat","SA04888","Under 15",".",857,{"$f":"VLOOKUP('entries and results'!G859,$A$3:$E$30018,4,FALSE)","v":" "},{"$f":"VLOOKUP('entries and results'!G859,$A$3:$F$30018,6,FALSE)","v":" "},{"$f":"VLOOKUP('entries and results'!G859,$A$3:$E$30018,2,FALSE)","v":" "},857,".",{"$f":"VLOOKUP('entries and results'!M859,$H$3:$K$30018,2,FALSE)","v":" "},{"$f":"VLOOKUP('entries and results'!M859,$H$3:$K$30018,3,FALSE)","v":" "},{"$f":"VLOOKUP('entries and results'!M859,$H$3:$K$30018,4,FALSE)","v":" "}," ","00:00",null,null,null,null,null,null,null,null,null,null,null,null,null,null,null,null,null,null,null,null,null,null,null,null,null,null,null,null,null,null,null,null,null,null,null,null,null,null,null,null,null,null,null,"00:00",857,0,"0000000","00","00","00"]
["SA04890","Ayr Seaforth AAC","1996-05-06","Eleanor Trainer","SA04890","Under 15",".",858,{"$f":"VLOOKUP('entries and results'!G860,$A$3:$E$30018,4,FALSE)","v":" "},{"$f":"VLOOKUP('entries and results'!G860,$A$3:$F$30018,6,FALSE)","v":" "},{"$f":"VLOOKUP('entries and results'!G860,$A$3:$E$30018,2,FALSE)","v":" "},858,".",{"$f":"VLOOKUP('entries and results'!M860,$H$3:$K$30018,2,FALSE)","v":" "},{"$f":"VLOOKUP('entries and results'!M860,$H$3:$K$30018,3,FALSE)","v":" "},{"$f":"VLOOKUP('entries and results'!M860,$H$3:$K$30018,4,FALSE)","v":" "}," ","00:00",null,null,null,null,null,null,null,null,null,null,null,null,null,null,null,null,null,null,null,null,null,null,null,null,null,null,null,null,null,null,null,null,null,null,null,null,null,null,null,null,null,null,null,"00:00",858,0,"0000000","00","00","00"]
["SA04892","Central AC","1993-04-04","Stewart Ardrey","SA04892","Senior",".",859,{"$f":"VLOOKUP('entries and results'!G861,$A$3:$E$30018,4,FALSE)","v":" "},{"$f":"VLOOKUP('entries and results'!G861,$A$3:$F$30018,6,FALSE)","v":" "},{"$f":"VLOOKUP('entries and results'!G861,$A$3:$E$30018,2,FALSE)","v":" "},859,".",{"$f":"VLOOKUP('entries and results'!M861,$H$3:$K$30018,2,FALSE)","v":" "},{"$f":"VLOOKUP('entries and results'!M861,$H$3:$K$30018,3,FALSE)","v":" "},{"$f":"VLOOKUP('entries and results'!M861,$H$3:$K$30018,4,FALSE)","v":" "}," ","00:00",null,null,null,null,null,null,null,null,null,null,null,null,null,null,null,null,null,null,null,null,null,null,null,null,null,null,null,null,null,null,null,null,null,null,null,null,null,null,null,null,null,null,null,"00:00",859,0,"0000000","00","00","00"]
["SA04895","Edinburgh AC","1996-05-05","Daniel Holligan","SA04895","Under 15",".",860,{"$f":"VLOOKUP('entries and results'!G862,$A$3:$E$30018,4,FALSE)","v":" "},{"$f":"VLOOKUP('entries and results'!G862,$A$3:$F$30018,6,FALSE)","v":" "},{"$f":"VLOOKUP('entries and results'!G862,$A$3:$E$30018,2,FALSE)","v":" "},860,".",{"$f":"VLOOKUP('entries and results'!M862,$H$3:$K$30018,2,FALSE)","v":" "},{"$f":"VLOOKUP('entries and results'!M862,$H$3:$K$30018,3,FALSE)","v":" "},{"$f":"VLOOKUP('entries and results'!M862,$H$3:$K$30018,4,FALSE)","v":" "}," ","00:00",null,null,null,null,null,null,null,null,null,null,null,null,null,null,null,null,null,null,null,null,null,null,null,null,null,null,null,null,null,null,null,null,null,null,null,null,null,null,null,null,null,null,null,{"$f":"CONCATENATE(BO862,\":\",BP862)","v":"00:00"},860,0,"0000000","00","00","00"]
["SA04896","Edinburgh AC","1996-12-01","Callum Jones","SA04896","Under 15",".",861,{"$f":"VLOOKUP('entries and results'!G863,$A$3:$E$30018,4,FALSE)","v":" "},{"$f":"VLOOKUP('entries and results'!G863,$A$3:$F$30018,6,FALSE)","v":" "},{"$f":"VLOOKUP('entries and results'!G863,$A$3:$E$30018,2,FALSE)","v":" "},861,".",{"$f":"VLOOKUP('entries and results'!M863,$H$3:$K$30018,2,FALSE)","v":" "},{"$f":"VLOOKUP('entries and results'!M863,$H$3:$K$30018,3,FALSE)","v":" "},{"$f":"VLOOKUP('entries and results'!M863,$H$3:$K$30018,4,FALSE)","v":" "}," ","00:00",null,null,null,null,null,null,null,null,null,null,null,null,null,null,null,null,null,null,null,null,null,null,null,null,null,null,null,null,null,null,null,null,null,null,null,null,null,null,null,null,null,null,null,"00:00",861,0,"0000000","00","00","00"]
["SA04918","Falkirk Victoria Harriers","1996-11-18","Rachel Manson","SA04918","Under 15",".",862,{"$f":"VLOOKUP('entries and results'!G864,$A$3:$E$30018,4,FALSE)","v":" "},{"$f":"VLOOKUP('entries and results'!G864,$A$3:$F$30018,6,FALSE)","v":" "},{"$f":"VLOOKUP('entries and results'!G864,$A$3:$E$30018,2,FALSE)","v":" "},862,".",{"$f":"VLOOKUP('entries and results'!M864,$H$3:$K$30018,2,FALSE)","v":" "},{"$f":"VLOOKUP('entries and results'!M864,$H$3:$K$30018,3,FALSE)","v":" "},{"$f":"VLOOKUP('entries and results'!M864,$H$3:$K$30018,4,FALSE)","v":" "}," ","00:00",null,null,null,null,null,null,null,null,null,null,null,null,null,null,null,null,null,null,null,null,null,null,null,null,null,null,null,null,null,null,null,null,null,null,null,null,null,null,null,null,null,null,null,"00:00",862,0,"0000000","00","00","00"]
["SA04930","Giffnock North AAC","1995-07-11","Megan Howat","SA04930","Under 17",".",863,{"$f":"VLOOKUP('entries and results'!G865,$A$3:$E$30018,4,FALSE)","v":" "},{"$f":"VLOOKUP('entries and results'!G865,$A$3:$F$30018,6,FALSE)","v":" "},{"$f":"VLOOKUP('entries and results'!G865,$A$3:$E$30018,2,FALSE)","v":" "},863,".",{"$f":"VLOOKUP('entries and results'!M865,$H$3:$K$30018,2,FALSE)","v":" "},{"$f":"VLOOKUP('entries and results'!M865,$H$3:$K$30018,3,FALSE)","v":" "},{"$f":"VLOOKUP('entries and results'!M865,$H$3:$K$30018,4,FALSE)","v":" "}," ","00:00",null,null,null,null,null,null,null,null,null,null,null,null,null,null,null,null,null,null,null,null,null,null,null,null,null,null,null,null,null,null,null,null,null,null,null,null,null,null,null,null,null,null,null,"00:00",863,0,"0000000","00","00","00"]
["SA04933","Giffnock North AAC","1995-11-20","Callum McWilliam","SA04933","Under 15",".",864,{"$f":"VLOOKUP('entries and results'!G866,$A$3:$E$30018,4,FALSE)","v":" "},{"$f":"VLOOKUP('entries and results'!G866,$A$3:$F$30018,6,FALSE)","v":" "},{"$f":"VLOOKUP('entries and results'!G866,$A$3:$E$30018,2,FALSE)","v":" "},864,".",{"$f":"VLOOKUP('entries and results'!M866,$H$3:$K$30018,2,FALSE)","v":" "},{"$f":"VLOOKUP('entries and results'!M866,$H$3:$K$30018,3,FALSE)","v":" "},{"$f":"VLOOKUP('entries and results'!M866,$H$3:$K$30018,4,FALSE)","v":" "}," ","00:00",null,null,null,null,null,null,null,null,null,null,null,null,null,null,null,null,null,null,null,null,null,null,null,null,null,null,null,null,null,null,null,null,null,null,null,null,null,null,null,null,null,null,null,"00:00",864,0,"0000000","00","00","00"]
["SA04937","North Ayrshire AC","1992-04-16","Sean Thompson","SA04937","Senior",".",865,{"$f":"VLOOKUP('entries and results'!G867,$A$3:$E$30018,4,FALSE)","v":" "},{"$f":"VLOOKUP('entries and results'!G867,$A$3:$F$30018,6,FALSE)","v":" "},{"$f":"VLOOKUP('entries and results'!G867,$A$3:$E$30018,2,FALSE)","v":" "},865,".",{"$f":"VLOOKUP('entries and results'!M867,$H$3:$K$30018,2,FALSE)","v":" "},{"$f":"VLOOKUP('entries and results'!M867,$H$3:$K$30018,3,FALSE)","v":" "},{"$f":"VLOOKUP('entries and results'!M867,$H$3:$K$30018,4,FALSE)","v":" "}," ","00:00",null,null,null,null,null,null,null,null,null,null,null,null,null,null,null,null,null,null,null,null,null,null,null,null,null,null,null,null,null,null,null,null,null,null,null,null,null,null,null,null,null,null,null,"00:00",865,0,"0000000","00","00","00"]
["SA04938","Kilmarnock H&AC","1994-12-12","Cory O'Hara","SA04938","Under 17",".",866,{"$f":"VLOOKUP('entries and results'!G868,$A$3:$E$30018,4,FALSE)","v":" "},{"$f":"VLOOKUP('entries and results'!G868,$A$3:$F$30018,6,FALSE)","v":" "},{"$f":"VLOOKUP('entries and results'!G868,$A$3:$E$30018,2,FALSE)","v":" "},866,".",{"$f":"VLOOKUP('entries and results'!M868,$H$3:$K$30018,2,FALSE)","v":" "},{"$f":"VLOOKUP('entries and results'!M868,$H$3:$K$30018,3,FALSE)","v":" "},{"$f":"VLOOKUP('entries and results'!M868,$H$3:$K$30018,4,FALSE)","v":" "}," ","00:00",null,null,null,null,null,null,null,null,null,null,null,null,null,null,null,null,null,null,null,null,null,null,null,null,null,null,null,null,null,null,null,null,null,null,null,null,null,null,null,null,null,null,null,"00:00",866,0,"0000000","00","00","00"]
["SA04942","VP-Glasgow AC","1996-01-04","Marc Rooney","SA04942","Under 15",".",867,{"$f":"VLOOKUP('entries and results'!G869,$A$3:$E$30018,4,FALSE)","v":" "},{"$f":"VLOOKUP('entries and results'!G869,$A$3:$F$30018,6,FALSE)","v":" "},{"$f":"VLOOKUP('entries and results'!G869,$A$3:$E$30018,2,FALSE)","v":" "},867,".",{"$f":"VLOOKUP('entries and results'!M869,$H$3:$K$30018,2,FALSE)","v":" "},{"$f":"VLOOKUP('entries and results'!M869,$H$3:$K$30018,3,FALSE)","v":" "},{"$f":"VLOOKUP('entries and results'!M869,$H$3:$K$30018,4,FALSE)","v":" "}," ","00:00",null,null,null,null,null,null,null,null,null,null,null,null,null,null,null,null,null,null,null,null,null,null,null,null,null,null,null,null,null,null,null,null,null,null,null,null,null,null,null,null,null,null,null,"00:00",867,0,"0000000","00","00","00"]
["SA04946","Moorfoot Runners","1993-08-16","Scout Adkin","SA04946","Senior",".",868,{"$f":"VLOOKUP('entries and results'!G870,$A$3:$E$30018,4,FALSE)","v":" "},{"$f":"VLOOKUP('entries and results'!G870,$A$3:$F$30018,6,FALSE)","v":" "},{"$f":"VLOOKUP('entries and results'!G870,$A$3:$E$30018,2,FALSE)","v":" "},868,".",{"$f":"VLOOKUP('entries and results'!M870,$H$3:$K$30018,2,FALSE)","v":" "},{"$f":"VLOOKUP('entries and results'!M870,$H$3:$K$30018,3,FALSE)","v":" "},{"$f":"VLOOKUP('entries and results'!M870,$H$3:$K$30018,4,FALSE)","v":" "}," ","00:00",null,null,null,null,null,null,null,null,null,null,null,null,null,null,null,null,null,null,null,null,null,null,null,null,null,null,null,null,null,null,null,null,null,null,null,null,null,null,null,null,null,null,null,"00:00",868,0,"0000000","00","00","00"]
["SA04953","Motherwell AC","1994-01-20","Lewis Gibb","SA04953","Under 17",".",869,{"$f":"VLOOKUP('entries and results'!G871,$A$3:$E$30018,4,FALSE)","v":" "},{"$f":"VLOOKUP('entries and results'!G871,$A$3:$F$30018,6,FALSE)","v":" "},{"$f":"VLOOKUP('entries and results'!G871,$A$3:$E$30018,2,FALSE)","v":" "},869,".",{"$f":"VLOOKUP('entries and results'!M871,$H$3:$K$30018,2,FALSE)","v":" "},{"$f":"VLOOKUP('entries and results'!M871,$H$3:$K$30018,3,FALSE)","v":" "},{"$f":"VLOOKUP('entries and results'!M871,$H$3:$K$30018,4,FALSE)","v":" "}," ","00:00",null,null,null,null,null,null,null,null,null,null,null,null,null,null,null,null,null,null,null,null,null,null,null,null,null,null,null,null,null,null,null,null,null,null,null,null,null,null,null,null,null,null,null,"00:00",869,0,"0000000","00","00","00"]
["SA04967","Whitemoss AAC","1996-11-08","Lauren McSkimming","SA04967","Under 15",".",870,{"$f":"VLOOKUP('entries and results'!G872,$A$3:$E$30018,4,FALSE)","v":" "},{"$f":"VLOOKUP('entries and results'!G872,$A$3:$F$30018,6,FALSE)","v":" "},{"$f":"VLOOKUP('entries and results'!G872,$A$3:$E$30018,2,FALSE)","v":" "},870,".",{"$f":"VLOOKUP('entries and results'!M872,$H$3:$K$30018,2,FALSE)","v":" "},{"$f":"VLOOKUP('entries and results'!M872,$H$3:$K$30018,3,FALSE)","v":" "},{"$f":"VLOOKUP('entries and results'!M872,$H$3:$K$30018,4,FALSE)","v":" "}," ","00:00",null,null,null,null,null,null,null,null,null,null,null,null,null,null,null,null,null,null,null,null,null,null,null,null,null,null,null,null,null,null,null,null,null,null,null,null,null,null,null,null,null,null,null,"00:00",870,0,"0000000","00","00","00"]
["SA04975",null,"1954-11-13","Helen MacNeill","SA04975","Vet",".",871,{"$f":"VLOOKUP('entries and results'!G873,$A$3:$E$30018,4,FALSE)","v":" "},{"$f":"VLOOKUP('entries and results'!G873,$A$3:$F$30018,6,FALSE)","v":" "},{"$f":"VLOOKUP('entries and results'!G873,$A$3:$E$30018,2,FALSE)","v":" "},871,".",{"$f":"VLOOKUP('entries and results'!M873,$H$3:$K$30018,2,FALSE)","v":" "},{"$f":"VLOOKUP('entries and results'!M873,$H$3:$K$30018,3,FALSE)","v":" "},{"$f":"VLOOKUP('entries and results'!M873,$H$3:$K$30018,4,FALSE)","v":" "}," ","00:00",null,null,null,null,null,null,null,null,null,null,null,null,null,null,null,null,null,null,null,null,null,null,null,null,null,null,null,null,null,null,null,null,null,null,null,null,null,null,null,null,null,null,null,"00:00",871,0,"0000000","00","00","00"]
["SA04977","Edinburgh AC","1953-10-08","Jim Oliver","SA04977","Vet",".",872,{"$f":"VLOOKUP('entries and results'!G874,$A$3:$E$30018,4,FALSE)","v":" "},{"$f":"VLOOKUP('entries and results'!G874,$A$3:$F$30018,6,FALSE)","v":" "},{"$f":"VLOOKUP('entries and results'!G874,$A$3:$E$30018,2,FALSE)","v":" "},872,".",{"$f":"VLOOKUP('entries and results'!M874,$H$3:$K$30018,2,FALSE)","v":" "},{"$f":"VLOOKUP('entries and results'!M874,$H$3:$K$30018,3,FALSE)","v":" "},{"$f":"VLOOKUP('entries and results'!M874,$H$3:$K$30018,4,FALSE)","v":" "}," ","00:00",null,null,null,null,null,null,null,null,null,null,null,null,null,null,null,null,null,null,null,null,null,null,null,null,null,null,null,null,null,null,null,null,null,null,null,null,null,null,null,null,null,null,null,"00:00",872,0,"0000000","00","00","00"]
["SA04978","Lochaber AC","1942-09-10","Dugie MacDonald","SA04978","Vet",".",873,{"$f":"VLOOKUP('entries and results'!G875,$A$3:$E$30018,4,FALSE)","v":" "},{"$f":"VLOOKUP('entries and results'!G875,$A$3:$F$30018,6,FALSE)","v":" "},{"$f":"VLOOKUP('entries and results'!G875,$A$3:$E$30018,2,FALSE)","v":" "},873,".",{"$f":"VLOOKUP('entries and results'!M875,$H$3:$K$30018,2,FALSE)","v":" "},{"$f":"VLOOKUP('entries and results'!M875,$H$3:$K$30018,3,FALSE)","v":" "},{"$f":"VLOOKUP('entries and results'!M875,$H$3:$K$30018,4,FALSE)","v":" "}," ","00:00",null,null,null,null,null,null,null,null,null,null,null,null,null,null,null,null,null,null,null,null,null,null,null,null,null,null,null,null,null,null,null,null,null,null,null,null,null,null,null,null,null,null,null,"00:00",873,0,"0000000","00","00","00"]
["SA04979","Ellon AAC","1952-08-06","Brenda Henderson","SA04979","Vet",".",874,{"$f":"VLOOKUP('entries and results'!G876,$A$3:$E$30018,4,FALSE)","v":" "},{"$f":"VLOOKUP('entries and results'!G876,$A$3:$F$30018,6,FALSE)","v":" "},{"$f":"VLOOKUP('entries and results'!G876,$A$3:$E$30018,2,FALSE)","v":" "},874,".",{"$f":"VLOOKUP('entries and results'!M876,$H$3:$K$30018,2,FALSE)","v":" "},{"$f":"VLOOKUP('entries and results'!M876,$H$3:$K$30018,3,FALSE)","v":" "},{"$f":"VLOOKUP('entries and results'!M876,$H$3:$K$30018,4,FALSE)","v":" "}," ","00:00",null,null,null,null,null,null,null,null,null,null,null,null,null,null,null,null,null,null,null,null,null,null,null,null,null,null,null,null,null,null,null,null,null,null,null,null,null,null,null,null,null,null,null,"00:00",874,0,"0000000","00","00","00"]
["SA04981","Inverness Harriers AAC","1934-02-07","Ian Tasker","SA04981","Vet",".",875,{"$f":"VLOOKUP('entries and results'!G877,$A$3:$E$30018,4,FALSE)","v":" "},{"$f":"VLOOKUP('entries and results'!G877,$A$3:$F$30018,6,FALSE)","v":" "},{"$f":"VLOOKUP('entries and results'!G877,$A$3:$E$30018,2,FALSE)","v":" "},875,".",{"$f":"VLOOKUP('entries and results'!M877,$H$3:$K$30018,2,FALSE)","v":" "},{"$f":"VLOOKUP('entries and results'!M877,$H$3:$K$30018,3,FALSE)","v":" "},{"$f":"VLOOKUP('entries and results'!M877,$H$3:$K$30018,4,FALSE)","v":" "}," ","00:00",null,null,null,null,null,null,null,null,null,null,null,null,null,null,null,null,null,null,null,null,null,null,null,null,null,null,null,null,null,null,null,null,null,null,null,null,null,null,null,null,null,null,null,"00:00",875,0,"0000000","00","00","00"]
["SA04985","Banchory Stonehaven AC","1956-12-15","Gordon Christie","SA04985","Vet",".",876,{"$f":"VLOOKUP('entries and results'!G878,$A$3:$E$30018,4,FALSE)","v":" "},{"$f":"VLOOKUP('entries and results'!G878,$A$3:$F$30018,6,FALSE)","v":" "},{"$f":"VLOOKUP('entries and results'!G878,$A$3:$E$30018,2,FALSE)","v":" "},876,".",{"$f":"VLOOKUP('entries and results'!M878,$H$3:$K$30018,2,FALSE)","v":" "},{"$f":"VLOOKUP('entries and results'!M878,$H$3:$K$30018,3,FALSE)","v":" "},{"$f":"VLOOKUP('entries and results'!M878,$H$3:$K$30018,4,FALSE)","v":" "}," ","00:00",null,null,null,null,null,null,null,null,null,null,null,null,null,null,null,null,null,null,null,null,null,null,null,null,null,null,null,null,null,null,null,null,null,null,null,null,null,null,null,null,null,null,null,"00:00",876,0,"0000000","00","00","00"]
["SA04989","Kinross Road Runners","1933-06-17","Sylvia Wilson","SA04989","Vet",".",877,{"$f":"VLOOKUP('entries and results'!G879,$A$3:$E$30018,4,FALSE)","v":" "},{"$f":"VLOOKUP('entries and results'!G879,$A$3:$F$30018,6,FALSE)","v":" "},{"$f":"VLOOKUP('entries and results'!G879,$A$3:$E$30018,2,FALSE)","v":" "},877,".",{"$f":"VLOOKUP('entries and results'!M879,$H$3:$K$30018,2,FALSE)","v":" "},{"$f":"VLOOKUP('entries and results'!M879,$H$3:$K$30018,3,FALSE)","v":" "},{"$f":"VLOOKUP('entries and results'!M879,$H$3:$K$30018,4,FALSE)","v":" "}," ","00:00",null,null,null,null,null,null,null,null,null,null,null,null,null,null,null,null,null,null,null,null,null,null,null,null,null,null,null,null,null,null,null,null,null,null,null,null,null,null,null,null,null,null,null,"00:00",877,0,"0000000","00","00","00"]
["SA04991","AC Eyemouth","1949-09-01","John Purvis","SA04991","Vet",".",878,{"$f":"VLOOKUP('entries and results'!G880,$A$3:$E$30018,4,FALSE)","v":" "},{"$f":"VLOOKUP('entries and results'!G880,$A$3:$F$30018,6,FALSE)","v":" "},{"$f":"VLOOKUP('entries and results'!G880,$A$3:$E$30018,2,FALSE)","v":" "},878,".",{"$f":"VLOOKUP('entries and results'!M880,$H$3:$K$30018,2,FALSE)","v":" "},{"$f":"VLOOKUP('entries and results'!M880,$H$3:$K$30018,3,FALSE)","v":" "},{"$f":"VLOOKUP('entries and results'!M880,$H$3:$K$30018,4,FALSE)","v":" "}," ","00:00",null,null,null,null,null,null,null,null,null,null,null,null,null,null,null,null,null,null,null,null,null,null,null,null,null,null,null,null,null,null,null,null,null,null,null,null,null,null,null,null,null,null,null,"00:00",878,0,"0000000","00","00","00"]
["SA05005","Ayr Seaforth AAC","1950-11-08","Ricky Taylor","SA05005","Vet",".",879,{"$f":"VLOOKUP('entries and results'!G881,$A$3:$E$30018,4,FALSE)","v":" "},{"$f":"VLOOKUP('entries and results'!G881,$A$3:$F$30018,6,FALSE)","v":" "},{"$f":"VLOOKUP('entries and results'!G881,$A$3:$E$30018,2,FALSE)","v":" "},879,".",{"$f":"VLOOKUP('entries and results'!M881,$H$3:$K$30018,2,FALSE)","v":" "},{"$f":"VLOOKUP('entries and results'!M881,$H$3:$K$30018,3,FALSE)","v":" "},{"$f":"VLOOKUP('entries and results'!M881,$H$3:$K$30018,4,FALSE)","v":" "}," ","00:00",null,null,null,null,null,null,null,null,null,null,null,null,null,null,null,null,null,null,null,null,null,null,null,null,null,null,null,null,null,null,null,null,null,null,null,null,null,null,null,null,null,null,null,"00:00",879,0,"0000000","00","00","00"]
["SA05007","Aberdeen AAC","1957-02-14","Ray Davies","SA05007","Vet",".",880,{"$f":"VLOOKUP('entries and results'!G882,$A$3:$E$30018,4,FALSE)","v":" "},{"$f":"VLOOKUP('entries and results'!G882,$A$3:$F$30018,6,FALSE)","v":" "},{"$f":"VLOOKUP('entries and results'!G882,$A$3:$E$30018,2,FALSE)","v":" "},880,".",{"$f":"VLOOKUP('entries and results'!M882,$H$3:$K$30018,2,FALSE)","v":" "},{"$f":"VLOOKUP('entries and results'!M882,$H$3:$K$30018,3,FALSE)","v":" "},{"$f":"VLOOKUP('entries and results'!M882,$H$3:$K$30018,4,FALSE)","v":" "}," ","00:00",null,null,null,null,null,null,null,null,null,null,null,null,null,null,null,null,null,null,null,null,null,null,null,null,null,null,null,null,null,null,null,null,null,null,null,null,null,null,null,null,null,null,null,"00:00",880,0,"0000000","00","00","00"]
["SA05013","Airdrie Harriers","1966-08-13","Pat McShane","SA05013","Vet",".",881,{"$f":"VLOOKUP('entries and results'!G883,$A$3:$E$30018,4,FALSE)","v":" "},{"$f":"VLOOKUP('entries and results'!G883,$A$3:$F$30018,6,FALSE)","v":" "},{"$f":"VLOOKUP('entries and results'!G883,$A$3:$E$30018,2,FALSE)","v":" "},881,".",{"$f":"VLOOKUP('entries and results'!M883,$H$3:$K$30018,2,FALSE)","v":" "},{"$f":"VLOOKUP('entries and results'!M883,$H$3:$K$30018,3,FALSE)","v":" "},{"$f":"VLOOKUP('entries and results'!M883,$H$3:$K$30018,4,FALSE)","v":" "}," ","00:00",null,null,null,null,null,null,null,null,null,null,null,null,null,null,null,null,null,null,null,null,null,null,null,null,null,null,null,null,null,null,null,null,null,null,null,null,null,null,null,null,null,null,null,"00:00",881,0,"0000000","00","00","00"]
["SA05017","Anster Haddies Running Club","1971-10-28","David Burgess","SA05017","Senior",".",882,{"$f":"VLOOKUP('entries and results'!G884,$A$3:$E$30018,4,FALSE)","v":" "},{"$f":"VLOOKUP('entries and results'!G884,$A$3:$F$30018,6,FALSE)","v":" "},{"$f":"VLOOKUP('entries and results'!G884,$A$3:$E$30018,2,FALSE)","v":" "},882,".",{"$f":"VLOOKUP('entries and results'!M884,$H$3:$K$30018,2,FALSE)","v":" "},{"$f":"VLOOKUP('entries and results'!M884,$H$3:$K$30018,3,FALSE)","v":" "},{"$f":"VLOOKUP('entries and results'!M884,$H$3:$K$30018,4,FALSE)","v":" "}," ","00:00",null,null,null,null,null,null,null,null,null,null,null,null,null,null,null,null,null,null,null,null,null,null,null,null,null,null,null,null,null,null,null,null,null,null,null,null,null,null,null,null,null,null,null,"00:00",882,0,"0000000","00","00","00"]
["SA05023","Ayr Seaforth AAC","1939-07-09","Glen Harrower","SA05023","Vet",".",883,{"$f":"VLOOKUP('entries and results'!G885,$A$3:$E$30018,4,FALSE)","v":" "},{"$f":"VLOOKUP('entries and results'!G885,$A$3:$F$30018,6,FALSE)","v":" "},{"$f":"VLOOKUP('entries and results'!G885,$A$3:$E$30018,2,FALSE)","v":" "},883,".",{"$f":"VLOOKUP('entries and results'!M885,$H$3:$K$30018,2,FALSE)","v":" "},{"$f":"VLOOKUP('entries and results'!M885,$H$3:$K$30018,3,FALSE)","v":" "},{"$f":"VLOOKUP('entries and results'!M885,$H$3:$K$30018,4,FALSE)","v":" "}," ","00:00",null,null,null,null,null,null,null,null,null,null,null,null,null,null,null,null,null,null,null,null,null,null,null,null,null,null,null,null,null,null,null,null,null,null,null,null,null,null,null,null,null,null,null,"00:00",883,0,"0000000","00","00","00"]
["SA05025","Ayr Seaforth AAC","1965-02-07","Rhona Rae","SA05025","Vet",".",884,{"$f":"VLOOKUP('entries and results'!G886,$A$3:$E$30018,4,FALSE)","v":" "},{"$f":"VLOOKUP('entries and results'!G886,$A$3:$F$30018,6,FALSE)","v":" "},{"$f":"VLOOKUP('entries and results'!G886,$A$3:$E$30018,2,FALSE)","v":" "},884,".",{"$f":"VLOOKUP('entries and results'!M886,$H$3:$K$30018,2,FALSE)","v":" "},{"$f":"VLOOKUP('entries and results'!M886,$H$3:$K$30018,3,FALSE)","v":" "},{"$f":"VLOOKUP('entries and results'!M886,$H$3:$K$30018,4,FALSE)","v":" "}," ","00:00",null,null,null,null,null,null,null,null,null,null,null,null,null,null,null,null,null,null,null,null,null,null,null,null,null,null,null,null,null,null,null,null,null,null,null,null,null,null,null,null,null,null,null,"00:00",884,0,"0000000","00","00","00"]
["SA05026","Ayr Seaforth AAC","1959-03-10","Alan Sprang","SA05026","Vet",".",885,{"$f":"VLOOKUP('entries and results'!G887,$A$3:$E$30018,4,FALSE)","v":" "},{"$f":"VLOOKUP('entries and results'!G887,$A$3:$F$30018,6,FALSE)","v":" "},{"$f":"VLOOKUP('entries and results'!G887,$A$3:$E$30018,2,FALSE)","v":" "},885,".",{"$f":"VLOOKUP('entries and results'!M887,$H$3:$K$30018,2,FALSE)","v":" "},{"$f":"VLOOKUP('entries and results'!M887,$H$3:$K$30018,3,FALSE)","v":" "},{"$f":"VLOOKUP('entries and results'!M887,$H$3:$K$30018,4,FALSE)","v":" "}," ","00:00",null,null,null,null,null,null,null,null,null,null,null,null,null,null,null,null,null,null,null,null,null,null,null,null,null,null,null,null,null,null,null,null,null,null,null,null,null,null,null,null,null,null,null,"00:00",885,0,"0000000","00","00","00"]
["SA05034","Bellahouston Road Runners","1944-11-02","Edward Murphy","SA05034","Vet",".",886,{"$f":"VLOOKUP('entries and results'!G888,$A$3:$E$30018,4,FALSE)","v":" "},{"$f":"VLOOKUP('entries and results'!G888,$A$3:$F$30018,6,FALSE)","v":" "},{"$f":"VLOOKUP('entries and results'!G888,$A$3:$E$30018,2,FALSE)","v":" "},886,".",{"$f":"VLOOKUP('entries and results'!M888,$H$3:$K$30018,2,FALSE)","v":" "},{"$f":"VLOOKUP('entries and results'!M888,$H$3:$K$30018,3,FALSE)","v":" "},{"$f":"VLOOKUP('entries and results'!M888,$H$3:$K$30018,4,FALSE)","v":" "}," ","00:00",null,null,null,null,null,null,null,null,null,null,null,null,null,null,null,null,null,null,null,null,null,null,null,null,null,null,null,null,null,null,null,null,null,null,null,null,null,null,null,null,null,null,null,"00:00",886,0,"0000000","00","00","00"]
["SA05035","Bellahouston Harriers","1949-06-06","John Softley","SA05035","Vet",".",887,{"$f":"VLOOKUP('entries and results'!G889,$A$3:$E$30018,4,FALSE)","v":" "},{"$f":"VLOOKUP('entries and results'!G889,$A$3:$F$30018,6,FALSE)","v":" "},{"$f":"VLOOKUP('entries and results'!G889,$A$3:$E$30018,2,FALSE)","v":" "},887,".",{"$f":"VLOOKUP('entries and results'!M889,$H$3:$K$30018,2,FALSE)","v":" "},{"$f":"VLOOKUP('entries and results'!M889,$H$3:$K$30018,3,FALSE)","v":" "},{"$f":"VLOOKUP('entries and results'!M889,$H$3:$K$30018,4,FALSE)","v":" "}," ","00:00",null,null,null,null,null,null,null,null,null,null,null,null,null,null,null,null,null,null,null,null,null,null,null,null,null,null,null,null,null,null,null,null,null,null,null,null,null,null,null,null,null,null,null,"00:00",887,0,"0000000","00","00","00"]
["SA05036","Bellahouston Road Runners","1951-11-29","Stephen Bell","SA05036","Vet",".",888,{"$f":"VLOOKUP('entries and results'!G890,$A$3:$E$30018,4,FALSE)","v":" "},{"$f":"VLOOKUP('entries and results'!G890,$A$3:$F$30018,6,FALSE)","v":" "},{"$f":"VLOOKUP('entries and results'!G890,$A$3:$E$30018,2,FALSE)","v":" "},888,".",{"$f":"VLOOKUP('entries and results'!M890,$H$3:$K$30018,2,FALSE)","v":" "},{"$f":"VLOOKUP('entries and results'!M890,$H$3:$K$30018,3,FALSE)","v":" "},{"$f":"VLOOKUP('entries and results'!M890,$H$3:$K$30018,4,FALSE)","v":" "}," ","00:00",null,null,null,null,null,null,null,null,null,null,null,null,null,null,null,null,null,null,null,null,null,null,null,null,null,null,null,null,null,null,null,null,null,null,null,null,null,null,null,null,null,null,null,"00:00",888,0,"0000000","00","00","00"]
["SA05038","Bellahouston Road Runners","1959-11-01","Graeme Boyle","SA05038","Vet",".",889,{"$f":"VLOOKUP('entries and results'!G891,$A$3:$E$30018,4,FALSE)","v":" "},{"$f":"VLOOKUP('entries and results'!G891,$A$3:$F$30018,6,FALSE)","v":" "},{"$f":"VLOOKUP('entries and results'!G891,$A$3:$E$30018,2,FALSE)","v":" "},889,".",{"$f":"VLOOKUP('entries and results'!M891,$H$3:$K$30018,2,FALSE)","v":" "},{"$f":"VLOOKUP('entries and results'!M891,$H$3:$K$30018,3,FALSE)","v":" "},{"$f":"VLOOKUP('entries and results'!M891,$H$3:$K$30018,4,FALSE)","v":" "}," ","00:00",null,null,null,null,null,null,null,null,null,null,null,null,null,null,null,null,null,null,null,null,null,null,null,null,null,null,null,null,null,null,null,null,null,null,null,null,null,null,null,null,null,null,null,"00:00",889,0,"0000000","00","00","00"]
["SA05040","Bellahouston Road Runners","1969-10-02","Peter Gallanagh","SA05040","Vet",".",890,{"$f":"VLOOKUP('entries and results'!G892,$A$3:$E$30018,4,FALSE)","v":" "},{"$f":"VLOOKUP('entries and results'!G892,$A$3:$F$30018,6,FALSE)","v":" "},{"$f":"VLOOKUP('entries and results'!G892,$A$3:$E$30018,2,FALSE)","v":" "},890,".",{"$f":"VLOOKUP('entries and results'!M892,$H$3:$K$30018,2,FALSE)","v":" "},{"$f":"VLOOKUP('entries and results'!M892,$H$3:$K$30018,3,FALSE)","v":" "},{"$f":"VLOOKUP('entries and results'!M892,$H$3:$K$30018,4,FALSE)","v":" "}," ","00:00",null,null,null,null,null,null,null,null,null,null,null,null,null,null,null,null,null,null,null,null,null,null,null,null,null,null,null,null,null,null,null,null,null,null,null,null,null,null,null,null,null,null,null,"00:00",890,0,"0000000","00","00","00"]
["SA05041","Bellahouston Road Runners","1971-05-14","Greig Glendinning","SA05041","Senior",".",891,{"$f":"VLOOKUP('entries and results'!G893,$A$3:$E$30018,4,FALSE)","v":" "},{"$f":"VLOOKUP('entries and results'!G893,$A$3:$F$30018,6,FALSE)","v":" "},{"$f":"VLOOKUP('entries and results'!G893,$A$3:$E$30018,2,FALSE)","v":" "},891,".",{"$f":"VLOOKUP('entries and results'!M893,$H$3:$K$30018,2,FALSE)","v":" "},{"$f":"VLOOKUP('entries and results'!M893,$H$3:$K$30018,3,FALSE)","v":" "},{"$f":"VLOOKUP('entries and results'!M893,$H$3:$K$30018,4,FALSE)","v":" "}," ","00:00",null,null,null,null,null,null,null,null,null,null,null,null,null,null,null,null,null,null,null,null,null,null,null,null,null,null,null,null,null,null,null,null,null,null,null,null,null,null,null,null,null,null,null,"00:00",891,0,"0000000","00","00","00"]
["SA05042","Bellahouston Road Runners","1970-09-17","Nicola Milligan","SA05042","Senior",".",892,{"$f":"VLOOKUP('entries and results'!G894,$A$3:$E$30018,4,FALSE)","v":" "},{"$f":"VLOOKUP('entries and results'!G894,$A$3:$F$30018,6,FALSE)","v":" "},{"$f":"VLOOKUP('entries and results'!G894,$A$3:$E$30018,2,FALSE)","v":" "},892,".",{"$f":"VLOOKUP('entries and results'!M894,$H$3:$K$30018,2,FALSE)","v":" "},{"$f":"VLOOKUP('entries and results'!M894,$H$3:$K$30018,3,FALSE)","v":" "},{"$f":"VLOOKUP('entries and results'!M894,$H$3:$K$30018,4,FALSE)","v":" "}," ","00:00",null,null,null,null,null,null,null,null,null,null,null,null,null,null,null,null,null,null,null,null,null,null,null,null,null,null,null,null,null,null,null,null,null,null,null,null,null,null,null,null,null,null,null,"00:00",892,0,"0000000","00","00","00"]
["SA05045","Bellahouston Road Runners","1977-12-26","Nick Reid","SA05045","Senior",".",893,{"$f":"VLOOKUP('entries and results'!G895,$A$3:$E$30018,4,FALSE)","v":" "},{"$f":"VLOOKUP('entries and results'!G895,$A$3:$F$30018,6,FALSE)","v":" "},{"$f":"VLOOKUP('entries and results'!G895,$A$3:$E$30018,2,FALSE)","v":" "},893,".",{"$f":"VLOOKUP('entries and results'!M895,$H$3:$K$30018,2,FALSE)","v":" "},{"$f":"VLOOKUP('entries and results'!M895,$H$3:$K$30018,3,FALSE)","v":" "},{"$f":"VLOOKUP('entries and results'!M895,$H$3:$K$30018,4,FALSE)","v":" "}," ","00:00",null,null,null,null,null,null,null,null,null,null,null,null,null,null,null,null,null,null,null,null,null,null,null,null,null,null,null,null,null,null,null,null,null,null,null,null,null,null,null,null,null,null,null,"00:00",893,0,"0000000","00","00","00"]
["SA05046","Bellahouston Road Runners","1976-03-22","Claire Thompson","SA05046","Senior",".",894,{"$f":"VLOOKUP('entries and results'!G896,$A$3:$E$30018,4,FALSE)","v":" "},{"$f":"VLOOKUP('entries and results'!G896,$A$3:$F$30018,6,FALSE)","v":" "},{"$f":"VLOOKUP('entries and results'!G896,$A$3:$E$30018,2,FALSE)","v":" "},894,".",{"$f":"VLOOKUP('entries and results'!M896,$H$3:$K$30018,2,FALSE)","v":" "},{"$f":"VLOOKUP('entries and results'!M896,$H$3:$K$30018,3,FALSE)","v":" "},{"$f":"VLOOKUP('entries and results'!M896,$H$3:$K$30018,4,FALSE)","v":" "}," ","00:00",null,null,null,null,null,null,null,null,null,null,null,null,null,null,null,null,null,null,null,null,null,null,null,null,null,null,null,null,null,null,null,null,null,null,null,null,null,null,null,null,null,null,null,"00:00",894,0,"0000000","00","00","00"]
["SA05047","Bellahouston Road Runners","1979-09-12","Sanda Trenchard","SA05047","Senior",".",895,{"$f":"VLOOKUP('entries and results'!G897,$A$3:$E$30018,4,FALSE)","v":" "},{"$f":"VLOOKUP('entries and results'!G897,$A$3:$F$30018,6,FALSE)","v":" "},{"$f":"VLOOKUP('entries and results'!G897,$A$3:$E$30018,2,FALSE)","v":" "},895,".",{"$f":"VLOOKUP('entries and results'!M897,$H$3:$K$30018,2,FALSE)","v":" "},{"$f":"VLOOKUP('entries and results'!M897,$H$3:$K$30018,3,FALSE)","v":" "},{"$f":"VLOOKUP('entries and results'!M897,$H$3:$K$30018,4,FALSE)","v":" "}," ","00:00",null,null,null,null,null,null,null,null,null,null,null,null,null,null,null,null,null,null,null,null,null,null,null,null,null,null,null,null,null,null,null,null,null,null,null,null,null,null,null,null,null,null,null,"00:00",895,0,"0000000","00","00","00"]
["SA05048","Bellahouston Road Runners","1966-06-03","Julie Vinter","SA05048","Vet",".",896,{"$f":"VLOOKUP('entries and results'!G898,$A$3:$E$30018,4,FALSE)","v":" "},{"$f":"VLOOKUP('entries and results'!G898,$A$3:$F$30018,6,FALSE)","v":" "},{"$f":"VLOOKUP('entries and results'!G898,$A$3:$E$30018,2,FALSE)","v":" "},896,".",{"$f":"VLOOKUP('entries and results'!M898,$H$3:$K$30018,2,FALSE)","v":" "},{"$f":"VLOOKUP('entries and results'!M898,$H$3:$K$30018,3,FALSE)","v":" "},{"$f":"VLOOKUP('entries and results'!M898,$H$3:$K$30018,4,FALSE)","v":" "}," ","00:00",null,null,null,null,null,null,null,null,null,null,null,null,null,null,null,null,null,null,null,null,null,null,null,null,null,null,null,null,null,null,null,null,null,null,null,null,null,null,null,null,null,null,null,"00:00",896,0,"0000000","00","00","00"]
["SA05050","Birchfield Harriers","1986-09-04","Thomas Zbaraski","SA05050","Senior",".",897,{"$f":"VLOOKUP('entries and results'!G899,$A$3:$E$30018,4,FALSE)","v":" "},{"$f":"VLOOKUP('entries and results'!G899,$A$3:$F$30018,6,FALSE)","v":" "},{"$f":"VLOOKUP('entries and results'!G899,$A$3:$E$30018,2,FALSE)","v":" "},897,".",{"$f":"VLOOKUP('entries and results'!M899,$H$3:$K$30018,2,FALSE)","v":" "},{"$f":"VLOOKUP('entries and results'!M899,$H$3:$K$30018,3,FALSE)","v":" "},{"$f":"VLOOKUP('entries and results'!M899,$H$3:$K$30018,4,FALSE)","v":" "}," ","00:00",null,null,null,null,null,null,null,null,null,null,null,null,null,null,null,null,null,null,null,null,null,null,null,null,null,null,null,null,null,null,null,null,null,null,null,null,null,null,null,null,null,null,null,"00:00",897,{"$f":"SUMIF($H$3:$H$601,$BK899,$Q$3:$Q$601)","v":0},"0000000","00","00","00"]
["SA05053","Metro Aberdeen Running Club","1971-04-23","Robert Hamilton","SA05053","Senior",".",898,{"$f":"VLOOKUP('entries and results'!G900,$A$3:$E$30018,4,FALSE)","v":" "},{"$f":"VLOOKUP('entries and results'!G900,$A$3:$F$30018,6,FALSE)","v":" "},{"$f":"VLOOKUP('entries and results'!G900,$A$3:$E$30018,2,FALSE)","v":" "},898,".",{"$f":"VLOOKUP('entries and results'!M900,$H$3:$K$30018,2,FALSE)","v":" "},{"$f":"VLOOKUP('entries and results'!M900,$H$3:$K$30018,3,FALSE)","v":" "},{"$f":"VLOOKUP('entries and results'!M900,$H$3:$K$30018,4,FALSE)","v":" "}," ",{"$f":"IF($H900=\"\",\" \",(LOOKUP($H900,$BK$3:$BK$1601,$BJ$3:$BJ$1601)))","v":"00:00"},null,null,null,null,null,null,null,null,null,null,null,null,null,null,null,null,null,null,null,null,null,null,null,null,null,null,null,null,null,null,null,null,null,null,null,null,null,null,null,null,null,null,null,"00:00",898,0,"0000000","00","00","00"]
["SA05057","Calderglen Harriers","1965-04-03","Ian Rae","SA05057","Vet",".",899,{"$f":"VLOOKUP('entries and results'!G901,$A$3:$E$30018,4,FALSE)","v":" "},{"$f":"VLOOKUP('entries and results'!G901,$A$3:$F$30018,6,FALSE)","v":" "},{"$f":"VLOOKUP('entries and results'!G901,$A$3:$E$30018,2,FALSE)","v":" "},899,".",{"$f":"VLOOKUP('entries and results'!M901,$H$3:$K$30018,2,FALSE)","v":" "},{"$f":"VLOOKUP('entries and results'!M901,$H$3:$K$30018,3,FALSE)","v":" "},{"$f":"VLOOKUP('entries and results'!M901,$H$3:$K$30018,4,FALSE)","v":" "}," ","00:00",null,null,null,null,null,null,null,null,null,null,null,null,null,null,null,null,null,null,null,null,null,null,null,null,null,null,null,null,null,null,null,null,null,null,null,null,null,null,null,null,null,null,null,"00:00",899,0,"0000000","00","00","00"]
["SA05061","Rugby AC","1986-03-15","Gemma Werrett","SA05061","Senior",".",900,{"$f":"VLOOKUP('entries and results'!G902,$A$3:$E$30018,4,FALSE)","v":" "},{"$f":"VLOOKUP('entries and results'!G902,$A$3:$F$30018,6,FALSE)","v":" "},{"$f":"VLOOKUP('entries and results'!G902,$A$3:$E$30018,2,FALSE)","v":" "},900,".",{"$f":"VLOOKUP('entries and results'!M902,$H$3:$K$30018,2,FALSE)","v":" "},{"$f":"VLOOKUP('entries and results'!M902,$H$3:$K$30018,3,FALSE)","v":" "},{"$f":"VLOOKUP('entries and results'!M902,$H$3:$K$30018,4,FALSE)","v":" "}," ","00:00",null,null,null,null,null,null,null,null,null,null,null,null,null,null,null,null,null,null,null,null,null,null,null,null,null,null,null,null,null,null,null,null,null,null,null,null,null,null,null,null,null,null,null,"00:00",900,0,{"$f":"CONCATENATE($BG$2,$BL902)","v":"0000000"},{"$f":"MID(RIGHT($BM902,6),1,2)","v":"00"},{"$f":"MID(RIGHT($BM902,6),3,2)","v":"00"},{"$f":"MID(RIGHT($BM902,6),5,2)","v":"00"}]
["SA05062","Carnegie Harriers","1949-11-19","Clive Cable","SA05062","Vet",".",901,{"$f":"VLOOKUP('entries and results'!G903,$A$3:$E$30018,4,FALSE)","v":" "},{"$f":"VLOOKUP('entries and results'!G903,$A$3:$F$30018,6,FALSE)","v":" "},{"$f":"VLOOKUP('entries and results'!G903,$A$3:$E$30018,2,FALSE)","v":" "},901,".",{"$f":"VLOOKUP('entries and results'!M903,$H$3:$K$30018,2,FALSE)","v":" "},{"$f":"VLOOKUP('entries and results'!M903,$H$3:$K$30018,3,FALSE)","v":" "},{"$f":"VLOOKUP('entries and results'!M903,$H$3:$K$30018,4,FALSE)","v":" "}," ","00:00",null,null,null,null,null,null,null,null,null,null,null,null,null,null,null,null,null,null,null,null,null,null,null,null,null,null,null,null,null,null,null,null,null,null,null,null,null,null,null,null,null,null,null,"00:00",901,0,"0000000","00","00","00"]
["SA05064","Carnegie Harriers","1971-05-24","Steven King","SA05064","Senior",".",902,{"$f":"VLOOKUP('entries and results'!G904,$A$3:$E$30018,4,FALSE)","v":" "},{"$f":"VLOOKUP('entries and results'!G904,$A$3:$F$30018,6,FALSE)","v":" "},{"$f":"VLOOKUP('entries and results'!G904,$A$3:$E$30018,2,FALSE)","v":" "},902,".",{"$f":"VLOOKUP('entries and results'!M904,$H$3:$K$30018,2,FALSE)","v":" "},{"$f":"VLOOKUP('entries and results'!M904,$H$3:$K$30018,3,FALSE)","v":" "},{"$f":"VLOOKUP('entries and results'!M904,$H$3:$K$30018,4,FALSE)","v":" "}," ","00:00",null,null,null,null,null,null,null,null,null,null,null,null,null,null,null,null,null,null,null,null,null,null,null,null,null,null,null,null,null,null,null,null,null,null,null,null,null,null,null,null,null,null,null,"00:00",902,0,"0000000","00","00","00"]
["SA05066","Ochil Hill Runners","1970-06-04","Brad Connor","SA05066","Senior",".",903,{"$f":"VLOOKUP('entries and results'!G905,$A$3:$E$30018,4,FALSE)","v":" "},{"$f":"VLOOKUP('entries and results'!G905,$A$3:$F$30018,6,FALSE)","v":" "},{"$f":"VLOOKUP('entries and results'!G905,$A$3:$E$30018,2,FALSE)","v":" "},903,".",{"$f":"VLOOKUP('entries and results'!M905,$H$3:$K$30018,2,FALSE)","v":" "},{"$f":"VLOOKUP('entries and results'!M905,$H$3:$K$30018,3,FALSE)","v":" "},{"$f":"VLOOKUP('entries and results'!M905,$H$3:$K$30018,4,FALSE)","v":" "}," ","00:00",null,null,null,null,null,null,null,null,null,null,null,null,null,null,null,null,null,null,null,null,null,null,null,null,null,null,null,null,null,null,null,null,null,null,null,null,null,null,null,null,null,null,null,"00:00",903,0,"0000000","00","00","00"]
["SA05068","Carnethy Hill Racing Club","1971-10-21","Steven Hibbert","SA05068","Senior",".",904,{"$f":"VLOOKUP('entries and results'!G906,$A$3:$E$30018,4,FALSE)","v":" "},{"$f":"VLOOKUP('entries and results'!G906,$A$3:$F$30018,6,FALSE)","v":" "},{"$f":"VLOOKUP('entries and results'!G906,$A$3:$E$30018,2,FALSE)","v":" "},904,".",{"$f":"VLOOKUP('entries and results'!M906,$H$3:$K$30018,2,FALSE)","v":" "},{"$f":"VLOOKUP('entries and results'!M906,$H$3:$K$30018,3,FALSE)","v":" "},{"$f":"VLOOKUP('entries and results'!M906,$H$3:$K$30018,4,FALSE)","v":" "}," ","00:00",null,null,null,null,null,null,null,null,null,null,null,null,null,null,null,null,null,null,null,null,null,null,null,null,null,null,null,null,null,null,null,null,null,null,null,null,null,null,null,null,null,null,null,"00:00",904,0,"0000000","00","00","00"]
["SA05071","Central AC","1960-11-20","Gordon Adam","SA05071","Vet",".",905,{"$f":"VLOOKUP('entries and results'!G907,$A$3:$E$30018,4,FALSE)","v":" "},{"$f":"VLOOKUP('entries and results'!G907,$A$3:$F$30018,6,FALSE)","v":" "},{"$f":"VLOOKUP('entries and results'!G907,$A$3:$E$30018,2,FALSE)","v":" "},905,".",{"$f":"VLOOKUP('entries and results'!M907,$H$3:$K$30018,2,FALSE)","v":" "},{"$f":"VLOOKUP('entries and results'!M907,$H$3:$K$30018,3,FALSE)","v":" "},{"$f":"VLOOKUP('entries and results'!M907,$H$3:$K$30018,4,FALSE)","v":" "}," ","00:00",null,null,null,null,null,null,null,null,null,null,null,null,null,null,null,null,null,null,null,null,null,null,null,null,null,null,null,null,null,null,null,null,null,null,null,null,null,null,null,null,null,null,null,"00:00",905,0,"0000000","00","00","00"]
["SA05073","Central AC","1962-03-06","Stuart Watson","SA05073","Vet",".",906,{"$f":"VLOOKUP('entries and results'!G908,$A$3:$E$30018,4,FALSE)","v":" "},{"$f":"VLOOKUP('entries and results'!G908,$A$3:$F$30018,6,FALSE)","v":" "},{"$f":"VLOOKUP('entries and results'!G908,$A$3:$E$30018,2,FALSE)","v":" "},906,".",{"$f":"VLOOKUP('entries and results'!M908,$H$3:$K$30018,2,FALSE)","v":" "},{"$f":"VLOOKUP('entries and results'!M908,$H$3:$K$30018,3,FALSE)","v":" "},{"$f":"VLOOKUP('entries and results'!M908,$H$3:$K$30018,4,FALSE)","v":" "}," ","00:00",null,null,null,null,null,null,null,null,null,null,null,null,null,null,null,null,null,null,null,null,null,null,null,null,null,null,null,null,null,null,null,null,null,null,null,null,null,null,null,null,null,null,null,"00:00",906,0,"0000000","00","00","00"]
["SA05075","Corstorphine AAC","1978-12-07","Claire Egan","SA05075","Senior",".",907,{"$f":"VLOOKUP('entries and results'!G909,$A$3:$E$30018,4,FALSE)","v":" "},{"$f":"VLOOKUP('entries and results'!G909,$A$3:$F$30018,6,FALSE)","v":" "},{"$f":"VLOOKUP('entries and results'!G909,$A$3:$E$30018,2,FALSE)","v":" "},907,".",{"$f":"VLOOKUP('entries and results'!M909,$H$3:$K$30018,2,FALSE)","v":" "},{"$f":"VLOOKUP('entries and results'!M909,$H$3:$K$30018,3,FALSE)","v":" "},{"$f":"VLOOKUP('entries and results'!M909,$H$3:$K$30018,4,FALSE)","v":" "}," ","00:00",null,null,null,null,null,null,null,null,null,null,null,null,null,null,null,null,null,null,null,null,null,null,null,null,null,null,null,null,null,null,null,null,null,null,null,null,null,null,null,null,null,null,null,"00:00",907,0,"0000000","00","00","00"]
["SA05079","Edinburgh AC","1959-12-16","Richard Hope","SA05079","Vet",".",908,{"$f":"VLOOKUP('entries and results'!G910,$A$3:$E$30018,4,FALSE)","v":" "},{"$f":"VLOOKUP('entries and results'!G910,$A$3:$F$30018,6,FALSE)","v":" "},{"$f":"VLOOKUP('entries and results'!G910,$A$3:$E$30018,2,FALSE)","v":" "},908,".",{"$f":"VLOOKUP('entries and results'!M910,$H$3:$K$30018,2,FALSE)","v":" "},{"$f":"VLOOKUP('entries and results'!M910,$H$3:$K$30018,3,FALSE)","v":" "},{"$f":"VLOOKUP('entries and results'!M910,$H$3:$K$30018,4,FALSE)","v":" "}," ","00:00",null,null,null,null,null,null,null,null,null,null,null,null,null,null,null,null,null,null,null,null,null,null,null,null,null,null,null,null,null,null,null,null,null,null,null,null,null,null,null,null,null,null,null,"00:00",908,0,"0000000","00","00","00"]
["SA05081","Edinburgh AC","1962-03-05","Keith Lyall","SA05081","Vet",".",909,{"$f":"VLOOKUP('entries and results'!G911,$A$3:$E$30018,4,FALSE)","v":" "},{"$f":"VLOOKUP('entries and results'!G911,$A$3:$F$30018,6,FALSE)","v":" "},{"$f":"VLOOKUP('entries and results'!G911,$A$3:$E$30018,2,FALSE)","v":" "},909,".",{"$f":"VLOOKUP('entries and results'!M911,$H$3:$K$30018,2,FALSE)","v":" "},{"$f":"VLOOKUP('entries and results'!M911,$H$3:$K$30018,3,FALSE)","v":" "},{"$f":"VLOOKUP('entries and results'!M911,$H$3:$K$30018,4,FALSE)","v":" "}," ","00:00",null,null,null,null,null,null,null,null,null,null,null,null,null,null,null,null,null,null,null,null,null,null,null,null,null,null,null,null,null,null,null,null,null,null,null,null,null,null,null,null,null,null,null,"00:00",909,0,"0000000","00","00","00"]
["SA05085","City Of Glasgow AC","1965-09-11","Lorraine McQuarrie","SA05085","Vet",".",910,{"$f":"VLOOKUP('entries and results'!G912,$A$3:$E$30018,4,FALSE)","v":" "},{"$f":"VLOOKUP('entries and results'!G912,$A$3:$F$30018,6,FALSE)","v":" "},{"$f":"VLOOKUP('entries and results'!G912,$A$3:$E$30018,2,FALSE)","v":" "},910,".",{"$f":"VLOOKUP('entries and results'!M912,$H$3:$K$30018,2,FALSE)","v":" "},{"$f":"VLOOKUP('entries and results'!M912,$H$3:$K$30018,3,FALSE)","v":" "},{"$f":"VLOOKUP('entries and results'!M912,$H$3:$K$30018,4,FALSE)","v":" "}," ","00:00",null,null,null,null,null,null,null,null,null,null,null,null,null,null,null,null,null,null,null,null,null,null,null,null,null,null,null,null,null,null,null,null,null,null,null,null,null,null,null,null,null,null,null,"00:00",910,0,"0000000","00","00","00"]
["SA05087","Clydesdale Harriers","1962-01-06","Kathryn Scott","SA05087","Vet",".",911,{"$f":"VLOOKUP('entries and results'!G913,$A$3:$E$30018,4,FALSE)","v":" "},{"$f":"VLOOKUP('entries and results'!G913,$A$3:$F$30018,6,FALSE)","v":" "},{"$f":"VLOOKUP('entries and results'!G913,$A$3:$E$30018,2,FALSE)","v":" "},911,".",{"$f":"VLOOKUP('entries and results'!M913,$H$3:$K$30018,2,FALSE)","v":" "},{"$f":"VLOOKUP('entries and results'!M913,$H$3:$K$30018,3,FALSE)","v":" "},{"$f":"VLOOKUP('entries and results'!M913,$H$3:$K$30018,4,FALSE)","v":" "}," ","00:00",null,null,null,null,null,null,null,null,null,null,null,null,null,null,null,null,null,null,null,null,null,null,null,null,null,null,null,null,null,null,null,null,null,null,null,null,null,null,null,null,null,null,null,"00:00",911,0,"0000000","00","00","00"]
["SA05088","Corstorphine AAC","1971-06-18","Eileen MacGregor","SA05088","Senior",".",912,{"$f":"VLOOKUP('entries and results'!G914,$A$3:$E$30018,4,FALSE)","v":" "},{"$f":"VLOOKUP('entries and results'!G914,$A$3:$F$30018,6,FALSE)","v":" "},{"$f":"VLOOKUP('entries and results'!G914,$A$3:$E$30018,2,FALSE)","v":" "},912,".",{"$f":"VLOOKUP('entries and results'!M914,$H$3:$K$30018,2,FALSE)","v":" "},{"$f":"VLOOKUP('entries and results'!M914,$H$3:$K$30018,3,FALSE)","v":" "},{"$f":"VLOOKUP('entries and results'!M914,$H$3:$K$30018,4,FALSE)","v":" "}," ","00:00",null,null,null,null,null,null,null,null,null,null,null,null,null,null,null,null,null,null,null,null,null,null,null,null,null,null,null,null,null,null,null,null,null,null,null,null,null,null,null,null,null,null,null,"00:00",912,0,"0000000","00","00","00"]
["SA05089","Corstorphine AAC","1961-06-06","Lilian McNab","SA05089","Vet",".",913,{"$f":"VLOOKUP('entries and results'!G915,$A$3:$E$30018,4,FALSE)","v":" "},{"$f":"VLOOKUP('entries and results'!G915,$A$3:$F$30018,6,FALSE)","v":" "},{"$f":"VLOOKUP('entries and results'!G915,$A$3:$E$30018,2,FALSE)","v":" "},913,".",{"$f":"VLOOKUP('entries and results'!M915,$H$3:$K$30018,2,FALSE)","v":" "},{"$f":"VLOOKUP('entries and results'!M915,$H$3:$K$30018,3,FALSE)","v":" "},{"$f":"VLOOKUP('entries and results'!M915,$H$3:$K$30018,4,FALSE)","v":" "}," ","00:00",null,null,null,null,null,null,null,null,null,null,null,null,null,null,null,null,null,null,null,null,null,null,null,null,null,null,null,null,null,null,null,null,null,null,null,null,null,null,null,null,null,null,null,"00:00",913,0,"0000000","00","00","00"]
["SA05091","Corstorphine AAC","1982-03-22","Steven O'Brien","SA05091","Senior",".",914,{"$f":"VLOOKUP('entries and results'!G916,$A$3:$E$30018,4,FALSE)","v":" "},{"$f":"VLOOKUP('entries and results'!G916,$A$3:$F$30018,6,FALSE)","v":" "},{"$f":"VLOOKUP('entries and results'!G916,$A$3:$E$30018,2,FALSE)","v":" "},914,".",{"$f":"VLOOKUP('entries and results'!M916,$H$3:$K$30018,2,FALSE)","v":" "},{"$f":"VLOOKUP('entries and results'!M916,$H$3:$K$30018,3,FALSE)","v":" "},{"$f":"VLOOKUP('entries and results'!M916,$H$3:$K$30018,4,FALSE)","v":" "}," ","00:00",null,null,null,null,null,null,null,null,null,null,null,null,null,null,null,null,null,null,null,null,null,null,null,null,null,null,null,null,null,null,null,null,null,null,null,null,null,null,null,null,null,null,null,"00:00",914,0,"0000000","00","00","00"]
["SA05092","Cosmic Hillbashers AAC","1956-08-19","Anita Hamilton","SA05092","Vet",".",915,{"$f":"VLOOKUP('entries and results'!G917,$A$3:$E$30018,4,FALSE)","v":" "},{"$f":"VLOOKUP('entries and results'!G917,$A$3:$F$30018,6,FALSE)","v":" "},{"$f":"VLOOKUP('entries and results'!G917,$A$3:$E$30018,2,FALSE)","v":" "},915,".",{"$f":"VLOOKUP('entries and results'!M917,$H$3:$K$30018,2,FALSE)","v":" "},{"$f":"VLOOKUP('entries and results'!M917,$H$3:$K$30018,3,FALSE)","v":" "},{"$f":"VLOOKUP('entries and results'!M917,$H$3:$K$30018,4,FALSE)","v":" "}," ","00:00",null,null,null,null,null,null,null,null,null,null,null,null,null,null,null,null,null,null,null,null,null,null,null,null,null,null,null,null,null,null,null,null,null,null,null,null,null,null,null,null,null,null,null,"00:00",915,0,"0000000","00","00","00"]
["SA05094","Dumfries Running Club","1963-01-21","Sebastian Pflanz","SA05094","Vet",".",916,{"$f":"VLOOKUP('entries and results'!G918,$A$3:$E$30018,4,FALSE)","v":" "},{"$f":"VLOOKUP('entries and results'!G918,$A$3:$F$30018,6,FALSE)","v":" "},{"$f":"VLOOKUP('entries and results'!G918,$A$3:$E$30018,2,FALSE)","v":" "},916,".",{"$f":"VLOOKUP('entries and results'!M918,$H$3:$K$30018,2,FALSE)","v":" "},{"$f":"VLOOKUP('entries and results'!M918,$H$3:$K$30018,3,FALSE)","v":" "},{"$f":"VLOOKUP('entries and results'!M918,$H$3:$K$30018,4,FALSE)","v":" "}," ","00:00",null,null,null,null,null,null,null,null,null,null,null,null,null,null,null,null,null,null,null,null,null,null,null,null,null,null,null,null,null,null,null,null,null,null,null,null,null,null,null,null,null,null,null,"00:00",916,0,"0000000","00","00","00"]
["SA05095","Dunbar Running Club","1953-04-05","Keith Mills","SA05095","Vet",".",917,{"$f":"VLOOKUP('entries and results'!G919,$A$3:$E$30018,4,FALSE)","v":" "},{"$f":"VLOOKUP('entries and results'!G919,$A$3:$F$30018,6,FALSE)","v":" "},{"$f":"VLOOKUP('entries and results'!G919,$A$3:$E$30018,2,FALSE)","v":" "},917,".",{"$f":"VLOOKUP('entries and results'!M919,$H$3:$K$30018,2,FALSE)","v":" "},{"$f":"VLOOKUP('entries and results'!M919,$H$3:$K$30018,3,FALSE)","v":" "},{"$f":"VLOOKUP('entries and results'!M919,$H$3:$K$30018,4,FALSE)","v":" "}," ","00:00",null,null,null,null,null,null,null,null,null,null,null,null,null,null,null,null,null,null,null,null,null,null,null,null,null,null,null,null,null,null,null,null,null,null,null,null,null,null,null,null,null,null,null,"00:00",917,0,"0000000","00","00","00"]
["SA05099","Dundee Road Runners AC","1957-09-09","Richard G. Davidson","SA05099","Vet",".",918,{"$f":"VLOOKUP('entries and results'!G920,$A$3:$E$30018,4,FALSE)","v":" "},{"$f":"VLOOKUP('entries and results'!G920,$A$3:$F$30018,6,FALSE)","v":" "},{"$f":"VLOOKUP('entries and results'!G920,$A$3:$E$30018,2,FALSE)","v":" "},918,".",{"$f":"VLOOKUP('entries and results'!M920,$H$3:$K$30018,2,FALSE)","v":" "},{"$f":"VLOOKUP('entries and results'!M920,$H$3:$K$30018,3,FALSE)","v":" "},{"$f":"VLOOKUP('entries and results'!M920,$H$3:$K$30018,4,FALSE)","v":" "}," ","00:00",null,null,null,null,null,null,null,null,null,null,null,null,null,null,null,null,null,null,null,null,null,null,null,null,null,null,null,null,null,null,null,null,null,null,null,null,null,null,null,null,null,null,null,"00:00",918,0,"0000000","00","00","00"]
["SA05102","Dundee Road Runners AC","1953-12-22","Andrew Llanwarne","SA05102","Vet",".",919,{"$f":"VLOOKUP('entries and results'!G921,$A$3:$E$30018,4,FALSE)","v":" "},{"$f":"VLOOKUP('entries and results'!G921,$A$3:$F$30018,6,FALSE)","v":" "},{"$f":"VLOOKUP('entries and results'!G921,$A$3:$E$30018,2,FALSE)","v":" "},919,".",{"$f":"VLOOKUP('entries and results'!M921,$H$3:$K$30018,2,FALSE)","v":" "},{"$f":"VLOOKUP('entries and results'!M921,$H$3:$K$30018,3,FALSE)","v":" "},{"$f":"VLOOKUP('entries and results'!M921,$H$3:$K$30018,4,FALSE)","v":" "}," ","00:00",null,null,null,null,null,null,null,null,null,null,null,null,null,null,null,null,null,null,null,null,null,null,null,null,null,null,null,null,null,null,null,null,null,null,null,null,null,null,null,null,null,null,null,"00:00",919,0,"0000000","00","00","00"]
["SA05114","Unattached","1971-06-01","Sally Ann Hunter","SA05114","Senior",".",920,{"$f":"VLOOKUP('entries and results'!G922,$A$3:$E$30018,4,FALSE)","v":" "},{"$f":"VLOOKUP('entries and results'!G922,$A$3:$F$30018,6,FALSE)","v":" "},{"$f":"VLOOKUP('entries and results'!G922,$A$3:$E$30018,2,FALSE)","v":" "},920,".",{"$f":"VLOOKUP('entries and results'!M922,$H$3:$K$30018,2,FALSE)","v":" "},{"$f":"VLOOKUP('entries and results'!M922,$H$3:$K$30018,3,FALSE)","v":" "},{"$f":"VLOOKUP('entries and results'!M922,$H$3:$K$30018,4,FALSE)","v":" "}," ","00:00",null,null,null,null,null,null,null,null,null,null,null,null,null,null,null,null,null,null,null,null,null,null,null,null,null,null,null,null,null,null,null,null,null,null,null,null,null,null,null,null,null,null,null,"00:00",920,0,"0000000","00","00","00"]
["SA05120","Fife AC","1951-02-08","Stewart Davidson","SA05120","Vet",".",921,{"$f":"VLOOKUP('entries and results'!G923,$A$3:$E$30018,4,FALSE)","v":" "},{"$f":"VLOOKUP('entries and results'!G923,$A$3:$F$30018,6,FALSE)","v":" "},{"$f":"VLOOKUP('entries and results'!G923,$A$3:$E$30018,2,FALSE)","v":" "},921,".",{"$f":"VLOOKUP('entries and results'!M923,$H$3:$K$30018,2,FALSE)","v":" "},{"$f":"VLOOKUP('entries and results'!M923,$H$3:$K$30018,3,FALSE)","v":" "},{"$f":"VLOOKUP('entries and results'!M923,$H$3:$K$30018,4,FALSE)","v":" "}," ","00:00",null,null,null,null,null,null,null,null,null,null,null,null,null,null,null,null,null,null,null,null,null,null,null,null,null,null,null,null,null,null,null,null,null,null,null,null,null,null,null,null,null,null,null,"00:00",921,0,"0000000","00","00","00"]
["SA05121","Fife AC","1977-03-31","Sarah McHugh","SA05121","Senior",".",922,{"$f":"VLOOKUP('entries and results'!G924,$A$3:$E$30018,4,FALSE)","v":" "},{"$f":"VLOOKUP('entries and results'!G924,$A$3:$F$30018,6,FALSE)","v":" "},{"$f":"VLOOKUP('entries and results'!G924,$A$3:$E$30018,2,FALSE)","v":" "},922,".",{"$f":"VLOOKUP('entries and results'!M924,$H$3:$K$30018,2,FALSE)","v":" "},{"$f":"VLOOKUP('entries and results'!M924,$H$3:$K$30018,3,FALSE)","v":" "},{"$f":"VLOOKUP('entries and results'!M924,$H$3:$K$30018,4,FALSE)","v":" "}," ","00:00",null,null,null,null,null,null,null,null,null,null,null,null,null,null,null,null,null,null,null,null,null,null,null,null,null,null,null,null,null,null,null,null,null,null,null,null,null,null,null,null,null,null,null,"00:00",922,0,"0000000","00","00","00"]
["SA05126","Fife AC","1958-04-28","Alasdair Hood","SA05126","Vet",".",923,{"$f":"VLOOKUP('entries and results'!G925,$A$3:$E$30018,4,FALSE)","v":" "},{"$f":"VLOOKUP('entries and results'!G925,$A$3:$F$30018,6,FALSE)","v":" "},{"$f":"VLOOKUP('entries and results'!G925,$A$3:$E$30018,2,FALSE)","v":" "},923,".",{"$f":"VLOOKUP('entries and results'!M925,$H$3:$K$30018,2,FALSE)","v":" "},{"$f":"VLOOKUP('entries and results'!M925,$H$3:$K$30018,3,FALSE)","v":" "},{"$f":"VLOOKUP('entries and results'!M925,$H$3:$K$30018,4,FALSE)","v":" "}," ","00:00",null,null,null,null,null,null,null,null,null,null,null,null,null,null,null,null,null,null,null,null,null,null,null,null,null,null,null,null,null,null,null,null,null,null,null,null,null,null,null,null,null,null,null,"00:00",923,0,"0000000","00","00","00"]
["SA05127","Fife AC","1941-08-17","Pamela Howat","SA05127","Vet",".",924,{"$f":"VLOOKUP('entries and results'!G926,$A$3:$E$30018,4,FALSE)","v":" "},{"$f":"VLOOKUP('entries and results'!G926,$A$3:$F$30018,6,FALSE)","v":" "},{"$f":"VLOOKUP('entries and results'!G926,$A$3:$E$30018,2,FALSE)","v":" "},924,".",{"$f":"VLOOKUP('entries and results'!M926,$H$3:$K$30018,2,FALSE)","v":" "},{"$f":"VLOOKUP('entries and results'!M926,$H$3:$K$30018,3,FALSE)","v":" "},{"$f":"VLOOKUP('entries and results'!M926,$H$3:$K$30018,4,FALSE)","v":" "}," ","00:00",null,null,null,null,null,null,null,null,null,null,null,null,null,null,null,null,null,null,null,null,null,null,null,null,null,null,null,null,null,null,null,null,null,null,null,null,null,null,null,null,null,null,null,{"$f":"CONCATENATE(BO926,\":\",BP926)","v":"00:00"},924,0,"0000000","00","00","00"]
["SA05128","Fife AC","1961-07-30","Martin Hutson","SA05128","Vet",".",925,{"$f":"VLOOKUP('entries and results'!G927,$A$3:$E$30018,4,FALSE)","v":" "},{"$f":"VLOOKUP('entries and results'!G927,$A$3:$F$30018,6,FALSE)","v":" "},{"$f":"VLOOKUP('entries and results'!G927,$A$3:$E$30018,2,FALSE)","v":" "},925,".",{"$f":"VLOOKUP('entries and results'!M927,$H$3:$K$30018,2,FALSE)","v":" "},{"$f":"VLOOKUP('entries and results'!M927,$H$3:$K$30018,3,FALSE)","v":" "},{"$f":"VLOOKUP('entries and results'!M927,$H$3:$K$30018,4,FALSE)","v":" "}," ","00:00",null,null,null,null,null,null,null,null,null,null,null,null,null,null,null,null,null,null,null,null,null,null,null,null,null,null,null,null,null,null,null,null,null,null,null,null,null,null,null,null,null,null,null,"00:00",925,0,"0000000","00","00","00"]
["SA05129","Fife AC","1975-09-16","Anita Laidlaw","SA05129","Senior",".",926,{"$f":"VLOOKUP('entries and results'!G928,$A$3:$E$30018,4,FALSE)","v":" "},{"$f":"VLOOKUP('entries and results'!G928,$A$3:$F$30018,6,FALSE)","v":" "},{"$f":"VLOOKUP('entries and results'!G928,$A$3:$E$30018,2,FALSE)","v":" "},926,".",{"$f":"VLOOKUP('entries and results'!M928,$H$3:$K$30018,2,FALSE)","v":" "},{"$f":"VLOOKUP('entries and results'!M928,$H$3:$K$30018,3,FALSE)","v":" "},{"$f":"VLOOKUP('entries and results'!M928,$H$3:$K$30018,4,FALSE)","v":" "}," ","00:00",null,null,null,null,null,null,null,null,null,null,null,null,null,null,null,null,null,null,null,null,null,null,null,null,null,null,null,null,null,null,null,null,null,null,null,null,null,null,null,null,null,null,null,"00:00",926,0,"0000000","00","00","00"]
["SA05130","Fife AC","1962-05-18","Peter Lambie","SA05130","Vet",".",927,{"$f":"VLOOKUP('entries and results'!G929,$A$3:$E$30018,4,FALSE)","v":" "},{"$f":"VLOOKUP('entries and results'!G929,$A$3:$F$30018,6,FALSE)","v":" "},{"$f":"VLOOKUP('entries and results'!G929,$A$3:$E$30018,2,FALSE)","v":" "},927,".",{"$f":"VLOOKUP('entries and results'!M929,$H$3:$K$30018,2,FALSE)","v":" "},{"$f":"VLOOKUP('entries and results'!M929,$H$3:$K$30018,3,FALSE)","v":" "},{"$f":"VLOOKUP('entries and results'!M929,$H$3:$K$30018,4,FALSE)","v":" "}," ","00:00",null,null,null,null,null,null,null,null,null,null,null,null,null,null,null,null,null,null,null,null,null,null,null,null,null,null,null,null,null,null,null,null,null,null,null,null,null,null,null,null,null,null,null,"00:00",927,0,"0000000","00","00","00"]
["SA05131","Fife AC","1989-08-06","Anne Lloyd-Evans","SA05131","Senior",".",928,{"$f":"VLOOKUP('entries and results'!G930,$A$3:$E$30018,4,FALSE)","v":" "},{"$f":"VLOOKUP('entries and results'!G930,$A$3:$F$30018,6,FALSE)","v":" "},{"$f":"VLOOKUP('entries and results'!G930,$A$3:$E$30018,2,FALSE)","v":" "},928,".",{"$f":"VLOOKUP('entries and results'!M930,$H$3:$K$30018,2,FALSE)","v":" "},{"$f":"VLOOKUP('entries and results'!M930,$H$3:$K$30018,3,FALSE)","v":" "},{"$f":"VLOOKUP('entries and results'!M930,$H$3:$K$30018,4,FALSE)","v":" "}," ","00:00",null,null,null,null,null,null,null,null,null,null,null,null,null,null,null,null,null,null,null,null,null,null,null,null,null,null,null,null,null,null,null,null,null,null,null,null,null,null,null,null,null,null,null,"00:00",928,0,"0000000","00","00","00"]
["SA05135","Fife AC","1966-01-24","Alison McAdam-Smith","SA05135","Vet",".",929,{"$f":"VLOOKUP('entries and results'!G931,$A$3:$E$30018,4,FALSE)","v":" "},{"$f":"VLOOKUP('entries and results'!G931,$A$3:$F$30018,6,FALSE)","v":" "},{"$f":"VLOOKUP('entries and results'!G931,$A$3:$E$30018,2,FALSE)","v":" "},929,".",{"$f":"VLOOKUP('entries and results'!M931,$H$3:$K$30018,2,FALSE)","v":" "},{"$f":"VLOOKUP('entries and results'!M931,$H$3:$K$30018,3,FALSE)","v":" "},{"$f":"VLOOKUP('entries and results'!M931,$H$3:$K$30018,4,FALSE)","v":" "}," ","00:00",null,null,null,null,null,null,null,null,null,null,null,null,null,null,null,null,null,null,null,null,null,null,null,null,null,null,null,null,null,null,null,null,null,null,null,null,null,null,null,null,null,null,null,"00:00",929,0,"0000000","00","00","00"]
["SA05138","Fife AC","1942-12-10","Carole Melville","SA05138","Vet",".",930,{"$f":"VLOOKUP('entries and results'!G932,$A$3:$E$30018,4,FALSE)","v":" "},{"$f":"VLOOKUP('entries and results'!G932,$A$3:$F$30018,6,FALSE)","v":" "},{"$f":"VLOOKUP('entries and results'!G932,$A$3:$E$30018,2,FALSE)","v":" "},930,".",{"$f":"VLOOKUP('entries and results'!M932,$H$3:$K$30018,2,FALSE)","v":" "},{"$f":"VLOOKUP('entries and results'!M932,$H$3:$K$30018,3,FALSE)","v":" "},{"$f":"VLOOKUP('entries and results'!M932,$H$3:$K$30018,4,FALSE)","v":" "}," ","00:00",null,null,null,null,null,null,null,null,null,null,null,null,null,null,null,null,null,null,null,null,null,null,null,null,null,null,null,null,null,null,null,null,null,null,null,null,null,null,null,null,null,null,null,"00:00",930,0,"0000000","00","00","00"]
["SA05139","Fife AC","1962-08-09","Sandra Mitchell","SA05139","Vet",".",931,{"$f":"VLOOKUP('entries and results'!G933,$A$3:$E$30018,4,FALSE)","v":" "},{"$f":"VLOOKUP('entries and results'!G933,$A$3:$F$30018,6,FALSE)","v":" "},{"$f":"VLOOKUP('entries and results'!G933,$A$3:$E$30018,2,FALSE)","v":" "},931,".",{"$f":"VLOOKUP('entries and results'!M933,$H$3:$K$30018,2,FALSE)","v":" "},{"$f":"VLOOKUP('entries and results'!M933,$H$3:$K$30018,3,FALSE)","v":" "},{"$f":"VLOOKUP('entries and results'!M933,$H$3:$K$30018,4,FALSE)","v":" "}," ","00:00",null,null,null,null,null,null,null,null,null,null,null,null,null,null,null,null,null,null,null,null,null,null,null,null,null,null,null,null,null,null,null,null,null,null,null,null,null,null,null,null,null,null,null,"00:00",931,0,"0000000","00","00","00"]
["SA05141","Fife AC","1959-03-22","Steven Pennycook","SA05141","Vet",".",932,{"$f":"VLOOKUP('entries and results'!G934,$A$3:$E$30018,4,FALSE)","v":" "},{"$f":"VLOOKUP('entries and results'!G934,$A$3:$F$30018,6,FALSE)","v":" "},{"$f":"VLOOKUP('entries and results'!G934,$A$3:$E$30018,2,FALSE)","v":" "},932,".",{"$f":"VLOOKUP('entries and results'!M934,$H$3:$K$30018,2,FALSE)","v":" "},{"$f":"VLOOKUP('entries and results'!M934,$H$3:$K$30018,3,FALSE)","v":" "},{"$f":"VLOOKUP('entries and results'!M934,$H$3:$K$30018,4,FALSE)","v":" "}," ","00:00",null,null,null,null,null,null,null,null,null,null,null,null,null,null,null,null,null,null,null,null,null,null,null,null,null,null,null,null,null,null,null,null,null,null,null,null,null,null,null,null,null,null,null,"00:00",932,0,"0000000","00","00","00"]
["SA05142","Fife AC","1973-08-06","Frank Popham","SA05142","Senior",".",933,{"$f":"VLOOKUP('entries and results'!G935,$A$3:$E$30018,4,FALSE)","v":" "},{"$f":"VLOOKUP('entries and results'!G935,$A$3:$F$30018,6,FALSE)","v":" "},{"$f":"VLOOKUP('entries and results'!G935,$A$3:$E$30018,2,FALSE)","v":" "},933,".",{"$f":"VLOOKUP('entries and results'!M935,$H$3:$K$30018,2,FALSE)","v":" "},{"$f":"VLOOKUP('entries and results'!M935,$H$3:$K$30018,3,FALSE)","v":" "},{"$f":"VLOOKUP('entries and results'!M935,$H$3:$K$30018,4,FALSE)","v":" "}," ","00:00",null,null,null,null,null,null,null,null,null,null,null,null,null,null,null,null,null,null,null,null,null,null,null,null,null,null,null,null,null,null,null,null,null,null,null,null,null,null,null,null,null,null,null,"00:00",933,0,"0000000","00","00","00"]
["SA05143","Fife AC","1979-05-08","Steven Reid","SA05143","Senior",".",934,{"$f":"VLOOKUP('entries and results'!G936,$A$3:$E$30018,4,FALSE)","v":" "},{"$f":"VLOOKUP('entries and results'!G936,$A$3:$F$30018,6,FALSE)","v":" "},{"$f":"VLOOKUP('entries and results'!G936,$A$3:$E$30018,2,FALSE)","v":" "},934,".",{"$f":"VLOOKUP('entries and results'!M936,$H$3:$K$30018,2,FALSE)","v":" "},{"$f":"VLOOKUP('entries and results'!M936,$H$3:$K$30018,3,FALSE)","v":" "},{"$f":"VLOOKUP('entries and results'!M936,$H$3:$K$30018,4,FALSE)","v":" "}," ","00:00",null,null,null,null,null,null,null,null,null,null,null,null,null,null,null,null,null,null,null,null,null,null,null,null,null,null,null,null,null,null,null,null,null,null,null,null,null,null,null,null,null,null,null,"00:00",934,0,"0000000","00","00","00"]
["SA05144","Fife AC","1966-04-17","Wendy Ritchie","SA05144","Vet",".",935,{"$f":"VLOOKUP('entries and results'!G937,$A$3:$E$30018,4,FALSE)","v":" "},{"$f":"VLOOKUP('entries and results'!G937,$A$3:$F$30018,6,FALSE)","v":" "},{"$f":"VLOOKUP('entries and results'!G937,$A$3:$E$30018,2,FALSE)","v":" "},935,".",{"$f":"VLOOKUP('entries and results'!M937,$H$3:$K$30018,2,FALSE)","v":" "},{"$f":"VLOOKUP('entries and results'!M937,$H$3:$K$30018,3,FALSE)","v":" "},{"$f":"VLOOKUP('entries and results'!M937,$H$3:$K$30018,4,FALSE)","v":" "}," ","00:00",null,null,null,null,null,null,null,null,null,null,null,null,null,null,null,null,null,null,null,null,null,null,null,null,null,null,null,null,null,null,null,null,null,null,null,null,null,null,null,null,null,null,null,"00:00",935,0,"0000000","00","00","00"]
["SA05148","Fife AC","1968-08-29","Allan Wilson","SA05148","Vet",".",936,{"$f":"VLOOKUP('entries and results'!G938,$A$3:$E$30018,4,FALSE)","v":" "},{"$f":"VLOOKUP('entries and results'!G938,$A$3:$F$30018,6,FALSE)","v":" "},{"$f":"VLOOKUP('entries and results'!G938,$A$3:$E$30018,2,FALSE)","v":" "},936,".",{"$f":"VLOOKUP('entries and results'!M938,$H$3:$K$30018,2,FALSE)","v":" "},{"$f":"VLOOKUP('entries and results'!M938,$H$3:$K$30018,3,FALSE)","v":" "},{"$f":"VLOOKUP('entries and results'!M938,$H$3:$K$30018,4,FALSE)","v":" "}," ","00:00",null,null,null,null,null,null,null,null,null,null,null,null,null,null,null,null,null,null,null,null,null,null,null,null,null,null,null,null,null,null,null,null,null,null,null,null,null,null,null,null,null,null,null,"00:00",936,0,"0000000","00","00","00"]
["SA05149","Forfar Road Runners","1964-12-18","Elizabeth Nicoll","SA05149","Vet",".",937,{"$f":"VLOOKUP('entries and results'!G939,$A$3:$E$30018,4,FALSE)","v":" "},{"$f":"VLOOKUP('entries and results'!G939,$A$3:$F$30018,6,FALSE)","v":" "},{"$f":"VLOOKUP('entries and results'!G939,$A$3:$E$30018,2,FALSE)","v":" "},937,".",{"$f":"VLOOKUP('entries and results'!M939,$H$3:$K$30018,2,FALSE)","v":" "},{"$f":"VLOOKUP('entries and results'!M939,$H$3:$K$30018,3,FALSE)","v":" "},{"$f":"VLOOKUP('entries and results'!M939,$H$3:$K$30018,4,FALSE)","v":" "}," ","00:00",null,null,null,null,null,null,null,null,null,null,null,null,null,null,null,null,null,null,null,null,null,null,null,null,null,null,null,null,null,null,null,null,null,null,null,null,null,null,null,null,null,null,null,"00:00",937,0,"0000000","00","00","00"]
["SA05150","Fife AC","1981-12-01","Stefan Elertowicz","SA05150","Senior",".",938,{"$f":"VLOOKUP('entries and results'!G940,$A$3:$E$30018,4,FALSE)","v":" "},{"$f":"VLOOKUP('entries and results'!G940,$A$3:$F$30018,6,FALSE)","v":" "},{"$f":"VLOOKUP('entries and results'!G940,$A$3:$E$30018,2,FALSE)","v":" "},938,".",{"$f":"VLOOKUP('entries and results'!M940,$H$3:$K$30018,2,FALSE)","v":" "},{"$f":"VLOOKUP('entries and results'!M940,$H$3:$K$30018,3,FALSE)","v":" "},{"$f":"VLOOKUP('entries and results'!M940,$H$3:$K$30018,4,FALSE)","v":" "}," ","00:00",null,null,null,null,null,null,null,null,null,null,null,null,null,null,null,null,null,null,null,null,null,null,null,null,null,null,null,null,null,null,null,null,null,null,null,null,null,null,null,null,null,null,null,"00:00",938,0,"0000000","00","00","00"]
["SA05151","Forres Harriers","1973-02-27","Adrian Hodges","SA05151","Senior",".",939,{"$f":"VLOOKUP('entries and results'!G941,$A$3:$E$30018,4,FALSE)","v":" "},{"$f":"VLOOKUP('entries and results'!G941,$A$3:$F$30018,6,FALSE)","v":" "},{"$f":"VLOOKUP('entries and results'!G941,$A$3:$E$30018,2,FALSE)","v":" "},939,".",{"$f":"VLOOKUP('entries and results'!M941,$H$3:$K$30018,2,FALSE)","v":" "},{"$f":"VLOOKUP('entries and results'!M941,$H$3:$K$30018,3,FALSE)","v":" "},{"$f":"VLOOKUP('entries and results'!M941,$H$3:$K$30018,4,FALSE)","v":" "}," ","00:00",null,null,null,null,null,null,null,null,null,null,null,null,null,null,null,null,null,null,null,null,null,null,null,null,null,null,null,null,null,null,null,null,null,null,null,null,null,null,null,null,null,null,null,"00:00",939,0,"0000000","00","00","00"]
["SA05156","Fraserburgh Running Club","1977-07-11","Lisa Stephen","SA05156","Senior",".",940,{"$f":"VLOOKUP('entries and results'!G942,$A$3:$E$30018,4,FALSE)","v":" "},{"$f":"VLOOKUP('entries and results'!G942,$A$3:$F$30018,6,FALSE)","v":" "},{"$f":"VLOOKUP('entries and results'!G942,$A$3:$E$30018,2,FALSE)","v":" "},940,".",{"$f":"VLOOKUP('entries and results'!M942,$H$3:$K$30018,2,FALSE)","v":" "},{"$f":"VLOOKUP('entries and results'!M942,$H$3:$K$30018,3,FALSE)","v":" "},{"$f":"VLOOKUP('entries and results'!M942,$H$3:$K$30018,4,FALSE)","v":" "}," ","00:00",null,null,null,null,null,null,null,null,null,null,null,null,null,null,null,null,null,null,null,null,null,null,null,null,null,null,null,null,null,null,null,null,null,null,null,null,null,null,null,null,null,null,null,"00:00",940,0,"0000000","00","00","00"]
["SA05158","Gala Harriers","1960-05-15","Alan Goodson","SA05158","Vet",".",941,{"$f":"VLOOKUP('entries and results'!G943,$A$3:$E$30018,4,FALSE)","v":" "},{"$f":"VLOOKUP('entries and results'!G943,$A$3:$F$30018,6,FALSE)","v":" "},{"$f":"VLOOKUP('entries and results'!G943,$A$3:$E$30018,2,FALSE)","v":" "},941,".",{"$f":"VLOOKUP('entries and results'!M943,$H$3:$K$30018,2,FALSE)","v":" "},{"$f":"VLOOKUP('entries and results'!M943,$H$3:$K$30018,3,FALSE)","v":" "},{"$f":"VLOOKUP('entries and results'!M943,$H$3:$K$30018,4,FALSE)","v":" "}," ","00:00",null,null,null,null,null,null,null,null,null,null,null,null,null,null,null,null,null,null,null,null,null,null,null,null,null,null,null,null,null,null,null,null,null,null,null,null,null,null,null,null,null,null,null,"00:00",941,0,"0000000","00","00","00"]
["SA05159","Gala Harriers","1966-08-26","Karen Haldane","SA05159","Vet",".",942,{"$f":"VLOOKUP('entries and results'!G944,$A$3:$E$30018,4,FALSE)","v":" "},{"$f":"VLOOKUP('entries and results'!G944,$A$3:$F$30018,6,FALSE)","v":" "},{"$f":"VLOOKUP('entries and results'!G944,$A$3:$E$30018,2,FALSE)","v":" "},942,".",{"$f":"VLOOKUP('entries and results'!M944,$H$3:$K$30018,2,FALSE)","v":" "},{"$f":"VLOOKUP('entries and results'!M944,$H$3:$K$30018,3,FALSE)","v":" "},{"$f":"VLOOKUP('entries and results'!M944,$H$3:$K$30018,4,FALSE)","v":" "}," ","00:00",null,null,null,null,null,null,null,null,null,null,null,null,null,null,null,null,null,null,null,null,null,null,null,null,null,null,null,null,null,null,null,null,null,null,null,null,null,null,null,null,null,null,null,"00:00",942,0,"0000000","00","00","00"]
["SA05162","Kelvin Runners","1971-11-12","Anne Marie Cullen","SA05162","Senior",".",943,{"$f":"VLOOKUP('entries and results'!G945,$A$3:$E$30018,4,FALSE)","v":" "},{"$f":"VLOOKUP('entries and results'!G945,$A$3:$F$30018,6,FALSE)","v":" "},{"$f":"VLOOKUP('entries and results'!G945,$A$3:$E$30018,2,FALSE)","v":" "},943,".",{"$f":"VLOOKUP('entries and results'!M945,$H$3:$K$30018,2,FALSE)","v":" "},{"$f":"VLOOKUP('entries and results'!M945,$H$3:$K$30018,3,FALSE)","v":" "},{"$f":"VLOOKUP('entries and results'!M945,$H$3:$K$30018,4,FALSE)","v":" "}," ","00:00",null,null,null,null,null,null,null,null,null,null,null,null,null,null,null,null,null,null,null,null,null,null,null,null,null,null,null,null,null,null,null,null,null,null,null,null,null,null,null,null,null,null,null,"00:00",943,0,"0000000","00","00","00"]
["SA05169","Giffnock North AAC","1961-02-15","Marc Roper","SA05169","Vet",".",944,{"$f":"VLOOKUP('entries and results'!G946,$A$3:$E$30018,4,FALSE)","v":" "},{"$f":"VLOOKUP('entries and results'!G946,$A$3:$F$30018,6,FALSE)","v":" "},{"$f":"VLOOKUP('entries and results'!G946,$A$3:$E$30018,2,FALSE)","v":" "},944,".",{"$f":"VLOOKUP('entries and results'!M946,$H$3:$K$30018,2,FALSE)","v":" "},{"$f":"VLOOKUP('entries and results'!M946,$H$3:$K$30018,3,FALSE)","v":" "},{"$f":"VLOOKUP('entries and results'!M946,$H$3:$K$30018,4,FALSE)","v":" "}," ","00:00",null,null,null,null,null,null,null,null,null,null,null,null,null,null,null,null,null,null,null,null,null,null,null,null,null,null,null,null,null,null,null,null,null,null,null,null,null,null,null,null,null,null,null,"00:00",944,0,"0000000","00","00","00"]
["SA05172","Glasgow University AC","1986-07-02","Stephanie Mackie","SA05172","Senior",".",945,{"$f":"VLOOKUP('entries and results'!G947,$A$3:$E$30018,4,FALSE)","v":" "},{"$f":"VLOOKUP('entries and results'!G947,$A$3:$F$30018,6,FALSE)","v":" "},{"$f":"VLOOKUP('entries and results'!G947,$A$3:$E$30018,2,FALSE)","v":" "},945,".",{"$f":"VLOOKUP('entries and results'!M947,$H$3:$K$30018,2,FALSE)","v":" "},{"$f":"VLOOKUP('entries and results'!M947,$H$3:$K$30018,3,FALSE)","v":" "},{"$f":"VLOOKUP('entries and results'!M947,$H$3:$K$30018,4,FALSE)","v":" "}," ","00:00",null,null,null,null,null,null,null,null,null,null,null,null,null,null,null,null,null,null,null,null,null,null,null,null,null,null,null,null,null,null,null,null,null,null,null,null,null,null,null,null,null,null,null,"00:00",945,0,"0000000","00","00","00"]
["SA05173","VP-Glasgow AC","1986-03-10","Erin McIlveen","SA05173","Senior",".",946,{"$f":"VLOOKUP('entries and results'!G948,$A$3:$E$30018,4,FALSE)","v":" "},{"$f":"VLOOKUP('entries and results'!G948,$A$3:$F$30018,6,FALSE)","v":" "},{"$f":"VLOOKUP('entries and results'!G948,$A$3:$E$30018,2,FALSE)","v":" "},946,".",{"$f":"VLOOKUP('entries and results'!M948,$H$3:$K$30018,2,FALSE)","v":" "},{"$f":"VLOOKUP('entries and results'!M948,$H$3:$K$30018,3,FALSE)","v":" "},{"$f":"VLOOKUP('entries and results'!M948,$H$3:$K$30018,4,FALSE)","v":" "}," ","00:00",null,null,null,null,null,null,null,null,null,null,null,null,null,null,null,null,null,null,null,null,null,null,null,null,null,null,null,null,null,null,null,null,null,null,null,null,null,null,null,null,null,null,null,"00:00",946,0,"0000000","00","00","00"]
["SA05175","Hunters Bog Trotters","1983-01-21","Shona McIntosh","SA05175","Senior",".",947,{"$f":"VLOOKUP('entries and results'!G949,$A$3:$E$30018,4,FALSE)","v":" "},{"$f":"VLOOKUP('entries and results'!G949,$A$3:$F$30018,6,FALSE)","v":" "},{"$f":"VLOOKUP('entries and results'!G949,$A$3:$E$30018,2,FALSE)","v":" "},947,".",{"$f":"VLOOKUP('entries and results'!M949,$H$3:$K$30018,2,FALSE)","v":" "},{"$f":"VLOOKUP('entries and results'!M949,$H$3:$K$30018,3,FALSE)","v":" "},{"$f":"VLOOKUP('entries and results'!M949,$H$3:$K$30018,4,FALSE)","v":" "}," ","00:00",null,null,null,null,null,null,null,null,null,null,null,null,null,null,null,null,null,null,null,null,null,null,null,null,null,null,null,null,null,null,null,null,null,null,null,null,null,null,null,null,null,null,null,"00:00",947,0,"0000000","00","00","00"]
["SA05177","Greenock Glenpark Harriers","1964-11-03","Fiona Cushnaghan","SA05177","Vet",".",948,{"$f":"VLOOKUP('entries and results'!G950,$A$3:$E$30018,4,FALSE)","v":" "},{"$f":"VLOOKUP('entries and results'!G950,$A$3:$F$30018,6,FALSE)","v":" "},{"$f":"VLOOKUP('entries and results'!G950,$A$3:$E$30018,2,FALSE)","v":" "},948,".",{"$f":"VLOOKUP('entries and results'!M950,$H$3:$K$30018,2,FALSE)","v":" "},{"$f":"VLOOKUP('entries and results'!M950,$H$3:$K$30018,3,FALSE)","v":" "},{"$f":"VLOOKUP('entries and results'!M950,$H$3:$K$30018,4,FALSE)","v":" "}," ","00:00",null,null,null,null,null,null,null,null,null,null,null,null,null,null,null,null,null,null,null,null,null,null,null,null,null,null,null,null,null,null,null,null,null,null,null,null,null,null,null,null,null,null,null,"00:00",948,0,"0000000","00","00","00"]
["SA05179","Greenock Glenpark Harriers","1976-12-05","Robert Wilson","SA05179","Senior",".",949,{"$f":"VLOOKUP('entries and results'!G951,$A$3:$E$30018,4,FALSE)","v":" "},{"$f":"VLOOKUP('entries and results'!G951,$A$3:$F$30018,6,FALSE)","v":" "},{"$f":"VLOOKUP('entries and results'!G951,$A$3:$E$30018,2,FALSE)","v":" "},949,".",{"$f":"VLOOKUP('entries and results'!M951,$H$3:$K$30018,2,FALSE)","v":" "},{"$f":"VLOOKUP('entries and results'!M951,$H$3:$K$30018,3,FALSE)","v":" "},{"$f":"VLOOKUP('entries and results'!M951,$H$3:$K$30018,4,FALSE)","v":" "}," ","00:00",null,null,null,null,null,null,null,null,null,null,null,null,null,null,null,null,null,null,null,null,null,null,null,null,null,null,null,null,null,null,null,null,null,null,null,null,null,null,null,null,null,null,null,"00:00",949,0,"0000000","00","00","00"]
["SA05182","Hunters Bog Trotters","1962-06-23","Fionn Nairn","SA05182","Vet",".",950,{"$f":"VLOOKUP('entries and results'!G952,$A$3:$E$30018,4,FALSE)","v":" "},{"$f":"VLOOKUP('entries and results'!G952,$A$3:$F$30018,6,FALSE)","v":" "},{"$f":"VLOOKUP('entries and results'!G952,$A$3:$E$30018,2,FALSE)","v":" "},950,".",{"$f":"VLOOKUP('entries and results'!M952,$H$3:$K$30018,2,FALSE)","v":" "},{"$f":"VLOOKUP('entries and results'!M952,$H$3:$K$30018,3,FALSE)","v":" "},{"$f":"VLOOKUP('entries and results'!M952,$H$3:$K$30018,4,FALSE)","v":" "}," ","00:00",null,null,null,null,null,null,null,null,null,null,null,null,null,null,null,null,null,null,null,null,null,null,null,null,null,null,null,null,null,null,null,null,null,null,null,null,null,null,null,null,null,null,null,"00:00",950,0,"0000000","00","00","00"]
["SA05184","Hamilton Harriers","1973-01-22","Mark Bryson","SA05184","Senior",".",951,{"$f":"VLOOKUP('entries and results'!G953,$A$3:$E$30018,4,FALSE)","v":" "},{"$f":"VLOOKUP('entries and results'!G953,$A$3:$F$30018,6,FALSE)","v":" "},{"$f":"VLOOKUP('entries and results'!G953,$A$3:$E$30018,2,FALSE)","v":" "},951,".",{"$f":"VLOOKUP('entries and results'!M953,$H$3:$K$30018,2,FALSE)","v":" "},{"$f":"VLOOKUP('entries and results'!M953,$H$3:$K$30018,3,FALSE)","v":" "},{"$f":"VLOOKUP('entries and results'!M953,$H$3:$K$30018,4,FALSE)","v":" "}," ","00:00",null,null,null,null,null,null,null,null,null,null,null,null,null,null,null,null,null,null,null,null,null,null,null,null,null,null,null,null,null,null,null,null,null,null,null,null,null,null,null,null,null,null,null,"00:00",951,0,"0000000","00","00","00"]
["SA05185","Hamilton Harriers","1979-01-09","Joanne Melarkey","SA05185","Senior",".",952,{"$f":"VLOOKUP('entries and results'!G954,$A$3:$E$30018,4,FALSE)","v":" "},{"$f":"VLOOKUP('entries and results'!G954,$A$3:$F$30018,6,FALSE)","v":" "},{"$f":"VLOOKUP('entries and results'!G954,$A$3:$E$30018,2,FALSE)","v":" "},952,".",{"$f":"VLOOKUP('entries and results'!M954,$H$3:$K$30018,2,FALSE)","v":" "},{"$f":"VLOOKUP('entries and results'!M954,$H$3:$K$30018,3,FALSE)","v":" "},{"$f":"VLOOKUP('entries and results'!M954,$H$3:$K$30018,4,FALSE)","v":" "}," ","00:00",null,null,null,null,null,null,null,null,null,null,null,null,null,null,null,null,null,null,null,null,null,null,null,null,null,null,null,null,null,null,null,null,null,null,null,null,null,null,null,null,null,null,null,"00:00",952,0,"0000000","00","00","00"]
["SA05186","Hamilton Harriers","1973-03-21","Tom Steel","SA05186","Senior",".",953,{"$f":"VLOOKUP('entries and results'!G955,$A$3:$E$30018,4,FALSE)","v":" "},{"$f":"VLOOKUP('entries and results'!G955,$A$3:$F$30018,6,FALSE)","v":" "},{"$f":"VLOOKUP('entries and results'!G955,$A$3:$E$30018,2,FALSE)","v":" "},953,".",{"$f":"VLOOKUP('entries and results'!M955,$H$3:$K$30018,2,FALSE)","v":" "},{"$f":"VLOOKUP('entries and results'!M955,$H$3:$K$30018,3,FALSE)","v":" "},{"$f":"VLOOKUP('entries and results'!M955,$H$3:$K$30018,4,FALSE)","v":" "}," ","00:00",null,null,null,null,null,null,null,null,null,null,null,null,null,null,null,null,null,null,null,null,null,null,null,null,null,null,null,null,null,null,null,null,null,null,null,null,null,null,null,null,null,null,null,"00:00",953,0,"0000000","00","00","00"]
["SA05189","Harmeny AC","1953-01-28","Iain Morrice","SA05189","Vet",".",954,{"$f":"VLOOKUP('entries and results'!G956,$A$3:$E$30018,4,FALSE)","v":" "},{"$f":"VLOOKUP('entries and results'!G956,$A$3:$F$30018,6,FALSE)","v":" "},{"$f":"VLOOKUP('entries and results'!G956,$A$3:$E$30018,2,FALSE)","v":" "},954,".",{"$f":"VLOOKUP('entries and results'!M956,$H$3:$K$30018,2,FALSE)","v":" "},{"$f":"VLOOKUP('entries and results'!M956,$H$3:$K$30018,3,FALSE)","v":" "},{"$f":"VLOOKUP('entries and results'!M956,$H$3:$K$30018,4,FALSE)","v":" "}," ","00:00",null,null,null,null,null,null,null,null,null,null,null,null,null,null,null,null,null,null,null,null,null,null,null,null,null,null,null,null,null,null,null,null,null,null,null,null,null,null,null,null,null,null,null,"00:00",954,0,"0000000","00","00","00"]
["SA05190","Harmeny AC","1977-06-12","Kenneth Tindall","SA05190","Senior",".",955,{"$f":"VLOOKUP('entries and results'!G957,$A$3:$E$30018,4,FALSE)","v":" "},{"$f":"VLOOKUP('entries and results'!G957,$A$3:$F$30018,6,FALSE)","v":" "},{"$f":"VLOOKUP('entries and results'!G957,$A$3:$E$30018,2,FALSE)","v":" "},955,".",{"$f":"VLOOKUP('entries and results'!M957,$H$3:$K$30018,2,FALSE)","v":" "},{"$f":"VLOOKUP('entries and results'!M957,$H$3:$K$30018,3,FALSE)","v":" "},{"$f":"VLOOKUP('entries and results'!M957,$H$3:$K$30018,4,FALSE)","v":" "}," ","00:00",null,null,null,null,null,null,null,null,null,null,null,null,null,null,null,null,null,null,null,null,null,null,null,null,null,null,null,null,null,null,null,null,null,null,null,null,null,null,null,null,null,null,null,"00:00",955,0,"0000000","00","00","00"]
["SA05192","Helensburgh AAC","1951-02-13","Kenneth White","SA05192","Vet",".",956,{"$f":"VLOOKUP('entries and results'!G958,$A$3:$E$30018,4,FALSE)","v":" "},{"$f":"VLOOKUP('entries and results'!G958,$A$3:$F$30018,6,FALSE)","v":" "},{"$f":"VLOOKUP('entries and results'!G958,$A$3:$E$30018,2,FALSE)","v":" "},956,".",{"$f":"VLOOKUP('entries and results'!M958,$H$3:$K$30018,2,FALSE)","v":" "},{"$f":"VLOOKUP('entries and results'!M958,$H$3:$K$30018,3,FALSE)","v":" "},{"$f":"VLOOKUP('entries and results'!M958,$H$3:$K$30018,4,FALSE)","v":" "}," ","00:00",null,null,null,null,null,null,null,null,null,null,null,null,null,null,null,null,null,null,null,null,null,null,null,null,null,null,null,null,null,null,null,null,null,null,null,null,null,null,null,null,null,null,null,"00:00",956,0,"0000000","00","00","00"]
["SA05194","Herne Hill Harriers","1965-01-16","Roger Alsop","SA05194","Vet",".",957,{"$f":"VLOOKUP('entries and results'!G959,$A$3:$E$30018,4,FALSE)","v":" "},{"$f":"VLOOKUP('entries and results'!G959,$A$3:$F$30018,6,FALSE)","v":" "},{"$f":"VLOOKUP('entries and results'!G959,$A$3:$E$30018,2,FALSE)","v":" "},957,".",{"$f":"VLOOKUP('entries and results'!M959,$H$3:$K$30018,2,FALSE)","v":" "},{"$f":"VLOOKUP('entries and results'!M959,$H$3:$K$30018,3,FALSE)","v":" "},{"$f":"VLOOKUP('entries and results'!M959,$H$3:$K$30018,4,FALSE)","v":" "}," ","00:00",null,null,null,null,null,null,null,null,null,null,null,null,null,null,null,null,null,null,null,null,null,null,null,null,null,null,null,null,null,null,null,null,null,null,null,null,null,null,null,null,null,null,null,"00:00",957,0,"0000000","00","00","00"]
["SA05199","Hunters Bog Trotters","1980-02-09","Will Mair","SA05199","Senior",".",958,{"$f":"VLOOKUP('entries and results'!G960,$A$3:$E$30018,4,FALSE)","v":" "},{"$f":"VLOOKUP('entries and results'!G960,$A$3:$F$30018,6,FALSE)","v":" "},{"$f":"VLOOKUP('entries and results'!G960,$A$3:$E$30018,2,FALSE)","v":" "},958,".",{"$f":"VLOOKUP('entries and results'!M960,$H$3:$K$30018,2,FALSE)","v":" "},{"$f":"VLOOKUP('entries and results'!M960,$H$3:$K$30018,3,FALSE)","v":" "},{"$f":"VLOOKUP('entries and results'!M960,$H$3:$K$30018,4,FALSE)","v":" "}," ","00:00",null,null,null,null,null,null,null,null,null,null,null,null,null,null,null,null,null,null,null,null,null,null,null,null,null,null,null,null,null,null,null,null,null,null,null,null,null,null,null,null,null,null,null,"00:00",958,0,"0000000","00","00","00"]
["SA05200","Hunters Bog Trotters","1973-03-19","Philip Mowbray","SA05200","Senior",".",959,{"$f":"VLOOKUP('entries and results'!G961,$A$3:$E$30018,4,FALSE)","v":" "},{"$f":"VLOOKUP('entries and results'!G961,$A$3:$F$30018,6,FALSE)","v":" "},{"$f":"VLOOKUP('entries and results'!G961,$A$3:$E$30018,2,FALSE)","v":" "},959,".",{"$f":"VLOOKUP('entries and results'!M961,$H$3:$K$30018,2,FALSE)","v":" "},{"$f":"VLOOKUP('entries and results'!M961,$H$3:$K$30018,3,FALSE)","v":" "},{"$f":"VLOOKUP('entries and results'!M961,$H$3:$K$30018,4,FALSE)","v":" "}," ","00:00",null,null,null,null,null,null,null,null,null,null,null,null,null,null,null,null,null,null,null,null,null,null,null,null,null,null,null,null,null,null,null,null,null,null,null,null,null,null,null,null,null,null,null,"00:00",959,0,"0000000","00","00","00"]
["SA05202","Hunters Bog Trotters","1940-01-25","Norman Weir","SA05202","Vet",".",960,{"$f":"VLOOKUP('entries and results'!G962,$A$3:$E$30018,4,FALSE)","v":" "},{"$f":"VLOOKUP('entries and results'!G962,$A$3:$F$30018,6,FALSE)","v":" "},{"$f":"VLOOKUP('entries and results'!G962,$A$3:$E$30018,2,FALSE)","v":" "},960,".",{"$f":"VLOOKUP('entries and results'!M962,$H$3:$K$30018,2,FALSE)","v":" "},{"$f":"VLOOKUP('entries and results'!M962,$H$3:$K$30018,3,FALSE)","v":" "},{"$f":"VLOOKUP('entries and results'!M962,$H$3:$K$30018,4,FALSE)","v":" "}," ","00:00",null,null,null,null,null,null,null,null,null,null,null,null,null,null,null,null,null,null,null,null,null,null,null,null,null,null,null,null,null,null,null,null,null,null,null,null,null,null,null,null,null,null,null,"00:00",960,0,"0000000","00","00","00"]
["SA05203","Inverclyde AC","1967-02-05","Gavin Morrison","SA05203","Vet",".",961,{"$f":"VLOOKUP('entries and results'!G963,$A$3:$E$30018,4,FALSE)","v":" "},{"$f":"VLOOKUP('entries and results'!G963,$A$3:$F$30018,6,FALSE)","v":" "},{"$f":"VLOOKUP('entries and results'!G963,$A$3:$E$30018,2,FALSE)","v":" "},961,".",{"$f":"VLOOKUP('entries and results'!M963,$H$3:$K$30018,2,FALSE)","v":" "},{"$f":"VLOOKUP('entries and results'!M963,$H$3:$K$30018,3,FALSE)","v":" "},{"$f":"VLOOKUP('entries and results'!M963,$H$3:$K$30018,4,FALSE)","v":" "}," ","00:00",null,null,null,null,null,null,null,null,null,null,null,null,null,null,null,null,null,null,null,null,null,null,null,null,null,null,null,null,null,null,null,null,null,null,null,null,null,null,null,null,null,null,null,"00:00",961,{"$f":"SUMIF($H$3:$H$601,$BK963,$Q$3:$Q$601)","v":0},"0000000","00","00","00"]
["SA05205","Inverness Harriers AAC","1967-01-06","Alan Mair","SA05205","Vet",".",962,{"$f":"VLOOKUP('entries and results'!G964,$A$3:$E$30018,4,FALSE)","v":" "},{"$f":"VLOOKUP('entries and results'!G964,$A$3:$F$30018,6,FALSE)","v":" "},{"$f":"VLOOKUP('entries and results'!G964,$A$3:$E$30018,2,FALSE)","v":" "},962,".",{"$f":"VLOOKUP('entries and results'!M964,$H$3:$K$30018,2,FALSE)","v":" "},{"$f":"VLOOKUP('entries and results'!M964,$H$3:$K$30018,3,FALSE)","v":" "},{"$f":"VLOOKUP('entries and results'!M964,$H$3:$K$30018,4,FALSE)","v":" "}," ",{"$f":"IF($H964=\"\",\" \",(LOOKUP($H964,$BK$3:$BK$1601,$BJ$3:$BJ$1601)))","v":"00:00"},null,null,null,null,null,null,null,null,null,null,null,null,null,null,null,null,null,null,null,null,null,null,null,null,null,null,null,null,null,null,null,null,null,null,null,null,null,null,null,null,null,null,null,"00:00",962,0,"0000000","00","00","00"]
["SA05208","Kilmarnock H&AC","1962-10-09","John Cairns","SA05208","Vet",".",963,{"$f":"VLOOKUP('entries and results'!G965,$A$3:$E$30018,4,FALSE)","v":" "},{"$f":"VLOOKUP('entries and results'!G965,$A$3:$F$30018,6,FALSE)","v":" "},{"$f":"VLOOKUP('entries and results'!G965,$A$3:$E$30018,2,FALSE)","v":" "},963,".",{"$f":"VLOOKUP('entries and results'!M965,$H$3:$K$30018,2,FALSE)","v":" "},{"$f":"VLOOKUP('entries and results'!M965,$H$3:$K$30018,3,FALSE)","v":" "},{"$f":"VLOOKUP('entries and results'!M965,$H$3:$K$30018,4,FALSE)","v":" "}," ","00:00",null,null,null,null,null,null,null,null,null,null,null,null,null,null,null,null,null,null,null,null,null,null,null,null,null,null,null,null,null,null,null,null,null,null,null,null,null,null,null,null,null,null,null,"00:00",963,0,"0000000","00","00","00"]
["SA05209","Kilmarnock H&AC","1969-03-29","Avryl Cornforth","SA05209","Vet",".",964,{"$f":"VLOOKUP('entries and results'!G966,$A$3:$E$30018,4,FALSE)","v":" "},{"$f":"VLOOKUP('entries and results'!G966,$A$3:$F$30018,6,FALSE)","v":" "},{"$f":"VLOOKUP('entries and results'!G966,$A$3:$E$30018,2,FALSE)","v":" "},964,".",{"$f":"VLOOKUP('entries and results'!M966,$H$3:$K$30018,2,FALSE)","v":" "},{"$f":"VLOOKUP('entries and results'!M966,$H$3:$K$30018,3,FALSE)","v":" "},{"$f":"VLOOKUP('entries and results'!M966,$H$3:$K$30018,4,FALSE)","v":" "}," ","00:00",null,null,null,null,null,null,null,null,null,null,null,null,null,null,null,null,null,null,null,null,null,null,null,null,null,null,null,null,null,null,null,null,null,null,null,null,null,null,null,null,null,null,null,"00:00",964,0,{"$f":"CONCATENATE($BG$2,$BL966)","v":"0000000"},{"$f":"MID(RIGHT($BM966,6),1,2)","v":"00"},{"$f":"MID(RIGHT($BM966,6),3,2)","v":"00"},{"$f":"MID(RIGHT($BM966,6),5,2)","v":"00"}]
["SA05212","Keith & District AAC","1950-04-15","Marlene Flett Wilson","SA05212","Vet",".",965,{"$f":"VLOOKUP('entries and results'!G967,$A$3:$E$30018,4,FALSE)","v":" "},{"$f":"VLOOKUP('entries and results'!G967,$A$3:$F$30018,6,FALSE)","v":" "},{"$f":"VLOOKUP('entries and results'!G967,$A$3:$E$30018,2,FALSE)","v":" "},965,".",{"$f":"VLOOKUP('entries and results'!M967,$H$3:$K$30018,2,FALSE)","v":" "},{"$f":"VLOOKUP('entries and results'!M967,$H$3:$K$30018,3,FALSE)","v":" "},{"$f":"VLOOKUP('entries and results'!M967,$H$3:$K$30018,4,FALSE)","v":" "}," ","00:00",null,null,null,null,null,null,null,null,null,null,null,null,null,null,null,null,null,null,null,null,null,null,null,null,null,null,null,null,null,null,null,null,null,null,null,null,null,null,null,null,null,null,null,"00:00",965,0,"0000000","00","00","00"]
["SA05213","Keith & District AAC","1962-03-27","Malcolm Smith","SA05213","Vet",".",966,{"$f":"VLOOKUP('entries and results'!G968,$A$3:$E$30018,4,FALSE)","v":" "},{"$f":"VLOOKUP('entries and results'!G968,$A$3:$F$30018,6,FALSE)","v":" "},{"$f":"VLOOKUP('entries and results'!G968,$A$3:$E$30018,2,FALSE)","v":" "},966,".",{"$f":"VLOOKUP('entries and results'!M968,$H$3:$K$30018,2,FALSE)","v":" "},{"$f":"VLOOKUP('entries and results'!M968,$H$3:$K$30018,3,FALSE)","v":" "},{"$f":"VLOOKUP('entries and results'!M968,$H$3:$K$30018,4,FALSE)","v":" "}," ","00:00",null,null,null,null,null,null,null,null,null,null,null,null,null,null,null,null,null,null,null,null,null,null,null,null,null,null,null,null,null,null,null,null,null,null,null,null,null,null,null,null,null,null,null,"00:00",966,0,"0000000","00","00","00"]
["SA05216","Kilbarchan AAC","1977-06-13","Andrew Clugston","SA05216","Senior",".",967,{"$f":"VLOOKUP('entries and results'!G969,$A$3:$E$30018,4,FALSE)","v":" "},{"$f":"VLOOKUP('entries and results'!G969,$A$3:$F$30018,6,FALSE)","v":" "},{"$f":"VLOOKUP('entries and results'!G969,$A$3:$E$30018,2,FALSE)","v":" "},967,".",{"$f":"VLOOKUP('entries and results'!M969,$H$3:$K$30018,2,FALSE)","v":" "},{"$f":"VLOOKUP('entries and results'!M969,$H$3:$K$30018,3,FALSE)","v":" "},{"$f":"VLOOKUP('entries and results'!M969,$H$3:$K$30018,4,FALSE)","v":" "}," ","00:00",null,null,null,null,null,null,null,null,null,null,null,null,null,null,null,null,null,null,null,null,null,null,null,null,null,null,null,null,null,null,null,null,null,null,null,null,null,null,null,null,null,null,null,"00:00",967,0,"0000000","00","00","00"]
["SA05217","Kilbarchan AAC","1984-11-17","Lynsey Curran","SA05217","Senior",".",968,{"$f":"VLOOKUP('entries and results'!G970,$A$3:$E$30018,4,FALSE)","v":" "},{"$f":"VLOOKUP('entries and results'!G970,$A$3:$F$30018,6,FALSE)","v":" "},{"$f":"VLOOKUP('entries and results'!G970,$A$3:$E$30018,2,FALSE)","v":" "},968,".",{"$f":"VLOOKUP('entries and results'!M970,$H$3:$K$30018,2,FALSE)","v":" "},{"$f":"VLOOKUP('entries and results'!M970,$H$3:$K$30018,3,FALSE)","v":" "},{"$f":"VLOOKUP('entries and results'!M970,$H$3:$K$30018,4,FALSE)","v":" "}," ","00:00",null,null,null,null,null,null,null,null,null,null,null,null,null,null,null,null,null,null,null,null,null,null,null,null,null,null,null,null,null,null,null,null,null,null,null,null,null,null,null,null,null,null,null,"00:00",968,0,"0000000","00","00","00"]
["SA05219","Kilbarchan AAC","1960-09-15","Wanda Phillips","SA05219","Vet",".",969,{"$f":"VLOOKUP('entries and results'!G971,$A$3:$E$30018,4,FALSE)","v":" "},{"$f":"VLOOKUP('entries and results'!G971,$A$3:$F$30018,6,FALSE)","v":" "},{"$f":"VLOOKUP('entries and results'!G971,$A$3:$E$30018,2,FALSE)","v":" "},969,".",{"$f":"VLOOKUP('entries and results'!M971,$H$3:$K$30018,2,FALSE)","v":" "},{"$f":"VLOOKUP('entries and results'!M971,$H$3:$K$30018,3,FALSE)","v":" "},{"$f":"VLOOKUP('entries and results'!M971,$H$3:$K$30018,4,FALSE)","v":" "}," ","00:00",null,null,null,null,null,null,null,null,null,null,null,null,null,null,null,null,null,null,null,null,null,null,null,null,null,null,null,null,null,null,null,null,null,null,null,null,null,null,null,null,null,null,null,"00:00",969,0,"0000000","00","00","00"]
["SA05224","Kirkintilloch Olympians","1967-11-01","Gary Mitchell","SA05224","Vet",".",970,{"$f":"VLOOKUP('entries and results'!G972,$A$3:$E$30018,4,FALSE)","v":" "},{"$f":"VLOOKUP('entries and results'!G972,$A$3:$F$30018,6,FALSE)","v":" "},{"$f":"VLOOKUP('entries and results'!G972,$A$3:$E$30018,2,FALSE)","v":" "},970,".",{"$f":"VLOOKUP('entries and results'!M972,$H$3:$K$30018,2,FALSE)","v":" "},{"$f":"VLOOKUP('entries and results'!M972,$H$3:$K$30018,3,FALSE)","v":" "},{"$f":"VLOOKUP('entries and results'!M972,$H$3:$K$30018,4,FALSE)","v":" "}," ","00:00",null,null,null,null,null,null,null,null,null,null,null,null,null,null,null,null,null,null,null,null,null,null,null,null,null,null,null,null,null,null,null,null,null,null,null,null,null,null,null,null,null,null,null,"00:00",970,0,"0000000","00","00","00"]
["SA05225","Kirkintilloch Olympians","1961-08-28","Michael Peters","SA05225","Vet",".",971,{"$f":"VLOOKUP('entries and results'!G973,$A$3:$E$30018,4,FALSE)","v":" "},{"$f":"VLOOKUP('entries and results'!G973,$A$3:$F$30018,6,FALSE)","v":" "},{"$f":"VLOOKUP('entries and results'!G973,$A$3:$E$30018,2,FALSE)","v":" "},971,".",{"$f":"VLOOKUP('entries and results'!M973,$H$3:$K$30018,2,FALSE)","v":" "},{"$f":"VLOOKUP('entries and results'!M973,$H$3:$K$30018,3,FALSE)","v":" "},{"$f":"VLOOKUP('entries and results'!M973,$H$3:$K$30018,4,FALSE)","v":" "}," ","00:00",null,null,null,null,null,null,null,null,null,null,null,null,null,null,null,null,null,null,null,null,null,null,null,null,null,null,null,null,null,null,null,null,null,null,null,null,null,null,null,null,null,null,null,"00:00",971,0,"0000000","00","00","00"]
["SA05226","Kirkintilloch Olympians","1968-10-24","Fraser Smart","SA05226","Vet",".",972,{"$f":"VLOOKUP('entries and results'!G974,$A$3:$E$30018,4,FALSE)","v":" "},{"$f":"VLOOKUP('entries and results'!G974,$A$3:$F$30018,6,FALSE)","v":" "},{"$f":"VLOOKUP('entries and results'!G974,$A$3:$E$30018,2,FALSE)","v":" "},972,".",{"$f":"VLOOKUP('entries and results'!M974,$H$3:$K$30018,2,FALSE)","v":" "},{"$f":"VLOOKUP('entries and results'!M974,$H$3:$K$30018,3,FALSE)","v":" "},{"$f":"VLOOKUP('entries and results'!M974,$H$3:$K$30018,4,FALSE)","v":" "}," ","00:00",null,null,null,null,null,null,null,null,null,null,null,null,null,null,null,null,null,null,null,null,null,null,null,null,null,null,null,null,null,null,null,null,null,null,null,null,null,null,null,null,null,null,null,"00:00",972,0,"0000000","00","00","00"]
["SA05227","Kirkintilloch Olympians","1972-08-16","Sarah Smart","SA05227","Senior",".",973,{"$f":"VLOOKUP('entries and results'!G975,$A$3:$E$30018,4,FALSE)","v":" "},{"$f":"VLOOKUP('entries and results'!G975,$A$3:$F$30018,6,FALSE)","v":" "},{"$f":"VLOOKUP('entries and results'!G975,$A$3:$E$30018,2,FALSE)","v":" "},973,".",{"$f":"VLOOKUP('entries and results'!M975,$H$3:$K$30018,2,FALSE)","v":" "},{"$f":"VLOOKUP('entries and results'!M975,$H$3:$K$30018,3,FALSE)","v":" "},{"$f":"VLOOKUP('entries and results'!M975,$H$3:$K$30018,4,FALSE)","v":" "}," ","00:00",null,null,null,null,null,null,null,null,null,null,null,null,null,null,null,null,null,null,null,null,null,null,null,null,null,null,null,null,null,null,null,null,null,null,null,null,null,null,null,null,null,null,null,"00:00",973,0,"0000000","00","00","00"]
["SA05228","Lasswade AAC","1954-09-20","William Lumsden","SA05228","Vet",".",974,{"$f":"VLOOKUP('entries and results'!G976,$A$3:$E$30018,4,FALSE)","v":" "},{"$f":"VLOOKUP('entries and results'!G976,$A$3:$F$30018,6,FALSE)","v":" "},{"$f":"VLOOKUP('entries and results'!G976,$A$3:$E$30018,2,FALSE)","v":" "},974,".",{"$f":"VLOOKUP('entries and results'!M976,$H$3:$K$30018,2,FALSE)","v":" "},{"$f":"VLOOKUP('entries and results'!M976,$H$3:$K$30018,3,FALSE)","v":" "},{"$f":"VLOOKUP('entries and results'!M976,$H$3:$K$30018,4,FALSE)","v":" "}," ","00:00",null,null,null,null,null,null,null,null,null,null,null,null,null,null,null,null,null,null,null,null,null,null,null,null,null,null,null,null,null,null,null,null,null,null,null,null,null,null,null,null,null,null,null,"00:00",974,0,"0000000","00","00","00"]
["SA05237","Law & District AAC","1950-09-20","William Scoular","SA05237","Vet",".",975,{"$f":"VLOOKUP('entries and results'!G977,$A$3:$E$30018,4,FALSE)","v":" "},{"$f":"VLOOKUP('entries and results'!G977,$A$3:$F$30018,6,FALSE)","v":" "},{"$f":"VLOOKUP('entries and results'!G977,$A$3:$E$30018,2,FALSE)","v":" "},975,".",{"$f":"VLOOKUP('entries and results'!M977,$H$3:$K$30018,2,FALSE)","v":" "},{"$f":"VLOOKUP('entries and results'!M977,$H$3:$K$30018,3,FALSE)","v":" "},{"$f":"VLOOKUP('entries and results'!M977,$H$3:$K$30018,4,FALSE)","v":" "}," ","00:00",null,null,null,null,null,null,null,null,null,null,null,null,null,null,null,null,null,null,null,null,null,null,null,null,null,null,null,null,null,null,null,null,null,null,null,null,null,null,null,null,null,null,null,"00:00",975,0,"0000000","00","00","00"]
["SA05242","Lothian Running Club","1947-05-24","Keith Banham","SA05242","Vet",".",976,{"$f":"VLOOKUP('entries and results'!G978,$A$3:$E$30018,4,FALSE)","v":" "},{"$f":"VLOOKUP('entries and results'!G978,$A$3:$F$30018,6,FALSE)","v":" "},{"$f":"VLOOKUP('entries and results'!G978,$A$3:$E$30018,2,FALSE)","v":" "},976,".",{"$f":"VLOOKUP('entries and results'!M978,$H$3:$K$30018,2,FALSE)","v":" "},{"$f":"VLOOKUP('entries and results'!M978,$H$3:$K$30018,3,FALSE)","v":" "},{"$f":"VLOOKUP('entries and results'!M978,$H$3:$K$30018,4,FALSE)","v":" "}," ","00:00",null,null,null,null,null,null,null,null,null,null,null,null,null,null,null,null,null,null,null,null,null,null,null,null,null,null,null,null,null,null,null,null,null,null,null,null,null,null,null,null,null,null,null,"00:00",976,0,"0000000","00","00","00"]
["SA05243","Lothian Running Club","1957-04-18","Mark Kassyk","SA05243","Vet",".",977,{"$f":"VLOOKUP('entries and results'!G979,$A$3:$E$30018,4,FALSE)","v":" "},{"$f":"VLOOKUP('entries and results'!G979,$A$3:$F$30018,6,FALSE)","v":" "},{"$f":"VLOOKUP('entries and results'!G979,$A$3:$E$30018,2,FALSE)","v":" "},977,".",{"$f":"VLOOKUP('entries and results'!M979,$H$3:$K$30018,2,FALSE)","v":" "},{"$f":"VLOOKUP('entries and results'!M979,$H$3:$K$30018,3,FALSE)","v":" "},{"$f":"VLOOKUP('entries and results'!M979,$H$3:$K$30018,4,FALSE)","v":" "}," ","00:00",null,null,null,null,null,null,null,null,null,null,null,null,null,null,null,null,null,null,null,null,null,null,null,null,null,null,null,null,null,null,null,null,null,null,null,null,null,null,null,null,null,null,null,"00:00",977,0,"0000000","00","00","00"]
["SA05247","Maryhill Harriers","1960-06-11","Kenneth Stevenson","SA05247","Vet",".",978,{"$f":"VLOOKUP('entries and results'!G980,$A$3:$E$30018,4,FALSE)","v":" "},{"$f":"VLOOKUP('entries and results'!G980,$A$3:$F$30018,6,FALSE)","v":" "},{"$f":"VLOOKUP('entries and results'!G980,$A$3:$E$30018,2,FALSE)","v":" "},978,".",{"$f":"VLOOKUP('entries and results'!M980,$H$3:$K$30018,2,FALSE)","v":" "},{"$f":"VLOOKUP('entries and results'!M980,$H$3:$K$30018,3,FALSE)","v":" "},{"$f":"VLOOKUP('entries and results'!M980,$H$3:$K$30018,4,FALSE)","v":" "}," ","00:00",null,null,null,null,null,null,null,null,null,null,null,null,null,null,null,null,null,null,null,null,null,null,null,null,null,null,null,null,null,null,null,null,null,null,null,null,null,null,null,null,null,null,null,"00:00",978,0,"0000000","00","00","00"]
["SA05249","Metro Aberdeen Running Club","1968-03-21","Clifford Leith","SA05249","Vet",".",979,{"$f":"VLOOKUP('entries and results'!G981,$A$3:$E$30018,4,FALSE)","v":" "},{"$f":"VLOOKUP('entries and results'!G981,$A$3:$F$30018,6,FALSE)","v":" "},{"$f":"VLOOKUP('entries and results'!G981,$A$3:$E$30018,2,FALSE)","v":" "},979,".",{"$f":"VLOOKUP('entries and results'!M981,$H$3:$K$30018,2,FALSE)","v":" "},{"$f":"VLOOKUP('entries and results'!M981,$H$3:$K$30018,3,FALSE)","v":" "},{"$f":"VLOOKUP('entries and results'!M981,$H$3:$K$30018,4,FALSE)","v":" "}," ","00:00",null,null,null,null,null,null,null,null,null,null,null,null,null,null,null,null,null,null,null,null,null,null,null,null,null,null,null,null,null,null,null,null,null,null,null,null,null,null,null,null,null,null,null,"00:00",979,0,"0000000","00","00","00"]
["SA05253","Metro Aberdeen Running Club","1955-04-26","Bill Ogg","SA05253","Vet",".",980,{"$f":"VLOOKUP('entries and results'!G982,$A$3:$E$30018,4,FALSE)","v":" "},{"$f":"VLOOKUP('entries and results'!G982,$A$3:$F$30018,6,FALSE)","v":" "},{"$f":"VLOOKUP('entries and results'!G982,$A$3:$E$30018,2,FALSE)","v":" "},980,".",{"$f":"VLOOKUP('entries and results'!M982,$H$3:$K$30018,2,FALSE)","v":" "},{"$f":"VLOOKUP('entries and results'!M982,$H$3:$K$30018,3,FALSE)","v":" "},{"$f":"VLOOKUP('entries and results'!M982,$H$3:$K$30018,4,FALSE)","v":" "}," ","00:00",null,null,null,null,null,null,null,null,null,null,null,null,null,null,null,null,null,null,null,null,null,null,null,null,null,null,null,null,null,null,null,null,null,null,null,null,null,null,null,null,null,null,null,"00:00",980,0,"0000000","00","00","00"]
["SA05254","Metro Aberdeen Running Club","1963-10-18","Ron Peddie","SA05254","Vet",".",981,{"$f":"VLOOKUP('entries and results'!G983,$A$3:$E$30018,4,FALSE)","v":" "},{"$f":"VLOOKUP('entries and results'!G983,$A$3:$F$30018,6,FALSE)","v":" "},{"$f":"VLOOKUP('entries and results'!G983,$A$3:$E$30018,2,FALSE)","v":" "},981,".",{"$f":"VLOOKUP('entries and results'!M983,$H$3:$K$30018,2,FALSE)","v":" "},{"$f":"VLOOKUP('entries and results'!M983,$H$3:$K$30018,3,FALSE)","v":" "},{"$f":"VLOOKUP('entries and results'!M983,$H$3:$K$30018,4,FALSE)","v":" "}," ","00:00",null,null,null,null,null,null,null,null,null,null,null,null,null,null,null,null,null,null,null,null,null,null,null,null,null,null,null,null,null,null,null,null,null,null,null,null,null,null,null,null,null,null,null,"00:00",981,0,"0000000","00","00","00"]
["SA05255","Metro Aberdeen Running Club","1972-04-15","Michele Ross","SA05255","Senior",".",982,{"$f":"VLOOKUP('entries and results'!G984,$A$3:$E$30018,4,FALSE)","v":" "},{"$f":"VLOOKUP('entries and results'!G984,$A$3:$F$30018,6,FALSE)","v":" "},{"$f":"VLOOKUP('entries and results'!G984,$A$3:$E$30018,2,FALSE)","v":" "},982,".",{"$f":"VLOOKUP('entries and results'!M984,$H$3:$K$30018,2,FALSE)","v":" "},{"$f":"VLOOKUP('entries and results'!M984,$H$3:$K$30018,3,FALSE)","v":" "},{"$f":"VLOOKUP('entries and results'!M984,$H$3:$K$30018,4,FALSE)","v":" "}," ","00:00",null,null,null,null,null,null,null,null,null,null,null,null,null,null,null,null,null,null,null,null,null,null,null,null,null,null,null,null,null,null,null,null,null,null,null,null,null,null,null,null,null,null,null,"00:00",982,0,"0000000","00","00","00"]
["SA05257","Metro Aberdeen Running Club","1971-03-21","Graham Strachan","SA05257","Senior",".",983,{"$f":"VLOOKUP('entries and results'!G985,$A$3:$E$30018,4,FALSE)","v":" "},{"$f":"VLOOKUP('entries and results'!G985,$A$3:$F$30018,6,FALSE)","v":" "},{"$f":"VLOOKUP('entries and results'!G985,$A$3:$E$30018,2,FALSE)","v":" "},983,".",{"$f":"VLOOKUP('entries and results'!M985,$H$3:$K$30018,2,FALSE)","v":" "},{"$f":"VLOOKUP('entries and results'!M985,$H$3:$K$30018,3,FALSE)","v":" "},{"$f":"VLOOKUP('entries and results'!M985,$H$3:$K$30018,4,FALSE)","v":" "}," ","00:00",null,null,null,null,null,null,null,null,null,null,null,null,null,null,null,null,null,null,null,null,null,null,null,null,null,null,null,null,null,null,null,null,null,null,null,null,null,null,null,null,null,null,null,"00:00",983,0,"0000000","00","00","00"]
["SA05258","Metro Aberdeen Running Club","1965-02-25","Stephen Wood","SA05258","Vet",".",984,{"$f":"VLOOKUP('entries and results'!G986,$A$3:$E$30018,4,FALSE)","v":" "},{"$f":"VLOOKUP('entries and results'!G986,$A$3:$F$30018,6,FALSE)","v":" "},{"$f":"VLOOKUP('entries and results'!G986,$A$3:$E$30018,2,FALSE)","v":" "},984,".",{"$f":"VLOOKUP('entries and results'!M986,$H$3:$K$30018,2,FALSE)","v":" "},{"$f":"VLOOKUP('entries and results'!M986,$H$3:$K$30018,3,FALSE)","v":" "},{"$f":"VLOOKUP('entries and results'!M986,$H$3:$K$30018,4,FALSE)","v":" "}," ","00:00",null,null,null,null,null,null,null,null,null,null,null,null,null,null,null,null,null,null,null,null,null,null,null,null,null,null,null,null,null,null,null,null,null,null,null,null,null,null,null,null,null,null,null,"00:00",984,0,"0000000","00","00","00"]
["SA05261","Motherwell AC","1968-02-27","Clare Barr","SA05261","Vet",".",985,{"$f":"VLOOKUP('entries and results'!G987,$A$3:$E$30018,4,FALSE)","v":" "},{"$f":"VLOOKUP('entries and results'!G987,$A$3:$F$30018,6,FALSE)","v":" "},{"$f":"VLOOKUP('entries and results'!G987,$A$3:$E$30018,2,FALSE)","v":" "},985,".",{"$f":"VLOOKUP('entries and results'!M987,$H$3:$K$30018,2,FALSE)","v":" "},{"$f":"VLOOKUP('entries and results'!M987,$H$3:$K$30018,3,FALSE)","v":" "},{"$f":"VLOOKUP('entries and results'!M987,$H$3:$K$30018,4,FALSE)","v":" "}," ","00:00",null,null,null,null,null,null,null,null,null,null,null,null,null,null,null,null,null,null,null,null,null,null,null,null,null,null,null,null,null,null,null,null,null,null,null,null,null,null,null,null,null,null,null,"00:00",985,0,"0000000","00","00","00"]
["SA05262","Motherwell AC","1965-03-21","Mark Coyle","SA05262","Vet",".",986,{"$f":"VLOOKUP('entries and results'!G988,$A$3:$E$30018,4,FALSE)","v":" "},{"$f":"VLOOKUP('entries and results'!G988,$A$3:$F$30018,6,FALSE)","v":" "},{"$f":"VLOOKUP('entries and results'!G988,$A$3:$E$30018,2,FALSE)","v":" "},986,".",{"$f":"VLOOKUP('entries and results'!M988,$H$3:$K$30018,2,FALSE)","v":" "},{"$f":"VLOOKUP('entries and results'!M988,$H$3:$K$30018,3,FALSE)","v":" "},{"$f":"VLOOKUP('entries and results'!M988,$H$3:$K$30018,4,FALSE)","v":" "}," ","00:00",null,null,null,null,null,null,null,null,null,null,null,null,null,null,null,null,null,null,null,null,null,null,null,null,null,null,null,null,null,null,null,null,null,null,null,null,null,null,null,null,null,null,null,"00:00",986,0,"0000000","00","00","00"]
["SA05263","Motherwell AC","1967-12-22","Elaine Jamieson","SA05263","Vet",".",987,{"$f":"VLOOKUP('entries and results'!G989,$A$3:$E$30018,4,FALSE)","v":" "},{"$f":"VLOOKUP('entries and results'!G989,$A$3:$F$30018,6,FALSE)","v":" "},{"$f":"VLOOKUP('entries and results'!G989,$A$3:$E$30018,2,FALSE)","v":" "},987,".",{"$f":"VLOOKUP('entries and results'!M989,$H$3:$K$30018,2,FALSE)","v":" "},{"$f":"VLOOKUP('entries and results'!M989,$H$3:$K$30018,3,FALSE)","v":" "},{"$f":"VLOOKUP('entries and results'!M989,$H$3:$K$30018,4,FALSE)","v":" "}," ","00:00",null,null,null,null,null,null,null,null,null,null,null,null,null,null,null,null,null,null,null,null,null,null,null,null,null,null,null,null,null,null,null,null,null,null,null,null,null,null,null,null,null,null,null,"00:00",987,0,"0000000","00","00","00"]
["SA05268","Notts AC","1981-12-02","Bruce Raeside","SA05268","Senior",".",988,{"$f":"VLOOKUP('entries and results'!G990,$A$3:$E$30018,4,FALSE)","v":" "},{"$f":"VLOOKUP('entries and results'!G990,$A$3:$F$30018,6,FALSE)","v":" "},{"$f":"VLOOKUP('entries and results'!G990,$A$3:$E$30018,2,FALSE)","v":" "},988,".",{"$f":"VLOOKUP('entries and results'!M990,$H$3:$K$30018,2,FALSE)","v":" "},{"$f":"VLOOKUP('entries and results'!M990,$H$3:$K$30018,3,FALSE)","v":" "},{"$f":"VLOOKUP('entries and results'!M990,$H$3:$K$30018,4,FALSE)","v":" "}," ","00:00",null,null,null,null,null,null,null,null,null,null,null,null,null,null,null,null,null,null,null,null,null,null,null,null,null,null,null,null,null,null,null,null,null,null,null,null,null,null,null,null,null,null,null,{"$f":"CONCATENATE(BO990,\":\",BP990)","v":"00:00"},988,0,"0000000","00","00","00"]
["SA05269","Ochil Hill Runners","1956-05-14","David Scott","SA05269","Vet",".",989,{"$f":"VLOOKUP('entries and results'!G991,$A$3:$E$30018,4,FALSE)","v":" "},{"$f":"VLOOKUP('entries and results'!G991,$A$3:$F$30018,6,FALSE)","v":" "},{"$f":"VLOOKUP('entries and results'!G991,$A$3:$E$30018,2,FALSE)","v":" "},989,".",{"$f":"VLOOKUP('entries and results'!M991,$H$3:$K$30018,2,FALSE)","v":" "},{"$f":"VLOOKUP('entries and results'!M991,$H$3:$K$30018,3,FALSE)","v":" "},{"$f":"VLOOKUP('entries and results'!M991,$H$3:$K$30018,4,FALSE)","v":" "}," ","00:00",null,null,null,null,null,null,null,null,null,null,null,null,null,null,null,null,null,null,null,null,null,null,null,null,null,null,null,null,null,null,null,null,null,null,null,null,null,null,null,null,null,null,null,"00:00",989,0,"0000000","00","00","00"]
["SA05270","Penicuik Harriers","1982-01-13","Susan Harper","SA05270","Senior",".",990,{"$f":"VLOOKUP('entries and results'!G992,$A$3:$E$30018,4,FALSE)","v":" "},{"$f":"VLOOKUP('entries and results'!G992,$A$3:$F$30018,6,FALSE)","v":" "},{"$f":"VLOOKUP('entries and results'!G992,$A$3:$E$30018,2,FALSE)","v":" "},990,".",{"$f":"VLOOKUP('entries and results'!M992,$H$3:$K$30018,2,FALSE)","v":" "},{"$f":"VLOOKUP('entries and results'!M992,$H$3:$K$30018,3,FALSE)","v":" "},{"$f":"VLOOKUP('entries and results'!M992,$H$3:$K$30018,4,FALSE)","v":" "}," ","00:00",null,null,null,null,null,null,null,null,null,null,null,null,null,null,null,null,null,null,null,null,null,null,null,null,null,null,null,null,null,null,null,null,null,null,null,null,null,null,null,null,null,null,null,"00:00",990,0,"0000000","00","00","00"]
["SA05273","Carnegie Harriers","1965-01-03","Jan Bernt-Cederstrom","SA05273","Vet",".",991,{"$f":"VLOOKUP('entries and results'!G993,$A$3:$E$30018,4,FALSE)","v":" "},{"$f":"VLOOKUP('entries and results'!G993,$A$3:$F$30018,6,FALSE)","v":" "},{"$f":"VLOOKUP('entries and results'!G993,$A$3:$E$30018,2,FALSE)","v":" "},991,".",{"$f":"VLOOKUP('entries and results'!M993,$H$3:$K$30018,2,FALSE)","v":" "},{"$f":"VLOOKUP('entries and results'!M993,$H$3:$K$30018,3,FALSE)","v":" "},{"$f":"VLOOKUP('entries and results'!M993,$H$3:$K$30018,4,FALSE)","v":" "}," ","00:00",null,null,null,null,null,null,null,null,null,null,null,null,null,null,null,null,null,null,null,null,null,null,null,null,null,null,null,null,null,null,null,null,null,null,null,null,null,null,null,null,null,null,null,"00:00",991,0,"0000000","00","00","00"]
["SA05274","Perth Road Runners","1970-10-21","Michael Carroll","SA05274","Senior",".",992,{"$f":"VLOOKUP('entries and results'!G994,$A$3:$E$30018,4,FALSE)","v":" "},{"$f":"VLOOKUP('entries and results'!G994,$A$3:$F$30018,6,FALSE)","v":" "},{"$f":"VLOOKUP('entries and results'!G994,$A$3:$E$30018,2,FALSE)","v":" "},992,".",{"$f":"VLOOKUP('entries and results'!M994,$H$3:$K$30018,2,FALSE)","v":" "},{"$f":"VLOOKUP('entries and results'!M994,$H$3:$K$30018,3,FALSE)","v":" "},{"$f":"VLOOKUP('entries and results'!M994,$H$3:$K$30018,4,FALSE)","v":" "}," ","00:00",null,null,null,null,null,null,null,null,null,null,null,null,null,null,null,null,null,null,null,null,null,null,null,null,null,null,null,null,null,null,null,null,null,null,null,null,null,null,null,null,null,null,null,"00:00",992,0,"0000000","00","00","00"]
["SA05275","Perth Road Runners","1973-02-14","Debbie Jackson","SA05275","Senior",".",993,{"$f":"VLOOKUP('entries and results'!G995,$A$3:$E$30018,4,FALSE)","v":" "},{"$f":"VLOOKUP('entries and results'!G995,$A$3:$F$30018,6,FALSE)","v":" "},{"$f":"VLOOKUP('entries and results'!G995,$A$3:$E$30018,2,FALSE)","v":" "},993,".",{"$f":"VLOOKUP('entries and results'!M995,$H$3:$K$30018,2,FALSE)","v":" "},{"$f":"VLOOKUP('entries and results'!M995,$H$3:$K$30018,3,FALSE)","v":" "},{"$f":"VLOOKUP('entries and results'!M995,$H$3:$K$30018,4,FALSE)","v":" "}," ","00:00",null,null,null,null,null,null,null,null,null,null,null,null,null,null,null,null,null,null,null,null,null,null,null,null,null,null,null,null,null,null,null,null,null,null,null,null,null,null,null,null,null,null,null,"00:00",993,0,"0000000","00","00","00"]
["SA05277","Pitreavie AAC","1978-04-27","Donna Clark","SA05277","Senior",".",994,{"$f":"VLOOKUP('entries and results'!G996,$A$3:$E$30018,4,FALSE)","v":" "},{"$f":"VLOOKUP('entries and results'!G996,$A$3:$F$30018,6,FALSE)","v":" "},{"$f":"VLOOKUP('entries and results'!G996,$A$3:$E$30018,2,FALSE)","v":" "},994,".",{"$f":"VLOOKUP('entries and results'!M996,$H$3:$K$30018,2,FALSE)","v":" "},{"$f":"VLOOKUP('entries and results'!M996,$H$3:$K$30018,3,FALSE)","v":" "},{"$f":"VLOOKUP('entries and results'!M996,$H$3:$K$30018,4,FALSE)","v":" "}," ","00:00",null,null,null,null,null,null,null,null,null,null,null,null,null,null,null,null,null,null,null,null,null,null,null,null,null,null,null,null,null,null,null,null,null,null,null,null,null,null,null,null,null,null,null,"00:00",994,0,"0000000","00","00","00"]
["SA05278","Pitreavie AAC","1979-10-25","Kevin Davie","SA05278","Senior",".",995,{"$f":"VLOOKUP('entries and results'!G997,$A$3:$E$30018,4,FALSE)","v":" "},{"$f":"VLOOKUP('entries and results'!G997,$A$3:$F$30018,6,FALSE)","v":" "},{"$f":"VLOOKUP('entries and results'!G997,$A$3:$E$30018,2,FALSE)","v":" "},995,".",{"$f":"VLOOKUP('entries and results'!M997,$H$3:$K$30018,2,FALSE)","v":" "},{"$f":"VLOOKUP('entries and results'!M997,$H$3:$K$30018,3,FALSE)","v":" "},{"$f":"VLOOKUP('entries and results'!M997,$H$3:$K$30018,4,FALSE)","v":" "}," ","00:00",null,null,null,null,null,null,null,null,null,null,null,null,null,null,null,null,null,null,null,null,null,null,null,null,null,null,null,null,null,null,null,null,null,null,null,null,null,null,null,null,null,null,null,"00:00",995,0,"0000000","00","00","00"]
["SA05279","Portobello Running Club","1973-03-10","Scott Hutchison","SA05279","Senior",".",996,{"$f":"VLOOKUP('entries and results'!G998,$A$3:$E$30018,4,FALSE)","v":" "},{"$f":"VLOOKUP('entries and results'!G998,$A$3:$F$30018,6,FALSE)","v":" "},{"$f":"VLOOKUP('entries and results'!G998,$A$3:$E$30018,2,FALSE)","v":" "},996,".",{"$f":"VLOOKUP('entries and results'!M998,$H$3:$K$30018,2,FALSE)","v":" "},{"$f":"VLOOKUP('entries and results'!M998,$H$3:$K$30018,3,FALSE)","v":" "},{"$f":"VLOOKUP('entries and results'!M998,$H$3:$K$30018,4,FALSE)","v":" "}," ","00:00",null,null,null,null,null,null,null,null,null,null,null,null,null,null,null,null,null,null,null,null,null,null,null,null,null,null,null,null,null,null,null,null,null,null,null,null,null,null,null,null,null,null,null,"00:00",996,0,"0000000","00","00","00"]
["SA05282","Ron Hill Cambuslang Harriers","1975-09-14","John MacNamara","SA05282","Senior",".",997,{"$f":"VLOOKUP('entries and results'!G999,$A$3:$E$30018,4,FALSE)","v":" "},{"$f":"VLOOKUP('entries and results'!G999,$A$3:$F$30018,6,FALSE)","v":" "},{"$f":"VLOOKUP('entries and results'!G999,$A$3:$E$30018,2,FALSE)","v":" "},997,".",{"$f":"VLOOKUP('entries and results'!M999,$H$3:$K$30018,2,FALSE)","v":" "},{"$f":"VLOOKUP('entries and results'!M999,$H$3:$K$30018,3,FALSE)","v":" "},{"$f":"VLOOKUP('entries and results'!M999,$H$3:$K$30018,4,FALSE)","v":" "}," ","00:00",null,null,null,null,null,null,null,null,null,null,null,null,null,null,null,null,null,null,null,null,null,null,null,null,null,null,null,null,null,null,null,null,null,null,null,null,null,null,null,null,null,null,null,"00:00",997,0,"0000000","00","00","00"]
["SA05283","Ron Hill Cambuslang Harriers","1960-04-23","David Thom","SA05283","Vet",".",998,{"$f":"VLOOKUP('entries and results'!G1000,$A$3:$E$30018,4,FALSE)","v":" "},{"$f":"VLOOKUP('entries and results'!G1000,$A$3:$F$30018,6,FALSE)","v":" "},{"$f":"VLOOKUP('entries and results'!G1000,$A$3:$E$30018,2,FALSE)","v":" "},998,".",{"$f":"VLOOKUP('entries and results'!M1000,$H$3:$K$30018,2,FALSE)","v":" "},{"$f":"VLOOKUP('entries and results'!M1000,$H$3:$K$30018,3,FALSE)","v":" "},{"$f":"VLOOKUP('entries and results'!M1000,$H$3:$K$30018,4,FALSE)","v":" "}," ","00:00",null,null,null,null,null,null,null,null,null,null,null,null,null,null,null,null,null,null,null,null,null,null,null,null,null,null,null,null,null,null,null,null,null,null,null,null,null,null,null,null,null,null,null,"00:00",998,0,"0000000","00","00","00"]
["SA05297","Portobello Running Club","1974-05-20","Alexander MacDonald","SA05297","Senior",".",1003,{"$f":"VLOOKUP('entries and results'!G1005,$A$3:$E$30018,4,FALSE)","v":" "},{"$f":"VLOOKUP('entries and results'!G1005,$A$3:$F$30018,6,FALSE)","v":" "},{"$f":"VLOOKUP('entries and results'!G1005,$A$3:$E$30018,2,FALSE)","v":" "},1003,".",{"$f":"VLOOKUP('entries and results'!M1005,$H$3:$K$30018,2,FALSE)","v":" "},{"$f":"VLOOKUP('entries and results'!M1005,$H$3:$K$30018,3,FALSE)","v":" "},{"$f":"VLOOKUP('entries and results'!M1005,$H$3:$K$30018,4,FALSE)","v":" "}," ","00:00",null,null,null,null,null,null,null,null,null,null,null,null,null,null,null,null,null,null,null,null,null,null,null,null,null,null,null,null,null,null,null,null,null,null,null,null,null,null,null,null,null,null,null,"00:00",1003,0,"0000000","00","00","00"]
["SA05307","Strathearn Harriers","1965-07-13","Will Manners","SA05307","Vet",".",1008,{"$f":"VLOOKUP('entries and results'!G1010,$A$3:$E$30018,4,FALSE)","v":" "},{"$f":"VLOOKUP('entries and results'!G1010,$A$3:$F$30018,6,FALSE)","v":" "},{"$f":"VLOOKUP('entries and results'!G1010,$A$3:$E$30018,2,FALSE)","v":" "},1008,".",{"$f":"VLOOKUP('entries and results'!M1010,$H$3:$K$30018,2,FALSE)","v":" "},{"$f":"VLOOKUP('entries and results'!M1010,$H$3:$K$30018,3,FALSE)","v":" "},{"$f":"VLOOKUP('entries and results'!M1010,$H$3:$K$30018,4,FALSE)","v":" "}," ","00:00",null,null,null,null,null,null,null,null,null,null,null,null,null,null,null,null,null,null,null,null,null,null,null,null,null,null,null,null,null,null,null,null,null,null,null,null,null,null,null,null,null,null,null,"00:00",1008,0,"0000000","00","00","00"]
["SA05335","Unattached","1957-11-14","Lesley Marshall","SA05335","Vet",".",1016,{"$f":"VLOOKUP('entries and results'!G1018,$A$3:$E$30018,4,FALSE)","v":" "},{"$f":"VLOOKUP('entries and results'!G1018,$A$3:$F$30018,6,FALSE)","v":" "},{"$f":"VLOOKUP('entries and results'!G1018,$A$3:$E$30018,2,FALSE)","v":" "},1016,".",{"$f":"VLOOKUP('entries and results'!M1018,$H$3:$K$30018,2,FALSE)","v":" "},{"$f":"VLOOKUP('entries and results'!M1018,$H$3:$K$30018,3,FALSE)","v":" "},{"$f":"VLOOKUP('entries and results'!M1018,$H$3:$K$30018,4,FALSE)","v":" "}," ","00:00",null,null,null,null,null,null,null,null,null,null,null,null,null,null,null,null,null,null,null,null,null,null,null,null,null,null,null,null,null,null,null,null,null,null,null,null,null,null,null,null,null,null,null,"00:00",1016,0,"0000000","00","00","00"]
["SA05348","Unattached","1981-12-25","Chris O'Hara","SA05348","Senior",".",1021,{"$f":"VLOOKUP('entries and results'!G1023,$A$3:$E$30018,4,FALSE)","v":" "},{"$f":"VLOOKUP('entries and results'!G1023,$A$3:$F$30018,6,FALSE)","v":" "},{"$f":"VLOOKUP('entries and results'!G1023,$A$3:$E$30018,2,FALSE)","v":" "},1021,".",{"$f":"VLOOKUP('entries and results'!M1023,$H$3:$K$30018,2,FALSE)","v":" "},{"$f":"VLOOKUP('entries and results'!M1023,$H$3:$K$30018,3,FALSE)","v":" "},{"$f":"VLOOKUP('entries and results'!M1023,$H$3:$K$30018,4,FALSE)","v":" "}," ","00:00",null,null,null,null,null,null,null,null,null,null,null,null,null,null,null,null,null,null,null,null,null,null,null,null,null,null,null,null,null,null,null,null,null,null,null,null,null,null,null,null,null,null,null,"00:00",1021,0,"0000000","00","00","00"]
["SA05389","Unattached","1949-12-25","Patrick Grant","SA05389","Vet",".",1032,{"$f":"VLOOKUP('entries and results'!G1034,$A$3:$E$30018,4,FALSE)","v":" "},{"$f":"VLOOKUP('entries and results'!G1034,$A$3:$F$30018,6,FALSE)","v":" "},{"$f":"VLOOKUP('entries and results'!G1034,$A$3:$E$30018,2,FALSE)","v":" "},1032,".",{"$f":"VLOOKUP('entries and results'!M1034,$H$3:$K$30018,2,FALSE)","v":" "},{"$f":"VLOOKUP('entries and results'!M1034,$H$3:$K$30018,3,FALSE)","v":" "},{"$f":"VLOOKUP('entries and results'!M1034,$H$3:$K$30018,4,FALSE)","v":" "}," ","00:00",null,null,null,null,null,null,null,null,null,null,null,null,null,null,null,null,null,null,null,null,null,null,null,null,null,null,null,null,null,null,null,null,null,null,null,null,null,null,null,null,null,null,null,"00:00",1032,0,"0000000","00","00","00"]
["SA05406","Motherwell AC","1955-10-01","Phyllis Hands","SA05406","Vet",".",1038,{"$f":"VLOOKUP('entries and results'!G1040,$A$3:$E$30018,4,FALSE)","v":" "},{"$f":"VLOOKUP('entries and results'!G1040,$A$3:$F$30018,6,FALSE)","v":" "},{"$f":"VLOOKUP('entries and results'!G1040,$A$3:$E$30018,2,FALSE)","v":" "},1038,".",{"$f":"VLOOKUP('entries and results'!M1040,$H$3:$K$30018,2,FALSE)","v":" "},{"$f":"VLOOKUP('entries and results'!M1040,$H$3:$K$30018,3,FALSE)","v":" "},{"$f":"VLOOKUP('entries and results'!M1040,$H$3:$K$30018,4,FALSE)","v":" "}," ","00:00",null,null,null,null,null,null,null,null,null,null,null,null,null,null,null,null,null,null,null,null,null,null,null,null,null,null,null,null,null,null,null,null,null,null,null,null,null,null,null,null,null,null,null,"00:00",1038,0,"0000000","00","00","00"]
["SA05412","Perth Road Runners","1956-01-11","Stephen Ferguson","SA05412","Vet",".",1043,{"$f":"VLOOKUP('entries and results'!G1045,$A$3:$E$30018,4,FALSE)","v":" "},{"$f":"VLOOKUP('entries and results'!G1045,$A$3:$F$30018,6,FALSE)","v":" "},{"$f":"VLOOKUP('entries and results'!G1045,$A$3:$E$30018,2,FALSE)","v":" "},1043,".",{"$f":"VLOOKUP('entries and results'!M1045,$H$3:$K$30018,2,FALSE)","v":" "},{"$f":"VLOOKUP('entries and results'!M1045,$H$3:$K$30018,3,FALSE)","v":" "},{"$f":"VLOOKUP('entries and results'!M1045,$H$3:$K$30018,4,FALSE)","v":" "}," ","00:00",null,null,null,null,null,null,null,null,null,null,null,null,null,null,null,null,null,null,null,null,null,null,null,null,null,null,null,null,null,null,null,null,null,null,null,null,null,null,null,null,null,null,null,"00:00",1043,0,"0000000","00","00","00"]
["SA05502","Unattached","1979-03-21","Scott Boyle","SA05502","Senior",".",1051,{"$f":"VLOOKUP('entries and results'!G1053,$A$3:$E$30018,4,FALSE)","v":" "},{"$f":"VLOOKUP('entries and results'!G1053,$A$3:$F$30018,6,FALSE)","v":" "},{"$f":"VLOOKUP('entries and results'!G1053,$A$3:$E$30018,2,FALSE)","v":" "},1051,".",{"$f":"VLOOKUP('entries and results'!M1053,$H$3:$K$30018,2,FALSE)","v":" "},{"$f":"VLOOKUP('entries and results'!M1053,$H$3:$K$30018,3,FALSE)","v":" "},{"$f":"VLOOKUP('entries and results'!M1053,$H$3:$K$30018,4,FALSE)","v":" "}," ","00:00",null,null,null,null,null,null,null,null,null,null,null,null,null,null,null,null,null,null,null,null,null,null,null,null,null,null,null,null,null,null,null,null,null,null,null,null,null,null,null,null,null,null,null,"00:00",1051,0,"0000000","00","00","00"]
["SA05587","Kilbarchan AAC","1970-06-11","Donald Kennedy","SA05587","Senior",".",1057,{"$f":"VLOOKUP('entries and results'!G1059,$A$3:$E$30018,4,FALSE)","v":" "},{"$f":"VLOOKUP('entries and results'!G1059,$A$3:$F$30018,6,FALSE)","v":" "},{"$f":"VLOOKUP('entries and results'!G1059,$A$3:$E$30018,2,FALSE)","v":" "},1057,".",{"$f":"VLOOKUP('entries and results'!M1059,$H$3:$K$30018,2,FALSE)","v":" "},{"$f":"VLOOKUP('entries and results'!M1059,$H$3:$K$30018,3,FALSE)","v":" "},{"$f":"VLOOKUP('entries and results'!M1059,$H$3:$K$30018,4,FALSE)","v":" "}," ","00:00",null,null,null,null,null,null,null,null,null,null,null,null,null,null,null,null,null,null,null,null,null,null,null,null,null,null,null,null,null,null,null,null,null,null,null,null,null,null,null,null,null,null,null,"00:00",1057,0,"0000000","00","00","00"]
["SA05719","Greenock Glenpark Harriers","1969-10-20","Alan O'Rourke","SA05719","Vet",".",1065,{"$f":"VLOOKUP('entries and results'!G1067,$A$3:$E$30018,4,FALSE)","v":" "},{"$f":"VLOOKUP('entries and results'!G1067,$A$3:$F$30018,6,FALSE)","v":" "},{"$f":"VLOOKUP('entries and results'!G1067,$A$3:$E$30018,2,FALSE)","v":" "},1065,".",{"$f":"VLOOKUP('entries and results'!M1067,$H$3:$K$30018,2,FALSE)","v":" "},{"$f":"VLOOKUP('entries and results'!M1067,$H$3:$K$30018,3,FALSE)","v":" "},{"$f":"VLOOKUP('entries and results'!M1067,$H$3:$K$30018,4,FALSE)","v":" "}," ","00:00",null,null,null,null,null,null,null,null,null,null,null,null,null,null,null,null,null,null,null,null,null,null,null,null,null,null,null,null,null,null,null,null,null,null,null,null,null,null,null,null,null,null,null,"00:00",1065,0,"0000000","00","00","00"]
["SA05756","Bellahouston Road Runners","1959-10-21","Douglas MacGregor","SA05756","Vet",".",1073,{"$f":"VLOOKUP('entries and results'!G1075,$A$3:$E$30018,4,FALSE)","v":" "},{"$f":"VLOOKUP('entries and results'!G1075,$A$3:$F$30018,6,FALSE)","v":" "},{"$f":"VLOOKUP('entries and results'!G1075,$A$3:$E$30018,2,FALSE)","v":" "},1073,".",{"$f":"VLOOKUP('entries and results'!M1075,$H$3:$K$30018,2,FALSE)","v":" "},{"$f":"VLOOKUP('entries and results'!M1075,$H$3:$K$30018,3,FALSE)","v":" "},{"$f":"VLOOKUP('entries and results'!M1075,$H$3:$K$30018,4,FALSE)","v":" "}," ","00:00",null,null,null,null,null,null,null,null,null,null,null,null,null,null,null,null,null,null,null,null,null,null,null,null,null,null,null,null,null,null,null,null,null,null,null,null,null,null,null,null,null,null,null,"00:00",1073,0,"0000000","00","00","00"]
["SA05770","Fife AC","1964-12-11","Robert Annand","SA05770","Vet",".",1078,{"$f":"VLOOKUP('entries and results'!G1080,$A$3:$E$30018,4,FALSE)","v":" "},{"$f":"VLOOKUP('entries and results'!G1080,$A$3:$F$30018,6,FALSE)","v":" "},{"$f":"VLOOKUP('entries and results'!G1080,$A$3:$E$30018,2,FALSE)","v":" "},1078,".",{"$f":"VLOOKUP('entries and results'!M1080,$H$3:$K$30018,2,FALSE)","v":" "},{"$f":"VLOOKUP('entries and results'!M1080,$H$3:$K$30018,3,FALSE)","v":" "},{"$f":"VLOOKUP('entries and results'!M1080,$H$3:$K$30018,4,FALSE)","v":" "}," ","00:00",null,null,null,null,null,null,null,null,null,null,null,null,null,null,null,null,null,null,null,null,null,null,null,null,null,null,null,null,null,null,null,null,null,null,null,null,null,null,null,null,null,null,null,"00:00",1078,0,"0000000","00","00","00"]
["SA05791","Milburn Harriers","1960-11-28","James McKenzie","SA05791","Vet",".",1090,{"$f":"VLOOKUP('entries and results'!G1092,$A$3:$E$30018,4,FALSE)","v":" "},{"$f":"VLOOKUP('entries and results'!G1092,$A$3:$F$30018,6,FALSE)","v":" "},{"$f":"VLOOKUP('entries and results'!G1092,$A$3:$E$30018,2,FALSE)","v":" "},1090,".",{"$f":"VLOOKUP('entries and results'!M1092,$H$3:$K$30018,2,FALSE)","v":" "},{"$f":"VLOOKUP('entries and results'!M1092,$H$3:$K$30018,3,FALSE)","v":" "},{"$f":"VLOOKUP('entries and results'!M1092,$H$3:$K$30018,4,FALSE)","v":" "}," ",{"$f":"IF($H1092=\"\",\" \",(LOOKUP($H1092,$BK$3:$BK$1601,$BJ$3:$BJ$1601)))","v":"00:00"},null,null,null,null,null,null,null,null,null,null,null,null,null,null,null,null,null,null,null,null,null,null,null,null,null,null,null,null,null,null,null,null,null,null,null,null,null,null,null,null,null,null,null,"00:00",1090,0,"0000000","00","00","00"]
["SA05801","Strathearn Harriers","1965-02-18","Digby Sym","SA05801","Vet",".",1095,{"$f":"VLOOKUP('entries and results'!G1097,$A$3:$E$30018,4,FALSE)","v":" "},{"$f":"VLOOKUP('entries and results'!G1097,$A$3:$F$30018,6,FALSE)","v":" "},{"$f":"VLOOKUP('entries and results'!G1097,$A$3:$E$30018,2,FALSE)","v":" "},1095,".",{"$f":"VLOOKUP('entries and results'!M1097,$H$3:$K$30018,2,FALSE)","v":" "},{"$f":"VLOOKUP('entries and results'!M1097,$H$3:$K$30018,3,FALSE)","v":" "},{"$f":"VLOOKUP('entries and results'!M1097,$H$3:$K$30018,4,FALSE)","v":" "}," ","00:00",null,null,null,null,null,null,null,null,null,null,null,null,null,null,null,null,null,null,null,null,null,null,null,null,null,null,null,null,null,null,null,null,null,null,null,null,null,null,null,null,null,null,null,"00:00",1095,0,"0000000","00","00","00"]
["SA05818","Aberdeen AAC","1957-09-24","Kathryn Mearns","SA05818","Vet",".",1100,{"$f":"VLOOKUP('entries and results'!G1102,$A$3:$E$30018,4,FALSE)","v":" "},{"$f":"VLOOKUP('entries and results'!G1102,$A$3:$F$30018,6,FALSE)","v":" "},{"$f":"VLOOKUP('entries and results'!G1102,$A$3:$E$30018,2,FALSE)","v":" "},1100,".",{"$f":"VLOOKUP('entries and results'!M1102,$H$3:$K$30018,2,FALSE)","v":" "},{"$f":"VLOOKUP('entries and results'!M1102,$H$3:$K$30018,3,FALSE)","v":" "},{"$f":"VLOOKUP('entries and results'!M1102,$H$3:$K$30018,4,FALSE)","v":" "}," ","00:00",null,null,null,null,null,null,null,null,null,null,null,null,null,null,null,null,null,null,null,null,null,null,null,null,null,null,null,null,null,null,null,null,null,null,null,null,null,null,null,null,null,null,null,"00:00",1100,0,"0000000","00","00","00"]
["SA05834","North Highland Harriers","1962-08-03","Sandy Christie","SA05834","Vet",".",1108,{"$f":"VLOOKUP('entries and results'!G1110,$A$3:$E$30018,4,FALSE)","v":" "},{"$f":"VLOOKUP('entries and results'!G1110,$A$3:$F$30018,6,FALSE)","v":" "},{"$f":"VLOOKUP('entries and results'!G1110,$A$3:$E$30018,2,FALSE)","v":" "},1108,".",{"$f":"VLOOKUP('entries and results'!M1110,$H$3:$K$30018,2,FALSE)","v":" "},{"$f":"VLOOKUP('entries and results'!M1110,$H$3:$K$30018,3,FALSE)","v":" "},{"$f":"VLOOKUP('entries and results'!M1110,$H$3:$K$30018,4,FALSE)","v":" "}," ","00:00",null,null,null,null,null,null,null,null,null,null,null,null,null,null,null,null,null,null,null,null,null,null,null,null,null,null,null,null,null,null,null,null,null,null,null,null,null,null,null,null,null,null,null,"00:00",1108,0,"0000000","00","00","00"]
["SA05843","Carnegie Harriers","1971-01-23","Colin Reynolds","SA05843","Senior",".",1115,{"$f":"VLOOKUP('entries and results'!G1117,$A$3:$E$30018,4,FALSE)","v":" "},{"$f":"VLOOKUP('entries and results'!G1117,$A$3:$F$30018,6,FALSE)","v":" "},{"$f":"VLOOKUP('entries and results'!G1117,$A$3:$E$30018,2,FALSE)","v":" "},1115,".",{"$f":"VLOOKUP('entries and results'!M1117,$H$3:$K$30018,2,FALSE)","v":" "},{"$f":"VLOOKUP('entries and results'!M1117,$H$3:$K$30018,3,FALSE)","v":" "},{"$f":"VLOOKUP('entries and results'!M1117,$H$3:$K$30018,4,FALSE)","v":" "}," ","00:00",null,null,null,null,null,null,null,null,null,null,null,null,null,null,null,null,null,null,null,null,null,null,null,null,null,null,null,null,null,null,null,null,null,null,null,null,null,null,null,null,null,null,null,"00:00",1115,0,"0000000","00","00","00"]
["SA05851","Central AC","1986-07-15","Fiona Thompson","SA05851","Senior",".",1122,{"$f":"VLOOKUP('entries and results'!G1124,$A$3:$E$30018,4,FALSE)","v":" "},{"$f":"VLOOKUP('entries and results'!G1124,$A$3:$F$30018,6,FALSE)","v":" "},{"$f":"VLOOKUP('entries and results'!G1124,$A$3:$E$30018,2,FALSE)","v":" "},1122,".",{"$f":"VLOOKUP('entries and results'!M1124,$H$3:$K$30018,2,FALSE)","v":" "},{"$f":"VLOOKUP('entries and results'!M1124,$H$3:$K$30018,3,FALSE)","v":" "},{"$f":"VLOOKUP('entries and results'!M1124,$H$3:$K$30018,4,FALSE)","v":" "}," ","00:00",null,null,null,null,null,null,null,null,null,null,null,null,null,null,null,null,null,null,null,null,null,null,null,null,null,null,null,null,null,null,null,null,null,null,null,null,null,null,null,null,null,null,null,"00:00",1122,0,"0000000","00","00","00"]
["SA05875","Cosmic Hillbashers AAC","1977-12-17","Elizabeth Chellingsworth","SA05875","Senior",".",1130,{"$f":"VLOOKUP('entries and results'!G1132,$A$3:$E$30018,4,FALSE)","v":" "},{"$f":"VLOOKUP('entries and results'!G1132,$A$3:$F$30018,6,FALSE)","v":" "},{"$f":"VLOOKUP('entries and results'!G1132,$A$3:$E$30018,2,FALSE)","v":" "},1130,".",{"$f":"VLOOKUP('entries and results'!M1132,$H$3:$K$30018,2,FALSE)","v":" "},{"$f":"VLOOKUP('entries and results'!M1132,$H$3:$K$30018,3,FALSE)","v":" "},{"$f":"VLOOKUP('entries and results'!M1132,$H$3:$K$30018,4,FALSE)","v":" "}," ","00:00",null,null,null,null,null,null,null,null,null,null,null,null,null,null,null,null,null,null,null,null,null,null,null,null,null,null,null,null,null,null,null,null,null,null,null,null,null,null,null,null,null,null,null,"00:00",1130,0,"0000000","00","00","00"]
["SA05897","Hunters Bog Trotters","1984-02-16","James McMullan","SA05897","Senior",".",1142,{"$f":"VLOOKUP('entries and results'!G1144,$A$3:$E$30018,4,FALSE)","v":" "},{"$f":"VLOOKUP('entries and results'!G1144,$A$3:$F$30018,6,FALSE)","v":" "},{"$f":"VLOOKUP('entries and results'!G1144,$A$3:$E$30018,2,FALSE)","v":" "},1142,".",{"$f":"VLOOKUP('entries and results'!M1144,$H$3:$K$30018,2,FALSE)","v":" "},{"$f":"VLOOKUP('entries and results'!M1144,$H$3:$K$30018,3,FALSE)","v":" "},{"$f":"VLOOKUP('entries and results'!M1144,$H$3:$K$30018,4,FALSE)","v":" "}," ","00:00",null,null,null,null,null,null,null,null,null,null,null,null,null,null,null,null,null,null,null,null,null,null,null,null,null,null,null,null,null,null,null,null,null,null,null,null,null,null,null,null,null,null,null,"00:00",1142,0,"0000000","00","00","00"]
["SA05909","Fife AC","1965-05-11","Brian Cruickshank","SA05909","Vet",".",1148,{"$f":"VLOOKUP('entries and results'!G1150,$A$3:$E$30018,4,FALSE)","v":" "},{"$f":"VLOOKUP('entries and results'!G1150,$A$3:$F$30018,6,FALSE)","v":" "},{"$f":"VLOOKUP('entries and results'!G1150,$A$3:$E$30018,2,FALSE)","v":" "},1148,".",{"$f":"VLOOKUP('entries and results'!M1150,$H$3:$K$30018,2,FALSE)","v":" "},{"$f":"VLOOKUP('entries and results'!M1150,$H$3:$K$30018,3,FALSE)","v":" "},{"$f":"VLOOKUP('entries and results'!M1150,$H$3:$K$30018,4,FALSE)","v":" "}," ","00:00",null,null,null,null,null,null,null,null,null,null,null,null,null,null,null,null,null,null,null,null,null,null,null,null,null,null,null,null,null,null,null,null,null,null,null,null,null,null,null,null,null,null,null,"00:00",1148,0,"0000000","00","00","00"]
["SA05924","Fraserburgh Running Club","1968-07-26","Elaine Whyte","SA05924","Vet",".",1156,{"$f":"VLOOKUP('entries and results'!G1158,$A$3:$E$30018,4,FALSE)","v":" "},{"$f":"VLOOKUP('entries and results'!G1158,$A$3:$F$30018,6,FALSE)","v":" "},{"$f":"VLOOKUP('entries and results'!G1158,$A$3:$E$30018,2,FALSE)","v":" "},1156,".",{"$f":"VLOOKUP('entries and results'!M1158,$H$3:$K$30018,2,FALSE)","v":" "},{"$f":"VLOOKUP('entries and results'!M1158,$H$3:$K$30018,3,FALSE)","v":" "},{"$f":"VLOOKUP('entries and results'!M1158,$H$3:$K$30018,4,FALSE)","v":" "}," ","00:00",null,null,null,null,null,null,null,null,null,null,null,null,null,null,null,null,null,null,null,null,null,null,null,null,null,null,null,null,null,null,null,null,null,null,null,null,null,null,null,null,null,null,null,"00:00",1156,0,{"$f":"CONCATENATE($BG$2,$BL1158)","v":"0000000"},{"$f":"MID(RIGHT($BM1158,6),1,2)","v":"00"},{"$f":"MID(RIGHT($BM1158,6),3,2)","v":"00"},{"$f":"MID(RIGHT($BM1158,6),5,2)","v":"00"}]
["SA05938","Giffnock North AAC","1986-12-26","Norman Galbraith","SA05938","Senior",".",1164,{"$f":"VLOOKUP('entries and results'!G1166,$A$3:$E$30018,4,FALSE)","v":" "},{"$f":"VLOOKUP('entries and results'!G1166,$A$3:$F$30018,6,FALSE)","v":" "},{"$f":"VLOOKUP('entries and results'!G1166,$A$3:$E$30018,2,FALSE)","v":" "},1164,".",{"$f":"VLOOKUP('entries and results'!M1166,$H$3:$K$30018,2,FALSE)","v":" "},{"$f":"VLOOKUP('entries and results'!M1166,$H$3:$K$30018,3,FALSE)","v":" "},{"$f":"VLOOKUP('entries and results'!M1166,$H$3:$K$30018,4,FALSE)","v":" "}," ","00:00",null,null,null,null,null,null,null,null,null,null,null,null,null,null,null,null,null,null,null,null,null,null,null,null,null,null,null,null,null,null,null,null,null,null,null,null,null,null,null,null,null,null,null,"00:00",1164,0,"0000000","00","00","00"]
["SA05940","Giffnock North AAC","1953-02-13","Eric Martindale","SA05940","Vet",".",1165,{"$f":"VLOOKUP('entries and results'!G1167,$A$3:$E$30018,4,FALSE)","v":" "},{"$f":"VLOOKUP('entries and results'!G1167,$A$3:$F$30018,6,FALSE)","v":" "},{"$f":"VLOOKUP('entries and results'!G1167,$A$3:$E$30018,2,FALSE)","v":" "},1165,".",{"$f":"VLOOKUP('entries and results'!M1167,$H$3:$K$30018,2,FALSE)","v":" "},{"$f":"VLOOKUP('entries and results'!M1167,$H$3:$K$30018,3,FALSE)","v":" "},{"$f":"VLOOKUP('entries and results'!M1167,$H$3:$K$30018,4,FALSE)","v":" "}," ","00:00",null,null,null,null,null,null,null,null,null,null,null,null,null,null,null,null,null,null,null,null,null,null,null,null,null,null,null,null,null,null,null,null,null,null,null,null,null,null,null,null,null,null,null,"00:00",1165,0,"0000000","00","00","00"]
["SA05954","Beith Harriers","1943-07-18","Iain Hamilton","SA05954","Vet",".",1173,{"$f":"VLOOKUP('entries and results'!G1175,$A$3:$E$30018,4,FALSE)","v":" "},{"$f":"VLOOKUP('entries and results'!G1175,$A$3:$F$30018,6,FALSE)","v":" "},{"$f":"VLOOKUP('entries and results'!G1175,$A$3:$E$30018,2,FALSE)","v":" "},1173,".",{"$f":"VLOOKUP('entries and results'!M1175,$H$3:$K$30018,2,FALSE)","v":" "},{"$f":"VLOOKUP('entries and results'!M1175,$H$3:$K$30018,3,FALSE)","v":" "},{"$f":"VLOOKUP('entries and results'!M1175,$H$3:$K$30018,4,FALSE)","v":" "}," ","00:00",null,null,null,null,null,null,null,null,null,null,null,null,null,null,null,null,null,null,null,null,null,null,null,null,null,null,null,null,null,null,null,null,null,null,null,null,null,null,null,null,null,null,null,"00:00",1173,0,"0000000","00","00","00"]
["SA05979","Maryhill Harriers","1960-04-12","Dougie MacDonald","SA05979","Vet",".",1186,{"$f":"VLOOKUP('entries and results'!G1188,$A$3:$E$30018,4,FALSE)","v":" "},{"$f":"VLOOKUP('entries and results'!G1188,$A$3:$F$30018,6,FALSE)","v":" "},{"$f":"VLOOKUP('entries and results'!G1188,$A$3:$E$30018,2,FALSE)","v":" "},1186,".",{"$f":"VLOOKUP('entries and results'!M1188,$H$3:$K$30018,2,FALSE)","v":" "},{"$f":"VLOOKUP('entries and results'!M1188,$H$3:$K$30018,3,FALSE)","v":" "},{"$f":"VLOOKUP('entries and results'!M1188,$H$3:$K$30018,4,FALSE)","v":" "}," ","00:00",null,null,null,null,null,null,null,null,null,null,null,null,null,null,null,null,null,null,null,null,null,null,null,null,null,null,null,null,null,null,null,null,null,null,null,null,null,null,null,null,null,null,null,"00:00",1186,0,"0000000","00","00","00"]
["SA05980","Metro Aberdeen Running Club","1965-02-09","Lucy Robinson","SA05980","Vet",".",1187,{"$f":"VLOOKUP('entries and results'!G1189,$A$3:$E$30018,4,FALSE)","v":" "},{"$f":"VLOOKUP('entries and results'!G1189,$A$3:$F$30018,6,FALSE)","v":" "},{"$f":"VLOOKUP('entries and results'!G1189,$A$3:$E$30018,2,FALSE)","v":" "},1187,".",{"$f":"VLOOKUP('entries and results'!M1189,$H$3:$K$30018,2,FALSE)","v":" "},{"$f":"VLOOKUP('entries and results'!M1189,$H$3:$K$30018,3,FALSE)","v":" "},{"$f":"VLOOKUP('entries and results'!M1189,$H$3:$K$30018,4,FALSE)","v":" "}," ","00:00",null,null,null,null,null,null,null,null,null,null,null,null,null,null,null,null,null,null,null,null,null,null,null,null,null,null,null,null,null,null,null,null,null,null,null,null,null,null,null,null,null,null,null,"00:00",1187,0,"0000000","00","00","00"]
["SA06002","Portobello Running Club","1972-06-24","Chris Melville","SA06002","Senior",".",1199,{"$f":"VLOOKUP('entries and results'!G1201,$A$3:$E$30018,4,FALSE)","v":" "},{"$f":"VLOOKUP('entries and results'!G1201,$A$3:$F$30018,6,FALSE)","v":" "},{"$f":"VLOOKUP('entries and results'!G1201,$A$3:$E$30018,2,FALSE)","v":" "},1199,".",{"$f":"VLOOKUP('entries and results'!M1201,$H$3:$K$30018,2,FALSE)","v":" "},{"$f":"VLOOKUP('entries and results'!M1201,$H$3:$K$30018,3,FALSE)","v":" "},{"$f":"VLOOKUP('entries and results'!M1201,$H$3:$K$30018,4,FALSE)","v":" "}," ","00:00",null,null,null,null,null,null,null,null,null,null,null,null,null,null,null,null,null,null,null,null,null,null,null,null,null,null,null,null,null,null,null,null,null,null,null,null,null,null,null,null,null,null,null,"00:00",1199,0,"0000000","00","00","00"]
["SA06009","Sale Harriers","1984-10-29","Alison Rodger","SA06009","Senior",".",1206,{"$f":"VLOOKUP('entries and results'!G1208,$A$3:$E$30018,4,FALSE)","v":" "},{"$f":"VLOOKUP('entries and results'!G1208,$A$3:$F$30018,6,FALSE)","v":" "},{"$f":"VLOOKUP('entries and results'!G1208,$A$3:$E$30018,2,FALSE)","v":" "},1206,".",{"$f":"VLOOKUP('entries and results'!M1208,$H$3:$K$30018,2,FALSE)","v":" "},{"$f":"VLOOKUP('entries and results'!M1208,$H$3:$K$30018,3,FALSE)","v":" "},{"$f":"VLOOKUP('entries and results'!M1208,$H$3:$K$30018,4,FALSE)","v":" "}," ","00:00",null,null,null,null,null,null,null,null,null,null,null,null,null,null,null,null,null,null,null,null,null,null,null,null,null,null,null,null,null,null,null,null,null,null,null,null,null,null,null,null,null,null,null,"00:00",1206,0,"0000000","00","00","00"]
["SA06022","Teviotdale Harriers","1965-10-02","Robert Cranston","SA06022","Vet",".",1213,{"$f":"VLOOKUP('entries and results'!G1215,$A$3:$E$30018,4,FALSE)","v":" "},{"$f":"VLOOKUP('entries and results'!G1215,$A$3:$F$30018,6,FALSE)","v":" "},{"$f":"VLOOKUP('entries and results'!G1215,$A$3:$E$30018,2,FALSE)","v":" "},1213,".",{"$f":"VLOOKUP('entries and results'!M1215,$H$3:$K$30018,2,FALSE)","v":" "},{"$f":"VLOOKUP('entries and results'!M1215,$H$3:$K$30018,3,FALSE)","v":" "},{"$f":"VLOOKUP('entries and results'!M1215,$H$3:$K$30018,4,FALSE)","v":" "}," ","00:00",null,null,null,null,null,null,null,null,null,null,null,null,null,null,null,null,null,null,null,null,null,null,null,null,null,null,null,null,null,null,null,null,null,null,null,null,null,null,null,null,null,null,null,"00:00",1213,0,"0000000","00","00","00"]
["SA06048","Unattached","1963-08-23","Sara Trickett","SA06048","Vet",".",1221,{"$f":"VLOOKUP('entries and results'!G1223,$A$3:$E$30018,4,FALSE)","v":" "},{"$f":"VLOOKUP('entries and results'!G1223,$A$3:$F$30018,6,FALSE)","v":" "},{"$f":"VLOOKUP('entries and results'!G1223,$A$3:$E$30018,2,FALSE)","v":" "},1221,".",{"$f":"VLOOKUP('entries and results'!M1223,$H$3:$K$30018,2,FALSE)","v":" "},{"$f":"VLOOKUP('entries and results'!M1223,$H$3:$K$30018,3,FALSE)","v":" "},{"$f":"VLOOKUP('entries and results'!M1223,$H$3:$K$30018,4,FALSE)","v":" "}," ","00:00",null,null,null,null,null,null,null,null,null,null,null,null,null,null,null,null,null,null,null,null,null,null,null,null,null,null,null,null,null,null,null,null,null,null,null,null,null,null,null,null,null,null,null,"00:00",1221,0,"0000000","00","00","00"]
["SA06074","Corstorphine AAC","1960-09-06","Jan-Bert Van Den Berg","SA06074","Vet",".",1229,{"$f":"VLOOKUP('entries and results'!G1231,$A$3:$E$30018,4,FALSE)","v":" "},{"$f":"VLOOKUP('entries and results'!G1231,$A$3:$F$30018,6,FALSE)","v":" "},{"$f":"VLOOKUP('entries and results'!G1231,$A$3:$E$30018,2,FALSE)","v":" "},1229,".",{"$f":"VLOOKUP('entries and results'!M1231,$H$3:$K$30018,2,FALSE)","v":" "},{"$f":"VLOOKUP('entries and results'!M1231,$H$3:$K$30018,3,FALSE)","v":" "},{"$f":"VLOOKUP('entries and results'!M1231,$H$3:$K$30018,4,FALSE)","v":" "}," ","00:00",null,null,null,null,null,null,null,null,null,null,null,null,null,null,null,null,null,null,null,null,null,null,null,null,null,null,null,null,null,null,null,null,null,null,null,null,null,null,null,null,null,null,null,"00:00",1229,0,"0000000","00","00","00"]
["SA06087","Falkirk Victoria Harriers","1964-11-21","David Robertson","SA06087","Vet",".",1234,{"$f":"VLOOKUP('entries and results'!G1236,$A$3:$E$30018,4,FALSE)","v":" "},{"$f":"VLOOKUP('entries and results'!G1236,$A$3:$F$30018,6,FALSE)","v":" "},{"$f":"VLOOKUP('entries and results'!G1236,$A$3:$E$30018,2,FALSE)","v":" "},1234,".",{"$f":"VLOOKUP('entries and results'!M1236,$H$3:$K$30018,2,FALSE)","v":" "},{"$f":"VLOOKUP('entries and results'!M1236,$H$3:$K$30018,3,FALSE)","v":" "},{"$f":"VLOOKUP('entries and results'!M1236,$H$3:$K$30018,4,FALSE)","v":" "}," ","00:00",null,null,null,null,null,null,null,null,null,null,null,null,null,null,null,null,null,null,null,null,null,null,null,null,null,null,null,null,null,null,null,null,null,null,null,null,null,null,null,null,null,null,null,"00:00",1234,0,"0000000","00","00","00"]
["SA06095","Fife AC","1959-10-01","Jez Tomlinson","SA06095","Vet",".",1239,{"$f":"VLOOKUP('entries and results'!G1241,$A$3:$E$30018,4,FALSE)","v":" "},{"$f":"VLOOKUP('entries and results'!G1241,$A$3:$F$30018,6,FALSE)","v":" "},{"$f":"VLOOKUP('entries and results'!G1241,$A$3:$E$30018,2,FALSE)","v":" "},1239,".",{"$f":"VLOOKUP('entries and results'!M1241,$H$3:$K$30018,2,FALSE)","v":" "},{"$f":"VLOOKUP('entries and results'!M1241,$H$3:$K$30018,3,FALSE)","v":" "},{"$f":"VLOOKUP('entries and results'!M1241,$H$3:$K$30018,4,FALSE)","v":" "}," ","00:00",null,null,null,null,null,null,null,null,null,null,null,null,null,null,null,null,null,null,null,null,null,null,null,null,null,null,null,null,null,null,null,null,null,null,null,null,null,null,null,null,null,null,null,"00:00",1239,0,"0000000","00","00","00"]
["SA06133","VP-Glasgow AC","1960-06-16","Christine Catterson","SA06133","Vet",".",1251,{"$f":"VLOOKUP('entries and results'!G1253,$A$3:$E$30018,4,FALSE)","v":" "},{"$f":"VLOOKUP('entries and results'!G1253,$A$3:$F$30018,6,FALSE)","v":" "},{"$f":"VLOOKUP('entries and results'!G1253,$A$3:$E$30018,2,FALSE)","v":" "},1251,".",{"$f":"VLOOKUP('entries and results'!M1253,$H$3:$K$30018,2,FALSE)","v":" "},{"$f":"VLOOKUP('entries and results'!M1253,$H$3:$K$30018,3,FALSE)","v":" "},{"$f":"VLOOKUP('entries and results'!M1253,$H$3:$K$30018,4,FALSE)","v":" "}," ","00:00",null,null,null,null,null,null,null,null,null,null,null,null,null,null,null,null,null,null,null,null,null,null,null,null,null,null,null,null,null,null,null,null,null,null,null,null,null,null,null,null,null,null,null,"00:00",1251,0,"0000000","00","00","00"]
["SA06147","Metro Aberdeen Running Club","1975-04-02","Donald Simpson","SA06147","Senior",".",1256,{"$f":"VLOOKUP('entries and results'!G1258,$A$3:$E$30018,4,FALSE)","v":" "},{"$f":"VLOOKUP('entries and results'!G1258,$A$3:$F$30018,6,FALSE)","v":" "},{"$f":"VLOOKUP('entries and results'!G1258,$A$3:$E$30018,2,FALSE)","v":" "},1256,".",{"$f":"VLOOKUP('entries and results'!M1258,$H$3:$K$30018,2,FALSE)","v":" "},{"$f":"VLOOKUP('entries and results'!M1258,$H$3:$K$30018,3,FALSE)","v":" "},{"$f":"VLOOKUP('entries and results'!M1258,$H$3:$K$30018,4,FALSE)","v":" "}," ","00:00",null,null,null,null,null,null,null,null,null,null,null,null,null,null,null,null,null,null,null,null,null,null,null,null,null,null,null,null,null,null,null,null,null,null,null,null,null,null,null,null,null,null,null,"00:00",1256,0,"0000000","00","00","00"]
["SA06168","Arbroath & District AC","1983-12-13","Claire Webber","SA06168","Senior",".",1264,{"$f":"VLOOKUP('entries and results'!G1266,$A$3:$E$30018,4,FALSE)","v":" "},{"$f":"VLOOKUP('entries and results'!G1266,$A$3:$F$30018,6,FALSE)","v":" "},{"$f":"VLOOKUP('entries and results'!G1266,$A$3:$E$30018,2,FALSE)","v":" "},1264,".",{"$f":"VLOOKUP('entries and results'!M1266,$H$3:$K$30018,2,FALSE)","v":" "},{"$f":"VLOOKUP('entries and results'!M1266,$H$3:$K$30018,3,FALSE)","v":" "},{"$f":"VLOOKUP('entries and results'!M1266,$H$3:$K$30018,4,FALSE)","v":" "}," ","00:00",null,null,null,null,null,null,null,null,null,null,null,null,null,null,null,null,null,null,null,null,null,null,null,null,null,null,null,null,null,null,null,null,null,null,null,null,null,null,null,null,null,null,null,"00:00",1264,0,"0000000","00","00","00"]
["SA06185","Calderglen Harriers","1954-04-04","David Searil","SA06185","Vet",".",1272,{"$f":"VLOOKUP('entries and results'!G1274,$A$3:$E$30018,4,FALSE)","v":" "},{"$f":"VLOOKUP('entries and results'!G1274,$A$3:$F$30018,6,FALSE)","v":" "},{"$f":"VLOOKUP('entries and results'!G1274,$A$3:$E$30018,2,FALSE)","v":" "},1272,".",{"$f":"VLOOKUP('entries and results'!M1274,$H$3:$K$30018,2,FALSE)","v":" "},{"$f":"VLOOKUP('entries and results'!M1274,$H$3:$K$30018,3,FALSE)","v":" "},{"$f":"VLOOKUP('entries and results'!M1274,$H$3:$K$30018,4,FALSE)","v":" "}," ","00:00",null,null,null,null,null,null,null,null,null,null,null,null,null,null,null,null,null,null,null,null,null,null,null,null,null,null,null,null,null,null,null,null,null,null,null,null,null,null,null,null,null,null,null,"00:00",1272,0,"0000000","00","00","00"]
["SA06192","Carnegie Harriers","1956-02-14","Allan MacAulay","SA06192","Vet",".",1278,{"$f":"VLOOKUP('entries and results'!G1280,$A$3:$E$30018,4,FALSE)","v":" "},{"$f":"VLOOKUP('entries and results'!G1280,$A$3:$F$30018,6,FALSE)","v":" "},{"$f":"VLOOKUP('entries and results'!G1280,$A$3:$E$30018,2,FALSE)","v":" "},1278,".",{"$f":"VLOOKUP('entries and results'!M1280,$H$3:$K$30018,2,FALSE)","v":" "},{"$f":"VLOOKUP('entries and results'!M1280,$H$3:$K$30018,3,FALSE)","v":" "},{"$f":"VLOOKUP('entries and results'!M1280,$H$3:$K$30018,4,FALSE)","v":" "}," ","00:00",null,null,null,null,null,null,null,null,null,null,null,null,null,null,null,null,null,null,null,null,null,null,null,null,null,null,null,null,null,null,null,null,null,null,null,null,null,null,null,null,null,null,null,"00:00",1278,0,"0000000","00","00","00"]
["SA06202","Central AC","1955-11-03","Alan Gall","SA06202","Vet",".",1286,{"$f":"VLOOKUP('entries and results'!G1288,$A$3:$E$30018,4,FALSE)","v":" "},{"$f":"VLOOKUP('entries and results'!G1288,$A$3:$F$30018,6,FALSE)","v":" "},{"$f":"VLOOKUP('entries and results'!G1288,$A$3:$E$30018,2,FALSE)","v":" "},1286,".",{"$f":"VLOOKUP('entries and results'!M1288,$H$3:$K$30018,2,FALSE)","v":" "},{"$f":"VLOOKUP('entries and results'!M1288,$H$3:$K$30018,3,FALSE)","v":" "},{"$f":"VLOOKUP('entries and results'!M1288,$H$3:$K$30018,4,FALSE)","v":" "}," ","00:00",null,null,null,null,null,null,null,null,null,null,null,null,null,null,null,null,null,null,null,null,null,null,null,null,null,null,null,null,null,null,null,null,null,null,null,null,null,null,null,null,null,null,null,"00:00",1286,0,"0000000","00","00","00"]
["SA06213","Edinburgh AC","1940-12-15","Martin Craven","SA06213","Vet",".",1291,{"$f":"VLOOKUP('entries and results'!G1293,$A$3:$E$30018,4,FALSE)","v":" "},{"$f":"VLOOKUP('entries and results'!G1293,$A$3:$F$30018,6,FALSE)","v":" "},{"$f":"VLOOKUP('entries and results'!G1293,$A$3:$E$30018,2,FALSE)","v":" "},1291,".",{"$f":"VLOOKUP('entries and results'!M1293,$H$3:$K$30018,2,FALSE)","v":" "},{"$f":"VLOOKUP('entries and results'!M1293,$H$3:$K$30018,3,FALSE)","v":" "},{"$f":"VLOOKUP('entries and results'!M1293,$H$3:$K$30018,4,FALSE)","v":" "}," ","00:00",null,null,null,null,null,null,null,null,null,null,null,null,null,null,null,null,null,null,null,null,null,null,null,null,null,null,null,null,null,null,null,null,null,null,null,null,null,null,null,null,null,null,null,"00:00",1291,0,"0000000","00","00","00"]
["SA06223","Edinburgh AC","1970-03-05","Marietta Beal","SA06223","Vet",".",1297,{"$f":"VLOOKUP('entries and results'!G1299,$A$3:$E$30018,4,FALSE)","v":" "},{"$f":"VLOOKUP('entries and results'!G1299,$A$3:$F$30018,6,FALSE)","v":" "},{"$f":"VLOOKUP('entries and results'!G1299,$A$3:$E$30018,2,FALSE)","v":" "},1297,".",{"$f":"VLOOKUP('entries and results'!M1299,$H$3:$K$30018,2,FALSE)","v":" "},{"$f":"VLOOKUP('entries and results'!M1299,$H$3:$K$30018,3,FALSE)","v":" "},{"$f":"VLOOKUP('entries and results'!M1299,$H$3:$K$30018,4,FALSE)","v":" "}," ","00:00",null,null,null,null,null,null,null,null,null,null,null,null,null,null,null,null,null,null,null,null,null,null,null,null,null,null,null,null,null,null,null,null,null,null,null,null,null,null,null,null,null,null,null,"00:00",1297,0,"0000000","00","00","00"]
["SA06240","Cosmic Hillbashers AAC","1976-06-30","Clare Whitehead","SA06240","Senior",".",1305,{"$f":"VLOOKUP('entries and results'!G1307,$A$3:$E$30018,4,FALSE)","v":" "},{"$f":"VLOOKUP('entries and results'!G1307,$A$3:$F$30018,6,FALSE)","v":" "},{"$f":"VLOOKUP('entries and results'!G1307,$A$3:$E$30018,2,FALSE)","v":" "},1305,".",{"$f":"VLOOKUP('entries and results'!M1307,$H$3:$K$30018,2,FALSE)","v":" "},{"$f":"VLOOKUP('entries and results'!M1307,$H$3:$K$30018,3,FALSE)","v":" "},{"$f":"VLOOKUP('entries and results'!M1307,$H$3:$K$30018,4,FALSE)","v":" "}," ","00:00",null,null,null,null,null,null,null,null,null,null,null,null,null,null,null,null,null,null,null,null,null,null,null,null,null,null,null,null,null,null,null,null,null,null,null,null,null,null,null,null,null,null,null,"00:00",1305,0,"0000000","00","00","00"]
["SA06254","Edinburgh AC","1982-10-03","Gillian Cooke","SA06254","Senior",".",1313,{"$f":"VLOOKUP('entries and results'!G1315,$A$3:$E$30018,4,FALSE)","v":" "},{"$f":"VLOOKUP('entries and results'!G1315,$A$3:$F$30018,6,FALSE)","v":" "},{"$f":"VLOOKUP('entries and results'!G1315,$A$3:$E$30018,2,FALSE)","v":" "},1313,".",{"$f":"VLOOKUP('entries and results'!M1315,$H$3:$K$30018,2,FALSE)","v":" "},{"$f":"VLOOKUP('entries and results'!M1315,$H$3:$K$30018,3,FALSE)","v":" "},{"$f":"VLOOKUP('entries and results'!M1315,$H$3:$K$30018,4,FALSE)","v":" "}," ","00:00",null,null,null,null,null,null,null,null,null,null,null,null,null,null,null,null,null,null,null,null,null,null,null,null,null,null,null,null,null,null,null,null,null,null,null,null,null,null,null,null,null,null,null,"00:00",1313,0,"0000000","00","00","00"]
["SA06270","Falkirk Victoria Harriers","1968-09-04","Stephen Moore","SA06270","Vet",".",1321,{"$f":"VLOOKUP('entries and results'!G1323,$A$3:$E$30018,4,FALSE)","v":" "},{"$f":"VLOOKUP('entries and results'!G1323,$A$3:$F$30018,6,FALSE)","v":" "},{"$f":"VLOOKUP('entries and results'!G1323,$A$3:$E$30018,2,FALSE)","v":" "},1321,".",{"$f":"VLOOKUP('entries and results'!M1323,$H$3:$K$30018,2,FALSE)","v":" "},{"$f":"VLOOKUP('entries and results'!M1323,$H$3:$K$30018,3,FALSE)","v":" "},{"$f":"VLOOKUP('entries and results'!M1323,$H$3:$K$30018,4,FALSE)","v":" "}," ","00:00",null,null,null,null,null,null,null,null,null,null,null,null,null,null,null,null,null,null,null,null,null,null,null,null,null,null,null,null,null,null,null,null,null,null,null,null,null,null,null,null,null,null,null,"00:00",1321,0,"0000000","00","00","00"]
["SA06282","Fife AC","1948-05-27","Sam I Graves","SA06282","Vet",".",1330,{"$f":"VLOOKUP('entries and results'!G1332,$A$3:$E$30018,4,FALSE)","v":" "},{"$f":"VLOOKUP('entries and results'!G1332,$A$3:$F$30018,6,FALSE)","v":" "},{"$f":"VLOOKUP('entries and results'!G1332,$A$3:$E$30018,2,FALSE)","v":" "},1330,".",{"$f":"VLOOKUP('entries and results'!M1332,$H$3:$K$30018,2,FALSE)","v":" "},{"$f":"VLOOKUP('entries and results'!M1332,$H$3:$K$30018,3,FALSE)","v":" "},{"$f":"VLOOKUP('entries and results'!M1332,$H$3:$K$30018,4,FALSE)","v":" "}," ","00:00",null,null,null,null,null,null,null,null,null,null,null,null,null,null,null,null,null,null,null,null,null,null,null,null,null,null,null,null,null,null,null,null,null,null,null,null,null,null,null,null,null,null,null,"00:00",1330,0,"0000000","00","00","00"]
["SA06288","Fife AC","1965-12-02","Fiona Lothian","SA06288","Vet",".",1335,{"$f":"VLOOKUP('entries and results'!G1337,$A$3:$E$30018,4,FALSE)","v":" "},{"$f":"VLOOKUP('entries and results'!G1337,$A$3:$F$30018,6,FALSE)","v":" "},{"$f":"VLOOKUP('entries and results'!G1337,$A$3:$E$30018,2,FALSE)","v":" "},1335,".",{"$f":"VLOOKUP('entries and results'!M1337,$H$3:$K$30018,2,FALSE)","v":" "},{"$f":"VLOOKUP('entries and results'!M1337,$H$3:$K$30018,3,FALSE)","v":" "},{"$f":"VLOOKUP('entries and results'!M1337,$H$3:$K$30018,4,FALSE)","v":" "}," ","00:00"]
["SA06296","Fife AC","1951-09-02","Robert Mustard","SA06296","Vet",".",1343,{"$f":"VLOOKUP('entries and results'!G1345,$A$3:$E$30018,4,FALSE)","v":" "},{"$f":"VLOOKUP('entries and results'!G1345,$A$3:$F$30018,6,FALSE)","v":" "},{"$f":"VLOOKUP('entries and results'!G1345,$A$3:$E$30018,2,FALSE)","v":" "},1343,".",{"$f":"VLOOKUP('entries and results'!M1345,$H$3:$K$30018,2,FALSE)","v":" "},{"$f":"VLOOKUP('entries and results'!M1345,$H$3:$K$30018,3,FALSE)","v":" "},{"$f":"VLOOKUP('entries and results'!M1345,$H$3:$K$30018,4,FALSE)","v":" "}," ","00:00"]
["SA06303","Fife AC","1964-11-07","Catharine Sinclair","SA06303","Vet",".",1348,{"$f":"VLOOKUP('entries and results'!G1350,$A$3:$E$30018,4,FALSE)","v":" "},{"$f":"VLOOKUP('entries and results'!G1350,$A$3:$F$30018,6,FALSE)","v":" "},{"$f":"VLOOKUP('entries and results'!G1350,$A$3:$E$30018,2,FALSE)","v":" "},1348,".",{"$f":"VLOOKUP('entries and results'!M1350,$H$3:$K$30018,2,FALSE)","v":" "},{"$f":"VLOOKUP('entries and results'!M1350,$H$3:$K$30018,3,FALSE)","v":" "},{"$f":"VLOOKUP('entries and results'!M1350,$H$3:$K$30018,4,FALSE)","v":" "}," ","00:00"]
["SA06312","Forres Harriers","1985-12-19","Kyle Greig","SA06312","Senior"]
["SA06320","Gala Harriers","1958-11-25","Andrea Pogson","SA06320","Vet"]
["SA06343","Hunters Bog Trotters","1976-07-20","Jessica Batterham","SA06343","Senior"]
["SA06356","Kilmarnock H&AC","1955-03-24","Graham Cairns","SA06356","Vet"]
["SA06379","Kirkintilloch Olympians","1955-07-17","Brenda Douglas","SA06379","Vet"]
["SA06388","Lasswade AAC","1953-05-16","Derek Robertson","SA06388","Vet"]
["SA06396","Metro Aberdeen Running Club","1962-01-28","Isabel M McDonald","SA06396","Vet"]
["SA06406","Nithsdale AC","1962-01-23","Alan Crawford","SA06406","Vet"]
["SA06423","Pitreavie AAC","1954-03-24","Roy Buchanan","SA06423","Vet"]
["SA06439","Ron Hill Cambuslang Harriers","1953-05-28","Alexander Eaglesham","SA06439","Vet"]
["SA06454","Shettleston Harriers",null,"Anthony McCall","SA06454"]
["SA06478","VP-Glasgow AC","1968-10-28","Gerard Craig","SA06478","Vet"]
["SA06504","Unattached","1976-08-21","Craig Stewart","SA06504","Senior"]
["SA06515","Dunfermline & West Fife AC","1968-12-18","Angela Sharp","SA06515","Vet"]
["SA06553","Aberdeen AAC","1955-03-04","Frank Gauld","SA06553","Vet"]
["SA06554","Aberdeen AAC","1957-03-25","Janice Gordon","SA06554","Vet"]
["SA06565","Anster Haddies Running Club","1952-01-24","Allan Gibson","SA06565","Vet"]
["SA06587","Calderglen Harriers","1964-12-31","Russell Couper","SA06587","Vet"]
["SA06594","Carnegie Harriers","1939-01-22","Kenneth Daniels","SA06594","Vet"]
["SA06606","Carnethy Hill Racing Club","1960-09-28","Margaret Forrest","SA06606","Vet"]
["SA06630","Edinburgh AC","1963-02-27","John Steel","SA06630","Vet"]
["SA06648","Clydesdale Harriers","1956-05-02","Chris Ryan","SA06648","Vet"]
["SA06661","Inverclyde AC","1982-01-25","Kevin Kane","SA06661","Senior"]
["SA06671","Dundee Hawkhill Harriers","1957-04-28","David Hanlon","SA06671","Vet"]
["SA06672","Dundee Hawkhill Harriers","1967-10-21","Stephen Mason","SA06672","Vet"]
["SA06693","Ferranti AAC","1958-02-14","Alex Bell","SA06693","Vet"]
["SA06708","Fife AC","1960-02-13","Douglas Robertson","SA06708","Vet"]
["SA06717","Forres Harriers","1962-09-08","Graeme Jervis","SA06717","Vet"]
["SA06731","Garscube Harriers","1959-10-19","Euan Mackay","SA06731","Vet"]
["SA06751","Girvan AAC","1948-07-27","Jack Maxwell","SA06751","Vet"]
["SA06759","Greenock Glenpark Harriers","1960-08-09","Kenneth Scott","SA06759","Vet"]
["SA06776","Hunters Bog Trotters","1966-03-29","Myles Marshall","SA06776","Vet"]
["SA06793","Kilmarnock H&AC","1960-12-26","Susan Beattie","SA06793","Vet"]
["SA06803","Kilbarchan AAC","1961-02-05","Steven Hards","SA06803","Vet"]
["SA06820","Lasswade AAC","1985-09-27","Dean Philip","SA06820","Senior"]
["SA06831","Lothian Running Club","1967-05-03","David Eades","SA06831","Vet"]
["SA06850","Nithsdale AC","1947-04-05","Joyce Rammell","SA06850","Vet"]
["SA06881","Portobello Running Club","1966-02-25","Stephen Maley","SA06881","Vet"]
["SA06892","Shettleston Harriers","1968-02-12","Ian Johnston","SA06892","Vet"]
["SA06910","Stornoway Running & AC","1969-07-02","Douglas Flett","SA06910","Vet"]
["SA06929","Unattached","1946-06-28","Roy McCallum","SA06929","Vet"]
["SA06943","VP-Glasgow AC","1951-04-19","Kenneth Brown","SA06943","Vet"]
["SA06973","Edinburgh AC","1968-10-18","Andrew Stoane","SA06973","Vet"]
["SA06995","Helensburgh AAC","1966-11-15","Linda Wilson","SA06995","Vet"]
["SA07020","Troon Tortoises AC","1954-05-11","Catherine McKean","SA07020","Vet"]
["SA07042","Inverness Harriers AAC","1952-04-05","Averil Lamont","SA07042","Vet"]
["SA07049","Inverclyde AC","1986-12-19","Andrew Douglas","SA07049","Senior"]
["SA07069","VP-Glasgow AC","1977-05-25","Jill Knowles","SA07069","Senior"]
["SA07085","Forres Harriers","1972-09-01","Siobhan Evans","SA07085","Senior"]
["SA07100","Giffnock North AAC","1963-08-17","Catherine Scott","SA07100","Vet"]
["SA07115","Inverness Harriers AAC","1967-08-26","Julie Wilson","SA07115","Vet"]
["SA07122","Lochaber AC","1967-06-16","David Rodgers","SA07122","Vet"]
["SA07135","Perth Road Runners","1961-04-17","Peter Ritchie","SA07135","Vet"]
["SA07156","Unattached","1968-12-10","Stephen Boyce","SA07156","Vet"]
["SA07164","Unattached","1973-04-05","Andrew McCormick","SA07164","Senior"]
["SA07190","Bellahouston Road Runners","1971-08-20","Pauline Wright","SA07190","Senior"]
["SA07207","Fife AC","1965-10-30","Charlotte Kirby","SA07207","Vet"]
["SA07234","Portobello Running Club","1966-11-07","Mary Hunter","SA07234","Vet"]
["SA07248","Bellahouston Harriers","1972-08-13","Brian Douglas","SA07248","Senior"]
["SA07260","Edinburgh Univ Hare & Hounds","1986-09-03","Oleg Chepelin","SA07260","Senior"]
["SA07282","Bellahouston Road Runners","1979-04-15","Matthew Williamson","SA07282","Senior"]
["SA07311","VP-Glasgow AC","1963-07-29","Jacqueline Thomson","SA07311","Vet"]
["SA07312","Clydesdale Harriers","1969-12-21","Brian Gallagher","SA07312","Vet"]
["SA07328","VP-Glasgow AC","1987-04-13","Stacey Wilson","SA07328","Senior"]
["SA07350","Hunters Bog Trotters","1963-09-22","Billy Minto","SA07350","Vet"]
["SA07352","Kilmarnock H&AC","1954-11-19","Graham Whitham","SA07352","Vet"]
["SA07369","Portobello Running Club","1958-06-06","Scott Jarvie","SA07369","Vet"]
["SA07393","VP-Glasgow AC","1964-08-03","Gerrard Farrell","SA07393","Vet"]
["SA07399","Annan & District AC","1960-11-18","Caroline Legg","SA07399","Vet"]
["SA07426","Inverness Harriers AAC","1987-02-10","Jamie Miller","SA07426","Senior"]
["SA07432","Metro Aberdeen Running Club","1965-08-24","William Reid","SA07432","Vet"]
["SA07469","Giffnock North AAC","1962-07-23","Elspeth Hogg","SA07469","Vet"]
["SA07491","Greenock Glenpark Harriers","1968-10-01","Michael Follan","SA07491","Vet"]
["SA07504","Law & District AAC","1989-03-11","Gary Grieve","SA07504","Senior"]
["SA07514","Penicuik Harriers","1981-02-10","Rachael Campbell","SA07514","Senior"]
["SA07534","Unattached","1947-06-22","John Ferrie","SA07534","Vet"]
["SA07568","Lochaber AC","1939-07-10","Angus Whyte","SA07568","Vet"]
["SA07591","Carnethy Hill Racing Club","1964-06-08","Bruce Smith","SA07591","Vet"]
["SA07613","Hunters Bog Trotters","1942-09-13","Norman Gould","SA07613","Vet"]
["SA07626","Dunbar Running Club","1962-03-22","Grant Noble","SA07626","Vet"]
["SA07646","Hunters Bog Trotters","1969-05-08","Christine Buckley","SA07646","Vet"]
["SA07671","Pitreavie AAC","1987-04-15","Stacey Downie","SA07671","Senior"]
["SA07685","Wee County Harriers","1967-09-28","Caroline Strain","SA07685","Vet"]
["SA07706","Fife AC","1965-11-17","Steven Doig","SA07706","Vet"]
["SA07730","Pitreavie AAC","1958-11-01","Jeff Farquhar","SA07730","Vet"]
["SA07744","Fife AC","1946-08-20","John Simpson","SA07744","Vet"]
["SA07764","Metro Aberdeen Running Club","1961-07-08","Iain Lindsay","SA07764","Vet"]
["SA07776","Bellahouston Road Runners","1974-02-03","Carla Telfer","SA07776","Senior"]
["SA07792","Fife AC","1961-02-28","Elaine Carstairs","SA07792","Vet"]
["SA07810","Metro Aberdeen Running Club","1959-12-09","Gary Walker","SA07810","Vet"]
["SA07825","Kilmarnock H&AC","1972-10-09","Connell Drummond","SA07825","Senior"]
["SA07855","Giffnock North AAC","1972-10-19","Martin O'Donnell","SA07855","Senior"]
["SA07870","Springburn Harriers","1970-06-23","Andrew Callan","SA07870","Senior"]
["SA07894","Westerlands XC Club","1962-07-28","David Rogers","SA07894","Vet"]
["SA07909","Bellahouston Road Runners","1966-10-07","Evelyn McKee","SA07909","Vet"]
["SA07921","Dunbar Running Club","1963-06-19","Stuart Hay","SA07921","Vet"]
["SA07938","Forres Harriers","1944-06-04","Dennis Gregson","SA07938","Vet"]
["SA07958","Keith & District AAC","1978-08-24","Marie Third","SA07958","Senior"]
["SA07967","Metro Aberdeen Running Club","1979-06-16","Ali Hughes","SA07967","Senior"]
["SA08002","Westerlands XC Club","1971-02-20","Brian Bonnyman","SA08002","Senior"]
["SA08011","Central AC","1979-04-03","Will Hensman","SA08011","Senior"]
["SA08018","Unattached","1972-01-05","Helen Bellarby","SA08018","Senior"]
["SA08045","Keith & District AAC","1962-04-17","Gerald Angus","SA08045","Vet"]
["SA08055","Metro Aberdeen Running Club","1961-03-02","Douglas Proudfoot","SA08055","Vet"]
["SA08079","Edinburgh AC","1971-09-24","Graeme Brown","SA08079","Senior"]
["SA08092","Aberdeen AAC","1934-03-06","George Cruickshank","SA08092","Vet"]
["SA08101","Aberdeen AAC","1985-06-16","Natalie Riley","SA08101","Senior"]
["SA08114","Dundee Hawkhill Harriers","1985-04-11","Graeme Oudney","SA08114","Senior"]
["SA08136","Carnegie Harriers","1963-10-02","Douglas McGarry","SA08136","Vet"]
["SA08140","Carnegie Harriers","1959-03-16","Peter Simpson","SA08140","Vet"]
["SA08153","Edinburgh AC","1943-06-06","Richard Finlayson","SA08153","Vet"]
["SA08177","Clydesdale Harriers","1942-10-11","Pete Cartwright","SA08177","Vet"]
["SA08181","Corstorphine AAC","1964-06-25","Steven Blair","SA08181","Vet"]
["SA08195","Dundee Hawkhill Harriers","1961-09-07","Brian Cook","SA08195","Vet"]
["SA08217","Falkirk Victoria Harriers","1987-09-21","Kimberly Skinner","SA08217","Senior"]
["SA08218","Falkirk Victoria Harriers","1961-03-30","John Stevenson","SA08218","Vet"]
["SA08239","Gala Harriers","1964-01-20","Thomas Knox","SA08239","Vet"]
["SA08257","Giffnock North AAC","1963-07-15","George Taylor","SA08257","Vet"]
["SA08261","Greenock Glenpark Harriers","1972-05-08","Alison King","SA08261","Senior"]
["SA08278","Inverness Harriers AAC","1956-11-01","Graham Laing","SA08278","Vet"]
["SA08283","Irvine AC","1946-01-14","David King","SA08283","Vet"]
["SA08290","Keith & District AAC","1976-08-27","Steven Taylor","SA08290","Senior"]
["SA08316","Montrose & District AC","1986-12-25","Sean Tough","SA08316","Senior"]
["SA08327","Orkney AC","1966-05-03","Nigel Thomson","SA08327","Vet"]
["SA08336","Peterhead RC","1974-02-27","Terry Christie","SA08336","Senior"]
["SA08350","Unattached","1927-12-12","William Marshall","SA08350","Vet"]
["SA08367","Teviotdale Harriers","1967-01-09","Alan Coltman","SA08367","Vet"]
["SA08375","Unattached","1977-12-04","Catherine Ramsay","SA08375","Senior"]
["SA08384","Unattached","1959-11-30","Alan Miller","SA08384","Vet"]
["SA08423","Fife AC","1942-01-06","Jane Askey","SA08423","Vet"]
["SA08446","Helensburgh AAC","1958-04-20","Robin Flannagan MBE","SA08446","Vet"]
["SA08480","Aberdeen AAC","1968-11-15","Mark James Davidson","SA08480","Vet"]
["SA08496","Arbroath & District AC","1989-05-14","Nicholas Hobday","SA08496","Senior"]
["SA08507","Aberdeen AAC","1981-08-10","Scot Thompson","SA08507","Senior"]
["SA08522","Calderglen Harriers","1949-12-12","Malcolm Buchanan","SA08522","Vet"]
["SA08529","Carnegie Harriers","1970-07-17","Thomas Lawrence","SA08529","Senior"]
["SA08537","Carnethy Hill Racing Club","1940-11-22","Ian Nimmo","SA08537","Vet"]
["SA08552","Edinburgh AC","1934-05-18","Alastair Jack","SA08552","Vet"]
["SA08566","City Of Hull A.C.","1942-03-08","Alan Fowlie","SA08566","Vet"]
["SA08576","Cosmic Hillbashers AAC","1951-10-31","Murray Bryce","SA08576","Vet"]
["SA08582","Dundee Hawkhill Harriers","1979-01-17","Mark Lamb","SA08582","Senior"]
["SA08607","Fife AC","1984-06-11","Graham Bee","SA08607","Senior"]
["SA08613","Fife AC","1937-01-21","Ian Docherty","SA08613","Vet"]
["SA08618","Fife AC","1958-11-12","Val Herkes","SA08618","Vet"]
["SA08627","Fife AC","1943-05-29","Alastair Robertson","SA08627","Vet"]
["SA08639","Forres Harriers","1952-01-06","Sam Morrison","SA08639","Vet"]
["SA08657","Giffnock North AAC","1962-12-16","Maureen McVey","SA08657","Vet"]
["SA08674","Hunters Bog Trotters","1963-12-11","Alec Keith","SA08674","Vet"]
["SA08679","Inverclyde AC","1934-05-05","Hugh Docherty","SA08679","Vet"]
["SA08705","Kirkintilloch Olympians","1963-07-10","Ada Stewart","SA08705","Vet"]
["SA08707","Law & District AAC","1968-01-18","Stephen Allen","SA08707","Vet"]
["SA08725","Metro Aberdeen Running Club","1967-05-22","Roddy McLeod","SA08725","Vet"]
["SA08737","Moray Road Runners","1971-08-01","Colin Green","SA08737","Senior"]
["SA08750","Perth Road Runners","1960-05-11","Neil Muir","SA08750","Vet"]
["SA08765","Thames Valley Harriers","1983-09-17","Jemma Walker","SA08765","Senior"]
["SA08776","Shaftesbury Barnet Harriers","1984-08-07","Neil Burnside","SA08776","Senior"]
["SA08783","Shettleston Harriers","1979-01-03","Paul Sorrie","SA08783","Senior"]
["SA08812","Unattached","1954-03-02","Irene McDonald","SA08812","Vet"]
["SA08825","VP-Glasgow AC","1959-03-10","Raymond McEwan","SA08825","Vet"]
["SA08826","VP-Glasgow AC","1965-12-29","Kenneth Mitchell","SA08826","Vet"]
["SA08848","Metro Aberdeen Running Club","1969-01-26","Janet McRoberts","SA08848","Vet"]
["SA08869","Aberdeen AAC","1988-09-14","Mark Haskett","SA08869","Senior"]
["SA08877","Annan & District AC","1937-07-12","James Buchanan","SA08877","Vet"]
["SA08891","Edinburgh AC","1939-10-10","Alexander Cameron","SA08891","Vet"]
["SA08913","Fife AC","1955-06-26","Craig Ross","SA08913","Vet"]
["SA08933","Fife AC","1959-06-23","Laurence Anderson","SA08933","Vet"]
["SA08942","Fife AC","1950-09-24","John Keenlyside","SA08942","Vet"]
["SA08953","Fife AC","1962-08-08","David Shepherd","SA08953","Vet"]
["SA08955","Fife AC","1958-01-22","James Taylor","SA08955","Vet"]
["SA08977","Hunters Bog Trotters","1948-12-10","Eric Scott","SA08977","Vet"]
["SA08986","Irvine AC","1951-10-08","James White","SA08986","Vet"]
["SA09001","Kilbarchan AAC","1986-10-08","Ross Toole","SA09001","Senior"]
["SA09018","Metro Aberdeen Running Club","1968-09-05","Richard Thomson","SA09018","Vet"]
["SA09031","Peterhead RC","1966-04-19","Alan Reid","SA09031","Vet"]
["SA09033","Pitreavie AAC","1967-12-11","Norma Bruce","SA09033","Vet"]
["SA09054","Strathaven Striders","1947-03-28","Thomas Wilson","SA09054","Vet"]
["SA09069","Whitemoss AAC","1989-06-27","Jamie McEwan","SA09069","Senior"]
["SA09084","Lochaber AC","1969-01-30","George Cairns","SA09084","Vet"]
["SA09103","George Heriots School","1958-01-04","David Armstrong","SA09103","Vet"]
["SA09156","Corstorphine AAC","1972-09-12","Jillian Hogg","SA09156","Senior"]
["SA09184",null,"1997-06-16","Arran Goodfellow","SA09184","Under 15"]
["SA09216","Pitreavie AAC","1995-02-26","Katie Reid","SA09216","Under 17"]
["SA09219","Giffnock North AAC","1993-10-01","Paula Houston","SA09219","Under 17"]
["SA09274","Shetland AAC","1993-12-27","Megan Smith","SA09274","Under 17"]
["SA09312","Banchory Stonehaven AC","1994-04-09","James Duguid","SA09312","Under 17"]
["SA09330",null,"1955-10-29","Helen Forrest","SA09330","Vet"]
["SA09360","Edinburgh AC","1993-10-26","Jennifer Cropley","SA09360","Under 17"]
["SA09401","Aberdeen AAC","1960-11-22","Kenneth Lyon","SA09401","Vet"]
["SA09434","Lothian Running Club","1962-10-15","Jim Salvage","SA09434","Vet"]
["SA09470","Carnegie Harriers","1977-02-08","Darran Neilson","SA09470","Senior"]
["SA09474","Unattached","1976-05-30","Stewart McConnell","SA09474","Senior"]
["SA09507","Hunters Bog Trotters","1973-02-25","Ross Bannerman","SA09507","Senior"]
["SA09529","Garscube Harriers","1961-07-08","Malcolm Booth","SA09529","Vet"]
["SA09551","Central AC","1986-02-10","Morag MacLarty","SA09551","Senior"]
["SA09608","Kirkintilloch Olympians","1993-09-17","Scott Lawrie","SA09608","Under 17"]
["SA09620","Shettleston Harriers","1960-08-22","John MacKay","SA09620","Vet"]
["SA09647","Elgin AAC","1994-03-01","Sam Morison","SA09647","Under 17"]
["SA09667","Hunters Bog Trotters","1982-10-25","Rupert Nash","SA09667","Senior"]
["SA09679","Kilbarchan AAC","1991-03-20","Nicholas Emsley","SA09679","Senior"]
["SA09706","Maryhill Harriers","1965-06-11","Margaret Peebles","SA09706","Vet"]
["SA09712","Pitreavie AAC","1990-06-19","Rebecca Burns","SA09712","Senior"]
["SA09739","Inverclyde AC","1995-08-17","Michael Houston","SA09739","Under 17"]
["SA09772","Kilbarchan AAC","1995-02-22","Matt Wild","SA09772","Under 17"]
["SA09817","Gala Harriers","1992-09-25","Gillian Sandie","SA09817","Senior"]
["SA09824","Kilmarnock H&AC","1992-03-17","Ross Connelly","SA09824","Senior"]
["SA09869","Pitreavie AAC","1995-10-27","Rachel Easton","SA09869","Under 15"]
["SA09880","Unattached","1949-06-14","Mary Hirshall","SA09880","Vet"]
["SA09909","Unattached","1963-06-08","Alistair Macdonald","SA09909","Vet"]
["SA09947","Whitemoss AAC","1997-04-24","Alasdair Stewart","SA09947","Under 15"]
["SA09949","Corstorphine AAC","1979-05-14","Corrie Roberts","SA09949","Senior"]
["SA09965","Pitreavie AAC","1996-12-13","Chloe Nethery","SA09965","Under 15"]
["SA10000","Clydesdale Harriers","1997-09-18","Rachel Busby","SA10000","Under 13"]
["SA10012","Teviotdale Harriers","1970-03-11","Craig Grieve","SA10012","Vet"]
["SA10039","Stewartry AC","1981-12-05","Colin Black","SA10039","Senior"]
["SA10055","VP-Glasgow AC","1962-09-11","Susan Finch","SA10055","Vet"]
["SA10059","Shetland AAC","1968-07-19","Arlene Bristow","SA10059","Vet"]
["SA10084","Falkirk Victoria Harriers","1958-07-03","David Murray","SA10084","Vet"]
["SA10110","Corstorphine AAC","1993-05-13","Andrew Christy","SA10110","Senior"]
["SA10111","Corstorphine AAC","1990-09-24","Rosanne Christy","SA10111","Senior"]
["SA10151","Unattached","1995-07-03","Vanessa Hogan","SA10151","Under 17"]
["SA10178","Inverness Harriers AAC","1975-11-04","Andrew MacRae","SA10178","Senior"]
["SA10195","Inverness Harriers AAC","1995-11-21","Lucy Forsyth","SA10195","Under 15"]
["SA10213","East Kilbride A.C.","1993-06-01","Fraser Jamieson","SA10213","Senior"]
["SA10217","Giffnock North AAC","1997-10-27","Robbie Barr","SA10217","Under 13"]
["SA10240","Perth Strathtay Harriers","1993-03-12","Ben MacKinnon","SA10240","Senior"]
["SA10258","Central AC","1996-03-14","Emily Greenan","SA10258","Under 15"]
["SA10305","Edinburgh AC","1997-10-08","Josh Kerr","SA10305","Under 13"]
["SA10324","Portobello Running Club","1956-12-30","Graham Porteous","SA10324","Vet"]
["SA10337","VP-Glasgow AC","1994-04-30","Christopher Barnes","SA10337","Under 17"]
["SA10353","Helensburgh AAC","1997-06-09","Fin Ritchie","SA10353","Under 15"]
["SA10434","Fife AC","1997-02-03","Fergus Ingledew","SA10434","Under 15"]
["SA10448","Central AC","1962-09-29","Robert Hutchison","SA10448","Vet"]
["SA10498","Central AC","1996-09-04","Lily Cairns-Haylor","SA10498","Under 15"]
["SA10544","Edinburgh AC","1993-03-27","Gabriella Votta","SA10544","Senior"]
["SA10563","Metro Aberdeen Running Club","1955-05-07","Jane MacAskill","SA10563","Vet"]
["SA10587","Perth Road Runners","1940-08-22","Colin Campbell","SA10587","Vet"]
["SA10617","Aberdeen AAC","1989-05-31","Hilary Armitage","SA10617","Senior"]
["SA10623","Kirkintilloch Olympians","1959-05-04","Alison Graham","SA10623","Vet"]
["SA10639","Metro Aberdeen Running Club","1961-06-22","Jean Cowie","SA10639","Vet"]
["SA10652","Airdrie Harriers","1996-12-02","Calum Muirhead","SA10652","Under 15"]
["SA10675","Stornoway Running & AC","1959-07-05","Rachel MacNeill","SA10675","Vet"]
["SA10693","Perth Road Runners","1964-04-26","Anne Wombill","SA10693","Vet"]
["SA10707","Unattached","1937-05-08","David Stewart Bauchop","SA10707","Vet"]
["SA10719","Aberdeen AAC","1990-12-15","James Joy","SA10719","Senior"]
["SA10753","Kirkintilloch Olympians","1966-07-22","Jacqui Woods","SA10753","Vet"]
["SA10762","Aberdeen AAC","1969-02-21","Neil Manson","SA10762","Vet"]
["SA10790","Carnegie Harriers","1981-04-28","Andrew Symonds","SA10790","Senior"]
["SA10813","Nithsdale AC","1996-05-10","Melissa McCrindle","SA10813","Under 15"]
["SA10842","Cumbernauld AAC","1995-04-13","Cliona Ferguson","SA10842","Under 17"]
["SA10890","Westerlands XC Club","1958-02-12","Daniel Reid","SA10890","Vet"]
["SA10915","Whitemoss AAC","1997-10-04","Taylor Jamieson","SA10915","Under 13"]
["SA10936","Falkirk Victoria Harriers","1993-03-08","Euan Martin","SA10936","Senior"]
["SA10984","Forres Harriers","1996-04-24","Heather Douglas","SA10984","Under 15"]
["SA10992","Law & District AAC","1996-12-23","Luke Foss","SA10992","Under 15"]
["SA11011","Fife AC","1953-02-24","Jocelyn Scott","SA11011","Vet"]
["SA11034","Aberdeen AAC","1977-07-29","Alasdhair Love","SA11034","Senior"]
["SA11049","Springburn Harriers","1959-08-30","Colin Watson","SA11049","Vet"]
["SA11065","Kirkintilloch Olympians","1994-11-19","Karen Wallace","SA11065","Under 17"]
["SA11107","Unattached","1990-12-15","Corin Gallagher","SA11107","Senior"]
["SA11109","Garscube Harriers","1975-03-16","John Murray","SA11109","Senior"]
["SA11159","Clydesdale Harriers","1982-05-21","Mark Rudzinski","SA11159","Senior"]
["SA11179","Unattached","1963-03-01","Russell Steedman","SA11179","Vet"]
["SA11184","Unattached","1954-11-24","Iain Plunkett","SA11184","Vet"]
["SA11213","Central AC","1960-01-15","Allister Hargreaves","SA11213","Vet"]
["SA11221","Forres Harriers","1974-05-18","Susan McRitchie","SA11221","Senior"]
["SA11237","Shettleston Harriers","1998-03-01","Jill Cherry","SA11237","Under 13"]
["SA11253","Motherwell AC","1996-08-18","Greg Cherry","SA11253","Under 15"]
["SA11284","Portobello Running Club","1968-01-16","Richard Dennis","SA11284","Vet"]
["SA11296","VP-Glasgow AC","1991-04-30","Courtney MacGuire","SA11296","Senior"]
["SA11334","Fife AC","1965-12-16","Caroline Rochford","SA11334","Vet"]
["SA11350","Dunfermline & West Fife AC","1995-04-07","Craig Stephen","SA11350","Under 17"]
["SA11374","Moray Road Runners","1996-10-22","Benjamin Mitchell","SA11374","Under 15"]
["SA11399","Larkhall YMCA Harriers","1995-02-23","Graham Ord","SA11399","Under 17"]
["SA11417","Orkney AC","1980-11-27","Margaret MacRae","SA11417","Senior"]
["SA11441","VP-Glasgow AC","1990-07-06","Nicola Hood","SA11441","Senior"]
["SA11463","Musselburgh & District AC","1997-12-06","Rhona L Segall","SA11463","Under 13"]
["SA11472","Livingston & District AAC","1997-07-31","Hayley Donaldson","SA11472","Under 15"]
["SA11506","Central AC","1994-12-21","Conor Kerr","SA11506","Under 17"]
["SA11517","Giffnock North AAC","1995-01-24","Constance Hope Mackay","SA11517","Under 17"]
["SA11526","Shettleston Harriers","1997-04-02","Colin McParland","SA11526","Under 15"]
["SA11562","Giffnock North AAC","1985-07-17","Kevin Fox","SA11562","Senior"]
["SA11582","Springburn Harriers","1990-06-09","Jonathan Graham","SA11582","Senior"]
["SA11608","Unattached","1957-01-28","Stuart McCombie","SA11608","Vet"]
["SA11640","Kilbarchan AAC","1992-10-20","Matthew Wallace","SA11640","Senior"]
["SA11650","Giffnock North AAC","1992-02-02","Daniel Chapman","SA11650","Senior"]
["SA11685","Caithness AAC","1995-03-04","Andrew Martin","SA11685","Under 17"]
["SA11697","Lothian Running Club","1991-08-28","Mhairi Inglis","SA11697","Senior"]
["SA11706","Girvan AAC","1960-09-14","Alan Gracie","SA11706","Vet"]
["SA11723","Ellon AAC","1997-07-06","Frances Bugden","SA11723","Under 15"]
["SA11773","Inverclyde AC","1996-01-02","Amy Meechan","SA11773","Under 15"]
["SA11784","Kilbarchan AAC","1992-08-27","Elizabeth McDougall","SA11784","Senior"]
["SA11807","Blackpool & Fylde Ac","1990-02-21","Laura Davies","SA11807","Senior"]
["SA11816","Kinross Road Runners","1936-05-23","Norman Smith","SA11816","Vet"]
["SA11847","Ron Hill Cambuslang Harriers","1996-08-31","Ross Stephen","SA11847","Under 15"]
["SA11850","Ron Hill Cambuslang Harriers","1995-04-27","Dean McMurran","SA11850","Under 17"]
["SA11875","Helensburgh AAC","1994-08-11","Lauren Carruthers","SA11875","Under 17"]
["SA11901","George Heriots School","1969-09-25","Frances Findlay","SA11901","Vet"]
["SA11919","Caithness AAC","1997-10-15","Kerrie Martin","SA11919","Under 13"]
["SA11964","Fife AC","1994-08-13","Callum McCracken","SA11964","Under 17"]
["SA11991","Shettleston Harriers","1994-08-14","Caitlin Greenhill","SA11991","Under 17"]
["SA12002",null,"1997-06-28","Zoe Robertson","SA12002","Under 15"]
["SA12027","Forres Harriers","1969-05-05","Sarah Grigor","SA12027","Vet"]
["SA12038","Musselburgh & District AC","1994-05-01","Laura L Robertson","SA12038","Under 17"]
["SA12080",null,"1972-06-26","Paul Raistrick","SA12080","Senior"]
["SA12092","VP-Glasgow AC","1992-03-11","Gillian MacFarlane","SA12092","Senior"]
["SA12125","Springburn Harriers","1965-12-30","Greg Dimmer","SA12125","Vet"]
["SA12132","Dundee Hawkhill Harriers","1994-04-23","Aeron Mellish","SA12132","Under 17"]
["SA12148","Unattached","1982-03-18","George Ashley","SA12148","Senior"]
["SA12168",null,"1974-06-03","Adele Page","SA12168","Senior"]
["SA12169","Dundee Hawkhill Harriers","1976-03-25","Kirsty Scott","SA12169","Senior"]
["SA12196","Inverclyde AC","1931-05-02","William Stoddart","SA12196","Vet"]
["SA12221","Dumfries Running Club","1957-11-29","Elisabeth Smart","SA12221","Vet"]
["SA12222","Aberdeen AAC","1996-01-02","Adam Crighton","SA12222","Under 15"]
["SA12243","VP-Glasgow AC","1997-06-03","Caroline MacKinnon","SA12243","Under 15"]
["SA12255","Kilbarchan AAC","1962-06-26","John McLaughlin","SA12255","Vet"]
["SA12276","East Kilbride A.C.","1994-02-09","Jennifer Waddell","SA12276","Under 17"]
["SA12299","Clydesdale Harriers","1969-06-28","Paul Carroll","SA12299","Vet"]
["SA12342","Perth Road Runners","1966-12-10","Simon Grieshaber","SA12342","Vet"]
["SA12345","Nithsdale AC","1995-01-17","Chris Ponton","SA12345","Under 17"]
["SA12396","Whitemoss AAC","1998-01-29","Megan Gemmell","SA12396","Under 13"]
["SA12407","Caithness AAC","1956-04-05","Martine A Hughes","SA12407","Vet"]
["SA12417","Irvine AC","1968-06-16","Alastair MacFarlane","SA12417","Vet"]
["SA12441","Fife AC","1996-10-20","Glen Gardiner","SA12441","Under 15"]
["SA12470","Musselburgh & District AC","1995-11-03","Kerry Morris","SA12470","Under 15"]
["SA12495","Edinburgh AC","1996-10-09","Ben Robbins","SA12495","Under 15"]
["SA12536","Unattached","1955-12-30","Maureen O'Hara","SA12536","Vet"]
["SA12547","North Uist AAC","1998-07-22","Ross Nicolson","SA12547","Under 13"]
["SA12571","Motherwell AC","1954-05-11","Brian McLinden","SA12571","Vet"]
["SA12604","Perth Strathtay Harriers","1994-05-25","Rachel Southgate","SA12604","Under 17"]
["SA12625","Shettleston Harriers","1994-01-25","Jamie Hendry","SA12625","Under 17"]
["SA12635","Carnegie Harriers","1949-04-15","Iain Thomson","SA12635","Vet"]
["SA12665","Unattached","1968-11-13","Mairi Paterson","SA12665","Vet"]
["SA12678","Moorfoot Runners","1996-05-18","Jacob Adkin","SA12678","Under 15"]
["SA12714","Dundee Hawkhill Harriers","1967-06-16","Catriona M Reynolds","SA12714","Vet"]
["SA12724","Calderglen Harriers","1972-03-01","Colin Freeman","SA12724","Senior"]
["SA12741","Law & District AAC","1997-12-03","Euan Robb","SA12741","Under 13"]
["SA12766","North Ayrshire AC","1995-12-18","Christopher Jenks","SA12766","Under 15"]
["SA12787",null,"1961-12-26","Sandra Hardacre","SA12787","Vet"]
["SA12801","Dundee Hawkhill Harriers","1991-03-13","Gareth Lamb","SA12801","Senior"]
["SA12829","Livingston & District AAC","1998-07-11","Morna Horn","SA12829","Under 13"]
["SA12841","Barrow in Furness Striders AC","1988-09-28","Jed Bartlett","SA12841","Senior"]
["SA12878","Giffnock North AAC","1957-04-16","Rodger McEleney","SA12878","Vet"]
["SA12895","Ayr Seaforth AAC","1994-12-21","Sarah Cassells","SA12895","Under 17"]
["SA12914","Fife AC","1995-12-30","Euan Berry","SA12914","Under 15"]
["SA12925","Hunters Bog Trotters","1981-12-09","Peter McClelland","SA12925","Senior"]
["SA12943","George Heriots School","1996-01-10","Ben Phelps","SA12943","Under 15"]
["SA12963","Pitreavie AAC","1979-02-24","Colin Beveridge","SA12963","Senior"]
["SA12989","St Andrews University CCC","1986-12-09","Myles Bax","SA12989","Senior"]
["SA12998","St Andrews University CCC","1988-07-23","Gardner Moore","SA12998","Senior"]
["SA13032","Ayr Seaforth AAC","1995-10-02","Shaun Rennie","SA13032","Under 15"]
["SA13044","Glasgow University Hare and H","1987-09-07","Daniel Bradford","SA13044","Senior"]
["SA13065","Lasswade AAC","1981-05-05","Martin Gore","SA13065","Senior"]
["SA13109","Irvine AC","1961-05-20","Iain Fraser","SA13109","Vet"]
["SA13112","Helensburgh AAC","1957-03-24","Andrew Stafford","SA13112","Vet"]
["SA13128","Bellahouston Road Runners","1973-03-19","Richard Leyton","SA13128","Senior"]
["SA13153","Moray Road Runners","1993-08-31","John Little","SA13153","Senior"]
["SA13158","Fife AC","1994-03-01","Elaine Cairns","SA13158","Under 17"]
["SA13178","Airdrie Harriers","1997-11-15","John Harty","SA13178","Under 13"]
["SA13207","Moray Road Runners","1960-07-19","Jonathan Cornall","SA13207","Vet"]
["SA13217","Lasswade AAC","1998-01-01","Lewis Black","SA13217","Under 13"]
["SA13249","Harmeny AC","1968-09-02","Margie Leitch","SA13249","Vet"]
["SA13292","Teviotdale Harriers","1966-04-30","Catriona M Young","SA13292","Vet"]
["SA13293","Hunters Bog Trotters","1985-06-28","Rosie Smith","SA13293","Senior"]
["SA13330","Lothian Running Club","1993-05-20","Zack Jones","SA13330","Senior"]
["SA13342","Ayr Seaforth AAC","1997-05-22","Robbie Henderson","SA13342","Under 15"]
["SA13357","Ron Hill Cambuslang Harriers","1995-04-04","Lauren Doherty","SA13357","Under 17"]
["SA13390","Giffnock North AAC","1998-02-13","Rachel Alexander","SA13390","Under 13"]
["SA13425","Livingston & District AAC","1994-07-01","Daniel Fulton","SA13425","Under 17"]
["SA13429","Falkirk Victoria Harriers","1996-09-22","Fern Gibb","SA13429","Under 15"]
["SA13465","Giffnock North AAC","1995-08-07","Anthony Deveney","SA13465","Under 17"]
["SA13473","Aberdeen AAC","1972-07-17","John Mckeown","SA13473","Senior"]
["SA13489","Harmeny AC","1968-05-27","Christina Morgan","SA13489","Vet"]
["SA13525","Central AC","1997-09-04","Jennifer Downie","SA13525","Under 13"]
["SA13533","Central AC","1995-06-03","Stacey Hardman","SA13533","Under 17"]
["SA13566","Edinburgh AC","1987-08-27","Natalie Griffiths","SA13566","Senior"]
["SA13597","Moorfoot Runners","1995-05-13","James Innes","SA13597","Under 17"]
["SA13602","Perth Road Runners","1981-03-05","Gemma Russell","SA13602","Senior"]
["SA13624","Anster Haddies Running Club","1956-10-31","Christopher Broome","SA13624","Vet"]
["SA13634","Mid Ulster Athletic Club","1986-03-17","Kevin McCloy","SA13634","Senior"]
["SA13644","Inverclyde AC","1992-05-31","Nicole Darroch","SA13644","Senior"]
["SA13665","Strathclyde Univ Harriers","1986-12-06","Patrick Cullinane","SA13665","Senior"]
["SA13674","Helensburgh AAC","1969-01-02","Christine Stanfield","SA13674","Vet"]
["SA13684","Dunbar Running Club","1954-08-29","Sheila Morrison","SA13684","Vet"]
["SA13697","Law & District AAC","1995-05-24","Aimee Gray","SA13697","Under 17"]
["SA13707","Metro Aberdeen Running Club","1952-01-18","Jane Macleod","SA13707","Vet"]
["SA13733","Motherwell AC","1963-07-30","Lesanne Cherry","SA13733","Vet"]
["SA13740","Larkhall YMCA Harriers","1962-12-20","Joe McCallum","SA13740","Vet"]
["SA13757","Moorfoot Runners","1946-05-16","David Wardman","SA13757","Vet"]
["SA13769","Pitreavie AAC","1998-03-03","Jake Beveridge","SA13769","Under 13"]
["SA13788","Carnegie Harriers","1968-01-04","Allan Fotheringham","SA13788","Vet"]
["SA13793","Motherwell AC","1998-10-23","Amy McCourt","SA13793","Under 13"]
["SA13799","Fife AC","1964-09-29","Dave Shepherd","SA13799","Vet"]
["SA13813","Anster Haddies Running Club","1963-12-06","Christine Bowie","SA13813","Vet"]
["SA13829","Clydesdale Harriers","1945-05-07","Hugh Watson","SA13829","Vet"]
["SA13838","Clydesdale Harriers","1959-09-20","Christine Duncanson","SA13838","Vet"]
["SA13853","Banchory Stonehaven AC","1998-09-10","Polly Christie","SA13853","Under 13"]
["SA13870","Edinburgh AC","1995-06-15","Michael Tomassi","SA13870","Under 17"]
["SA13895","Inverness Harriers AAC","1995-05-31","Corrin Miller","SA13895","Under 17"]
["SA13900","Pitreavie AAC","1997-12-12","Vhairi McAtear","SA13900","Under 13"]
["SA13919","Unattached","1997-12-01","Ruaridh Baxter","SA13919","Under 13"]
["SA13922","Giffnock North AAC","1998-06-20","Ross Gray","SA13922","Under 13"]
["SA13960","Fife AC","1994-09-01","Laura Gibson","SA13960","Under 17"]
["SA14027","Calderglen Harriers","1971-05-23","David Wardrope","SA14027","Senior"]
["SA14034","Giffnock North AAC","1996-01-12","Frances Lonergan","SA14034","Under 15"]
["SA14060","Giffnock North AAC","1997-12-28","Adam Kidd","SA14060","Under 13"]
["SA14078","Kirkintilloch Olympians","1961-05-07","Ros OSullivan","SA14078","Vet"]
["SA14080","Kilbarchan AAC","1997-07-26","Euan McKerral","SA14080","Under 15"]
["SA14102",null,"1996-01-21","Shona Campbell","SA14102","Under 15"]
["SA14121","Law & District AAC","1997-06-11","Laura Wight","SA14121","Under 15"]
["SA14127","Giffnock North AAC","1998-05-01","John McLaughlin","SA14127","Under 13"]
["SA14144","Pitreavie AAC","1981-06-19","Mhairi Porterfield","SA14144","Senior"]
["SA14159",null,"1961-10-18","Gordon Mackintosh","SA14159","Vet"]
["SA14168","Law & District AAC","1998-12-31","Kieran Cubis","SA14168","Under 13"]
["SA14212","Edinburgh AC","1997-05-25","Rosie Wilson","SA14212","Under 15"]
["SA14228","Pitreavie AAC","1998-03-18","Hannah Mclaughlan","SA14228","Under 13"]
["SA14246","Calderglen Harriers","1959-11-06","John McBride","SA14246","Vet"]
["SA14258","Perth Road Runners","1951-09-20","Kenneth G N Stewart","SA14258","Vet"]
["SA14268","Ross County Athletic Club","1995-03-18","Loran Mathieson","SA14268","Under 17"]
["SA14277","Caithness AAC","1996-04-10","Sharon Mackay","SA14277","Under 15"]
["SA14288","Caithness AAC","1996-06-19","Isobel MacLeod","SA14288","Under 15"]
["SA14294","East Kilbride A.C.","1995-04-12","Laura McCracken","SA14294","Under 17"]
["SA14307","Kilbarchan AAC","1996-05-22","Christopher McStay","SA14307","Under 15"]
["SA14310","Kilbarchan AAC","2000-01-11","Stephanie McStay","SA14310","Under 11"]
["SA14338","Perth Strathtay Harriers","1993-11-26","Alexander Robertson","SA14338","Under 17"]
["SA14353","Pitreavie AAC","1998-07-17","Isla Sinclair","SA14353","Under 13"]
["SA14359","Linlithgow AAC","1998-02-07","Megan Jack","SA14359","Under 13"]
["SA14370","Linlithgow AAC","1994-07-25","Linsey Campbell","SA14370","Under 17"]
["SA14395","Helensburgh AAC","1998-12-02","Lewis Serpell","SA14395","Under 13"]
["SA14404","Shettleston Harriers","1994-07-03","Cal Docherty","SA14404","Under 17"]
["SA14420","Forres Harriers","1961-07-12","Heather Stuart","SA14420","Vet"]
["SA14432","East Sutherland AC","1996-09-14","Ross Gollan","SA14432","Under 15"]
["SA14447","Livingston & District AAC","1996-08-22","Isla Bruce","SA14447","Under 15"]
["SA14463","Bellahouston Road Runners","1971-05-07","Grant Edmondson","SA14463","Senior"]
["SA14480","Perth Strathtay Harriers","1995-03-03","Andrew Forsyth","SA14480","Under 17"]
["SA14506","Edinburgh AC","1992-11-18","Chanelle Buchan","SA14506","Senior"]
["SA14518","Inverness Harriers AAC","1993-07-25","Sam Freck","SA14518","Senior"]
["SA14524","Inverness Harriers AAC","1995-02-02","Calum Green","SA14524","Under 17"]
["SA14535","Inverness Harriers AAC","1995-03-26","Mhairi MacLennan","SA14535","Under 17"]
["SA14543","Inverness Harriers AAC","1997-07-20","Arianne Ross","SA14543","Under 15"]
["SA14569","Kirkintilloch Olympians","1998-12-04","Laura Keay","SA14569","Under 13"]
["SA14604","Dundee Hawkhill Harriers","1997-04-24","Beth Curtis","SA14604","Under 15"]
["SA14615","Unattached","1971-04-04","Margaret L Sinclair","SA14615","Senior"]
["SA14629","Giffnock North AAC","1998-02-02","Alexandra Pope","SA14629","Under 13"]
["SA14649","Linlithgow AAC","1998-02-04","Michael Fairbanks","SA14649","Under 13"]
["SA14663","Edinburgh AC","1999-05-01","Cal McLennan","SA14663","Under 13"]
["SA14678","Inverness Harriers AAC","1997-04-18","Carly Grant","SA14678","Under 15"]
["SA14695","Aberdeen AAC","1955-04-25","John Geddes","SA14695","Vet"]
["SA14723","Anster Haddies Running Club","1960-02-06","Iain McConnell","SA14723","Vet"]
["SA14744","Ron Hill Cambuslang Harriers","1996-10-02","Joe Brown","SA14744","Under 15"]
["SA14776","Giffnock North AAC","1995-03-05","Scott Young","SA14776","Under 17"]
["SA14787","Orkney AC","1994-01-16","Erica Downie","SA14787","Under 17"]
["SA14794","Pitreavie AAC","1997-05-07","Johnny Pennel","SA14794","Under 15"]
["SA14818","Forres Harriers","1971-10-11","Jenny Stewart","SA14818","Senior"]
["SA14822","Lasswade AAC","1995-11-15","Megan Fleming","SA14822","Under 15"]
["SA14847","Irvine AC","1972-01-12","Mark Livingstone","SA14847","Senior"]
["SA14851","Fife AC","1975-08-01","Matthew MacPherson","SA14851","Senior"]
["SA14869","Lasswade AAC","1996-04-11","Erin Feeley","SA14869","Under 15"]
["SA14909","Edinburgh University AC","1976-03-06","Stephen Booth","SA14909","Senior"]
["SA14926","Law & District AAC","1997-03-06","Darren Daly","SA14926","Under 15"]
["SA14948","Law & District AAC","1997-12-04","Evan Jones","SA14948","Under 13"]
["SA14962","Edinburgh AC","1964-12-04","Scott Hastings","SA14962","Vet"]
["SA14978","Edinburgh AC","1995-10-02","Hamish Campbell","SA14978","Under 15"]
["SA14994","Arbroath & District AC","1998-10-13","Kelsey Young","SA14994","Under 13"]
["SA15004","Hunters Bog Trotters","1946-10-04","Christopher Oliver","SA15004","Vet"]
["SA15032","Law & District AAC","1993-12-19","Emma Bhatti","SA15032","Under 17"]
["SA15037","Edinburgh AC","1994-07-25","Rachel Dinsdale","SA15037","Under 17"]
["SA15049","Pitreavie AAC","1985-02-11","Laura Allan","SA15049","Senior"]
["SA15060","Bellahouston Road Runners","1981-04-13","Bridget Fouhy","SA15060","Senior"]
["SA15072","Edinburgh AC","1998-11-30","Natalie Robbins","SA15072","Under 13"]
["SA15087","Central AC","1999-01-07","Robert Burns","SA15087","Under 13"]
["SA15097","Bellahouston Road Runners","1969-05-10","Shona Quigley","SA15097","Vet"]
["SA15110","Shettleston Harriers","1998-10-14","Kezia Doran","SA15110","Under 13"]
["SA15136","Mid Argyll AC","1997-04-11","Ben Millar","SA15136","Under 15"]
["SA15147","Arbroath & District AC","1996-06-28","Jack Garrigan","SA15147","Under 15"]
["SA15166","Ron Hill Cambuslang Harriers","1997-03-17","Brendan Carey","SA15166","Under 15"]
["SA15182","Shettleston Harriers","1967-05-20","Susan Breckenridge","SA15182","Vet"]
["SA15198","Strathearn Harriers","1976-09-22","Angela Mackenzie","SA15198","Senior"]
["SA15214","Kilbarchan AAC","1995-05-04","Amy McIntyre","SA15214","Under 17"]
["SA15231","Nairn Road Runners","1976-05-25","Jenny Henderson","SA15231","Senior"]
["SA15239","Law & District AAC","1996-10-24","Lewis King","SA15239","Under 15"]
["SA15257","Kilmarnock H&AC","1983-03-18","Steven Currie","SA15257","Senior"]
["SA15276","Ayr Seaforth AAC","1998-12-18","Siobhan Rae","SA15276","Under 13"]
["SA15296","Arbroath & District AC","1983-04-04","Cameron Morrison","SA15296","Senior"]
["SA15304","Kilmarnock H&AC","1997-11-24","Rory Morris","SA15304","Under 13"]
["SA15331","Stornoway Running & AC","1999-05-15","Lewis MacDonald","SA15331","Under 13"]
["SA15337","Stornoway Running & AC","1997-10-24","Peigi McKellar","SA15337","Under 13"]
["SA15344","Fife AC","1999-04-11","Callum Sleigh","SA15344","Under 13"]
["SA15376","Dundee Hawkhill Harriers","1970-01-01","Roger Van Gompel","SA15376","Vet"]
["SA15393","Calderglen Harriers","1975-09-04","Claire Brady","SA15393","Senior"]
["SA15414","Motherwell AC","1996-12-27","Robert Love","SA15414","Under 15"]
["SA15436","VP-Glasgow AC","1995-08-30","Tatiana E Quick","SA15436","Under 17"]
["SA15442","Caithness AAC","1994-08-19","Sarah MacKinnon","SA15442","Under 17"]
["SA15473","Banchory Stonehaven AC","1998-05-19","Matthew Duguid","SA15473","Under 13"]
["SA15490","Calderglen Harriers","1966-12-17","Alan Cullie","SA15490","Vet"]
["SA15492","Teviotdale Harriers","1998-08-14","Sarah Brown","SA15492","Under 13"]
["SA15511","Livingston & District AAC","1995-09-03","Scott Miller","SA15511","Under 15"]
["SA15528","Forfar Road Runners","1962-01-21","Cath McInally","SA15528","Vet"]
["SA15534","Glasgow University Hare and H","1989-09-23","Philip Arthur","SA15534","Senior"]
["SA15548","Ayr Seaforth AAC","1994-08-24","Scott Gibson","SA15548","Under 17"]
["SA15584","Central AC","1995-08-21","Molly Tweedle","SA15584","Under 17"]
["SA15605","Corstorphine AAC","1980-07-15","Christopher Peggie","SA15605","Senior"]
["SA15621","VP-Glasgow AC","1997-04-11","Millie Boyle","SA15621","Under 15"]
["SA15640","Lothian Running Club","1999-04-18","Iain Horsburgh","SA15640","Under 13"]
["SA15644","Livingston & District AAC","1996-02-27","Anna McPhillips","SA15644","Under 15"]
["SA15661","Tonbridge A.C.","1993-04-18","Olivia Louise Stirrat","SA15661","Senior"]
["SA15680","Corstorphine AAC","1996-01-12","Michael Addison","SA15680","Under 15"]
["SA15681","Edinburgh Univ Hare & Hounds","1990-02-03","Pamela Morris","SA15681","Senior"]
["SA15703","Ayr Seaforth AAC","1999-05-12","Amy Topping","SA15703","Under 13"]
["SA15715","Lasswade AAC","1997-04-17","William Hutchison","SA15715","Under 15"]
["SA15730","Airdrie Harriers","1998-09-11","Sarah-Rose McDonald","SA15730","Under 13"]
["SA15751","Montrose & District AC","1996-04-09","Stewart Watson","SA15751","Under 15"]
["SA15766","Hunters Bog Trotters","1982-10-18","Doug Murray","SA15766","Senior"]
["SA15776","Livingston & District AAC","1996-09-14","Jake Thomas","SA15776","Under 15"]
["SA15794","Maryhill Harriers","1980-12-17","Stephen Jones","SA15794","Senior"]
["SA15803","Carnegie Harriers","1966-11-01","Gillian McCracken","SA15803","Vet"]
["SA15820","Lasswade AAC","1999-03-26","Stephanie Purves","SA15820","Under 13"]
["SA15830","Central AC","1998-10-03","Megan Ely","SA15830","Under 13"]
["SA15845","Helensburgh AAC","1964-12-27","Tina Munro","SA15845","Vet"]
["SA15856","Cumbernauld AAC","1998-12-29","Lorna Cowan","SA15856","Under 13"]
["SA15872","Unattached","1970-09-24","Scott Dolan","SA15872","Senior"]
["SA15879","Kilbarchan AAC","1997-01-25","Gavin McArdle","SA15879","Under 15"]
["SA15911","Law & District AAC","1997-11-07","Anya Towers","SA15911","Under 13"]
["SA15926","Edinburgh AC","1994-01-22","Michael Fernie","SA15926","Under 17"]
["SA15945","Forres Harriers","1999-02-17","Jack Carpenter","SA15945","Under 13"]
["SA15962","Whitemoss AAC","1999-05-03","Olivia Fenn","SA15962","Under 13"]
["SA15987","Lasswade AAC","1995-05-11","Rachel Wyse","SA15987","Under 17"]
["SA15997","VP-Glasgow AC","1997-08-15","Jude Sloan-Dennison","SA15997","Under 15"]
["SA16007","Unattached","1950-07-14","Elizabeth Crawford","SA16007","Vet"]
["SA16022","Shettleston Harriers","1995-05-06","Victoria McGloin","SA16022","Under 17"]
["SA16038","Annan & District AC","1998-01-08","Lewis Holliday","SA16038","Under 13"]
["SA16053","Cumbernauld AAC","1997-09-12","Meaghan Sands","SA16053","Under 13"]
["SA16083","VP-Glasgow AC","1998-11-24","Emily Lightbody","SA16083","Under 13"]
["SA16096","Motherwell AC","1996-03-26","Stephen Ross","SA16096","Under 15"]
["SA16123","Giffnock North AAC","1999-08-05","Nathan Edgar","SA16123","Under 13"]
["SA16129","Motherwell AC","1998-07-02","Owen Leach","SA16129","Under 13"]
["SA16137","Ayr Seaforth AAC","1998-12-23","Jason Evans","SA16137","Under 13"]
["SA16151","Stewartry AC","1996-01-01","Lauren Craig","SA16151","Under 15"]
["SA16169","West Dunbartonshire AC","1998-01-14","Robert Archibald","SA16169","Under 13"]
["SA16176",null,"1956-05-23","IAN MACKIE","SA16176","Vet"]
["SA16199","Falkirk Victoria Harriers","1958-01-30","Stephen Oliver","SA16199","Vet"]
["SA16207","Motherwell AC","1963-12-05","Alex HAY","SA16207","Vet"]
["SA16221","Greenock Glenpark Harriers","1994-03-17","Eillidh Hamill","SA16221","Under 17"]
["SA16225","Greenock Glenpark Harriers","1999-01-03","Lauren Mulaghton","SA16225","Under 13"]
["SA16245","Kinross Road Runners","1948-01-13","David Houston","SA16245","Vet"]
["SA16246","Pitreavie AAC","1996-10-30","Kirsten Mullen","SA16246","Under 15"]
["SA16254","Ayr Seaforth AAC","1999-02-21","Harry Mitchell","SA16254","Under 13"]
["SA16264","VP-Glasgow AC","1994-06-25","Sheena MacKillop","SA16264","Under 17"]
["SA16268","Garscube Harriers","1999-04-13","Francis Malarky","SA16268","Under 13"]
["SA16282",null,"1997-10-04","Daisy Williams","SA16282","Under 13"]
["SA16290","Beith Harriers","1999-11-16","Aidan Fitzgerald","SA16290","Under 11"]
["SA16291",null,"1996-11-13","Helena Rose Davison","SA16291","Under 15"]
["SA16305","Unattached","1963-09-13","Steven Smith","SA16305","Vet"]
["SA16313","Dumfries Running Club","1978-06-01","Joanne Needham","SA16313","Senior"]
["SA16314","Fife AC","1971-10-24","Neil Millar","SA16314","Senior"]
["SA16325","Anster Haddies Running Club","1963-10-23","Ian Mills","SA16325","Vet"]
["SA16335",null,"1996-01-13","Chiluba Young","SA16335","Under 15"]
["SA16340","Shettleston Harriers","1983-04-05","Alisdair Strange","SA16340","Senior"]
["SA16348","Kilbarchan AAC","1998-08-17","Alice Drennan","SA16348","Under 13"]
["SA16352","Airdrie Harriers","1999-09-11","Laurie Anderson","SA16352","Under 11"]
["SA16364","Broomhill Sports Club","1993-01-25","Greg Steer","SA16364","Senior"]
["SA16372","Broomhill Sports Club","1998-02-11","John Robb","SA16372","Under 13"]
["SA16380","Shettleston Harriers","1997-10-13","Euan Perry","SA16380","Under 13"]
["SA16385","Edinburgh AC","1992-07-14","Ben Smith","SA16385","Senior"]
["SA16396","East Kilbride A.C.","2000-01-21","lewis Golder","SA16396","Under 11"]
["SA16402","Harmeny AC","1967-04-09","Caroline Dunn","SA16402","Vet"]
["SA16410","Bellahouston Road Runners","1979-06-18","Bruce Carse","SA16410","Senior"]
["SA16413","Greenock Glenpark Harriers","1965-03-15","Peter Clare","SA16413","Vet"]
["SA16426","Springburn Harriers","1953-06-10","Anne Bruce","SA16426","Vet"]
["SA16434","Perth Strathtay Harriers","1997-02-19","Jacob Lewis","SA16434","Under 15"]
["SA16439","Belgrave Harriers","1973-06-28","Tim Watson","SA16439","Senior"]
["SA16448","Inverness Harriers AAC","1997-01-12","Alan McDonald","SA16448","Under 15"]
["SA16457","Fife AC","1993-09-24","Jennifer Cruickshanks","SA16457","Under 17"]
["SA16462","Central AC","1998-07-03","Kieran Potter","SA16462","Under 13"]
["SA16470","Kilmarnock H&AC","1995-03-01","Nathan Ross","SA16470","Under 17"]
["SA16475","Whitemoss AAC","1999-09-14","David John Thomson ","SA16475","Under 11"]
["SA16485","Kilbarchan AAC","1993-03-05","Joe Clayton","SA16485","Senior"]
["SA16494","Strathaven Striders","1962-03-19","Karen Strong","SA16494","Vet"]
["SA16499","Garscube Harriers","1997-05-09","Rory Stevenson","SA16499","Under 15"]
["SA16510","Shettleston Harriers","1997-10-03","Ainsley Marie Stern","SA16510","Under 13"]
["SA16522","Fife AC","1978-12-05","Jill  Bickett","SA16522","Senior"]
["SA16526","Kilmarnock H&AC","1997-07-14","Channelle Kinnaird","SA16526","Under 15"]
["SA16534","Edinburgh AC","1975-08-31","Adam Chmieloski","SA16534","Senior"]
["SA16539","VP-Glasgow AC","1998-12-14","Catriona Ross","SA16539","Under 13"]
["SA16548","Central AC","1999-05-16","Ciara  Price","SA16548","Under 13"]
["SA16557","Fife AC","1997-08-13","Aimee J  Barclay","SA16557","Under 15"]
["SA16562","Falkirk Victoria Harriers","1999-05-17","Lana Kemp","SA16562","Under 13"]
["SA16570","Stonehaven RC","1968-04-23","Josephine Thom","SA16570","Vet"]
["SA16582","Perth Road Runners","1961-06-17","Sandy Macfarlane","SA16582","Vet"]
["SA16586",null,"1999-08-30","Karl Joseph Nelson","SA16586","Under 13"]
["SA16594","Edinburgh AC","1962-02-08","Pam Armstrong","SA16594","Vet"]
["SA16606","Forres Harriers","1969-03-23","Neil Carpenter","SA16606","Vet"]
["SA16608","Chester Le Street Harriers","1979-09-25","Melissa Turner","SA16608","Senior"]
["SA16617","Livingston & District AAC","1996-01-25","Eliza Sandford","SA16617","Under 15"]
["SA16629","Shettleston Harriers","1996-10-14","Jacqueline Ann Anderson","SA16629","Under 15"]
["SA16630","Fife AC","1965-03-19","Allan Harley","SA16630","Vet"]
["SA16642","Portobello Running Club","1982-05-10","Philip Owens","SA16642","Senior"]
["SA16654","Dunfermline & West Fife AC","1998-02-21","Kirsten Francis","SA16654","Under 13"]
["SA16655","Edinburgh AC","1990-02-20","Gareth Robertson","SA16655","Senior"]
["SA16667",null,"1900-01-01","Anne Barclay","SA16667","Vet"]
["SA16670",null,"1960-02-20","Thomas Wallace","SA16670","Vet"]
["SA16677","Whitemoss AAC","1997-05-24","Graeme Blake","SA16677","Under 15"]
["SA16689","Wigan Harriers","1993-02-06","Keir lyon -Fraser","SA16689","Senior"]
["SA16697","Aberdeen AAC","1998-08-22","Lucy McLeod","SA16697","Under 13"]
["SA16703",null,"1988-05-04","Elaine Omand","SA16703","Senior"]
["SA16711","Giffnock North AAC","1997-09-06","Katherine Blues","SA16711","Under 13"]
["SA16721","West Dunbartonshire AC","1999-12-23","Kyle  Pollard","SA16721","Under 11"]
["SA16726",null,"1997-01-16","Thomas MacDonald","SA16726","Under 15"]
["SA16735",null,"1996-09-13","Lucy Dune","SA16735","Under 15"]
["SA16739","Hamilton Harriers","1966-05-18","Finlay Smith","SA16739","Vet"]
["SA16751","Cumbernauld AAC","1994-07-05","Michael Myers","SA16751","Under 17"]
["SA16759","Dunbar Running Club","1997-04-24","Natasha Binnie","SA16759","Under 15"]
["SA16765","Dunbar Running Club","1999-10-07","Linda McCandlish","SA16765","Under 11"]
["SA16777","Aberdeen AAC","1998-04-10","Matthew Reid","SA16777","Under 13"]
["SA16785",null,"1975-11-13","Lee Waller","SA16785","Senior"]
["SA16790","Unattached","1957-06-14","Christine Corson","SA16790","Vet"]
["SA16798","Dundee Hawkhill Harriers","1947-04-23","Don Lindsay","SA16798","Vet"]
["SA16803","Law & District AAC","1999-07-28","Evie Robb","SA16803","Under 13"]
["SA16813","Airdrie Harriers","1998-11-13","Eliot Wilson","SA16813","Under 13"]
["SA16821","VP-Glasgow AC","1999-09-02","Jack Houston","SA16821","Under 11"]
["SA16826","VP-Glasgow AC","1993-06-24","Sandy McIntosh","SA16826","Senior"]
["SA16837","VP-Glasgow AC","1997-02-13","Sophie Coyle","SA16837","Under 15"]
["SA16844","Motherwell AC","1997-04-04","Ronyn Gibb","SA16844","Under 15"]
["SA16849","Lothian Running Club","1997-08-04","Grant Kirkwood","SA16849","Under 15"]
["SA16857","Falkirk Victoria Harriers","1998-05-28","Erika parkinson","SA16857","Under 13"]
["SA16863","VP-Glasgow AC","1995-11-08","George Geddes","SA16863","Under 15"]
["SA16871",null,"1965-12-02","Andrew McNeill","SA16871","Vet"]
["SA16879","Edinburgh AC","1971-12-22","Stuart MacLeod","SA16879","Senior"]
["SA16884","Shettleston Harriers","1990-11-04","Matthew Gillespie","SA16884","Senior"]
["SA16899","Kilbarchan AAC","1999-03-31","Kerry MacAngus","SA16899","Under 13"]
["SA16904",null,"1996-09-28","Brooke Adams","SA16904","Under 15"]
["SA16909","Kirkintilloch Olympians","2000-03-20","Scott Connal","SA16909","Under 11"]
["SA16917","Kirkintilloch Olympians","1996-10-03","Euan McKay","SA16917","Under 15"]
["SA16924","Kirkintilloch Olympians","1999-03-19","Rowan Stevenson","SA16924","Under 13"]
["SA16931","Kilmarnock H&AC","1997-04-12","Kerri Kirkwood","SA16931","Under 15"]
["SA16939","East Kilbride A.C.","1998-09-30","Rebekka  Steele","SA16939","Under 13"]
["SA16944",null,"1984-12-06","Gordon Anderson","SA16944","Senior"]
["SA16959","Moorfoot Runners","1998-12-01","David Collins","SA16959","Under 13"]
["SA16967","Ayr Seaforth AAC","1995-11-04","Gordon Gregor","SA16967","Under 15"]
["SA16968",null,"1970-09-03","Grant Macaulay","SA16968","Senior"]
["SA16978","Lothian Running Club","1997-08-30","Gavin McCreadie","SA16978","Under 15"]
["SA16993",null,"1999-09-07","Lewis Forsyth","SA16993","Under 11"]
["SA16997","Montrose & District AC","1998-08-14","Monica Ogilvie","SA16997","Under 13"]
["SA17003","Edinburgh AC","1998-11-26","Kelly  Whigham","SA17003","Under 13"]
["SA17015","Giffnock North AAC","1998-04-10","Caitlin Allan","SA17015","Under 13"]
["SA17017","Dunfermline & West Fife AC","1998-02-03","Declan Boyle","SA17017","Under 13"]
["SA17031",null,"1998-09-05","Matthew Dalrymple","SA17031","Under 13"]
["SA17038",null,"1999-03-10","Rebecca Louise Craig","SA17038","Under 13"]
["SA17039",null,"1998-03-02","Erin McCarthy","SA17039","Under 13"]
["SA17051","Ron Hill Cambuslang Harriers","2000-01-14","Adam Hamilton","SA17051","Under 11"]
["SA17056","Corstorphine AAC","1999-09-15","Sarah  Malone","SA17056","Under 11"]
["SA17061","Ron Hill Cambuslang Harriers","1998-12-09","Lauren MacGregor","SA17061","Under 13"]
["SA17073","Larkhall YMCA Harriers","1998-05-07","Scott Dunnachie","SA17073","Under 13"]
["SA17082","Giffnock North AAC","1992-05-05","Katie  Sloan","SA17082","Senior"]
["SA17090",null,"1990-08-01","Neah Evans","SA17090","Senior"]
["SA17097","Orkney AC","1996-01-22","Evie Peace","SA17097","Under 15"]
["SA17106","Pitreavie AAC","1978-04-11","David Agnew","SA17106","Senior"]
["SA17111","Whitemoss AAC","1994-02-22","Callum Young","SA17111","Under 17"]
["SA17120","Ross County Athletic Club","1998-05-11","Jamie MacGregor","SA17120","Under 13"]
["SA17128","Falkirk Victoria Harriers","1995-06-03","Sean Griffin","SA17128","Under 17"]
["SA17136","Ron Hill Cambuslang Harriers","1999-10-13","Lauren Carey","SA17136","Under 11"]
["SA17146","Inverclyde AC","1996-11-14","Julia  Baldwin","SA17146","Under 15"]
["SA17155","Shetland AAC","1996-03-04","Kirsty  Laurenson","SA17155","Under 15"]
["SA17160","Lasswade AAC","1997-09-16","Charlee Mayes","SA17160","Under 13"]
["SA17168","Kilmarnock H&AC","1998-03-28","David Hall","SA17168","Under 13"]
["SA17173","Ayr Seaforth AAC","1967-01-23","Kevin Bloy","SA17173","Vet"]
["SA17180","Anster Haddies Running Club","1954-01-12","Susan Hutchison","SA17180","Vet"]
["SA17187",null,"1996-11-29","Jenny MacTaggart","SA17187","Under 15"]
["SA17195","Giffnock North AAC","1998-05-06","Callum Bell","SA17195","Under 13"]
["SA17203","Strathaven Striders","1968-11-24","Robert Scott","SA17203","Vet"]
["SA17208","Orkney Islands AAC","1995-06-01","Magnus Blair","SA17208","Under 17"]
["SA17213","Kilbarchan AAC","1996-05-10","Chelsea MacDougall","SA17213","Under 15"]
["SA17223","Nairn Area AAC","1999-05-22","Lewis Fraser","SA17223","Under 13"]
["SA17232","Ross County Athletic Club","1999-06-30","Finn Crockett","SA17232","Under 13"]
["SA17241","Kilmarnock H&AC","1998-04-03","Lara Ferels","SA17241","Under 13"]
["SA17253","Giffnock North AAC","1995-01-08","Amy Maxwell","SA17253","Under 17"]
["SA17259","Belgrave Harriers","1984-12-11","Colin McCourt","SA17259","Senior"]
["SA17270","Inverness Harriers AAC","1997-06-26","Stuart MacLachlan","SA17270","Under 15"]
["SA17275","East Kilbride A.C.","1995-06-20","Rebecca  Ashelby","SA17275","Under 17"]
["SA17281","Annan & District AC","1996-09-08","Charley Donaldson","SA17281","Under 15"]
["SA17289","Central AC","1998-08-14","Amy Gullen","SA17289","Under 13"]
["SA17297","Falkirk Victoria Harriers","1974-10-03","Brendan Lynch","SA17297","Senior"]
["SA17306","Kilmarnock H&AC","1997-12-23","Jordan Elliott","SA17306","Under 13"]
["SA17316","Arbroath & District AC","1998-04-28","James Payne","SA17316","Under 13"]
["SA17321","Falkirk Victoria Harriers","1994-05-11","Lewis McLean","SA17321","Under 17"]
["SA17329","Giffnock North AAC","1995-10-17","Anna Gavienas","SA17329","Under 15"]
["SA17334","Kilmarnock H&AC","1995-05-04","Laura Nicolson","SA17334","Under 17"]
["SA17341","North Uist AAC","1999-02-16","Fergus MacVicar","SA17341","Under 13"]
["SA17355","Dundee Hawkhill Harriers","2000-03-22","maddie owen","SA17355","Under 11"]
["SA17356","Ayr Seaforth AAC","1997-04-10","Nicole Telfer","SA17356","Under 15"]
["SA17364","Kilmarnock H&AC","1998-09-28","Calum Murray","SA17364","Under 13"]
["SA17374","Kilbarchan AAC","1997-06-27","Sebastian Bascetta","SA17374","Under 15"]
["SA17378","Kilbarchan AAC","1997-11-04","Katie Turnbull","SA17378","Under 13"]
["SA17390",null,"1999-09-01","Peter Lochans","SA17390","Under 11"]
["SA17398","Carnethy Hill Racing Club","1992-10-05","Trevor Wilkinson","SA17398","Senior"]
["SA17399","Carnethy Hill Racing Club","1994-12-03","Owen Wilkinson","SA17399","Under 17"]
["SA17412","Kirkintilloch Olympians","1998-11-19","Callum McKenzie","SA17412","Under 13"]
["SA17420","North Uist AAC","1998-09-15","Katlyn Maclellan","SA17420","Under 13"]
["SA17421",null,"1999-08-19","Erin Dale","SA17421","Under 13"]
["SA17432","Edinburgh AC","1974-02-19","James Mittra","SA17432","Senior"]
["SA17442","Ayr Seaforth AAC","1997-09-29","Khyla Victoria McLatchie Dempsey","SA17442","Under 13"]
["SA17447","Kilmarnock H&AC","2000-04-27","Ryan  Dixon","SA17447","Under 11"]
["SA17456","Inverness Harriers AAC","1998-12-16","Daniel Wilby","SA17456","Under 13"]
["SA17464","Kilmarnock H&AC","1998-04-09","Lauren Reeves","SA17464","Under 13"]
["SA17466",null,"1998-01-28","Eilidh MacDonald","SA17466","Under 13"]
["SA17479",null,"1979-08-16","Martin Crawford","SA17479","Senior"]
["SA17484","Fife AC","1998-10-05","Matthew Baddeley","SA17484","Under 13"]
["SA17492","Central AC","1997-10-16","Charlotte Tilley","SA17492","Under 13"]
["SA17501","Dundee Hawkhill Harriers","1994-09-07","Daniel Ajuh","SA17501","Under 17"]
["SA17507","Moray Road Runners","1997-02-17","Jamie Heald","SA17507","Under 15"]
["SA17515",null,"1989-06-22","Peter Fowley","SA17515","Senior"]
["SA17524","Shettleston Harriers","1995-12-01","Ahmed Hassan","SA17524","Under 15"]
["SA17527",null,"1963-08-27","Johnny Logan","SA17527","Vet"]
["SA17538","Hunters Bog Trotters","1970-09-03","James Jarvis","SA17538","Senior"]
["SA17543","Garscube Harriers","1997-09-23","James Stanley","SA17543","Under 13"]
["SA17551","Nairn Area AAC","1999-09-28","Dylan No Name","SA17551","Under 11"]
["SA17560","Ayr Seaforth AAC","1997-12-05","Charlotte Crossland","SA17560","Under 13"]
["SA17566","Giffnock North AAC","1994-03-01","Declan Campbell","SA17566","Under 17"]
["SA17574","Giffnock North AAC","1996-06-06","Jennifer Boyd","SA17574","Under 15"]
["SA17582","Inverness Harriers AAC","1994-09-07","Morvern MacKenzie","SA17582","Under 17"]
["SA17586","Ayr Seaforth AAC","1998-01-21","Jamie Colquhoun","SA17586","Under 13"]
["SA17596","Ellon AAC","1996-08-25","Beth Hitchcock","SA17596","Under 15"]
["SA17601","Inverness Harriers AAC","1994-10-01","Samantha MacFarlane","SA17601","Under 17"]
["SA17610","Edinburgh AC","1994-06-16","Ailsa Bruce","SA17610","Under 17"]
["SA17622","Dunfermline & West Fife AC","1996-08-03","Alistair Symonds","SA17622","Under 15"]
["SA17626","Strathearn Harriers","1998-07-04","Rebecca Harper","SA17626","Under 13"]
["SA17637",null,"1996-05-18","Grant McGregor","SA17637","Under 15"]
["SA17643","Corstorphine AAC","1994-06-01","Jack Williams","SA17643","Under 17"]
["SA17651","Dumfries Harriers","1960-04-10","Kevin McCaig","SA17651","Vet"]
["SA17660","Dumfries Harriers","1976-08-03","Chris Haining","SA17660","Senior"]
["SA17665","Orkney AC","1993-11-19","Steven Macphail","SA17665","Under 17"]
["SA17673","Pitreavie AAC","1993-11-02","Gary Stewart","SA17673","Under 17"]
["SA17684","Central AC","1996-04-02","Hamish Innes","SA17684","Under 15"]
["SA17687","Irvine AC","1994-01-28","Ryan McEwan","SA17687","Under 17"]
["SA17695","Dunbar Running Club","1998-07-02","Jack Armstrong","SA17695","Under 13"]
["SA17707","Tweed,Leader,Jed Track","1994-08-05","David Edwards","SA17707","Under 17"]
["SA17708","Dundee Hawkhill Harriers","1995-01-19","Jenna Wighton","SA17708","Under 17"]
["SA17717","Inverness Harriers AAC","1994-09-30","Ryan McConnell","SA17717","Under 17"]
["SA17730",null,"1986-04-23","Kevin Farmer","SA17730","Senior"]
["SA17731","Dunbar Running Club","1968-12-12","Emma Taylor","SA17731","Vet"]
["SA17739","Shettleston Harriers","1994-12-16","Andrew Wright","SA17739","Under 17"]
["SA17753","Nairn Area AAC","1999-12-28","Lauren Haggarty","SA17753","Under 11"]
["SA17755","Helensburgh AAC","1982-12-09","Christopher Moses","SA17755","Senior"]
["SA17767","Larkhall YMCA Harriers","2000-06-23","David Lees","SA17767","Under 11"]
["SA17776","Giffnock North AAC","1966-06-23","Graeme Fleming","SA17776","Vet"]
["SA17780","Ayr Seaforth AAC","2000-07-26","Anna George","SA17780","Under 11"]
["SA17791","Dunbar Running Club","2000-06-30","Ruth Kowbell","SA17791","Under 11"]
["SA17799","Pitreavie AAC","1997-06-23","Jennifer Buchanan","SA17799","Under 15"]
["SA17804","Giffnock North AAC","1997-01-27","Carla Rankin","SA17804","Under 15"]
["SA17815","Dundee Hawkhill Harriers","1972-05-01","Gordon Barrie","SA17815","Senior"]
["SA17823","Giffnock North AAC","1998-07-27","Ross Donnelly","SA17823","Under 13"]
["SA17828","Motherwell AC","1993-08-03","William Arthur","SA17828","Senior"]
["SA17838","Dunfermline & West Fife AC","1997-06-20","Hannah Cameron","SA17838","Under 15"]
["SA17842","Lasswade AAC","2000-03-12","Alannis Hutchison","SA17842","Under 11"]
["SA17852","Brechin High AC","1999-01-31","Caitlyn Tough","SA17852","Under 13"]
["SA17860","Law & District AAC","1999-09-20","Morgan Jones","SA17860","Under 11"]
["SA17865","Pitreavie AAC","1995-07-06","Abigail Calder","SA17865","Under 17"]
["SA17878","Giffnock North AAC","1965-05-23","Dawn Zuberi","SA17878","Vet"]
["SA17886","VP-Glasgow AC","1995-01-09","Mark Vallance","SA17886","Under 17"]
["SA17891","Giffnock North AAC","1998-03-22","Jenna Wrisberg","SA17891","Under 13"]
["SA17899","Inverness Harriers AAC","1997-05-07","Katie  Sneddon","SA17899","Under 15"]
["SA17904",null,"1998-12-29","Luis Garcia","SA17904","Under 13"]
["SA17915","Larkhall YMCA Harriers","1998-09-15","Christie Cunningham","SA17915","Under 13"]
["SA17923","Aberdeen AAC","1991-10-30","Tai Jericevich","SA17923","Senior"]
["SA17931","Lasswade AAC","1972-03-24","John Grant","SA17931","Senior"]
["SA17939","Shettleston Harriers","1996-03-20","Jessica Calder","SA17939","Under 15"]
["SA17950","Livingston & District AAC","1997-11-30","Connor Stewart","SA17950","Under 13"]
["SA17953",null,"1997-05-25","Chloe Morrison","SA17953","Under 15"]
["SA17961","Stornoway Running & AC","1997-06-04","Kara Aline Hanlon","SA17961","Under 15"]
["SA17966","Inverness Harriers AAC","1999-04-25","Hannah Rasmussen","SA17966","Under 13"]
["SA17976","Helensburgh AAC","1971-05-16","Karl Giarchi","SA17976","Senior"]
["SA17984","Kirkintilloch Olympians","1979-09-12","Gary Connell","SA17984","Senior"]
["SA17990","Giffnock North AAC","1998-10-23","Sean Smith","SA17990","Under 13"]
["SA17999","Forres Harriers","1968-05-28","Alan Johnstone","SA17999","Vet"]
["SA18011","Caithness AAC","1994-10-29","Andrew Nicolson","SA18011","Under 17"]
["SA18014","Law & District AAC","1999-01-28","Mark Adams","SA18014","Under 13"]
["SA18024","Caithness AAC","1998-10-02","Kane  Webber","SA18024","Under 13"]
["SA18029","Giffnock North AAC","2000-04-22","Catriona G Rennick","SA18029","Under 11"]
["SA18040","Caithness AAC","2000-04-06","Michael MacGregor","SA18040","Under 11"]
["SA18047","Helensburgh AAC","1977-04-28","Iain Walker","SA18047","Senior"]
["SA18052","Kilbarchan AAC","2004-01-05","Jennifer Hanlon","SA18052","Under 11"]
["SA18060","Ellon AAC","1992-06-03","Philip Kenyon","SA18060","Senior"]
["SA18073","Livingston & District AAC","1999-02-15","Rebecca Proudfoot","SA18073","Under 13"]
["SA18074","Livingston & District AAC","1999-05-07","Emma Birch","SA18074","Under 13"]
["SA18082","Bellahouston Road Runners","1981-04-05","Emma Bryson","SA18082","Senior"]
["SA18094","Kilbarchan AAC","1994-09-29","Fraser Warwick","SA18094","Under 17"]
["SA18098","Kilbarchan AAC","1999-01-19","Chloe Baillie","SA18098","Under 13"]
["SA18105","Edinburgh Univ Hare & Hounds","1991-01-30","Daniel Ashworth","SA18105","Senior"]
["SA18117","Strathclyde Univ Harriers","1990-04-01","Neil McDonald","SA18117","Senior"]
["SA18118","Haddington East Lothian Pacem","1971-07-29","Eddie Balfour","SA18118","Senior"]
["SA18133","Calderglen Harriers","1960-12-09","James Carrigan","SA18133","Vet"]
["SA18140","Bellahouston Road Runners","1965-01-17","Graeme Gemmel","SA18140","Vet"]
["SA18141","Central AC","1998-02-20","Cameron Taylor","SA18141","Under 13"]
["SA18154",null,"1996-02-10","Lizzie Knox","SA18154","Under 15"]
["SA18159","Bellahouston Harriers","1985-09-02","Emily Gilleece","SA18159","Senior"]
["SA18164","Giffnock North AAC","1996-06-13","Nathan Munroe","SA18164","Under 15"]
["SA18176","Moray Road Runners","1997-04-09","Callum Alexander","SA18176","Under 15"]
["SA18184","Kirkintilloch Olympians","1996-05-09","Sam Cunningham","SA18184","Under 15"]
["SA18189","Springburn Harriers","1979-04-25","Kirsten Ferguson","SA18189","Senior"]
["SA18192","North Ayrshire AC","1998-02-12","Jack Petrie","SA18192","Under 13"]
["SA18206","Edinburgh Univ Hare & Hounds","1991-02-12","Yvonne Catherine Hastie","SA18206","Senior"]
["SA18211",null,"1969-03-19","Laura MacLellan","SA18211","Vet"]
["SA18220","St Andrews University CCC","1991-08-16","Julia Djurfeldt","SA18220","Senior"]
["SA18226","St Andrews University CCC","1989-05-21","David Farnell","SA18226","Senior"]
["SA18234","Forres Harriers","1997-12-23","lauren Allan","SA18234","Under 13"]
["SA18244","Girvan AAC","1960-06-20","Iain Davidson","SA18244","Vet"]
["SA18250","Garscube Harriers","1995-12-29","HELENA WATSON","SA18250","Under 15"]
["SA18254","Teviotdale Harriers","2000-04-02","Ishbel Inglis","SA18254","Under 11"]
["SA18268","Edinburgh Univ Hare & Hounds","1991-03-13","Rebecca Hannah","SA18268","Senior"]
["SA18274","Motherwell AC","1992-04-13","Stephen Riley","SA18274","Senior"]
["SA18285",null,"1971-12-01","Amanda Morrison","SA18285","Senior"]
["SA18292","Kilmarnock H&AC","1970-12-29","Joan Graham","SA18292","Senior"]
["SA18299","Kirkintilloch Olympians","2000-05-09","Matthew Cribbes","SA18299","Under 11"]
["SA18307","Kilbarchan AAC","1997-06-30","Andrea Graham","SA18307","Under 15"]
["SA18312","Larkhall YMCA Harriers","2000-08-17","Elle Henderson","SA18312","Under 11"]
["SA18317","Garscube Harriers","1969-10-22","Patricia Pryce","SA18317","Vet"]
["SA18327","North Ayrshire AC","1998-03-30","Kyle Jackson","SA18327","Under 13"]
["SA18335","Aldershot Farnham & Dist","1991-03-10","Lilly Partridge","SA18335","Senior"]
["SA18343","North Ayrshire AC","1997-11-05","Derry Wyllie","SA18343","Under 13"]
["SA18351","Central AC","1999-03-30","James Thomson","SA18351","Under 13"]
["SA18357","Garscube Harriers","1989-05-03","Michael O'Hara","SA18357","Senior"]
["SA18365","Fife AC","1984-07-30","Amie McKimmie","SA18365","Senior"]
["SA18370","VP-Glasgow AC","1998-06-22","Ellie Black","SA18370","Under 13"]
["SA18376","VP-Glasgow AC","1998-03-19","Clare Matheson","SA18376","Under 13"]
["SA18384","VP-Glasgow AC","1996-06-08","Nikola Tajner","SA18384","Under 15"]
["SA18393","Teviotdale Harriers","2000-08-28","Emma Grieve","SA18393","Under 11"]
["SA18402","Ayr Seaforth AAC","2000-09-22","Daniel Martin","SA18402","Under 11"]
["SA18407","Helensburgh AAC","1999-01-10","Katie MacGregor","SA18407","Under 13"]
["SA18420","Bellahouston Road Runners","1967-06-15","Fiora Mcfarlane","SA18420","Vet"]
["SA18425","Greenock Glenpark Harriers","1965-07-11","Heather Kangley","SA18425","Vet"]
["SA18430","St Andrews University CCC","1990-11-08","David I Bowers","SA18430","Senior"]
["SA18444","Law & District AAC","1997-10-14","Roxanne Motaghian","SA18444","Under 13"]
["SA18451","VP-Glasgow AC","1997-10-14","Tuesday McKendrick","SA18451","Under 13"]
["SA18461","Moray Road Runners","1994-10-14","Toby Dobbs","SA18461","Under 17"]
["SA18473","Falkirk Victoria Harriers","1992-11-26","Megan Risk","SA18473","Senior"]
["SA18486","Livingston & District AAC","2004-07-04","Calum Gregory","SA18486","Under 11"]
["SA18492","Kirkintilloch Olympians","1958-10-29","Robert Watson","SA18492","Vet"]
["SA18500","Ayr Seaforth AAC","1971-04-28","Barry Duddy","SA18500","Senior"]
["SA18509","Kilmarnock H&AC","2000-04-22","Iona Charles","SA18509","Under 11"]
["SA18510","Carnegie Harriers","1981-11-13","Kristin Lownie","SA18510","Senior"]
["SA18519",null,"1975-07-18","Carolyn Hare","SA18519","Senior"]
["SA18533","Calderglen Harriers","1997-06-10","Connor White","SA18533","Under 15"]
["SA18534","Calderglen Harriers","1997-11-08","Michael McAllister","SA18534","Under 13"]
["SA18546","Kilmarnock H&AC","1996-04-11","Jessica Russell","SA18546","Under 15"]
["SA18553","North Uist AAC","1997-02-12","Jamie Sullivan","SA18553","Under 15"]
["SA18560","Carnegie Harriers","1942-08-27","John Milton","SA18560","Vet"]
["SA18569","Cumbernauld AAC","1992-12-02","Katie Mcilwraith","SA18569","Senior"]
["SA18577","Helensburgh AAC","1966-02-19","Barbara Earnshaw","SA18577","Vet"]
["SA18579","Edinburgh Univ Hare & Hounds","1991-07-08","Chloe Haines","SA18579","Senior"]
["SA18591","Stonehaven RC","1960-04-20","Annie Reid","SA18591","Vet"]
["SA18596","Helensburgh AAC","1965-08-17","Elizabeth Bowden","SA18596","Vet"]
["SA18604","Ross County Athletic Club","1976-02-23","Adelle Mercer","SA18604","Senior"]
["SA18612","Inverness Harriers AAC","2000-02-12","Phillip Gordon","SA18612","Under 11"]
["SA18618","Montrose & District AC","1996-10-16","Kyle Findlater","SA18618","Under 15"]
["SA18626","Montrose & District AC","2000-05-14","Kerrie  Penman","SA18626","Under 11"]
["SA18634","Calderglen Harriers","1999-06-14","Lynsey Thomson","SA18634","Under 13"]
["SA18637","Unattached","1970-01-23","Carol O'Halloran","SA18637","Vet"]
["SA18649","Perth Strathtay Harriers","1996-07-20","Ross Ogg","SA18649","Under 15"]
["SA18654","Inverness Harriers AAC","1992-02-18","Jo Shepherd","SA18654","Senior"]
["SA18662","Unattached","1973-01-16","Nicky Easton","SA18662","Senior"]
["SA18670","Lochaber AC","1964-02-18","Fiona Mackenzie","SA18670","Vet"]
["SA18679","Helensburgh AAC","1956-08-26","LIz McHard","SA18679","Vet"]
["SA18684","East Kilbride A.C.","1996-02-22","Vincent Hastings","SA18684","Under 15"]
["SA18692","Giffnock North AAC","1998-11-04","Dominic Hendrie","SA18692","Under 13"]
["SA18697","Lochaber AC","1998-07-16","Frances Oliver","SA18697","Under 13"]
["SA18704","Aberdeen AAC","1978-03-20","Lee Polson","SA18704","Senior"]
["SA18711","Dundee Hawkhill Harriers","1994-05-17","Ellen Andrew","SA18711","Under 17"]
["SA18720",null,"1988-04-20","David McNamee","SA18720","Senior"]
["SA18729","Perth Strathtay Harriers","1998-01-09","Eilidh Robertson","SA18729","Under 13"]
["SA18740","Clydesdale Harriers","1996-09-10","Georgia Cameron","SA18740","Under 15"]
["SA18745","East Kilbride A.C.","1999-03-24","Liam Wynne","SA18745","Under 13"]
["SA18752","Havering Mayersbrook AC","1957-11-16","Peter Kadobinskyj","SA18752","Vet"]
["SA18762","Haddington East Lothian Pacem","1997-06-05","Mhairi Cunningham","SA18762","Under 15"]
["SA18770","Kirkintilloch Olympians","1996-04-30","Kieran Haddock","SA18770","Under 15"]
["SA18776","Kirkintilloch Olympians","1998-10-06","Greg Burns","SA18776","Under 13"]
["SA18784","Inverness Harriers AAC","1998-07-07","Andrew Joel McFarlane","SA18784","Under 13"]
["SA18793","Lasswade AAC","1997-02-24","William Steel","SA18793","Under 15"]
["SA18804","Cumbernauld AAC","1972-05-18","Caroline Ferguson","SA18804","Senior"]
["SA18807","Ron Hill Cambuslang Harriers","1980-09-21","David Munro","SA18807","Senior"]
["SA18822","Aberdeen AAC","1997-10-31","Emma Murray","SA18822","Under 13"]
["SA18823","Whitemoss AAC","1999-02-28","Andrew Thurston","SA18823","Under 13"]
["SA18833","Musselburgh & District AC","1998-10-23","Lynsey Purves","SA18833","Under 13"]
["SA18845","Musselburgh & District AC","1996-05-06","Rachel Foley","SA18845","Under 15"]
["SA18846","Kilmarnock H&AC","1997-10-26","Harris Baird","SA18846","Under 13"]
["SA18856","Kilbarchan AAC","1997-12-01","Conor Toal","SA18856","Under 13"]
["SA18870","Falkirk Victoria Harriers","1998-04-13","Cailin Roy","SA18870","Under 13"]
["SA18872","West Dunbartonshire AC","1999-05-20","Aidan Ball","SA18872","Under 13"]
["SA18884","Edinburgh AC","2000-03-25","Catherine Bough","SA18884","Under 11"]
["SA18892","Shettleston Harriers","2000-11-12","Roisin Toland","SA18892","Under 11"]
["SA18893","Clydesdale Harriers","2000-05-28","Ryan Alexander","SA18893","Under 11"]
["SA18903","Ayr Seaforth AAC","1997-03-10","Miklos Csiky","SA18903","Under 15"]
["SA18916","Cumbernauld AAC","2000-03-22","Beth Tobin","SA18916","Under 11"]
["SA18924","Lothian & Borders Police AC","1969-04-23","Richie Adams","SA18924","Vet"]
["SA18934","Corstorphine AAC","1975-07-25","Gillian Carr","SA18934","Senior"]
["SA18943","Lasswade AAC","2000-03-12","Katie Golder","SA18943","Under 11"]
["SA18948","Unattached","1900-01-01","Kenny Falconer","SA18948","Vet"]
["SA18956","Unattached","1994-12-22","David Carlaw","SA18956","Under 17"]
["SA18964","Kilmarnock H&AC","1996-09-23","Sophie Dunlop","SA18964","Under 15"]
["SA18970",null,"1967-09-15","Rosemary Hunter","SA18970","Vet"]
["SA18983","Aberdeen AAC","1967-03-02","Barry Reaper","SA18983","Vet"]
["SA18988","Moray Road Runners","1951-03-16","Allan Smith","SA18988","Vet"]
["SA18996","Falkirk Victoria Harriers","1983-07-31","David Hogarth","SA18996","Senior"]
["SA19008","Forres Harriers","1967-01-22","Cisca Cameron","SA19008","Vet"]
["SA19012","Garscube Harriers","1996-05-10","Erin Docherty","SA19012","Under 15"]
["SA19020","VP-Glasgow AC","1965-03-12","Ralph Connolly","SA19020","Vet"]
["SA19025","Garscube Harriers","1993-03-15","David Beglan","SA19025","Senior"]
["SA19034","St Mary's Richmond","1991-08-16","Calum Brown","SA19034","Senior"]
["SA19049","Lothian Running Club","1998-01-02","Megan Balharrie","SA19049","Under 13"]
["SA19054","Perth Road Runners","1976-11-15","Meike Cooper","SA19054","Senior"]
["SA19063","Shettleston Harriers","1998-04-26","Nicola Graham","SA19063","Under 13"]
["SA19075","Garscube Harriers","1998-10-31","Caitlin Fleming","SA19075","Under 13"]
["SA19078","Deeside Runners","1997-09-17","Ewen Kerridge","SA19078","Under 13"]
["SA19086","Kilmarnock H&AC","1993-05-07","Heather Baird","SA19086","Senior"]
["SA19091","Metro Aberdeen Running Club","1979-12-05","Steven Walker","SA19091","Senior"]
["SA19100","Tweed,Leader,Jed Track","1995-05-25","Cameron Balfour","SA19100","Under 17"]
["SA19108","Giffnock North AAC","2000-05-30","Sarah Walsh","SA19108","Under 11"]
["SA19114","Perth Strathtay Harriers","1999-03-11","Fraser Gillies","SA19114","Under 13"]
["SA19122","Stornoway Running & AC","1968-07-05","James Warnock","SA19122","Vet"]
["SA19134","Garscube Harriers","1998-01-04","Giovanna Giambastiani","SA19134","Under 13"]
["SA19136","Portobello Running Club","1967-11-16","Julie Moffat","SA19136","Vet"]
["SA19144","Portobello Running Club","1977-05-20","Gareth Green","SA19144","Senior"]
["SA19149","Lasswade AAC","1999-07-05","Matthew Smith","SA19149","Under 13"]
["SA19157","Dumfries Harriers","1985-03-26","David Turner","SA19157","Senior"]
["SA19167","Dunbar Running Club","1967-08-18","Brian Davidson","SA19167","Vet"]
["SA19171","Kinross Road Runners","1966-04-10","Stephen Crawford","SA19171","Vet"]
["SA19179","Stornoway Running & AC","1978-12-22","Noell Deplano","SA19179","Senior"]
["SA19193","North Ayrshire AC","2000-08-20","James Jack","SA19193","Under 11"]
["SA19194","North Ayrshire AC","1998-04-20","Ryan Graham","SA19194","Under 13"]
["SA19204","Montrose & District AC","1996-10-14","Jane Leckie","SA19204","Under 15"]
["SA19216","Aberdeen AAC","1996-06-12","Megan Rosemary Shearer","SA19216","Under 15"]
["SA19217","Kirkintilloch Olympians","1980-09-29","Paul O'Connor","SA19217","Senior"]
["SA19229","Banchory Stonehaven AC","2000-06-18","Eliza Burgoyne","SA19229","Under 11"]
["SA19239",null,"1996-03-02","Ewan Carter","SA19239","Under 15"]
["SA19240",null,"1971-04-21","Claire Imrie","SA19240","Senior"]
["SA19253","Keith & District AAC","1957-10-21","Ron Wild","SA19253","Vet"]
["SA19255","Edinburgh AC","1986-02-27","Daniel Clarkson","SA19255","Senior"]
["SA19263",null,"2000-05-07","Laurie Allardes","SA19263","Under 11"]
["SA19275","Lasswade AAC","2000-03-30","Lucy Brogan","SA19275","Under 11"]
["SA19283","Unattached","1980-08-28","David Hughes","SA19283","Senior"]
["SA19288","Livingston & District AAC","2000-02-10","Morgan Bow","SA19288","Under 11"]
["SA19297","Beith Harriers","2000-08-14","Greg Anderson","SA19297","Under 11"]
["SA19306","Fife AC","1975-07-13","Dan Gates","SA19306","Senior"]
["SA19312","Metro Aberdeen Running Club","1966-07-27","Steven Chalmers","SA19312","Vet"]
["SA19317","Central AC","1998-05-02","Cameron Wilson","SA19317","Under 13"]
["SA19335","J W Kilmarnock H&AC","1997-09-02","Robyn McClymont","SA19335","Under 13"]
["SA19340","Ochil Hill Runners","1965-08-06","Ron Martin","SA19340","Vet"]
["SA19348",null,"1982-09-17","Julie Carlisle","SA19348","Senior"]
["SA19355","Ayr Seaforth AAC","1994-03-16","Sarah Ross","SA19355","Under 17"]
["SA19363","Ron Hill Cambuslang Harriers","1998-03-18","Connor McGlinchey","SA19363","Under 13"]
["SA19371","Greenock Glenpark Harriers","1993-12-29","Sean McCallion","SA19371","Under 17"]
["SA19383","Central AC","1997-09-19","Tom Chandler","SA19383","Under 13"]
["SA19387","Clydesdale Harriers","1999-08-31","Jenny Kerr","SA19387","Under 13"]
["SA19395","Nithsdale AC","2000-01-25","Robson Mackay","SA19395","Under 11"]
["SA19396","Central AC","1997-06-23","Saskia Anderson","SA19396","Under 15"]
["SA19397","Moray Road Runners","2000-12-27","Grace Whelan","SA19397","Under 11"]
["SA19398","Central AC","2000-01-28","Jack Houghton","SA19398","Under 11"]
["SA19399","Dunfermline & West Fife AC","1994-10-29","David Brand","SA19399","Under 17"]
["SA19401","Westerlands XC Club","1974-05-03","Ivan Chindurza","SA19401","Senior"]
["SA19402","Metro Aberdeen Running Club","1976-02-11","Jackie Morrison","SA19402","Senior"]
["SA19403","Giffnock North AAC","1997-07-19","Lucy Davidson","SA19403","Under 15"]
["SA19404","Ron Hill Cambuslang Harriers","1968-05-18","Alan Ramage","SA19404","Vet"]
["SA19405","Orkney Islands AAC","1956-08-09","Ian Sutcliffe","SA19405","Vet"]
["SA19406","VP-Glasgow AC","1955-03-31","Peter Dawes","SA19406","Vet"]
["SA19407","Pitreavie AAC","1979-08-28","Paul Foster","SA19407","Senior"]
["SA19409","Dunfermline & West Fife AC","2000-02-09","Louise McCullagh","SA19409","Under 11"]
["SA19410","Central AC","22 August 200","Evie Gallagher","SA19410"]
["SA19411","Central AC","2000-08-22","Kate Gallagher","SA19411","Under 11"]
["SA19412","Bellahouston Road Runners","1981-09-07","Alex Lawther","SA19412","Senior"]
["SA19413","Central AC","2000-10-03","Ross McCorgray","SA19413","Under 11"]
["SA19414","Ross County Athletic Club","1997-09-08","Mhairi MacPhail","SA19414","Under 13"]
["SA19415","East Kilbride A.C.","1998-07-08","Stephen Leadbitter","SA19415","Under 13"]
["SA19417","Falkirk Victoria Harriers","1996-04-07","Mairi McKenna","SA19417","Under 15"]
["SA19418","Kirkintilloch Olympians","1999-04-25","Andrew Canning","SA19418","Under 13"]
["SA19419","Garscube Harriers","1987-05-25","Gary Goldie","SA19419","Senior"]
["SA19420","Maryhill Harriers","1997-06-13","Catriona Crawford","SA19420","Under 15"]
["SA19421","Whitemoss AAC","1997-09-29","Joshua Maitland","SA19421","Under 13"]
["SA19422","Aberdeen AAC","1997-06-01","Steven Murray","SA19422","Under 15"]
["SA19423","East Kilbride A.C.","2000-09-29","Maria Mulholland","SA19423","Under 11"]
["SA19424","Whitemoss AAC","1998-11-27","Blair Peacock","SA19424","Under 13"]
["SA19426","Aberdeen AAC","1996-01-24","Sarah-Jane Bush","SA19426","Under 15"]
["SA19427","Kelvin Runners","1966-05-09","Heather Morrison","SA19427","Vet"]
["SA19428","Kilmarnock H&AC","1999-09-07","Brooke Kyle","SA19428","Under 11"]
["SA19430","Bellahouston Harriers","1980-05-26","Suzanne Boyle","SA19430","Senior"]
["SA19431","East Kilbride A.C.","2000-04-27","Emma Roberts","SA19431","Under 11"]
["SA19432","Motherwell AC","1977-05-30","Craig Adams","SA19432","Senior"]
["SA19433","Giffnock North AAC","1985-02-25","Patrick McVey","SA19433","Senior"]
["SA19434","Cosmic Hillbashers AAC","1977-09-11","Kevin Harper","SA19434","Senior"]
["SA19435","Edinburgh AC","1998-08-31","Caitlin Hayes","SA19435","Under 13"]
["SA19436","Caithness AAC","1998-09-07","James McCafferty","SA19436","Under 13"]
["SA19437","Glasgow University Hare and H","1990-09-01","Chris Clarke","SA19437","Senior"]
["SA19438","Kilmarnock H&AC","1995-04-12","Kelly Gilbert","SA19438","Under 17"]
["SA19439","Kilmarnock H&AC","1978-10-01","Michelle Goldie","SA19439","Senior"]
["SA19440","Bellahouston Harriers","1974-01-08","David Mooney","SA19440","Senior"]
["SA19441","Stornoway Running & AC","1967-02-11","Ruairi MacIver","SA19441","Vet"]
["SA19442","Caithness AAC","2000-10-04","Stuart Kirk","SA19442","Under 11"]
["SA19443","Lothian Running Club","1986-04-09","Chloe Cox","SA19443","Senior"]
["SA19444","Central AC","1983-06-30","Lyndsay Morrison","SA19444","Senior"]
["SA19445","Penicuik Harriers","1966-03-03","Kirsty Loudon","SA19445","Vet"]
["SA19446","Dumfries Harriers","1963-02-21","Jane Vickers","SA19446","Vet"]
["SA19447","Central AC","2000-12-19","Rena Fleming","SA19447","Under 11"]
["SA19448","Unattached","2001-03-14","Dion Ingram","SA19448","Under 11"]
["SA19449","VP-Glasgow AC","2000-05-25","Cameron Wray","SA19449","Under 11"]
["SA19450","Lasswade AAC","1998-06-16","Emma Watson","SA19450","Under 13"]
["SA19451","Lasswade AAC","1994-04-15","Fergus Nimmo","SA19451","Under 17"]
["SA19452","Lasswade AAC","1996-04-18","Mungo Wilson","SA19452","Under 15"]
["SA19453","Lasswade AAC","1980-06-25","Chris Poxton","SA19453","Senior"]
["SA19454","Lasswade AAC","1969-04-02","Eddie Kopystynski","SA19454","Vet"]
["SA19455","VP-Glasgow AC","1961-05-23","Alyson Wray","SA19455","Vet"]
["SA19456","Bellahouston Road Runners","1973-09-11","Robert Thorburn","SA19456","Senior"]
["SA19457","Bellahouston Road Runners","1985-04-22","Chris Black","SA19457","Senior"]
["SA19458","Nairn Road Runners","1975-01-26","Iain Blackburn","SA19458","Senior"]
["SA19459","Kilmarnock H&AC","1997-04-02","Emma Murray","SA19459","Under 15"]
["SA19460","Inverness Harriers AAC","2000-08-16","Kiera Forsyth","SA19460","Under 11"]
["SA19461","Montrose & District AC","1990-05-15","Emily Watson","SA19461","Senior"]
["SA19462","Kilbarchan AAC","1970-12-02","Scott Craig","SA19462","Senior"]
["SA19463","Maryhill Harriers","1983-04-11","Julie Taylor","SA19463","Senior"]
["SA19464","Highland Hill Runners","1980-06-09","David Chapman","SA19464","Senior"]
["SA19465","Kirkintilloch Olympians","1962-10-28","Jennifer Bennie","SA19465","Vet"]
["SA19466","Springburn Harriers","1983-12-05","David Logan","SA19466","Senior"]
["SA19467","Elgin AAC","1999-03-07","Rebecca Matheson","SA19467","Under 13"]
["SA19468","Stewartry AC","1999-06-20","Farrel O'Sullivan","SA19468","Under 13"]
["SA19470","Pitreavie AAC","1997-04-21","Sarah Connor","SA19470","Under 15"]
["SA19472","Westerlands XC Club","1951-07-08","Keith Adams","SA19472","Vet"]
["SA19473","Elgin AAC","2000-06-13","Rachelle Matheson","SA19473","Under 11"]
["SA19474","Giffnock North AAC","1979-12-07","Jennifer Arnott","SA19474","Senior"]
["SA19475","Elgin AAC","1997-05-05","Indigo Philip McDade","SA19475","Under 15"]
["SA19476","Kirkintilloch Olympians","1944-10-19","Tom Ross","SA19476","Vet"]
["SA19477","Bellahouston Harriers","1977-08-03","Brian French","SA19477","Senior"]
["sa19599","Bellahouston Harriers",null,"Robel Negash","sa19599","Senior"]
[null,null,null," "]
[]
[null,null,null," "]
[null,null,null," "]
[null,null,null," "]
[null,null,null," "]
[null,null,null," "]
[null,null,null," "]
[null,null,null," "]
[null,null,null," "]
[null,null,null," "]
[null,null,null," "]
[null,null,null," "]
[null,null,null," "]
[null,null,null," "]
[null,null,null," "]
[null,null,null," "]
[null,null,null," "]
[null,null,null," "]
[null,null,null," "]
[null,null,null," "]
[null,null,null," "]
[null,null,null," "]
[null,null,null," "]
[null,null,null," "]
[null,null,null," "]
[null,null,null," "]
[null,null,null," "]
[null,null,null," "]
[null,null,null," "]
[null,null,null," "]
[null,null,null," "]
[null,null,null," "]
[null,null,null," "]
[null,null,null," "]
[null,null,null," "]
[null,null,null," "]
[null,null,null," "]
[null,null,null," "]
[null,null,null," "]
[null,null,null," "]
[null,null,null," "]
[null,null,null," "]
[null,null,null," "]
[null,null,null," "]
[null,null,null," "]
[null,null,null," "]
[null,null,null," "]
[null,null,null," "]
[null,null,null," "]
[null,null,null," "]
[null,null,null," "]
[null,null,null," "]
[null,null,null," "]
[null,null,null," "]
[null,null,null," "]
[null,null,null," "]
[null,null,null," "]
[null,null,null," "]
[null,null,null," "]
[null,null,null," "]
[null,null,null," "]
[null,null,null," "]
[null,null,null," "]
[null,null,null," "]
[null,null,null," "]
[null,null,null," "]
[null,null,null," "]
[null,null,null," "]
[null,null,null," "]
[null,null,null," "]
[null,null,null," "]
[null,null,null," "]
[null,null,null," "]
[null,null,null," "]
[null,null,null," "]
[null,null,null," "]
[null,null,null," "]
[null,null,null," "]
[null,null,null," "]
[null,null,null," "]
[null,null,null," "]
[null,null,null," "]
[null,null,null," "]
[null,null,null," "]
[null,null,null," "]
[null,null,null," "]
[null,null,null," "]
[null,null,null," "]
[null,null,null," "]
[null,null,null," "]
[null,null,null," "]
[null,null,null," "]
[null,null,null," "]
[null,null,null," "]
[null,null,null," "]
[null,null,null," "]
[null,null,null," "]
[null,null,null," "]
[null,null,null," "]
[null,null,null," "]
[null,null,null," "]
[null,null,null," "]
[null,null,null," "]
[null,null,null," "]
[null,null,null," "]
[null,null,null," "]
[null,null,null," "]
[null,null,null," "]
[null,null,null," "]
[null,null,null," "]
[null,null,null," "]
[null,null,null," "]
[null,null,null," "]
[null,null,null," "]
[null,null,null," "]
[null,null,null," "]
[null,null,null," "]
[null,null,null," "]
[null,null,null," "]
[null,null,null," "]
[null,null,null," "]
[null,null,null," "]
[null,null,null," "]
[null,null,null," "]
[null,null,null," "]
[null,null,null," "]
[null,null,null," "]
[null,null,null," "]
[null,null,null," "]
[null,null,null," "]
[null,null,null," "]
[null,null,null," "]
[null,null,null," "]
[null,null,null," "]
[null,null,null," "]
[null,null,null," "]
[null,null,null," "]
[null,null,null," "]
[null,null,null," "]
[null,null,null," "]
[null,null,null," "]
[null,null,null," "]
[null,null,null," "]
[null,null,null," "]
[null,null,null," "]
[null,null,null," "]
[null,null,null," "]
[null,null,null," "]
[null,null,null," "]
[null,null,null," "]
[null,null,null," "]
[null,null,null," "]
[null,null,null," "]
[null,null,null," "]
[null,null,null," "]
[null,null,null," "]
[null,null,null," "]
[null,null,null," "]
[null,null,null," "]
[null,null,null," "]
[null,null,null," "]
[null,null,null," "]
[null,null,null," "]
[null,null,null," "]
[null,null,null," "]
[null,null,null," "]
[null,null,null," "]
[null,null,null," "]
[null,null,null," "]
[null,null,null," "]
[null,null,null," "]
[null,null,null," "]

{"sheet":"Sheet1","index":1,"n_rows":32,"n_cols":3,"rows_kept":32,"cut":false,"hidden":false,"merged":[]}
[]
[null,"Marymass 2014"]
[]
[null,"On The Night Entries",53]
[]
[null,"10 SAL @ £8",80]
[]
[null,"43 Non-SAL @ £10",430]
[]
[null,"Total expected",510]
[]
[null,"Payments"]
[]
[null,"To John McGarry for Bob Reid*",10]
[]
[null,"To Jim Sneddon (refund of overpayment)",2]
[]
[null,"Total",12]
[]
[null,"Final Total Expected",498]
[]
[null,"Money actually collected",485.1]
[]
[null,"SHORTFALL",12.9]
[]
[]
[null,"Money passed to Mike Flinn"]
[null,"(money collected + float of £120)",605.1]
[]
[]
[null,"* Bob Reid did not appear so J McG"]
[null,"will return the £10 to MF"]

{"sheet":"Prizewinners","index":2,"n_rows":23,"n_cols":4,"rows_kept":23,"cut":false,"hidden":false,"merged":[]}
["Prize","Name","Club","Time"]
["1stM","Robert Gilroy","Ronhill Cambuslang Harriers",1.32569444444444]
["2ndM","Kerry Liam Wilson","Ronhill Cambuslang Harriers",1.35069444444444]
["3rdM","Gwyn Bellamy","Westerlands CC Club",1.35486111111111]
["1stM40","Graham McCabe","Kirkintilloch Olympians",1.47222222222222]
["1stM50","Chris Upson","Ronhill Cambuslang Harriers",1.50902777777778]
["1stM60","Bruce Walker","Troon Tortoises AC",2.07222222222222]
["1stMU20","Fraser Mackie","Irvine Running Club",1.62916666666667]
[]
["1stF","Laura Wallace","Ayr Seaforth AAC",1.58263888888889]
["2ndF","Claire McArthur","Hamilton Harriers",1.65902777777778]
["3rdF","Gael Riddle","Ayr Seaforth AAC",1.78402777777778]
["1stF40","Sandra Reid","UA",1.85]
["1stF50","Anne Noble","Troon Tortoises AC",1.98541666666667]
["1stF60","Ann Hay","Ron's Runners",2.58611111111111]
["1stFU20","Beth MacCrae","Ayr Seaforth AAC",1.85277777777778]
[]
["1st Mens Team:","Ronhill Cambuslang"]
["Runners:","Robert Gilroy","Kerry Liam Wilson"]
[null,"Chris Upson","James John",5.69861111111111]
["1st Womens Team:","Ayr Seaforth AAC"]
["Runners:","Laura Wallace","Gael Riddle"]
[null,"Beth MacCrae",null,5.09444444444444]

{"sheet":"Sorting","index":3,"n_rows":324,"n_cols":29,"rows_kept":324,"cut":false,"hidden":false,"merged":[]}
[]
[null,null,null,"MARYMASS 10K 2014",null,"DECLARATIONS",null,null,null,"Team Finding",null,null,null,null,null,null,null,null,"MARYMASS 10K",null,2014,null,null,null,null,null,"Declarations 2014",null,"Publication Set"]
[]
[null,"Input SAL","Bib No","Name","Cat","Club",null,"Position","Bib No","Name","Cat","Club","Input","Time",null,null,null,"Position","Name","Cat","Club","Time",null,null,"Input SAL","Bib No","Name","Cat","Club"]
[null,"sa33186",1,"Matt Pierce","M40","Troon Tortoises AC",null,213,75,"Abby Cunningham","F","Ayr Seaforth AAC",5535,2.31597222222222,null,null,null,1,"Robert Gilroy","M","Ronhill Cambuslang Harriers",1.32569444444444,null,null,"sa33186",1,"Matt Pierce","M40","Troon Tortoises AC"]
[null,null,2,"Kenneth Sutherland","M40","UA",null,104,205,"Adam Smith","MU20","UA",4638,1.94305555555556,null,null,null,2,"Kerry Liam Wilson","M40","Ronhill Cambuslang Harriers",1.35069444444444,null,null,null,2,"Kenneth Sutherland","M40","UA"]
[null,"sa28008",3,"Stuart Brockie","M40","Ayr Seaforth AAC",null,246,160,"Aimee Clydesdale","F","UA",6206,2.5875,null,null,null,3,"Gwyn Bellamy","M","Westerlands CC Club",1.35486111111111,null,null,"sa28008",3,"Stuart Brockie","M40","Ayr Seaforth AAC"]
[null,"sa32368",4,"Suzy Moorby","F40","Troon Tortoises AC",null,205,288,"Aimi Barker","F40","Ayr Seaforth AAC",5432,2.27222222222222,null,null,null,4,"Craig Reid","M","Bellahouston Road Runners",1.43680555555556,null,null,"sa32368",4,"Suzy Moorby","F40","Troon Tortoises AC"]
[null,"sa32355",5,"Stuart Cooper","M","UA",null,188,273,"Alan Anderson","M50","Kilmarnock H&AC",5257,2.20625,null,null,null,5,"Bruce  Carse","M","Bellahouston Road Runners",1.44027777777778,null,null,"sa32355",5,"Stuart Cooper","M","UA"]
[null,null,6,"David Locke","M50","UA",null,43,77,"Alan Donachy","M40","North Ayrshire AC",4004,1.66944444444444,null,null,null,6,"Graham McCabe","M40","Kirkintilloch Olympians",1.47222222222222,null,null,null,6,"David Locke","M50","UA"]
[null,"sa26245",7,"Chris Boyce","M","Ayr Seaforth AAC",null,173,22,"Alan Dorrans","M","UA",5136,2.15,null,null,null,7,"James Callender","M","Westerlands CC Club",1.47916666666667,null,null,"sa26245",7,"Chris Boyce","M","Ayr Seaforth AAC"]
[null,null,8,"Terry Wright","M60","UA",null,21,222,"Alan Douglas","M","UA",3806,1.5875,null,null,null,8,"Neil Walker","M","Kilmarnock H&AC",1.48888888888889,null,null,null,8,"Terry Wright","M60","UA"]
[null,null,9,"Kenneth Barker","M50","UA",null,27,65,"Alan Heron","M","Dumbarton AAC",3836,1.60833333333333,null,null,null,9,"Brian Robertson","M","Shettleston Harriers",1.49444444444444,null,null,null,9,"Kenneth Barker","M50","UA"]
[null,"sa30273",10,"Matthew Cameron","M","Ayr Seaforth AAC",null,233,42,"Alan Hewitson","M40","UA",5923,2.47430555555556,null,null,null,10,"Chris Upson","M50","Ronhill Cambuslang Harriers",1.50902777777778,null,null,"sa30273",10,"Matthew Cameron","M","Ayr Seaforth AAC"]
[null,"sa31979",11,"Kimberley Mackay","F","Irvine Running Club",null,274,34,"Alan Strange","M40","UA"," ",0,null,null,null,11,"Robert Lindsay","M40","Kilmarnock H&AC",1.51180555555556,null,null,"sa31979",11,"Kimberley Mackay","F","Irvine Running Club"]
[null,"sa31958",12,"Craig Pickett","M","Irvine Running Club",null,226,277,"Alana Montgomery","F40","KA Leisure",5819,2.42986111111111,null,null,null,12,"James John","M40","Ronhill Cambuslang Harriers",1.51319444444444,null,null,"sa31958",12,"Craig Pickett","M","Irvine Running Club"]
[null,null,13,"Alexander Beggs","M40","UA",null,134,13,"Alexander Beggs","M40","UA",4852,2.03611111111111,null,null,null,13,"Grant MacDonald","M","Bellahouston Road Runners",1.52222222222222,null,null,null,13,"Alexander Beggs","M40","UA"]
[null,null,14,"Laura Wallace","F","Ayr Seaforth AAC",null,242,246,"Alison Reid","F40","UA",6039,2.52708333333333,null,null,null,14,"Stuart Murdoch","M40","Kilmarnock H&AC",1.52361111111111,null,null,null,14,"Laura Wallace","F","Ayr Seaforth AAC"]
[null,"sa24137",15,"John Strachan","M","Ayr Seaforth AAC",null,209,252,"Alison Sutherland","F40","Ron's Runners",5510,2.29861111111111,null,null,null,15,"Robert O'Neill","M","Clydesdale Harriers",1.53819444444444,null,null,"sa24137",15,"John Strachan","M","Ayr Seaforth AAC"]
[null,null,16,"James Cunningham","M50","UA",null,112,60,"Allan Hogarth","M40","UA",4729,1.97847222222222,null,null,null,16,"Brian Douglas","M40","Bellahouston Harriers",1.54236111111111,null,null,null,16,"James Cunningham","M50","UA"]
[null,null,17,"Karen Hughes","F40","UA",null,117,35,"Allan Moore","M","UA",4749,1.99236111111111,null,null,null,17,"Chris Lorimer","M","UA",1.55,null,null,null,17,"Karen Hughes","F40","UA"]
[null,"sa32465",18,"Luke Chamberlain","M40","Giffnock North AAC",null,275,37,"Amanda Lindsay","F40","Ron's Runners"," ",0,null,null,null,18,"James Murray","M","Ayr Seaforth AAC",1.57291666666667,null,null,"sa32465",18,"Luke Chamberlain","M40","Giffnock North AAC"]
[null,null,19,"Ruth Barclay-Paterson","F","UA",null,93,110,"Andrew Bickerstaff","M20","Hamilton Harriers",4551,1.91041666666667,null,null,null,19,"Tommy O'Connell","M","Bellahouston Road Runners",1.57916666666667,null,null,null,19,"Ruth Barclay-Paterson","F","UA"]
[null,null,20,"Paul Lafferty","M","Ron's Runners",null,258,23,"Andrew Crichton","M","Ayr Seaforth AAC",6743,2.82152777777778,null,null,null,20,"Laura Wallace","F","Ayr Seaforth AAC",1.58263888888889,null,null,null,20,"Paul Lafferty","M","Ron's Runners"]
[null,"sa29279",21,"Janice Millar","F50","Kilmarnock H&AC",null,53,50,"Andrew Stewart","M50","Ron's Runners",4204,1.75277777777778,null,null,null,21,"Alan Douglas","M","UA",1.5875,null,null,"sa29279",21,"Janice Millar","F50","Kilmarnock H&AC"]
[null,null,22,"Alan Dorrans","M","UA",null,271,25,"Andy McNaughton","F40","Ron's Runners"," ",0,null,null,null,22,"Scott Brown","M","Irvine Running Club",1.59583333333333,null,null,null,22,"Alan Dorrans","M","UA"]
[null,"sa30306",23,"Andrew Crichton","M","Ayr Seaforth AAC",null,70,178,"Andy Wilson","M","UA",4348,1.825,null,null,null,23,"Jim Phillips","M40","Troon Tortoises AC",1.59652777777778,null,null,"sa30306",23,"Andrew Crichton","M","Ayr Seaforth AAC"]
[null,"sa13012",24,"Tracy Kerr","F40","Kilmarnock H&AC",null,225,134,"Angela Brown","F","Irvine Running Club",5807,2.42152777777778,null,null,null,24,"Colin Whitby","M","Irvine Running Club",1.60555555555556,null,null,"sa13012",24,"Tracy Kerr","F40","Kilmarnock H&AC"]
[null,null,25,"Andy McNaughton","M40","Ron's Runners",null,289,137,"Angela McDill","F","UA"," ",0,null,null,null,25,"Rick Williams ","M40","Galloway Harriers",1.60694444444444,null,null,null,25,"Andy McNaughton","M40","Ron's Runners"]
[null,null,26,"Karen Lees","F","UA",null,214,27,"Angela Stroyan","F","Ron's Runners",5540,2.31944444444444,null,null,null,26,"Vincent Carroll","M40","Kirkintilloch Olympians",1.60833333333333,null,null,null,26,"Karen Lees","F","UA"]
[null,null,27,"Angela Stroyan","F","Ron's Runners",null,190,260,"Anita Mackie","F40","Ron's Runners",5304,2.21111111111111,null,null,null,27,"Alan Heron","M","Dumbarton AAC",1.60833333333333,null,null,null,27,"Angela Stroyan","F","Ron's Runners"]
[null,null,28,"Colin Mutch","M60","UA",null,245,221,"Ann Hay","F60","Ron's Runners",6204,2.58611111111111,null,null,null,28,"Kenneth Neill","M","Ayr Seaforth AAC",1.61875,null,null,null,28,"Colin Mutch","M60","UA"]
[null,null,29,"Jacqui Sandler","F40","Kilmarnock H&AC",null,174,173,"Anna Warnock","F","UA",5137,2.15069444444444,null,null,null,29,"Craig Brown ","M","Ayr Seaforth AAC",1.62222222222222,null,null,null,29,"Jacqui Sandler","F40","Kilmarnock H&AC"]
[null,null,30,"Fiona McDonald","F40","Monkton Milers",null,227,278,"Anne Cunningham","F40","KA Leisure",5819,2.42986111111111,null,null,null,30,"Walter Henderson","M40","Shettleston Harriers",1.62361111111111,null,null,null,30,"Fiona McDonald","F40","Monkton Milers"]
[null,null,31,"Susan Chamberlain","F40","Monkton Milers",null,113,232,"Anne Noble","F50","Troon Tortoises AC",4737,1.98402777777778,null,null,null,31,"Thomas Slocombe","M","UA",1.62361111111111,null,null,null,31,"Susan Chamberlain","F40","Monkton Milers"]
[null,null,32,"Claire McNicol","F40","UA",null,294,206,"Barry Sturgeon","M","UA"," ",0,null,null,null,32,"Fraser Mackie","MU20","Irvine Running Club",1.62430555555556,null,null,null,32,"Claire McNicol","F40","UA"]
[null,"sa23767",33,"Tommy O'Connell","M","Bellahouston Road Runners",null,80,53,"Beth MacCrae","FU20","Ayr Seaforth AAC",4424,1.85,null,null,null,33,"Fraser McPhail","M40","Troon Tortoises AC",1.62916666666667,null,null,"sa23767",33,"Tommy O'Connell","M","Bellahouston Road Runners"]
[null,null,34,"Alan Strange","M40","UA",null,167,148,"Bobby Crombie","M50","UA",5049,2.11736111111111,null,null,null,34,"Matt Pierce","M40","Troon Tortoises AC",1.63680555555556,null,null,null,34,"Alan Strange","M40","UA"]
[null,null,35,"Allan Moore","M","UA",null,64,229,"Bobby Miller","M50","Troon Tortoises AC",4257,1.78958333333333,null,null,null,35,"Ian Hannah","M50","Galloway Harriers",1.63819444444444,null,null,null,35,"Allan Moore","M","UA"]
[null,null,36,"Rachel Cox","F40","Monkton Milers",null,16,215,"Brian Douglas","M40","Bellahouston Harriers",3701,1.54236111111111,null,null,null,36,"Murray Robertson","M","UA",1.64305555555556,null,null,null,36,"Rachel Cox","F40","Monkton Milers"]
[null,null,37,"Amanda Lindsay","F40","Ron's Runners",null,9,183,"Brian Robertson","M","Shettleston Harriers",3552,1.49444444444444,null,null,null,37,"Kevin Bloy","M40","Ayr Seaforth AAC",1.64861111111111,null,null,null,37,"Amanda Lindsay","F40","Ron's Runners"]
[null,null,38,"Leigh-Ann Cherry","F","UA",null,5,83,"Bruce  Carse","M","Bellahouston Road Runners",3434,1.44027777777778,null,null,null,38,"Sean Connor","M","Galloway Harriers",1.65069444444444,null,null,null,38,"Leigh-Ann Cherry","F","UA"]
[null,null,39,"Elaine Bufton","F40","UA",null,153,225,"Bruce Walker","M60","Troon Tortoises AC",4942,2.07083333333333,null,null,null,39,"Stuart Brockie","M40","Ayr Seaforth AAC",1.65416666666667,null,null,null,39,"Elaine Bufton","F40","UA"]
[null,"sa8450",40,"Mark Hamilton","M40","Kilmarnock H&AC",null,69,202,"Calum MacDonald","M","Ayr Seaforth AAC",4341,1.82013888888889,null,null,null,40,"Mark Preston","M","North Ayrshire AC",1.65625,null,null,"sa8450",40,"Mark Hamilton","M40","Kilmarnock H&AC"]
[null,null,41,"Fiona Hewitson","F40","UA",null,179,48,"Cameron Clark","M40","UA",5158,2.16527777777778,null,null,null,41,"Claire McArthur","F","Hamilton Harriers",1.65833333333333,null,null,null,41,"Fiona Hewitson","F40","UA"]
[null,null,42,"Alan Hewitson","M40","UA",null,97,258,"Caroline Mutch","F40","Troon Tortoises AC",4610,1.92361111111111,null,null,null,42,"Paul Lafferty","M","Ron's Runners",1.65902777777778,null,null,null,42,"Alan Hewitson","M40","UA"]
[null,null,43,"Laura Russell","F40","UA",null,98,230,"Carolyn Fisher","F","North Ayrshire AC",4614,1.92638888888889,null,null,null,43,"Alan Donachy","M40","North Ayrshire AC",1.66944444444444,null,null,null,43,"Laura Russell","F40","UA"]
[null,"sa23814",44,"Ciara Baxter","F","Bellahouston Road Runners",null,247,293,"Carrol Finlay","F50","Ron's Runners",6214,2.59305555555556,null,null,null,44,"Chris Boyce","M","Ayr Seaforth AAC",1.67152777777778,null,null,"sa23814",44,"Ciara Baxter","F","Bellahouston Road Runners"]
[null,"a307715",45,"Sandra Hunter","F50","Ron's Runners",null,277,62,"Catherine Elliot","F50","UA"," ",0,null,null,null,45,"John Ross","M","UA",1.68333333333333,null,null,"a307715",45,"Sandra Hunter","F50","Ron's Runners"]
[null,null,46,"Mark Leckie","M","UA",null,217,195,"Charles MacDonald","M60","UA",5603,2.33541666666667,null,null,null,46,"Mark Hamilton","M40","Kilmarnock H&AC",1.68680555555556,null,null,null,46,"Mark Leckie","M","UA"]
[null,null,47,"Lynsey Leckie","F","UA",null,94,290,"Charlie Tymon","M","UA",4555,1.91319444444444,null,null,null,47,"Paul Turnbull","M50","Ayr Seaforth AAC",1.69027777777778,null,null,null,47,"Lynsey Leckie","F","UA"]
[null,null,48,"Cameron Clark","M40","UA",null,121,188,"Cheryl McNulty","F","Hamilton Harriers",4810,2.00694444444444,null,null,null,48,"John Leitch","M","North Ayrshire AC",1.70486111111111,null,null,null,48,"Cameron Clark","M40","UA"]
[null,null,49,"Robert Steel","M40","UA",null,44,7,"Chris Boyce","M","Ayr Seaforth AAC",4007,1.67152777777778,null,null,null,49,"Stuart Swan","M","Troon Tortoises AC",1.72222222222222,null,null,null,49,"Robert Steel","M40","UA"]
[null,null,50,"Andrew Stewart","M50","Ron's Runners",null,17,240,"Chris Lorimer","M","UA",3712,1.55,null,null,null,50,"Stuart McLean","M40","UA",1.73333333333333,null,null,null,50,"Andrew Stewart","M50","Ron's Runners"]
[null,null,51,"Robert Chalmers","M","UA",null,10,159,"Chris Upson","M50","Ronhill Cambuslang Harriers",3613,1.50902777777778,null,null,null,51,"John Surgenor","M50","Irvine Running Club",1.73472222222222,null,null,null,51,"Robert Chalmers","M","UA"]
[null,null,52,"Ian Wilson","M40","UA",null,264,249,"Christine Halsall","F","UA","DNF",0,null,null,null,52,"Jim Sneddon","M40","Irvine Running Club",1.74027777777778,null,null,null,52,"Ian Wilson","M40","UA"]
[null,"sa27745",53,"Beth MacCrae","FU20","Ayr Seaforth AAC",null,263,153,"Christine Herman","F40","Irvine Running Club",7210,3.00694444444444,null,null,null,53,"Andrew Stewart","M50","Ron's Runners",1.75277777777778,null,null,"sa27745",53,"Beth MacCrae","FU20","Ayr Seaforth AAC"]
[null,null,54,"Kenny Vallance","M","UA",null,105,44,"Ciara Baxter","F","Bellahouston Road Runners",4647,1.94930555555556,null,null,null,54,"Ian Young","M","Ayr Seaforth AAC",1.75555555555556,null,null,null,54,"Kenny Vallance","M","UA"]
[null,null,55,"Neil McMullen","M","Ron's Runners",null,164,207,"Claire Gillespie","F","Ayr Seaforth AAC",5036,2.10833333333333,null,null,null,55,"Paul Bennie","M40","Kilmarnock H&AC",1.75902777777778,null,null,null,55,"Neil McMullen","M","Ron's Runners"]
[null,"sa13565",56,"Louise Gray","F40","Bellahouston Road Runners",null,41,116,"Claire McArthur","F","Hamilton Harriers",3948,1.65833333333333,null,null,null,56,"John Rennie","M50","UA",1.76805555555556,null,null,"sa13565",56,"Louise Gray","F40","Bellahouston Road Runners"]
[null,"sa31013",57,"Neil Walker","M","Kilmarnock H&AC",null,273,32,"Claire McNicol","F40","UA"," ",0,null,null,null,57,"Tom Coughtrie","M50","Jog Scotland",1.77013888888889,null,null,"sa31013",57,"Neil Walker","M","Kilmarnock H&AC"]
[null,null,58,"Samantha McLaren","F","UA",null,208,131,"Claire Wylie","F40","UA",5506,2.29583333333333,null,null,null,58,"Stephen McGill","M50","UA",1.77013888888889,null,null,null,58,"Samantha McLaren","F","UA"]
[null,null,59,"Tim Murphy","M40","UA",null,147,261,"Colin Knox","M40","Wee Grumpy Runners",4924,2.05833333333333,null,null,null,59,"Neil McMullen","M","Ron's Runners",1.77361111111111,null,null,null,59,"Tim Murphy","M40","UA"]
[null,null,60,"Allan Hogarth","M40","UA",null,120,289,"Colin McEwan","M","St Bees Tolies",4806,2.00416666666667,null,null,null,60,"Martin McCrorie","M40","Ayr Seaforth AAC",1.77569444444444,null,null,null,60,"Allan Hogarth","M40","UA"]
[null,"sa05831",61,"Shona Donnelly","F40","Bellahouston Road Runners",null,197,28,"Colin Mutch","M60","UA",5341,2.23680555555556,null,null,null,61,"Gael Riddle","F","Ayr Seaforth AAC",1.77569444444444,null,null,"sa05831",61,"Shona Donnelly","F40","Bellahouston Road Runners"]
[null,null,62,"Catherine Elliot","F50","UA",null,146,226,"Colin Stewart","M40","Shettleston Harriers",4923,2.05763888888889,null,null,null,62,"Scott Forbes ","M","UA",1.78402777777778,null,null,null,62,"Catherine Elliot","F50","UA"]
[null,null,63,"Ruth McLaughlan","F40","Ron's Runners",null,24,276,"Colin Whitby","M","Irvine Running Club",3832,1.60555555555556,null,null,null,63,"Gary Dunlop","M","UA",1.78819444444444,null,null,null,63,"Ruth McLaughlan","F40","Ron's Runners"]
[null,null,64,"Maureen Andrews","F50","Ron's Runners",null,29,198,"Craig Brown ","M","Ayr Seaforth AAC",3856,1.62222222222222,null,null,null,64,"Bobby Miller","M50","Troon Tortoises AC",1.78958333333333,null,null,null,64,"Maureen Andrews","F50","Ron's Runners"]
[null,"sa32152",65,"Alan Heron","M","Dumbarton AAC",null,75,118,"Craig Hunter","M","Jog Scotland",4411,1.84097222222222,null,null,null,65,"Elsie Downham","F","Bellahouston Road Runners",1.79652777777778,null,null,"sa32152",65,"Alan Heron","M","Dumbarton AAC"]
[null,"sa05788 ",66,"Jim Sneddon","M40","Irvine Running Club",null,115,192,"Craig McBreen","M","UA",4741,1.98680555555556,null,null,null,66,"Robert Chalmers","M","UA",1.80069444444444,null,null,"sa05788 ",66,"Jim Sneddon","M40","Irvine Running Club"]
[null,null,67,"Stephen Harris","M40","Bellahouston Road Runners",null,291,196,"Craig McPike","M","Ayr Seaforth AAC"," ",0,null,null,null,67,"Ross Bickerstaff","M50","Hamilton Harriers",1.80763888888889,null,null,null,67,"Stephen Harris","M40","Bellahouston Road Runners"]
[null,null,68,"Marian Harris","F50","Jog Scotland",null,103,12,"Craig Pickett","M","Irvine Running Club",4635,1.94097222222222,null,null,null,68,"Rory Partis","M","UA",1.81041666666667,null,null,null,68,"Marian Harris","F50","Jog Scotland"]
[null,"sa31044",69,"Haylie McCrorie","F","Bellahouston Road Runners",null,4,72,"Craig Reid","M","Bellahouston Road Runners",3429,1.43680555555556,null,null,null,69,"Calum MacDonald","M","Ayr Seaforth AAC",1.82013888888889,null,null,"sa31044",69,"Haylie McCrorie","F","Bellahouston Road Runners"]
[null,"sa08884",70,"Jane Wild","F40","Bellahouston Road Runners",null,71,171,"Damian Taylor","M40","North Ayrshire AC",4354,1.82916666666667,null,null,null,70,"Andy Wilson","M","UA",1.825,null,null,"sa08884",70,"Jane Wild","F40","Bellahouston Road Runners"]
[null,null,71,"Ewan McKerracher","M","Glasgow Triathlon Club",null,160,87,"Daniel Kershaw","M","UA",5023,2.09930555555556,null,null,null,71,"Damian Taylor","M40","North Ayrshire AC",1.82916666666667,null,null,null,71,"Ewan McKerracher","M","Glasgow Triathlon Club"]
[null,"sa19039",72,"Craig Reid","M","Bellahouston Road Runners",null,111,98,"Darrell Dunscombe","M40","Troon Tortoises AC",4727,1.97708333333333,null,null,null,72,"Sam Golder","M20","UA",1.83263888888889,null,null,"sa19039",72,"Craig Reid","M","Bellahouston Road Runners"]
[null,"sa27009",73,"Judith MacGregor","F","Bellahouston Road Runners",null,261,181,"Dave Cossar","M60","UA",6916,2.88611111111111,null,null,null,73,"Martin Laddemann","M","UA",1.83958333333333,null,null,"sa27009",73,"Judith MacGregor","F","Bellahouston Road Runners"]
[null,null,74,"Derek Cuthbertson","M40","UA",null,81,236,"David Boag","M40","Bellahouston Road Runners",4428,1.85277777777778,null,null,null,74,"Drew Inglis","M50","Hamilton Harriers",1.84027777777778,null,null,null,74,"Derek Cuthbertson","M40","UA"]
[null,null,75,"Abby Cunningham","F","Ayr Seaforth AAC",null,155,224,"David Bowman","M","UA",4946,2.07361111111111,null,null,null,75,"Craig Hunter","M","Jog Scotland",1.84097222222222,null,null,null,75,"Abby Cunningham","F","Ayr Seaforth AAC"]
[null,null,76,"Philip Vernon","M","UA",null,89,262,"David Crawford","M","UA",4526,1.89305555555556,null,null,null,76,"David Gibson","M40","UA",1.84166666666667,null,null,null,76,"Philip Vernon","M","UA"]
[null,"sa32398",77,"Alan Donachy","M40","North Ayrshire AC",null,76,259,"David Gibson","M40","UA",4412,1.84166666666667,null,null,null,77,"David Mackie","M40","Ron's Runners",1.84236111111111,null,null,"sa32398",77,"Alan Donachy","M40","North Ayrshire AC"]
[null,"sa24775",78,"Mark Preston","M","North Ayrshire AC",null,170,104,"David Jones ","M","UA",5102,2.12638888888889,null,null,null,78,"Steven Crawford","M","UA",1.84375,null,null,"sa24775",78,"Mark Preston","M","North Ayrshire AC"]
[null,null,79,"Heather Murray","F40","UA",null,152,284,"David Lightbody","M50","UA",4941,2.07013888888889,null,null,null,79,"Sandra Reid","F40","UA",1.84652777777778,null,null,null,79,"Heather Murray","F40","UA"]
[null,null,80,"Gerry Hamill","M40","NW Kilmarnock Running Club",null,293,6,"David Locke","M50","UA"," ",0,null,null,null,80,"Beth MacCrae","FU20","Ayr Seaforth AAC",1.85,null,null,null,80,"Gerry Hamill","M40","NW Kilmarnock Running Club"]
[null,null,81,"Michelle Murphy","F","UA",null,77,254,"David Mackie","M40","Ron's Runners",4413,1.84236111111111,null,null,null,81,"David Boag","M40","Bellahouston Road Runners",1.85277777777778,null,null,null,81,"Michelle Murphy","F","UA"]
[null,null,82,"Nina Vaswani","F","UA",null,178,132,"David McBride","M40","UA",5157,2.16458333333333,null,null,null,82,"David Ruthven","M50","Troon Tortoises AC",1.85277777777778,null,null,null,82,"Nina Vaswani","F","UA"]
[null,"sa16410",83,"Bruce  Carse","M","Bellahouston Road Runners",null,82,291,"David Ruthven","M50","Troon Tortoises AC",4428,1.85277777777778,null,null,null,83,"Steven Donnelly","M","Hamilton Harriers",1.86597222222222,null,null,"sa16410",83,"Bruce  Carse","M","Bellahouston Road Runners"]
[null,null,84,"Kevin McWhirter","M","UA",null,126,86,"David Stirling","M40","UA",4822,2.01527777777778,null,null,null,84,"Eamonn Hamill","M","UA",1.87361111111111,null,null,null,84,"Kevin McWhirter","M","UA"]
[null,null,85,"Paul Chapman ","M","UA",null,281,74,"Derek Cuthbertson","M40","UA"," ",0,null,null,null,85,"Kenny Vallance","M","UA",1.87361111111111,null,null,null,85,"Paul Chapman ","M","UA"]
[null,"so00581",86,"David Stirling","M40","UA",null,137,92,"Doreen McCleary","F40","UA",4854,2.0375,null,null,null,86,"Ian McNee","M50","Troon Tortoises AC",1.87708333333333,null,null,"so00581",86,"David Stirling","M40","UA"]
[null,"so00607",87,"Daniel Kershaw","M","UA",null,74,193,"Drew Inglis","M50","Hamilton Harriers",4410,1.84027777777778,null,null,null,87,"Jane Wild","F40","Bellahouston Road Runners",1.88194444444444,null,null,"so00607",87,"Daniel Kershaw","M","UA"]
[null,null,88,"Murray Robertson","M","UA",null,84,167,"Eamonn Hamill","M","UA",4458,1.87361111111111,null,null,null,88,"Shona Donnelly","F40","Bellahouston Road Runners",1.88680555555556,null,null,null,88,"Murray Robertson","M","UA"]
[null,null,89,"Marion Sloan","F40","Monkton Milers",null,185,39,"Elaine Bufton","F40","UA",5239,2.19375,null,null,null,89,"David Crawford","M","UA",1.89305555555556,null,null,null,89,"Marion Sloan","F40","Monkton Milers"]
[null,"js018323",90,"Tom Coughtrie","M50","Jog Scotland",null,129,275,"Elaine Rennie","F40","UA",4837,2.02569444444444,null,null,null,90,"Steven Robson","M","UA",1.89444444444444,null,null,"js018323",90,"Tom Coughtrie","M50","Jog Scotland"]
[null,null,91,"Jim McCleary","M50","UA",null,240,233,"Elizabeth Fairbairn","F50","Ron's Runners",6009,2.50625,null,null,null,91,"Frances Butler","F40","Galloway Harriers",1.89583333333333,null,null,null,91,"Jim McCleary","M50","UA"]
[null,null,92,"Doreen McCleary","F40","UA",null,65,241,"Elsie Downham","F","Bellahouston Road Runners",4307,1.79652777777778,null,null,null,92,"Fiona Comrie","F40","North Ayrshire AC",1.90902777777778,null,null,null,92,"Doreen McCleary","F40","UA"]
[null,"sa34275",93,"John Leitch","M","North Ayrshire AC",null,223,189,"Emmy Dodda","F50","UA",5716,2.38611111111111,null,null,null,93,"Andrew Bickerstaff","M20","Hamilton Harriers",1.91041666666667,null,null,"sa34275",93,"John Leitch","M","North Ayrshire AC"]
[null,null,94,"Steven Crawford","M","UA",null,284,96,"Erin Fletcher-Burns","F","UA"," ",0,null,null,null,94,"Charlie Tymon","M","UA",1.91319444444444,null,null,null,94,"Steven Crawford","M","UA"]
[null,null,95,"Nicky McMeechan","M","UA",null,279,71,"Ewan McKerracher","M","Glasgow Triathlon Club"," ",0,null,null,null,95,"Mike Turner","M40","UA",1.91527777777778,null,null,null,95,"Nicky McMeechan","M","UA"]
[null,null,96,"Erin Fletcher-Burns","F","UA",null,92,237,"Fiona Comrie","F40","North Ayrshire AC",4549,1.90902777777778,null,null,null,96,"Paul Deas","M","Troon Tortoises AC",1.91736111111111,null,null,null,96,"Erin Fletcher-Burns","F","UA"]
[null,"sa31078",97,"Lyndsay Moffat","F","Hamilton Harriers",null,251,41,"Fiona Hewitson","F40","UA",6337,2.65069444444444,null,null,null,97,"Caroline Mutch","F40","Troon Tortoises AC",1.92361111111111,null,null,"sa31078",97,"Lyndsay Moffat","F","Hamilton Harriers"]
[null,"sa27808",98,"Darrell Dunscombe","M40","Troon Tortoises AC",null,238,30,"Fiona McDonald","F40","Monkton Milers",6002,2.50138888888889,null,null,null,98,"Carolyn Fisher","F","North Ayrshire AC",1.92638888888889,null,null,"sa27808",98,"Darrell Dunscombe","M40","Troon Tortoises AC"]
[null,null,99,"Martin Laddemann","M","UA",null,91,121,"Frances Butler","F40","Galloway Harriers",4530,1.89583333333333,null,null,null,99,"John Strachan","M","Ayr Seaforth AAC",1.93263888888889,null,null,null,99,"Martin Laddemann","M","UA"]
[null,null,100,"George Rooney","M40","UA",null,32,255,"Fraser Mackie","MU20","Irvine Running Club",3859,1.62430555555556,null,null,null,100,"Malcolm Murray","M40","UA",1.93333333333333,null,null,null,100,"George Rooney","M40","UA"]
[null,null,101,"James McGill","M40","UA",null,33,186,"Fraser McPhail","M40","Troon Tortoises AC",3906,1.62916666666667,null,null,null,101,"Stewart McRoberts","M","UA",1.93472222222222,null,null,null,101,"James McGill","M40","UA"]
[null,null,102,"Stuart Hodge","M","UA",null,108,194,"Frazer Corrance","MU20","UA",4707,1.96319444444444,null,null,null,102,"Matthew Watson","M","Ron's Runners",1.94027777777778,null,null,null,102,"Stuart Hodge","M","UA"]
[null,null,103,"Liam McBlain","M40","UA",null,61,208,"Gael Riddle","F","Ayr Seaforth AAC",4237,1.77569444444444,null,null,null,103,"Craig Pickett","M","Irvine Running Club",1.94097222222222,null,null,null,103,"Liam McBlain","M40","UA"]
[null,null,104,"David Jones ","M","UA",null,212,243,"Gary Craig","M","UA",5532,2.31388888888889,null,null,null,104,"Adam Smith","MU20","UA",1.94305555555556,null,null,null,104,"David Jones ","M","UA"]
[null,"sa31297",105,"Steven Donnelly","M","Hamilton Harriers",null,119,220,"Gary Crombie","M40","UA",4804,2.00277777777778,null,null,null,105,"Ciara Baxter","F","Bellahouston Road Runners",1.94930555555556,null,null,"sa31297",105,"Steven Donnelly","M","Hamilton Harriers"]
[null,"sa25000",106,"Mark Alexander","M","Kilmarnock H&AC",null,63,156,"Gary Dunlop","M","UA",4255,1.78819444444444,null,null,null,106,"Paul Chapman ","M","UA",1.95763888888889,null,null,"sa25000",106,"Mark Alexander","M","Kilmarnock H&AC"]
[null,null,107,"Laura Farquharson","F","Hamilton Harriers",null,285,100,"George Rooney","M40","UA"," ",0,null,null,null,107,"Gerry Penman","M40","Scottish Prison Service AAC",1.96111111111111,null,null,null,107,"Laura Farquharson","F","Hamilton Harriers"]
[null,"sa31068",108,"Lesley Harvey","F","Hamilton Harriers",null,211,80,"Gerry Hamill","M40","NW Kilmarnock Running Club",5522,2.30694444444444,null,null,null,108,"Frazer Corrance","MU20","UA",1.96319444444444,null,null,"sa31068",108,"Lesley Harvey","F","Hamilton Harriers"]
[null,"sa31012",109,"Ross Bickerstaff","M50","Hamilton Harriers",null,107,204,"Gerry Penman","M40","Scottish Prison Service AAC",4704,1.96111111111111,null,null,null,109,"Ian Gilmour","M40","UA",1.97013888888889,null,null,"sa31012",109,"Ross Bickerstaff","M50","Hamilton Harriers"]
[null,"sa32175",110,"Andrew Bickerstaff","M20","Hamilton Harriers",null,244,154,"Ginny Bell","F40","UA",6157,2.58125,null,null,null,110,"Simon Woodliff","M","UA",1.97569444444444,null,null,"sa32175",110,"Andrew Bickerstaff","M20","Hamilton Harriers"]
[null,null,111,"Jamie Donnell","M","UA",null,143,169,"Graham Blair","M50","UA",4915,2.05208333333333,null,null,null,111,"Darrell Dunscombe","M40","Troon Tortoises AC",1.97708333333333,null,null,null,111,"Jamie Donnell","M","UA"]
[null,null,112,"Michelle Dunleavy","F","UA",null,6,271,"Graham McCabe","M40","Kirkintilloch Olympians",3520,1.47222222222222,null,null,null,112,"Allan Hogarth","M40","UA",1.97847222222222,null,null,null,112,"Michelle Dunleavy","F","UA"]
[null,null,113,"Simon Woodliff","M","UA",null,13,219,"Grant MacDonald","M","Bellahouston Road Runners",3632,1.52222222222222,null,null,null,113,"Anne Noble","F50","Troon Tortoises AC",1.98402777777778,null,null,null,113,"Simon Woodliff","M","UA"]
[null,null,114,"Rachid Senouci","F","UA",null,3,214,"Gwyn Bellamy","M","Westerlands CC Club",3231,1.35486111111111,null,null,null,114,"Stephen Harris","M40","Bellahouston Road Runners",1.98541666666667,null,null,null,114,"Rachid Senouci","F","UA"]
[null,null,115,"Victoria Morrison","F","UA",null,249,264,"Hannah O'Shea","F","UA",6246,2.61527777777778,null,null,null,115,"Craig McBreen","M","UA",1.98680555555556,null,null,null,115,"Victoria Morrison","F","UA"]
[null,"sa28987",116,"Claire McArthur","F","Hamilton Harriers",null,142,69,"Haylie McCrorie","F","Bellahouston Road Runners",4907,2.04652777777778,null,null,null,116,"Jamie Donnell","M","UA",1.9875,null,null,"sa28987",116,"Claire McArthur","F","Hamilton Harriers"]
[null,null,117,"John Brown","M40","Keen Amateurs",null,259,79,"Heather Murray","F40","UA",6802,2.83472222222222,null,null,null,117,"Allan Moore","M","UA",1.99236111111111,null,null,null,117,"John Brown","M40","Keen Amateurs"]
[null,"js156752",118,"Craig Hunter","M","Jog Scotland",null,253,157,"Helen French","F50","UA",6458,2.70694444444444,null,null,null,118,"Stuart McColm","M40","UA",1.99722222222222,null,null,"js156752",118,"Craig Hunter","M","Jog Scotland"]
[null,"sa31539",119,"James Murray","M","Ayr Seaforth AAC",null,109,218,"Ian Gilmour","M40","UA",4717,1.97013888888889,null,null,null,119,"Gary Crombie","M40","UA",2.00277777777778,null,null,"sa31539",119,"James Murray","M","Ayr Seaforth AAC"]
[null,null,120,"John Needle","M40","UA",null,35,140,"Ian Hannah","M50","Galloway Harriers",3919,1.63819444444444,null,null,null,120,"Colin McEwan","M","St Bees Tolies",2.00416666666667,null,null,null,120,"John Needle","M40","UA"]
[null,null,121,"Frances Butler","F40","Galloway Harriers",null,86,282,"Ian McNee","M50","Troon Tortoises AC",4503,1.87708333333333,null,null,null,121,"Cheryl McNulty","F","Hamilton Harriers",2.00694444444444,null,null,null,121,"Frances Butler","F40","Galloway Harriers"]
[null,null,122,"Janette Clarkson","F40","Hamilton Harriers",null,144,128,"Ian Rutherford","M40","North Ayrshire AC",4920,2.05555555555556,null,null,null,122,"Stuart Hodge","M","UA",2.00902777777778,null,null,null,122,"Janette Clarkson","F40","Hamilton Harriers"]
[null,null,123,"Jon Cunningham","M","UA",null,206,52,"Ian Wilson","M40","UA",5446,2.28194444444444,null,null,null,123,"Philip Vernon","M","UA",2.00902777777778,null,null,null,123,"Jon Cunningham","M","UA"]
[null,null,124,"Mike Turner","M40","UA",null,54,223,"Ian Young","M","Ayr Seaforth AAC",4208,1.75555555555556,null,null,null,124,"Thomas Turner","M","UA",2.00972222222222,null,null,null,124,"Mike Turner","M40","UA"]
[null,null,125,"Lynn Robertson","F40","UA",null,272,29,"Jacqui Sandler","F40","Kilmarnock H&AC"," ",0,null,null,null,125,"Raymond Thom","M","UA",2.01111111111111,null,null,null,125,"Lynn Robertson","F40","UA"]
[null,null,126,"James McFadden","M40","UA",null,7,248,"James Callender","M","Westerlands CC Club",3530,1.47916666666667,null,null,null,126,"David Stirling","M40","UA",2.01527777777778,null,null,null,126,"James McFadden","M40","UA"]
[null,null,127,"Linda McNeil ","F50","UA",null,181,16,"James Cunningham","M50","UA",5230,2.1875,null,null,null,127,"Noel Ireland","M","UA",2.02291666666667,null,null,null,127,"Linda McNeil ","F50","UA"]
[null,"sa32375",128,"Ian Rutherford","M40","North Ayrshire AC",null,199,242,"James Hobson","M40","UA",5355,2.24652777777778,null,null,null,128,"Kenneth Barker","M50","UA",2.02430555555556,null,null,"sa32375",128,"Ian Rutherford","M40","North Ayrshire AC"]
[null,null,129,"Sam Golder","M20","UA",null,12,197,"James John","M40","Ronhill Cambuslang Harriers",3619,1.51319444444444,null,null,null,129,"Elaine Rennie","F40","UA",2.02569444444444,null,null,null,129,"Sam Golder","M20","UA"]
[null,null,130,"Pat Standen","F50","UA",null,165,126,"James McFadden","M40","UA",5037,2.10902777777778,null,null,null,130,"Lynne Goldie","F40","Bellahouston Road Runners",2.02638888888889,null,null,null,130,"Pat Standen","F50","UA"]
[null,null,131,"Claire Wylie","F40","UA",null,286,101,"James McGill","M40","UA"," ",0,null,null,null,131,"Martina Moore","F40","Galloway Harriers",2.03125,null,null,null,131,"Claire Wylie","F40","UA"]
[null,null,132,"David McBride","M40","UA",null,18,119,"James Murray","M","Ayr Seaforth AAC",3745,1.57291666666667,null,null,null,132,"Mark Morrison","M","UA",2.03333333333333,null,null,null,132,"David McBride","M40","UA"]
[null,null,133,"Paul  McBlane","M40","UA",null,116,111,"Jamie Donnell","M","UA",4742,1.9875,null,null,null,133,"Louise Gray","F40","Bellahouston Road Runners",2.03541666666667,null,null,null,133,"Paul  McBlane","M40","UA"]
[null,null,134,"Angela Brown","F","Irvine Running Club",null,222,200,"Jamie Reid","M","UA",5710,2.38194444444444,null,null,null,134,"Alexander Beggs","M40","UA",2.03611111111111,null,null,null,134,"Angela Brown","F","Irvine Running Club"]
[null,null,135,"Steve Smith","M40","UA",null,210,239,"Jane Clarke","F","UA",5516,2.30277777777778,null,null,null,135,"Jon Cunningham","M","UA",2.03611111111111,null,null,null,135,"Steve Smith","M40","UA"]
[null,"sa29483",136,"Jim Phillips","M40","Troon Tortoises AC",null,87,70,"Jane Wild","F40","Bellahouston Road Runners",4510,1.88194444444444,null,null,null,136,"Ross McClymont","M40","Troon Tortoises AC",2.03680555555556,null,null,"sa29483",136,"Jim Phillips","M40","Troon Tortoises AC"]
[null,null,137,"Angela McDill","F","UA",null,166,122,"Janette Clarkson","F40","Hamilton Harriers",5045,2.11458333333333,null,null,null,137,"Doreen McCleary","F40","UA",2.0375,null,null,null,137,"Angela McDill","F","UA"]
[null,null,138,"Paul Bennie","M40","Kilmarnock H&AC",null,201,286,"Janice McKellar","F50","Ayr Seaforth AAC",5402,2.25138888888889,null,null,null,138,"Kirstin Dale","F","Kilmarnock H&AC",2.03888888888889,null,null,null,138,"Paul Bennie","M40","Kilmarnock H&AC"]
[null,null,139,"Yvonne Gallacher","F40","Irvine Running Club",null,254,21,"Janice Millar","F50","Kilmarnock H&AC",6527,2.72708333333333,null,null,null,139,"John Taylor","M40","UA",2.04236111111111,null,null,null,139,"Yvonne Gallacher","F40","Irvine Running Club"]
[null,null,140,"Ian Hannah","M50","Galloway Harriers",null,162,170,"Jen Tucker","F","UA",5032,2.10555555555556,null,null,null,140,"Ray O'Leary","M40","UA",2.04305555555556,null,null,null,140,"Ian Hannah","M50","Galloway Harriers"]
[null,null,141,"Lisa Phillips","F","UA",null,232,91,"Jim McCleary","M50","UA",5901,2.45902777777778,null,null,null,141,"Victoria Morrison","F","UA",2.04375,null,null,null,141,"Lisa Phillips","F","UA"]
[null,null,142,"Sean Connor","M","Galloway Harriers",null,23,136,"Jim Phillips","M40","Troon Tortoises AC",3819,1.59652777777778,null,null,null,142,"Haylie McCrorie","F","Bellahouston Road Runners",2.04652777777778,null,null,null,142,"Sean Connor","M","Galloway Harriers"]
[null,null,143,"Stewart McRoberts","M","UA",null,52,66,"Jim Sneddon","M40","Irvine Running Club",4146,1.74027777777778,null,null,null,143,"Graham Blair","M50","UA",2.05208333333333,null,null,null,143,"Stewart McRoberts","M","UA"]
[null,"sa34309",144,"Stuart Munro","M","Ayr Seaforth AAC",null,241,190,"Joanna Reid","F","UA",6015,2.51041666666667,null,null,null,144,"Ian Rutherford","M40","North Ayrshire AC",2.05555555555556,null,null,"sa34309",144,"Stuart Munro","M","Ayr Seaforth AAC"]
[null,null,145,"Martina Moore","F40","Galloway Harriers",null,180,176,"John Boyd","M50","UA",5218,2.17916666666667,null,null,null,145,"Rhona O'Neill","F","Kilmarnock H&AC",2.05694444444444,null,null,null,145,"Martina Moore","F40","Galloway Harriers"]
[null,null,146,"Paul McCallum","M40","Ron's Runners",null,288,117,"John Brown","M40","Keen Amateurs"," ",0,null,null,null,146,"Colin Stewart","M40","Shettleston Harriers",2.05763888888889,null,null,null,146,"Paul McCallum","M40","Ron's Runners"]
[null,null,147,"Thomas Slocombe","M","UA",null,48,93,"John Leitch","M","North Ayrshire AC",4055,1.70486111111111,null,null,null,147,"Colin Knox","M40","Wee Grumpy Runners",2.05833333333333,null,null,null,147,"Thomas Slocombe","M","UA"]
[null,null,148,"Bobby Crombie","M50","UA",null,158,150,"John McCluskey","M40","Jog Scotland",5002,2.08472222222222,null,null,null,148,"Pat Standen","F50","UA",2.06111111111111,null,null,null,148,"Bobby Crombie","M50","UA"]
[null,null,149,"Moira McDowell","F40","UA",null,177,120,"John Needle","M40","UA",5144,2.15555555555556,null,null,null,149,"Liam McBlain","M40","UA",2.0625,null,null,null,149,"Moira McDowell","F40","UA"]
[null,32727,150,"John McCluskey","M40","Jog Scotland",null,56,274,"John Rennie","M50","UA",4226,1.76805555555556,null,null,null,150,"Steven Gilmour","M40","UA",2.06597222222222,null,null,32727,150,"John McCluskey","M40","Jog Scotland"]
[null,null,151,"Kristy Wise","F","UA",null,45,165,"John Ross","M","UA",4024,1.68333333333333,null,null,null,151,"Tim Murphy","M40","UA",2.06736111111111,null,null,null,151,"Kristy Wise","F","UA"]
[null,null,152,"Michael Baxter","M50","UA",null,99,15,"John Strachan","M","Ayr Seaforth AAC",4623,1.93263888888889,null,null,null,152,"David Lightbody","M50","UA",2.07013888888889,null,null,null,152,"Michael Baxter","M50","UA"]
[null,null,153,"Christine Herman","F40","Irvine Running Club",null,51,245,"John Surgenor","M50","Irvine Running Club",4138,1.73472222222222,null,null,null,153,"Bruce Walker","M60","Troon Tortoises AC",2.07083333333333,null,null,null,153,"Christine Herman","F40","Irvine Running Club"]
[null,null,154,"Ginny Bell","F40","UA",null,139,269,"John Taylor","M40","UA",4901,2.04236111111111,null,null,null,154,"Steve Smith","M40","UA",2.07222222222222,null,null,null,154,"Ginny Bell","F40","UA"]
[null,null,155,"Victoria Lambart","F","UA",null,135,123,"Jon Cunningham","M","UA",4852,2.03611111111111,null,null,null,155,"David Bowman","M","UA",2.07361111111111,null,null,null,155,"Victoria Lambart","F","UA"]
[null,null,156,"Gary Dunlop","M","UA",null,280,73,"Judith MacGregor","F","Bellahouston Road Runners"," ",0,null,null,null,156,"Steven Chapman","M","UA",2.07847222222222,null,null,null,156,"Gary Dunlop","M","UA"]
[null,null,157,"Helen French","F50","UA",null,237,17,"Karen Hughes","F40","UA",5947,2.49097222222222,null,null,null,157,"Paul McCallum","M40","Ron's Runners",2.07986111111111,null,null,null,157,"Helen French","F50","UA"]
[null,null,158,"Stuart Murdoch","M40","Kilmarnock H&AC",null,235,26,"Karen Lees","F","UA",5936,2.48333333333333,null,null,null,158,"John McCluskey","M40","Jog Scotland",2.08472222222222,null,null,null,158,"Stuart Murdoch","M40","Kilmarnock H&AC"]
[null,"sa07687",159,"Chris Upson","M50","Ronhill Cambuslang Harriers",null,175,213,"Karishma Roy","F","Ron's Runners",5140,2.15277777777778,null,null,null,159,"Laura McGregor","F","North Ayrshire AC",2.09583333333333,null,null,"sa07687",159,"Chris Upson","M50","Ronhill Cambuslang Harriers"]
[null,null,160,"Aimee Clydesdale","F","UA",null,189,247,"Ken Wales","M40","Kilmarnock H&AC",5257,2.20625,null,null,null,160,"Daniel Kershaw","M","UA",2.09930555555556,null,null,null,160,"Aimee Clydesdale","F","UA"]
[null,"sa34232",161,"Stuart Swan","M","Troon Tortoises AC",null,128,9,"Kenneth Barker","M50","UA",4835,2.02430555555556,null,null,null,161,"Ruth McLaughlan","F40","Ron's Runners",2.1,null,null,"sa34232",161,"Stuart Swan","M","Troon Tortoises AC"]
[null,null,162,"Sharon Gebbie","F40","UA",null,28,209,"Kenneth Neill","M","Ayr Seaforth AAC",3851,1.61875,null,null,null,162,"Jen Tucker","F","UA",2.10555555555556,null,null,null,162,"Sharon Gebbie","F40","UA"]
[null,null,163,"Scott Forbes ","M","UA",null,187,2,"Kenneth Sutherland","M40","UA",5251,2.20208333333333,null,null,null,163,"Pamela Porteous","F40","UA",2.10763888888889,null,null,null,163,"Scott Forbes ","M","UA"]
[null,null,164,"Mark Morrison","M","UA",null,85,54,"Kenny Vallance","M","UA",4458,1.87361111111111,null,null,null,164,"Claire Gillespie","F","Ayr Seaforth AAC",2.10833333333333,null,null,null,164,"Mark Morrison","M","UA"]
[null,null,165,"John Ross","M","UA",null,196,263,"Kenny Weir","M60","UA",5329,2.22847222222222,null,null,null,165,"James McFadden","M40","UA",2.10902777777778,null,null,null,165,"John Ross","M","UA"]
[null,null,166,"Ray O'Leary","M40","UA",null,2,250,"Kerry Liam Wilson","M40","Ronhill Cambuslang Harriers",3225,1.35069444444444,null,null,null,166,"Janette Clarkson","F40","Hamilton Harriers",2.11458333333333,null,null,null,166,"Ray O'Leary","M40","UA"]
[null,null,167,"Eamonn Hamill","M","UA",null,37,231,"Kevin Bloy","M40","Ayr Seaforth AAC",3934,1.64861111111111,null,null,null,167,"Bobby Crombie","M50","UA",2.11736111111111,null,null,null,167,"Eamonn Hamill","M","UA"]
[null,null,168,"Madeleine Patterson","F","Irvine Running Club",null,283,84,"Kevin McWhirter","M","UA"," ",0,null,null,null,168,"Thomas Reid","M50","Ayrodynamic Triathlon Club",2.12222222222222,null,null,null,168,"Madeleine Patterson","F","Irvine Running Club"]
[null,null,169,"Graham Blair","M50","UA",null,236,11,"Kimberley Mackay","F","Irvine Running Club",5940,2.48611111111111,null,null,null,169,"Lindsay Taylor","F","UA",2.12569444444444,null,null,null,169,"Graham Blair","M50","UA"]
[null,null,170,"Jen Tucker","F","UA",null,138,210,"Kirstin Dale","F","Kilmarnock H&AC",4856,2.03888888888889,null,null,null,170,"David Jones ","M","UA",2.12638888888889,null,null,null,170,"Jen Tucker","F","UA"]
[null,"sa32606",171,"Damian Taylor","M40","North Ayrshire AC",null,257,151,"Kristy Wise","F","UA",6743,2.82152777777778,null,null,null,171,"Rachid Senouci","F","UA",2.13541666666667,null,null,"sa32606",171,"Damian Taylor","M40","North Ayrshire AC"]
[null,null,172,"Lorraine Dobbs","F40","Irvine Running Club",null,184,107,"Laura Farquharson","F","Hamilton Harriers",5235,2.19097222222222,null,null,null,172,"Neill Russell","M40","UA",2.14791666666667,null,null,null,172,"Lorraine Dobbs","F40","Irvine Running Club"]
[null,null,173,"Anna Warnock","F","UA",null,194,177,"Laura Jamieson","F","UA",5322,2.22361111111111,null,null,null,173,"Alan Dorrans","M","UA",2.15,null,null,null,173,"Anna Warnock","F","UA"]
[null,"sa29293",174,"Vincent Carroll","M40","Kirkintilloch Olympians",null,159,238,"Laura McGregor","F","North Ayrshire AC",5018,2.09583333333333,null,null,null,174,"Anna Warnock","F","UA",2.15069444444444,null,null,"sa29293",174,"Vincent Carroll","M40","Kirkintilloch Olympians"]
[null,null,175,"Sandra Reid","F40","UA",null,250,43,"Laura Russell","F40","UA",6326,2.64305555555556,null,null,null,175,"Karishma Roy","F","Ron's Runners",2.15277777777778,null,null,null,175,"Sandra Reid","F40","UA"]
[null,null,176,"John Boyd","M50","UA",null,20,14,"Laura Wallace","F","Ayr Seaforth AAC",3759,1.58263888888889,null,null,null,176,"Moira Connell","F50","Troon Tortoises AC",2.15277777777778,null,null,null,176,"John Boyd","M50","UA"]
[null,null,177,"Laura Jamieson","F","UA",null,228,38,"Leigh-Ann Cherry","F","UA",5821,2.43125,null,null,null,177,"John Needle","M40","UA",2.15555555555556,null,null,null,177,"Laura Jamieson","F","UA"]
[null,null,178,"Andy Wilson","M","UA",null,216,108,"Lesley Harvey","F","Hamilton Harriers",5547,2.32430555555556,null,null,null,178,"David McBride","M40","UA",2.16458333333333,null,null,null,178,"Andy Wilson","M","UA"]
[null,"a825391",179,"Raymond Thom","M","UA",null,149,103,"Liam McBlain","M40","UA",4930,2.0625,null,null,null,179,"Cameron Clark","M40","UA",2.16527777777778,null,null,"a825391",179,"Raymond Thom","M","UA"]
[null,"sa27023",180,"Robert O'Neill","M","Clydesdale Harriers",null,219,127,"Linda McNeil ","F50","UA",5644,2.36388888888889,null,null,null,180,"John Boyd","M50","UA",2.17916666666667,null,null,"sa27023",180,"Robert O'Neill","M","Clydesdale Harriers"]
[null,null,181,"Dave Cossar","M60","UA",null,169,234,"Lindsay Taylor","F","UA",5101,2.12569444444444,null,null,null,181,"James Cunningham","M50","UA",2.1875,null,null,null,181,"Dave Cossar","M60","UA"]
[null,null,182,"Rick Williams ","M40","Galloway Harriers",null,195,228,"Lisa Gilmore","F40","Bellahouston Harriers",5328,2.22777777777778,null,null,null,182,"Scott Watson","M40","Ron's Runners",2.1875,null,null,null,182,"Rick Williams ","M40","Galloway Harriers"]
[null,"sa13567",183,"Brian Robertson","M","Shettleston Harriers",null,248,141,"Lisa Phillips","F","UA",6217,2.59513888888889,null,null,null,183,"Paul  McBlane","M40","UA",2.1875,null,null,"sa13567",183,"Brian Robertson","M","Shettleston Harriers"]
[null,null,184,"Stephen McGill","M50","UA",null,256,172,"Lorraine Dobbs","F40","Irvine Running Club",6728,2.81111111111111,null,null,null,184,"Laura Farquharson","F","Hamilton Harriers",2.19097222222222,null,null,null,184,"Stephen McGill","M50","UA"]
[null,null,185,"Lynne Goldie","F40","Bellahouston Road Runners",null,133,56,"Louise Gray","F40","Bellahouston Road Runners",4851,2.03541666666667,null,null,null,185,"Elaine Bufton","F40","UA",2.19375,null,null,null,185,"Lynne Goldie","F40","Bellahouston Road Runners"]
[null,"sa21540",186,"Fraser McPhail","M40","Troon Tortoises AC",null,268,18,"Luke Chamberlain","M40","Giffnock North AAC"," ",0,null,null,null,186,"Nicky McMeechan","M","UA",2.20138888888889,null,null,"sa21540",186,"Fraser McPhail","M40","Troon Tortoises AC"]
[null,"so00678",187,"Walter Henderson","M40","Shettleston Harriers",null,215,97,"Lyndsay Moffat","F","Hamilton Harriers",5547,2.32430555555556,null,null,null,187,"Kenneth Sutherland","M40","UA",2.20208333333333,null,null,"so00678",187,"Walter Henderson","M40","Shettleston Harriers"]
[null,"sa21766",188,"Cheryl McNulty","F","Hamilton Harriers",null,252,125,"Lynn Robertson","F40","UA",6401,2.66736111111111,null,null,null,188,"Alan Anderson","M50","Kilmarnock H&AC",2.20625,null,null,"sa21766",188,"Cheryl McNulty","F","Hamilton Harriers"]
[null,null,189,"Emmy Dodda","F50","UA",null,130,185,"Lynne Goldie","F40","Bellahouston Road Runners",4838,2.02638888888889,null,null,null,189,"Ken Wales","M40","Kilmarnock H&AC",2.20625,null,null,null,189,"Emmy Dodda","F50","UA"]
[null,null,190,"Joanna Reid","F","UA",null,230,47,"Lynsey Leckie","F","UA",5827,2.43541666666667,null,null,null,190,"Anita Mackie","F40","Ron's Runners",2.21111111111111,null,null,null,190,"Joanna Reid","F","UA"]
[null,null,191,"Steven Chapman","M","UA",null,231,168,"Madeleine Patterson","F","Irvine Running Club",5847,2.44930555555556,null,null,null,191,"Shivaun O'Neill","F","Ron's Runners",2.21388888888889,null,null,null,191,"Steven Chapman","M","UA"]
[null,null,192,"Craig McBreen","M","UA",null,100,217,"Malcolm Murray","M40","UA",4624,1.93333333333333,null,null,null,192,"Nellie McQuillan","F40","Ayr Seaforth AAC",2.21458333333333,null,null,null,192,"Craig McBreen","M","UA"]
[null,null,193,"Drew Inglis","M50","Hamilton Harriers",null,262,68,"Marian Harris","F50","Jog Scotland",7019,2.92986111111111,null,null,null,193,"Marion Sloan","F40","Monkton Milers",2.21666666666667,null,null,null,193,"Drew Inglis","M50","Hamilton Harriers"]
[null,null,194,"Frazer Corrance","MU20","UA",null,193,89,"Marion Sloan","F40","Monkton Milers",5312,2.21666666666667,null,null,null,194,"Laura Jamieson","F","UA",2.22361111111111,null,null,null,194,"Frazer Corrance","MU20","UA"]
[null,null,195,"Charles MacDonald","M60","UA",null,287,106,"Mark Alexander","M","Kilmarnock H&AC"," ",0,null,null,null,195,"Lisa Gilmore","F40","Bellahouston Harriers",2.22777777777778,null,null,null,195,"Charles MacDonald","M60","UA"]
[null,null,196,"Craig McPike","M","Ayr Seaforth AAC",null,46,40,"Mark Hamilton","M40","Kilmarnock H&AC",4029,1.68680555555556,null,null,null,196,"Kenny Weir","M60","UA",2.22847222222222,null,null,null,196,"Craig McPike","M","Ayr Seaforth AAC"]
[null,"sa32652",197,"James John","M40","Ronhill Cambuslang Harriers",null,229,46,"Mark Leckie","M","UA",5827,2.43541666666667,null,null,null,197,"Colin Mutch","M60","UA",2.23680555555556,null,null,"sa32652",197,"James John","M40","Ronhill Cambuslang Harriers"]
[null,"sa20917",198,"Craig Brown ","M","Ayr Seaforth AAC",null,132,164,"Mark Morrison","M","UA",4848,2.03333333333333,null,null,null,198,"Melissa Donald","M50","UA",2.23819444444444,null,null,"sa20917",198,"Craig Brown ","M","Ayr Seaforth AAC"]
[null,null,199,"Steven Gilmour","M40","UA",null,40,78,"Mark Preston","M","North Ayrshire AC",3945,1.65625,null,null,null,199,"James Hobson","M40","UA",2.24652777777778,null,null,null,199,"Steven Gilmour","M40","UA"]
[null,null,200,"Jamie Reid","M","UA",null,73,99,"Martin Laddemann","M","UA",4409,1.83958333333333,null,null,null,200,"Rachel Cox","F40","Monkton Milers",2.25069444444444,null,null,null,200,"Jamie Reid","M","UA"]
[null,null,201,"Thomas Moran","M50","UA",null,60,267,"Martin McCrorie","M40","Ayr Seaforth AAC",4237,1.77569444444444,null,null,null,201,"Janice McKellar","F50","Ayr Seaforth AAC",2.25138888888889,null,null,null,201,"Thomas Moran","M50","UA"]
[null,null,202,"Calum MacDonald","M","Ayr Seaforth AAC",null,131,145,"Martina Moore","F40","Galloway Harriers",4845,2.03125,null,null,null,202,"Thomas Moran","M50","UA",2.25208333333333,null,null,null,202,"Calum MacDonald","M","Ayr Seaforth AAC"]
[null,null,203,"Steven Robson","M","UA",null,34,1,"Matt Pierce","M40","Troon Tortoises AC",3917,1.63680555555556,null,null,null,203,"Michael Baxter","M50","UA",2.26319444444444,null,null,null,203,"Steven Robson","M","UA"]
[null,null,204,"Gerry Penman","M40","Scottish Prison Service AAC",null,267,10,"Matthew Cameron","M","Ayr Seaforth AAC"," ",0,null,null,null,204,"Michelle Murphy","F","UA",2.26597222222222,null,null,null,204,"Gerry Penman","M40","Scottish Prison Service AAC"]
[null,null,205,"Adam Smith","MU20","UA",null,102,244,"Matthew Watson","M","Ron's Runners",4634,1.94027777777778,null,null,null,205,"Aimi Barker","F40","Ayr Seaforth AAC",2.27222222222222,null,null,null,205,"Adam Smith","MU20","UA"]
[null,null,206,"Barry Sturgeon","M","UA",null,278,64,"Maureen Andrews","F50","Ron's Runners"," ",0,null,null,null,206,"Ian Wilson","M40","UA",2.28194444444444,null,null,null,206,"Barry Sturgeon","M","UA"]
[null,null,207,"Claire Gillespie","F","Ayr Seaforth AAC",null,198,257,"Melissa Donald","M50","UA",5343,2.23819444444444,null,null,null,207,"Samantha McLaren","F","UA",2.28194444444444,null,null,null,207,"Claire Gillespie","F","Ayr Seaforth AAC"]
[null,"sa28547",208,"Gael Riddle","F","Ayr Seaforth AAC",null,203,152,"Michael Baxter","M50","UA",5419,2.26319444444444,null,null,null,208,"Claire Wylie","F40","UA",2.29583333333333,null,null,"sa28547",208,"Gael Riddle","F","Ayr Seaforth AAC"]
[null,"sa26974",209,"Kenneth Neill","M","Ayr Seaforth AAC",null,220,112,"Michelle Dunleavy","F","UA",5653,2.37013888888889,null,null,null,209,"Alison Sutherland","F40","Ron's Runners",2.29861111111111,null,null,"sa26974",209,"Kenneth Neill","M","Ayr Seaforth AAC"]
[null,"sa31015",210,"Kirstin Dale","F","Kilmarnock H&AC",null,204,81,"Michelle Murphy","F","UA",5423,2.26597222222222,null,null,null,210,"Jane Clarke","F","UA",2.30277777777778,null,null,"sa31015",210,"Kirstin Dale","F","Kilmarnock H&AC"]
[null,"sa19037",211,"Thomas Reid","M50","Ayrodynamic Triathlon Club",null,95,124,"Mike Turner","M40","UA",4558,1.91527777777778,null,null,null,211,"Gerry Hamill","M40","NW Kilmarnock Running Club",2.30694444444444,null,null,"sa19037",211,"Thomas Reid","M50","Ayrodynamic Triathlon Club"]
[null,null,212,"Ross Hunter","M","UA",null,176,272,"Moira Connell","F50","Troon Tortoises AC",5140,2.15277777777778,null,null,null,212,"Gary Craig","M","UA",2.31388888888889,null,null,null,212,"Ross Hunter","M","UA"]
[null,null,213,"Karishma Roy","F","Ron's Runners",null,260,149,"Moira McDowell","F40","UA",6831,2.85486111111111,null,null,null,213,"Abby Cunningham","F","Ayr Seaforth AAC",2.31597222222222,null,null,null,213,"Karishma Roy","F","Ron's Runners"]
[null,"sa30852",214,"Gwyn Bellamy","M","Westerlands CC Club",null,36,88,"Murray Robertson","M","UA",3926,1.64305555555556,null,null,null,214,"Angela Stroyan","F","Ron's Runners",2.31944444444444,null,null,"sa30852",214,"Gwyn Bellamy","M","Westerlands CC Club"]
[null,"sa07248",215,"Brian Douglas","M40","Bellahouston Harriers",null,59,55,"Neil McMullen","M","Ron's Runners",4234,1.77361111111111,null,null,null,215,"Lyndsay Moffat","F","Hamilton Harriers",2.32430555555556,null,null,"sa07248",215,"Brian Douglas","M40","Bellahouston Harriers"]
[null,null,216,"Rory Partis","M","UA",null,8,57,"Neil Walker","M","Kilmarnock H&AC",3504,1.46111111111111,null,null,null,216,"Lesley Harvey","F","Hamilton Harriers",2.32430555555556,null,null,null,216,"Rory Partis","M","UA"]
[null,null,217,"Malcolm Murray","M40","UA",null,172,292,"Neill Russell","M40","UA",5133,2.14791666666667,null,null,null,217,"Charles MacDonald","M60","UA",2.33541666666667,null,null,null,217,"Malcolm Murray","M40","UA"]
[null,null,218,"Ian Gilmour","M40","UA",null,192,285,"Nellie McQuillan","F40","Ayr Seaforth AAC",5309,2.21458333333333,null,null,null,218,"Sharon Gebbie","F40","UA",2.35555555555556,null,null,null,218,"Ian Gilmour","M40","UA"]
[null,"sa18267",219,"Grant MacDonald","M","Bellahouston Road Runners",null,186,95,"Nicky McMeechan","M","UA",5250,2.20138888888889,null,null,null,219,"Linda McNeil ","F50","UA",2.36388888888889,null,null,"sa18267",219,"Grant MacDonald","M","Bellahouston Road Runners"]
[null,null,220,"Gary Crombie","M40","UA",null,282,82,"Nina Vaswani","F","UA"," ",0,null,null,null,220,"Michelle Dunleavy","F","UA",2.37013888888889,null,null,null,220,"Gary Crombie","M40","UA"]
[null,null,221,"Ann Hay","F60","Ron's Runners",null,127,266,"Noel Ireland","M","UA",4833,2.02291666666667,null,null,null,221,"Robert Steel","M40","UA",2.38055555555556,null,null,null,221,"Ann Hay","F60","Ron's Runners"]
[null,null,222,"Alan Douglas","M","UA",null,163,265,"Pamela Porteous","F40","UA",5035,2.10763888888889,null,null,null,222,"Jamie Reid","M","UA",2.38194444444444,null,null,null,222,"Alan Douglas","M","UA"]
[null,"sa27309",223,"Ian Young","M","Ayr Seaforth AAC",null,148,130,"Pat Standen","F50","UA",4928,2.06111111111111,null,null,null,223,"Emmy Dodda","F50","UA",2.38611111111111,null,null,"sa27309",223,"Ian Young","M","Ayr Seaforth AAC"]
[null,null,224,"David Bowman","M","UA",null,183,133,"Paul  McBlane","M40","UA",5230,2.1875,null,null,null,224,"Stephanie Dale","F","Kilmarnock H&AC",2.39791666666667,null,null,null,224,"David Bowman","M","UA"]
[null,"sa22270",225,"Bruce Walker","M60","Troon Tortoises AC",null,55,138,"Paul Bennie","M40","Kilmarnock H&AC",4213,1.75902777777778,null,null,null,225,"Angela Brown","F","Irvine Running Club",2.42152777777778,null,null,"sa22270",225,"Bruce Walker","M60","Troon Tortoises AC"]
[null,"so6121",226,"Colin Stewart","M40","Shettleston Harriers",null,106,85,"Paul Chapman ","M","UA",4659,1.95763888888889,null,null,null,226,"Alana Montgomery","F40","KA Leisure",2.42986111111111,null,null,"so6121",226,"Colin Stewart","M40","Shettleston Harriers"]
[null,"sa22342",227,"Paul Turnbull","M50","Ayr Seaforth AAC",null,96,283,"Paul Deas","M","Troon Tortoises AC",4601,1.91736111111111,null,null,null,227,"Anne Cunningham","F40","KA Leisure",2.42986111111111,null,null,"sa22342",227,"Paul Turnbull","M50","Ayr Seaforth AAC"]
[null,"sa28539",228,"Lisa Gilmore","F40","Bellahouston Harriers",null,42,20,"Paul Lafferty","M","Ron's Runners",3949,1.65902777777778,null,null,null,228,"Leigh-Ann Cherry","F","UA",2.43125,null,null,"sa28539",228,"Lisa Gilmore","F40","Bellahouston Harriers"]
[null,"sa6020",229,"Bobby Miller","M50","Troon Tortoises AC",null,157,146,"Paul McCallum","M40","Ron's Runners",4955,2.07986111111111,null,null,null,229,"Mark Leckie","M","UA",2.43541666666667,null,null,"sa6020",229,"Bobby Miller","M50","Troon Tortoises AC"]
[null,null,230,"Carolyn Fisher","F","North Ayrshire AC",null,47,227,"Paul Turnbull","M50","Ayr Seaforth AAC",4034,1.69027777777778,null,null,null,230,"Lynsey Leckie","F","UA",2.43541666666667,null,null,null,230,"Carolyn Fisher","F","North Ayrshire AC"]
[null,"sa17173",231,"Kevin Bloy","M40","Ayr Seaforth AAC",null,123,76,"Philip Vernon","M","UA",4813,2.00902777777778,null,null,null,231,"Madeleine Patterson","F","Irvine Running Club",2.44930555555556,null,null,"sa17173",231,"Kevin Bloy","M40","Ayr Seaforth AAC"]
[null,"sa05314",232,"Anne Noble","F50","Troon Tortoises AC",null,200,36,"Rachel Cox","F40","Monkton Milers",5401,2.25069444444444,null,null,null,232,"Jim McCleary","M50","UA",2.45902777777778,null,null,"sa05314",232,"Anne Noble","F50","Troon Tortoises AC"]
[null,null,233,"Elizabeth Fairbairn","F50","Ron's Runners",null,171,114,"Rachid Senouci","F","UA",5115,2.13541666666667,null,null,null,233,"Alan Hewitson","M40","UA",2.47430555555556,null,null,null,233,"Elizabeth Fairbairn","F50","Ron's Runners"]
[null,null,234,"Lindsay Taylor","F","UA",null,140,166,"Ray O'Leary","M40","UA",4902,2.04305555555556,null,null,null,234,"Susan Chamberlain","F40","Monkton Milers",2.47777777777778,null,null,null,234,"Lindsay Taylor","F","UA"]
[null,"sda33150",235,"Robert Gilroy","M","Ronhill Cambuslang Harriers",null,125,179,"Raymond Thom","M","UA",4816,2.01111111111111,null,null,null,235,"Karen Lees","F","UA",2.48333333333333,null,null,"sda33150",235,"Robert Gilroy","M","Ronhill Cambuslang Harriers"]
[null,"sa30989",236,"David Boag","M40","Bellahouston Road Runners",null,145,280,"Rhona O'Neill","F","Kilmarnock H&AC",4922,2.05694444444444,null,null,null,236,"Kimberley Mackay","F","Irvine Running Club",2.48611111111111,null,null,"sa30989",236,"David Boag","M40","Bellahouston Road Runners"]
[null,"sa29793",237,"Fiona Comrie","F40","North Ayrshire AC",null,25,182,"Rick Williams ","M40","Galloway Harriers",3834,1.60694444444444,null,null,null,237,"Karen Hughes","F40","UA",2.49097222222222,null,null,"sa29793",237,"Fiona Comrie","F40","North Ayrshire AC"]
[null,"sa30974",238,"Laura McGregor","F","North Ayrshire AC",null,66,51,"Robert Chalmers","M","UA",4313,1.80069444444444,null,null,null,238,"Fiona McDonald","F40","Monkton Milers",2.50138888888889,null,null,"sa30974",238,"Laura McGregor","F","North Ayrshire AC"]
[null,null,239,"Jane Clarke","F","UA",null,1,235,"Robert Gilroy","M","Ronhill Cambuslang Harriers",3149,1.32569444444444,null,null,null,239,"Victoria Lambart","F","UA",2.50555555555556,null,null,null,239,"Jane Clarke","F","UA"]
[null,null,240,"Chris Lorimer","M","UA",null,11,287,"Robert Lindsay","M40","Kilmarnock H&AC",3617,1.51180555555556,null,null,null,240,"Elizabeth Fairbairn","F50","Ron's Runners",2.50625,null,null,null,240,"Chris Lorimer","M","UA"]
[null,"sa21005",241,"Elsie Downham","F","Bellahouston Road Runners",null,15,180,"Robert O'Neill","M","Clydesdale Harriers",3655,1.53819444444444,null,null,null,241,"Joanna Reid","F","UA",2.51041666666667,null,null,"sa21005",241,"Elsie Downham","F","Bellahouston Road Runners"]
[null,null,242,"James Hobson","M40","UA",null,221,49,"Robert Steel","M40","UA",5708,2.38055555555556,null,null,null,242,"Alison Reid","F40","UA",2.52708333333333,null,null,null,242,"James Hobson","M40","UA"]
[null,null,243,"Gary Craig","M","UA",null,68,216,"Rory Partis","M","UA",4327,1.81041666666667,null,null,null,243,"Suzy Moorby","F40","Troon Tortoises AC",2.52708333333333,null,null,null,243,"Gary Craig","M","UA"]
[null,null,244,"Matthew Watson","M","Ron's Runners",null,67,109,"Ross Bickerstaff","M50","Hamilton Harriers",4323,1.80763888888889,null,null,null,244,"Ginny Bell","F40","UA",2.58125,null,null,null,244,"Matthew Watson","M","Ron's Runners"]
[null,"sa08691",245,"John Surgenor","M50","Irvine Running Club",null,292,212,"Ross Hunter","M","UA"," ",0,null,null,null,245,"Ann Hay","F60","Ron's Runners",2.58611111111111,null,null,"sa08691",245,"John Surgenor","M50","Irvine Running Club"]
[null,null,246,"Alison Reid","F40","UA",null,136,279,"Ross McClymont","M40","Troon Tortoises AC",4853,2.03680555555556,null,null,null,246,"Aimee Clydesdale","F","UA",2.5875,null,null,null,246,"Alison Reid","F40","UA"]
[null,"sa119176",247,"Ken Wales","M40","Kilmarnock H&AC",null,269,19,"Ruth Barclay-Paterson","F","UA"," ",0,null,null,null,247,"Carrol Finlay","F50","Ron's Runners",2.59305555555556,null,null,"sa119176",247,"Ken Wales","M40","Kilmarnock H&AC"]
[null,null,248,"James Callender","M","Westerlands CC Club",null,161,63,"Ruth McLaughlan","F40","Ron's Runners",5024,2.1,null,null,null,248,"Lisa Phillips","F","UA",2.59513888888889,null,null,null,248,"James Callender","M","Westerlands CC Club"]
[null,null,249,"Christine Halsall","F","UA",null,72,129,"Sam Golder","M20","UA",4359,1.83263888888889,null,null,null,249,"Hannah O'Shea","F","UA",2.61527777777778,null,null,null,249,"Christine Halsall","F","UA"]
[null,"sa07946",250,"Kerry Liam Wilson","M40","Ronhill Cambuslang Harriers",null,207,58,"Samantha McLaren","F","UA",5446,2.28194444444444,null,null,null,250,"Laura Russell","F40","UA",2.64305555555556,null,null,"sa07946",250,"Kerry Liam Wilson","M40","Ronhill Cambuslang Harriers"]
[null,null,251,"Shivaun O'Neill","F","Ron's Runners",null,276,45,"Sandra Hunter","F50","Ron's Runners"," ",0,null,null,null,251,"Fiona Hewitson","F40","UA",2.65069444444444,null,null,null,251,"Shivaun O'Neill","F","Ron's Runners"]
[null,null,252,"Alison Sutherland","F40","Ron's Runners",null,79,175,"Sandra Reid","F40","UA",4419,1.84652777777778,null,null,null,252,"Lynn Robertson","F40","UA",2.66736111111111,null,null,null,252,"Alison Sutherland","F40","Ron's Runners"]
[null,null,253,"Scott Watson","M40","Ron's Runners",null,22,294,"Scott Brown","M","Irvine Running Club",3818,1.59583333333333,null,null,null,253,"Helen French","F50","UA",2.70694444444444,null,null,null,253,"Scott Watson","M40","Ron's Runners"]
[null,null,254,"David Mackie","M40","Ron's Runners",null,62,163,"Scott Forbes ","M","UA",4249,1.78402777777778,null,null,null,254,"Janice Millar","F50","Kilmarnock H&AC",2.72708333333333,null,null,null,254,"David Mackie","M40","Ron's Runners"]
[null,null,255,"Fraser Mackie","MU20","Irvine Running Club",null,182,253,"Scott Watson","M40","Ron's Runners",5230,2.1875,null,null,null,255,"Yvonne Gallacher","F40","Irvine Running Club",2.81041666666667,null,null,null,255,"Fraser Mackie","MU20","Irvine Running Club"]
[null,null,256,"Thomas Turner","M","UA",null,38,142,"Sean Connor","M","Galloway Harriers",3937,1.65069444444444,null,null,null,256,"Lorraine Dobbs","F40","Irvine Running Club",2.81111111111111,null,null,null,256,"Thomas Turner","M","UA"]
[null,null,257,"Melissa Donald","M50","UA",null,218,162,"Sharon Gebbie","F40","UA",5632,2.35555555555556,null,null,null,257,"Kristy Wise","F","UA",2.82152777777778,null,null,null,257,"Melissa Donald","M50","UA"]
[null,null,258,"Caroline Mutch","F40","Troon Tortoises AC",null,191,251,"Shivaun O'Neill","F","Ron's Runners",5308,2.21388888888889,null,null,null,258,"Andrew Crichton","M","Ayr Seaforth AAC",2.82152777777778,null,null,null,258,"Caroline Mutch","F40","Troon Tortoises AC"]
[null,null,259,"David Gibson","M40","UA",null,88,61,"Shona Donnelly","F40","Bellahouston Road Runners",4517,1.88680555555556,null,null,null,259,"Heather Murray","F40","UA",2.83472222222222,null,null,null,259,"David Gibson","M40","UA"]
[null,null,260,"Anita Mackie","F40","Ron's Runners",null,110,113,"Simon Woodliff","M","UA",4725,1.97569444444444,null,null,null,260,"Moira McDowell","F40","UA",2.85486111111111,null,null,null,260,"Anita Mackie","F40","Ron's Runners"]
[null,null,261,"Colin Knox","M40","Wee Grumpy Runners",null,224,281,"Stephanie Dale","F","Kilmarnock H&AC",5733,2.39791666666667,null,null,null,261,"Dave Cossar","M60","UA",2.88611111111111,null,null,null,261,"Colin Knox","M40","Wee Grumpy Runners"]
[null,null,262,"David Crawford","M","UA",null,114,67,"Stephen Harris","M40","Bellahouston Road Runners",4739,1.98541666666667,null,null,null,262,"Marian Harris","F50","Jog Scotland",2.92986111111111,null,null,null,262,"David Crawford","M","UA"]
[null,null,263,"Kenny Weir","M60","UA",null,58,184,"Stephen McGill","M50","UA",4229,1.77013888888889,null,null,null,263,"Christine Herman","F40","Irvine Running Club",3.00694444444444,null,null,null,263,"Kenny Weir","M60","UA"]
[null,null,264,"Hannah O'Shea","F","UA",null,154,135,"Steve Smith","M40","UA",4944,2.07222222222222,null,null,null,264,"Christine Halsall","F","UA","DNF",null,null,null,264,"Hannah O'Shea","F","UA"]
[null,null,265,"Pamela Porteous","F40","UA",null,156,191,"Steven Chapman","M","UA",4953,2.07847222222222,null,null,null,265,"Stuart Cooper","M","UA",null,null,null,null,265,"Pamela Porteous","F40","UA"]
[null,null,266,"Noel Ireland","M","UA",null,78,94,"Steven Crawford","M","UA",4415,1.84375,null,null,null,266,"Terry Wright","M60","UA",null,null,null,null,266,"Noel Ireland","M","UA"]
[null,null,267,"Martin McCrorie","M40","Ayr Seaforth AAC",null,83,105,"Steven Donnelly","M","Hamilton Harriers",4447,1.86597222222222,null,null,null,267,"Matthew Cameron","M","Ayr Seaforth AAC",null,null,null,null,267,"Martin McCrorie","M40","Ayr Seaforth AAC"]
[null,null,268,"Stuart McLean","M40","UA",null,150,199,"Steven Gilmour","M40","UA",4935,2.06597222222222,null,null,null,268,"Luke Chamberlain","M40","Giffnock North AAC",null,null,null,null,268,"Stuart McLean","M40","UA"]
[null,null,269,"John Taylor","M40","UA",null,90,203,"Steven Robson","M","UA",4528,1.89444444444444,null,null,null,269,"Ruth Barclay-Paterson","F","UA",null,null,null,null,269,"John Taylor","M40","UA"]
[null,null,270,"Stuart McColm","M40","UA",null,101,143,"Stewart McRoberts","M","UA",4626,1.93472222222222,null,null,null,270,"Tracy Kerr","F40","Kilmarnock H&AC",null,null,null,null,270,"Stuart McColm","M40","UA"]
[null,"sa25010",271,"Graham McCabe","M40","Kirkintilloch Olympians",null,39,3,"Stuart Brockie","M40","Ayr Seaforth AAC",3942,1.65416666666667,null,null,null,271,"Andy McNaughton","F40","Ron's Runners",null,null,null,"sa25010",271,"Graham McCabe","M40","Kirkintilloch Olympians"]
[null,null,272,"Moira Connell","F50","Troon Tortoises AC",null,265,5,"Stuart Cooper","M","UA"," ",0,null,null,null,272,"Jacqui Sandler","F40","Kilmarnock H&AC",null,null,null,null,272,"Moira Connell","F50","Troon Tortoises AC"]
[null,null,273,"Alan Anderson","M50","Kilmarnock H&AC",null,122,102,"Stuart Hodge","M","UA",4813,2.00902777777778,null,null,null,273,"Claire McNicol","F40","UA",null,null,null,null,273,"Alan Anderson","M50","Kilmarnock H&AC"]
[null,null,274,"John Rennie","M50","UA",null,118,270,"Stuart McColm","M40","UA",4756,1.99722222222222,null,null,null,274,"Alan Strange","M40","UA",null,null,null,null,274,"John Rennie","M50","UA"]
[null,null,275,"Elaine Rennie","F40","UA",null,50,268,"Stuart McLean","M40","UA",4136,1.73333333333333,null,null,null,275,"Amanda Lindsay","F40","Ron's Runners",null,null,null,null,275,"Elaine Rennie","F40","UA"]
[null,null,276,"Colin Whitby","M","Irvine Running Club",null,290,144,"Stuart Munro","M","Ayr Seaforth AAC"," ",0,null,null,null,276,"Sandra Hunter","F50","Ron's Runners",null,null,null,null,276,"Colin Whitby","M","Irvine Running Club"]
[null,null,277,"Alana Montgomery","F40","KA Leisure",null,14,158,"Stuart Murdoch","M40","Kilmarnock H&AC",3634,1.52361111111111,null,null,null,277,"Catherine Elliot","F50","UA",null,null,null,null,277,"Alana Montgomery","F40","KA Leisure"]
[null,null,278,"Anne Cunningham","F40","KA Leisure",null,49,161,"Stuart Swan","M","Troon Tortoises AC",4120,1.72222222222222,null,null,null,278,"Maureen Andrews","F50","Ron's Runners",null,null,null,null,278,"Anne Cunningham","F40","KA Leisure"]
[null,null,279,"Ross McClymont","M40","Troon Tortoises AC",null,234,31,"Susan Chamberlain","F40","Monkton Milers",5928,2.47777777777778,null,null,null,279,"Ewan McKerracher","M","Glasgow Triathlon Club",null,null,null,null,279,"Ross McClymont","M40","Troon Tortoises AC"]
[null,null,280,"Rhona O'Neill","F","Kilmarnock H&AC",null,243,4,"Suzy Moorby","F40","Troon Tortoises AC",6039,2.52708333333333,null,null,null,280,"Judith MacGregor","F","Bellahouston Road Runners",null,null,null,null,280,"Rhona O'Neill","F","Kilmarnock H&AC"]
[null,null,281,"Stephanie Dale","F","Kilmarnock H&AC",null,266,8,"Terry Wright","M60","UA"," ",0,null,null,null,281,"Derek Cuthbertson","M40","UA",null,null,null,null,281,"Stephanie Dale","F","Kilmarnock H&AC"]
[null,"sa7879",282,"Ian McNee","M50","Troon Tortoises AC",null,202,201,"Thomas Moran","M50","UA",5403,2.25208333333333,null,null,null,282,"Nina Vaswani","F","UA",null,null,null,"sa7879",282,"Ian McNee","M50","Troon Tortoises AC"]
[null,null,283,"Paul Deas","M","Troon Tortoises AC",null,168,211,"Thomas Reid","M50","Ayrodynamic Triathlon Club",5056,2.12222222222222,null,null,null,283,"Kevin McWhirter","M","UA",null,null,null,null,283,"Paul Deas","M","Troon Tortoises AC"]
[null,null,284,"David Lightbody","M50","UA",null,31,147,"Thomas Slocombe","M","UA",3858,1.62361111111111,null,null,null,284,"Erin Fletcher-Burns","F","UA",null,null,null,null,284,"David Lightbody","M50","UA"]
[null,null,285,"Nellie McQuillan","F40","Ayr Seaforth AAC",null,124,256,"Thomas Turner","M","UA",4814,2.00972222222222,null,null,null,285,"George Rooney","M40","UA",null,null,null,null,285,"Nellie McQuillan","F40","Ayr Seaforth AAC"]
[null,"sa28706",286,"Janice McKellar","F50","Ayr Seaforth AAC",null,151,59,"Tim Murphy","M40","UA",4937,2.06736111111111,null,null,null,286,"James McGill","M40","UA",null,null,null,"sa28706",286,"Janice McKellar","F50","Ayr Seaforth AAC"]
[null,"sa29647",287,"Robert Lindsay","M40","Kilmarnock H&AC",null,57,90,"Tom Coughtrie","M50","Jog Scotland",4229,1.77013888888889,null,null,null,287,"Mark Alexander","M","Kilmarnock H&AC",null,null,null,"sa29647",287,"Robert Lindsay","M40","Kilmarnock H&AC"]
[null,"sa32365",288,"Aimi Barker","F40","Ayr Seaforth AAC",null,19,33,"Tommy O'Connell","M","Bellahouston Road Runners",3754,1.57916666666667,null,null,null,288,"John Brown","M40","Keen Amateurs",null,null,null,"sa32365",288,"Aimi Barker","F40","Ayr Seaforth AAC"]
[null,33751419,289,"Colin McEwan","M","St Bees Tolies",null,270,24,"Tracy Kerr","F40","Kilmarnock H&AC"," ",0,null,null,null,289,"Angela McDill","F","UA",null,null,null,33751419,289,"Colin McEwan","M","St Bees Tolies"]
[null,null,290,"Charlie Tymon","M","UA",null,239,155,"Victoria Lambart","F","UA",6008,2.50555555555556,null,null,null,290,"Stuart Munro","M","Ayr Seaforth AAC",null,null,null,null,290,"Charlie Tymon","M","UA"]
[null,"sa27171",291,"David Ruthven","M50","Troon Tortoises AC",null,141,115,"Victoria Morrison","F","UA",4903,2.04375,null,null,null,291,"Craig McPike","M","Ayr Seaforth AAC",null,null,null,"sa27171",291,"David Ruthven","M50","Troon Tortoises AC"]
[null,null,292,"Neill Russell","M40","UA",null,26,174,"Vincent Carroll","M40","Kirkintilloch Olympians",3836,1.60833333333333,null,null,null,292,"Ross Hunter","M","UA",null,null,null,null,292,"Neill Russell","M40","UA"]
[null,null,293,"Carrol Finlay","F50","Ron's Runners",null,30,187,"Walter Henderson","M40","Shettleston Harriers",3858,1.62361111111111,null,null,null,293,"David Locke","M50","UA",null,null,null,null,293,"Carrol Finlay","F50","Ron's Runners"]
[null,null,294,"Scott Brown","M","Irvine Running Club",null,255,139,"Yvonne Gallacher","F40","Irvine Running Club",6727,2.81041666666667,null,null,null,294,"Barry Sturgeon","M","UA",null,null,null,null,294,"Scott Brown","M","Irvine Running Club"]
[]
[null,null,null,null,null,null,null," "]
[null,null,null,null,null,null,null," "]
[null,null,null,null,null,null,null," "]
[null,null,null,null,null,null,null," "]
[null,null,null,null,null,null,null," "]
[null,null,null,null,null,null,null," "]
[null,null,null,null,null,null,null," "]
[null,null,null,null,null,null,null," "]
[null,null,null,null,null,null,null," "]
[null,null,null,null,null,null,null," "]
[null,null,null,null,null,null,null," "]
[null,null,null,null,null,null,null," "]
[null,null,null,null,null,null,null," "]
[null,null,null,null,null,null,null," "]
[null,null,null,null,null,null,null," "]
[null,null,null,null,null,null,null," "]
[null,null,null,null,null,null,null," "]
[null,null,null,null,null,null,null," "]
[null,null,null,null,null,null,null," "]
[null,null,null,null,null,null,null," "]
[null,null,null,null,null,null,null," "]
[null,null,null,null,null,null,null," "]
[null,null,null,null,null,null,null," "]
[null,null,null,null,null,null,null," "]
[null,null,null,null,null,null,null," "]

{"sheet":"Decs Publ","index":4,"n_rows":273,"n_cols":5,"rows_kept":273,"cut":false,"hidden":false,"merged":[]}
[null,null,"Declarations 2014",null,"Marymass"]
[]
[null,"Input SAL","Name","Cat","Club"]
[null,"sa05314","Anne Noble","F50","Troon Tortoises AC"]
[null,"sa05831","Shona Donnelly","F40","Bellahouston Road Runners"]
[null,"sa08884","Jane Wild","F40","Bellahouston Road Runners"]
[null,"sa13565","Louise Gray","F40","Bellahouston Road Runners"]
[null,"sa21005","Elsie Downham","F","Bellahouston Road Runners"]
[null,"sa21766","Cheryl McNulty","F","Hamilton Harriers"]
[null,"sa23814","Ciara Baxter","F","Bellahouston Road Runners"]
[null,"sa27745","Beth MacCrae","FU20","Ayr Seaforth AAC"]
[null,"sa28539","Lisa Gilmore","F40","Bellahouston Harriers"]
[null,"sa28547","Gael Riddle","F","Ayr Seaforth AAC"]
[null,"sa28706","Janice McKellar","F50","Ayr Seaforth AAC"]
[null,"sa28987","Claire McArthur","F","Hamilton Harriers"]
[null,"sa29279","Janice Millar","F50","Kilmarnock H&AC"]
[null,"sa29793","Fiona Comrie","F40","North Ayrshire AC"]
[null,"sa30974","Laura McGregor","F","North Ayrshire AC"]
[null,"sa31015","Kirstin Dale","F","Kilmarnock H&AC"]
[null,"sa31044","Haylie McCrorie","F","Bellahouston Road Runners"]
[null,"sa31068","Lesley Harvey","F","Hamilton Harriers"]
[null,"sa31078","Lyndsay Moffat","F","Hamilton Harriers"]
[null,"sa31979","Kimberley Mackay","F","Irvine Running Club"]
[null,"sa32365","Aimi Barker","F40","Ayr Seaforth AAC"]
[null,"sa32368","Suzy Moorby","F40","Troon Tortoises AC"]
[null,null,"Laura Wallace","F","Ayr Seaforth AAC"]
[null,null,"Karen Lees","F","UA"]
[null,null,"Angela Stroyan","F","Ron's Runners"]
[null,null,"Leigh-Ann Cherry","F","UA"]
[null,null,"Lynsey Leckie","F","UA"]
[null,null,"Samantha McLaren","F","UA"]
[null,null,"Abby Cunningham","F","Ayr Seaforth AAC"]
[null,null,"Michelle Murphy","F","UA"]
[null,null,"Laura Farquharson","F","Hamilton Harriers"]
[null,null,"Michelle Dunleavy","F","UA"]
[null,null,"Rachid Senouci","F","UA"]
[null,null,"Victoria Morrison","F","UA"]
[null,null,"Angela Brown","F","Irvine Running Club"]
[null,null,"Lisa Phillips","F","UA"]
[null,null,"Kristy Wise","F","UA"]
[null,null,"Victoria Lambart","F","UA"]
[null,null,"Aimee Clydesdale","F","UA"]
[null,null,"Madeleine Patterson","F","Irvine Running Club"]
[null,null,"Jen Tucker","F","UA"]
[null,null,"Anna Warnock","F","UA"]
[null,null,"Laura Jamieson","F","UA"]
[null,null,"Joanna Reid","F","UA"]
[null,null,"Claire Gillespie","F","Ayr Seaforth AAC"]
[null,null,"Karishma Roy","F","Ron's Runners"]
[null,null,"Carolyn Fisher","F","North Ayrshire AC"]
[null,null,"Lindsay Taylor","F","UA"]
[null,null,"Jane Clarke","F","UA"]
[null,null,"Christine Halsall","F","UA"]
[null,null,"Shivaun O'Neill","F","Ron's Runners"]
[null,null,"Hannah O'Shea","F","UA"]
[null,null,"Rhona O'Neill","F","Kilmarnock H&AC"]
[null,null,"Stephanie Dale","F","Kilmarnock H&AC"]
[null,null,"Karen Hughes","F40","UA"]
[null,null,"Fiona McDonald","F40","Monkton Milers"]
[null,null,"Susan Chamberlain","F40","Monkton Milers"]
[null,null,"Rachel Cox","F40","Monkton Milers"]
[null,null,"Elaine Bufton","F40","UA"]
[null,null,"Fiona Hewitson","F40","UA"]
[null,null,"Laura Russell","F40","UA"]
[null,null,"Ruth McLaughlan","F40","Ron's Runners"]
[null,null,"Heather Murray","F40","UA"]
[null,null,"Marion Sloan","F40","Monkton Milers"]
[null,null,"Doreen McCleary","F40","UA"]
[null,null,"Frances Butler","F40","Galloway Harriers"]
[null,null,"Janette Clarkson","F40","Hamilton Harriers"]
[null,null,"Lynn Robertson","F40","UA"]
[null,null,"Claire Wylie","F40","UA"]
[null,null,"Yvonne Gallacher","F40","Irvine Running Club"]
[null,null,"Martina Moore","F40","Galloway Harriers"]
[null,null,"Moira McDowell","F40","UA"]
[null,null,"Christine Herman","F40","Irvine Running Club"]
[null,null,"Ginny Bell","F40","UA"]
[null,null,"Sharon Gebbie","F40","UA"]
[null,null,"Lorraine Dobbs","F40","Irvine Running Club"]
[null,null,"Sandra Reid","F40","UA"]
[null,null,"Lynne Goldie","F40","Bellahouston Road Runners"]
[null,null,"Alison Reid","F40","UA"]
[null,null,"Alison Sutherland","F40","Ron's Runners"]
[null,null,"Caroline Mutch","F40","Troon Tortoises AC"]
[null,null,"Anita Mackie","F40","Ron's Runners"]
[null,null,"Pamela Porteous","F40","UA"]
[null,null,"Elaine Rennie","F40","UA"]
[null,null,"Alana Montgomery","F40","KA Leisure"]
[null,null,"Anne Cunningham","F40","KA Leisure"]
[null,null,"Nellie McQuillan","F40","Ayr Seaforth AAC"]
[null,null,"Marian Harris","F50","Jog Scotland"]
[null,null,"Linda McNeil ","F50","UA"]
[null,null,"Pat Standen","F50","UA"]
[null,null,"Helen French","F50","UA"]
[null,null,"Emmy Dodda","F50","UA"]
[null,null,"Elizabeth Fairbairn","F50","Ron's Runners"]
[null,null,"Moira Connell","F50","Troon Tortoises AC"]
[null,null,"Carrol Finlay","F50","Ron's Runners"]
[null,null,"Ann Hay","F60","Ron's Runners"]
[null,32727,"John McCluskey","M40","Jog Scotland"]
[null,33751419,"Colin McEwan","M","St Bees Tolies"]
[null,"a825391","Raymond Thom","M","UA"]
[null,"js018323","Tom Coughtrie","M50","Jog Scotland"]
[null,"js156752","Craig Hunter","M","Jog Scotland"]
[null,"sa05788 ","Jim Sneddon","M40","Irvine Running Club"]
[null,"sa07248","Brian Douglas","M40","Bellahouston Harriers"]
[null,"sa07687","Chris Upson","M50","Ronhill Cambuslang Harriers"]
[null,"sa07946","Kerry Liam Wilson","M40","Ronhill Cambuslang Harriers"]
[null,"sa08691","John Surgenor","M50","Irvine Running Club"]
[null,"sa119176","Ken Wales","M40","Kilmarnock H&AC"]
[null,"sa13567","Brian Robertson","M","Shettleston Harriers"]
[null,"sa16410","Bruce  Carse","M","Bellahouston Road Runners"]
[null,"sa17173","Kevin Bloy","M40","Ayr Seaforth AAC"]
[null,"sa18267","Grant MacDonald","M","Bellahouston Road Runners"]
[null,"sa19037","Thomas Reid","M50","Ayrodynamic Triathlon Club"]
[null,"sa19039","Craig Reid","M","Bellahouston Road Runners"]
[null,"sa20917","Craig Brown ","M","Ayr Seaforth AAC"]
[null,"sa21540","Fraser McPhail","M40","Troon Tortoises AC"]
[null,"sa22270","Bruce Walker","M60","Troon Tortoises AC"]
[null,"sa22342","Paul Turnbull","M50","Ayr Seaforth AAC"]
[null,"sa23767","Tommy O'Connell","M","Bellahouston Road Runners"]
[null,"sa24137","John Strachan","M","Ayr Seaforth AAC"]
[null,"sa24775","Mark Preston","M","North Ayrshire AC"]
[null,"sa25010","Graham McCabe","M40","Kirkintilloch Olympians"]
[null,"sa26245","Chris Boyce","M","Ayr Seaforth AAC"]
[null,"sa26974","Kenneth Neill","M","Ayr Seaforth AAC"]
[null,"sa27023","Robert O'Neill","M","Clydesdale Harriers"]
[null,"sa27171","David Ruthven","M50","Troon Tortoises AC"]
[null,"sa27309","Ian Young","M","Ayr Seaforth AAC"]
[null,"sa27808","Darrell Dunscombe","M40","Troon Tortoises AC"]
[null,"sa28008","Stuart Brockie","M40","Ayr Seaforth AAC"]
[null,"sa29293","Vincent Carroll","M40","Kirkintilloch Olympians"]
[null,"sa29483","Jim Phillips","M40","Troon Tortoises AC"]
[null,"sa29647","Robert Lindsay","M40","Kilmarnock H&AC"]
[null,"sa30306","Andrew Crichton","M","Ayr Seaforth AAC"]
[null,"sa30852","Gwyn Bellamy","M","Westerlands CC Club"]
[null,"sa30989","David Boag","M40","Bellahouston Road Runners"]
[null,"sa31012","Ross Bickerstaff","M50","Hamilton Harriers"]
[null,"sa31013","Neil Walker","M","Kilmarnock H&AC"]
[null,"sa31297","Steven Donnelly","M","Hamilton Harriers"]
[null,"sa31539","James Murray","M","Ayr Seaforth AAC"]
[null,"sa31958","Craig Pickett","M","Irvine Running Club"]
[null,"sa32152","Alan Heron","M","Dumbarton AAC"]
[null,"sa32175","Andrew Bickerstaff","M20","Hamilton Harriers"]
[null,"sa32375","Ian Rutherford","M40","North Ayrshire AC"]
[null,"sa32398","Alan Donachy","M40","North Ayrshire AC"]
[null,"sa32606","Damian Taylor","M40","North Ayrshire AC"]
[null,"sa32652","James John","M40","Ronhill Cambuslang Harriers"]
[null,"sa33186","Matt Pierce","M40","Troon Tortoises AC"]
[null,"sa34232","Stuart Swan","M","Troon Tortoises AC"]
[null,"sa34275","John Leitch","M","North Ayrshire AC"]
[null,"sa6020","Bobby Miller","M50","Troon Tortoises AC"]
[null,"sa7879","Ian McNee","M50","Troon Tortoises AC"]
[null,"sa8450","Mark Hamilton","M40","Kilmarnock H&AC"]
[null,"sda33150","Robert Gilroy","M","Ronhill Cambuslang Harriers"]
[null,"so00581","David Stirling","M40","UA"]
[null,"so00607","Daniel Kershaw","M","UA"]
[null,"so00678","Walter Henderson","M40","Shettleston Harriers"]
[null,"so6121","Colin Stewart","M40","Shettleston Harriers"]
[null,null,"Paul Lafferty","M","Ron's Runners"]
[null,null,"Alan Dorrans","M","UA"]
[null,null,"Allan Moore","M","UA"]
[null,null,"Mark Leckie","M","UA"]
[null,null,"Robert Chalmers","M","UA"]
[null,null,"Kenny Vallance","M","UA"]
[null,null,"Neil McMullen","M","Ron's Runners"]
[null,null,"Philip Vernon","M","UA"]
[null,null,"Paul Chapman ","M","UA"]
[null,null,"Murray Robertson","M","UA"]
[null,null,"Steven Crawford","M","UA"]
[null,null,"Nicky McMeechan","M","UA"]
[null,null,"Martin Laddemann","M","UA"]
[null,null,"Stuart Hodge","M","UA"]
[null,null,"David Jones ","M","UA"]
[null,null,"Jamie Donnell","M","UA"]
[null,null,"Simon Woodliff","M","UA"]
[null,null,"Jon Cunningham","M","UA"]
[null,null,"Sean Connor","M","Galloway Harriers"]
[null,null,"Stewart McRoberts","M","UA"]
[null,null,"Thomas Slocombe","M","UA"]
[null,null,"Gary Dunlop","M","UA"]
[null,null,"Scott Forbes ","M","UA"]
[null,null,"Mark Morrison","M","UA"]
[null,null,"John Ross","M","UA"]
[null,null,"Eamonn Hamill","M","UA"]
[null,null,"Andy Wilson","M","UA"]
[null,null,"Steven Chapman","M","UA"]
[null,null,"Craig McBreen","M","UA"]
[null,null,"Jamie Reid","M","UA"]
[null,null,"Calum MacDonald","M","Ayr Seaforth AAC"]
[null,null,"Steven Robson","M","UA"]
[null,null,"Rory Partis","M","UA"]
[null,null,"Alan Douglas","M","UA"]
[null,null,"David Bowman","M","UA"]
[null,null,"Chris Lorimer","M","UA"]
[null,null,"Gary Craig","M","UA"]
[null,null,"Matthew Watson","M","Ron's Runners"]
[null,null,"James Callender","M","Westerlands CC Club"]
[null,null,"Thomas Turner","M","UA"]
[null,null,"David Crawford","M","UA"]
[null,null,"Noel Ireland","M","UA"]
[null,null,"Colin Whitby","M","Irvine Running Club"]
[null,null,"Paul Deas","M","Troon Tortoises AC"]
[null,null,"Charlie Tymon","M","UA"]
[null,null,"Scott Brown","M","Irvine Running Club"]
[null,null,"Sam Golder","M20","UA"]
[null,null,"Kenneth Sutherland","M40","UA"]
[null,null,"Alexander Beggs","M40","UA"]
[null,null,"Alan Hewitson","M40","UA"]
[null,null,"Cameron Clark","M40","UA"]
[null,null,"Robert Steel","M40","UA"]
[null,null,"Ian Wilson","M40","UA"]
[null,null,"Tim Murphy","M40","UA"]
[null,null,"Allan Hogarth","M40","UA"]
[null,null,"Stephen Harris","M40","Bellahouston Road Runners"]
[null,null,"Gerry Hamill","M40","NW Kilmarnock Running Club"]
[null,null,"Liam McBlain","M40","UA"]
[null,null,"John Needle","M40","UA"]
[null,null,"Mike Turner","M40","UA"]
[null,null,"James McFadden","M40","UA"]
[null,null,"David McBride","M40","UA"]
[null,null,"Paul  McBlane","M40","UA"]
[null,null,"Steve Smith","M40","UA"]
[null,null,"Paul Bennie","M40","Kilmarnock H&AC"]
[null,null,"Paul McCallum","M40","Ron's Runners"]
[null,null,"Stuart Murdoch","M40","Kilmarnock H&AC"]
[null,null,"Ray O'Leary","M40","UA"]
[null,null,"Rick Williams ","M40","Galloway Harriers"]
[null,null,"Steven Gilmour","M40","UA"]
[null,null,"Gerry Penman","M40","Scottish Prison Service AAC"]
[null,null,"Malcolm Murray","M40","UA"]
[null,null,"Ian Gilmour","M40","UA"]
[null,null,"Gary Crombie","M40","UA"]
[null,null,"James Hobson","M40","UA"]
[null,null,"Scott Watson","M40","Ron's Runners"]
[null,null,"David Mackie","M40","Ron's Runners"]
[null,null,"David Gibson","M40","UA"]
[null,null,"Colin Knox","M40","Wee Grumpy Runners"]
[null,null,"Martin McCrorie","M40","Ayr Seaforth AAC"]
[null,null,"Stuart McLean","M40","UA"]
[null,null,"John Taylor","M40","UA"]
[null,null,"Stuart McColm","M40","UA"]
[null,null,"Ross McClymont","M40","Troon Tortoises AC"]
[null,null,"Neill Russell","M40","UA"]
[null,null,"Kenneth Barker","M50","UA"]
[null,null,"James Cunningham","M50","UA"]
[null,null,"Andrew Stewart","M50","Ron's Runners"]
[null,null,"Jim McCleary","M50","UA"]
[null,null,"Ian Hannah","M50","Galloway Harriers"]
[null,null,"Bobby Crombie","M50","UA"]
[null,null,"Michael Baxter","M50","UA"]
[null,null,"Graham Blair","M50","UA"]
[null,null,"John Boyd","M50","UA"]
[null,null,"Stephen McGill","M50","UA"]
[null,null,"Drew Inglis","M50","Hamilton Harriers"]
[null,null,"Thomas Moran","M50","UA"]
[null,null,"Melissa Donald","M50","UA"]
[null,null,"Alan Anderson","M50","Kilmarnock H&AC"]
[null,null,"John Rennie","M50","UA"]
[null,null,"David Lightbody","M50","UA"]
[null,null,"Colin Mutch","M60","UA"]
[null,null,"Dave Cossar","M60","UA"]
[null,null,"Charles MacDonald","M60","UA"]
[null,null,"Kenny Weir","M60","UA"]
[null,null,"Frazer Corrance","MU20","UA"]
[null,null,"Adam Smith","MU20","UA"]
[null,null,"Fraser Mackie","MU20","Irvine Running Club"]
[]
[null,null,"SAL",82,"Women=22  Men=60"]
[null,null,"Non-SAL",182,"Women=74  Men=108"]
[]
[null,null,"Total",264]
[null,null,"One runner DNF"]